{"text_format":"1","workbook":"xlsx","n_sheets":5,"sheets":["home","index","historical","instruments","futures"],"not_rendered":{"charts":2,"images":1,"macros":1,"external_links":0,"defined_names":4,"comments":0,"pivot_tables":0},"unopened":[],"bounds":{"document_bytes":16777216,"sheet_cells":100000,"rows_first":2000,"rows_last":500,"rows_between":2000,"halvings":0,"cell_chars":16384,"cell_head_chars":4096},"cells_cut":0,"cells_raw":0,"read":"whole","date_system":"1900"}

{"sheet":"home","index":0,"n_rows":63,"n_cols":34,"rows_kept":63,"cut":false,"hidden":false,"merged":[[7,23,10,24],[10,6,10,9],[9,6,9,9],[6,6,6,9],[7,6,7,9],[8,6,8,9]]}
[]
[null,null,null,null,null,"cmdty by Barchart"]
[null,null,null,null,null,"Basis Forecast Comparison"]
[]
[null,null,null,null,null,"Input Data"]
[null,null,null,null,null,null,null,null,null,null,null,null,null,null,null,null,null,null,null,null,null,null,null,null,null,null,null,null,null,null,null,null,null,"re"]
[null,null,null,null,null,"Crop","Corn",null,null,null,"Not Required"]
[null,null,null,null,null,"Index Area","Iowa",null,null,null,"Not Required",null,null,null,null,null,null,null,null,null,null,null,null,{"$f":"+IF(primarySymbol=historical,\"History Up-to-Date\",\"Please Update History\")","v":"History Up-to-Date"}]
[null,null,null,null,null,"Index Area Type","County",null,null,null,"Not Required"]
[null,null,null,null,null,"Instrument","Fayette County, IA Corn Basis",null,null,null,"Required"]
[null,null,null,null,null,"Front-Month Symbol",{"$f":"+INDEX(instruments!$A:$A,MATCH(home!G$10,instruments!$N:$N,0),1)","v":"ZCBAIAFA.CM"}]
[]
[null,null,null,null,null,{"$f":"+G10&\" (Forward Curve)\"","v":"Fayette County, IA Corn Basis (Forward Curve)"},null,null,null,null,null,"Basis Is:",null,null,{"$f":"+index!P5&\" \"&IF(MEDIAN($O$44:$O$55)<0,\"Rich\",\"Cheap\")","v":"Very Cheap"},null,{"$f":"+LEFT(F13,FIND(\" Basis\",F13,1))&\"Implied Cash (Forward Curve)\"","v":"Fayette County, IA Corn Implied Cash (Forward Curve)"}]
[]
[]
[]
[]
[]
[]
[]
[]
[]
[]
[]
[]
[]
[]
[]
[]
[]
[]
[]
[]
[]
[]
[]
[]
[]
[]
[]
[]
[null,"Basis",null,null,null,null,null,null,"Basis Symbols",null,"Basis Prices",null,null,null,null,null,"Futures",null,"Implied Cash Prices",null,null,null,"Historical Seasonality"]
["Current Basis","Current to Forecast Spread",null,null,null,"Area","Month","Delivery","Current","Forecast","Current","Forecast","Historical",null,"Spread",null,"Month","Future","Current","Forecast","Historical",null,"Month",2016,{"$f":"+X43+1","v":2017},{"$f":"+Y43+1","v":2018},2019,2020,"Average"]
[{"$f":"+MIN(K44,L44)","v":{"$error":"#N/A"}},{"$f":"+IF(K44<L44,L44-K44,K44-L44)","v":{"$error":"#N/A"}},{"$f":"+MIN(S44:T44)","v":{"$error":"#N/A"}},null,null,{"$f":"+$G$10","v":"Fayette County, IA Corn Basis"},{"$f":"+IF(LEN($S44)>0,VALUE(index!G28),\"\")","v":1},{"$f":"+IF(LEN($S44)>0,VALUE(index!H28),\"\")","v":"2020-09-01"},{"$f":"index!F28","v":"ZCBAIAFA.CM"},{"$f":"index!N28","v":"-"},{"$f":"+IF(LEN(I44)>0,_xll.cmdty.udfs.BCD(I44,\"Last\"),\"\")","v":-0.30649999999999999},{"$f":"+IF(J44=\"-\",NA(),_xll.cmdty.udfs.BCD(J44,\"Last\"))","v":{"$error":"#N/A"}},{"$f":"+IFERROR(AVERAGEIF(historical!$C:$C,\"=\"&MONTH(home!$H44),historical!$B:$B),\"\")","v":-0.41730632911392385},null,{"$f":"+IFERROR(L44-K44,\"-\")","v":"-"},null,{"$f":"+index!$M28","v":"ZCZ20"},{"$f":"+IF(LEN(I44)>0,_xll.cmdty.udfs.BCD(Q44,\"Last\")/100,\"\")","v":3.6025},{"$f":"+IFERROR($R44+K44,NA())","v":3.2960000000000003},{"$f":"+IFERROR($R44+L44,NA())","v":{"$error":"#N/A"}},{"$f":"+IFERROR($R44+M44,NA())","v":3.1851936708860764},null,{"$f":"+H44","v":"2020-09-01"},{"$f":"+IF(LEN($W44)>0,IFERROR(AVERAGEIFS(historical!$B:$B,historical!$D:$D,home!X$43,historical!$C:$C,MONTH(home!$W44)),NA()),NA())","v":-0.4247076923076924},{"$f":"+IF(LEN($W44)>0,IFERROR(AVERAGEIFS(historical!$B:$B,historical!$D:$D,home!Y$43,historical!$C:$C,MONTH(home!$W44)),NA()),NA())","v":-0.54139000000000004},{"$f":"+IF(LEN($W44)>0,IFERROR(AVERAGEIFS(historical!$B:$B,historical!$D:$D,home!Z$43,historical!$C:$C,MONTH(home!$W44)),NA()),NA())","v":-0.53923684210526324},{"$f":"+IF(LEN($W44)>0,IFERROR(AVERAGEIFS(historical!$B:$B,historical!$D:$D,home!AA$43,historical!$C:$C,MONTH(home!$W44)),NA()),NA())","v":-0.21369523809523808},{"$f":"+IF(LEN($W44)>0,IFERROR(AVERAGEIFS(historical!$B:$B,historical!$D:$D,home!AB$43,historical!$C:$C,MONTH(home!$W44)),NA()),NA())","v":-0.31418333333333331},{"$f":"+M44","v":-0.41730632911392385}]
[{"$f":"+MIN(K45,L45)","v":{"$error":"#N/A"}},{"$error":"#N/A"},{"$error":"#N/A"},null,null,"Fayette County, IA Corn Basis",{"$f":"+IF(LEN($S45)>0,VALUE(index!G29),\"\")","v":2},{"$f":"+IF(LEN($S45)>0,VALUE(index!H29),\"\")","v":"2020-10-01"},{"$f":"index!F29","v":"ZCBBIAFA.CM"},{"$f":"index!N29","v":"-"},{"$f":"+IF(LEN(I45)>0,_xll.cmdty.udfs.BCD(I45,\"Last\"),\"\")","v":-0.3548},{"$f":"+IF(J45=\"-\",NA(),_xll.cmdty.udfs.BCD(J45,\"Last\"))","v":{"$error":"#N/A"}},{"$f":"+IFERROR(AVERAGEIF(historical!$C:$C,\"=\"&MONTH(home!$H45),historical!$B:$B),\"\")","v":-0.42130898876404482},null,{"$f":"+IFERROR(L45-K45,\"-\")","v":"-"},null,{"$f":"+index!$M29","v":"ZCZ20"},{"$f":"+IF(LEN(I45)>0,_xll.cmdty.udfs.BCD(Q45,\"Last\")/100,\"\")","v":3.6025},{"$f":"+IFERROR($R45+K45,NA())","v":3.2477},{"$error":"#N/A"},3.1811910112359554,null,"2020-10-01",{"$f":"+IF(LEN($W45)>0,IFERROR(AVERAGEIFS(historical!$B:$B,historical!$D:$D,home!X$43,historical!$C:$C,MONTH(home!$W45)),NA()),NA())","v":-0.43840952380952369},{"$f":"+IF(LEN($W45)>0,IFERROR(AVERAGEIFS(historical!$B:$B,historical!$D:$D,home!Y$43,historical!$C:$C,MONTH(home!$W45)),NA()),NA())","v":-0.4834},{"$f":"+IF(LEN($W45)>0,IFERROR(AVERAGEIFS(historical!$B:$B,historical!$D:$D,home!Z$43,historical!$C:$C,MONTH(home!$W45)),NA()),NA())","v":-0.51416521739130416},{"$f":"+IF(LEN($W45)>0,IFERROR(AVERAGEIFS(historical!$B:$B,historical!$D:$D,home!AA$43,historical!$C:$C,MONTH(home!$W45)),NA()),NA())","v":-0.25344782608695648},{"$f":"+IF(LEN($W45)>0,IFERROR(AVERAGEIFS(historical!$B:$B,historical!$D:$D,home!AB$43,historical!$C:$C,MONTH(home!$W45)),NA()),NA())","v":{"$error":"#N/A"}},-0.42130898876404482]
[{"$error":"#N/A"},{"$error":"#N/A"},{"$error":"#N/A"},null,null,"Fayette County, IA Corn Basis",{"$f":"+IF(LEN($S46)>0,VALUE(index!G30),\"\")","v":3},{"$f":"+IF(LEN($S46)>0,VALUE(index!H30),\"\")","v":"2020-11-01"},{"$f":"index!F30","v":"ZCBCIAFA.CM"},{"$f":"index!N30","v":"-"},{"$f":"+IF(LEN(I46)>0,_xll.cmdty.udfs.BCD(I46,\"Last\"),\"\")","v":-0.35570000000000002},{"$f":"+IF(J46=\"-\",NA(),_xll.cmdty.udfs.BCD(J46,\"Last\"))","v":{"$error":"#N/A"}},{"$f":"+IFERROR(AVERAGEIF(historical!$C:$C,\"=\"&MONTH(home!$H46),historical!$B:$B),\"\")","v":-0.37195833333333328},null,"-",null,{"$f":"+index!$M30","v":"ZCZ20"},{"$f":"+IF(LEN(I46)>0,_xll.cmdty.udfs.BCD(Q46,\"Last\")/100,\"\")","v":3.6025},3.2467999999999999,{"$error":"#N/A"},3.2305416666666669,null,"2020-11-01",{"$f":"+IF(LEN($W46)>0,IFERROR(AVERAGEIFS(historical!$B:$B,historical!$D:$D,home!X$43,historical!$C:$C,MONTH(home!$W46)),NA()),NA())","v":-0.41226666666666667},{"$f":"+IF(LEN($W46)>0,IFERROR(AVERAGEIFS(historical!$B:$B,historical!$D:$D,home!Y$43,historical!$C:$C,MONTH(home!$W46)),NA()),NA())","v":-0.42951999999999996},{"$f":"+IF(LEN($W46)>0,IFERROR(AVERAGEIFS(historical!$B:$B,historical!$D:$D,home!Z$43,historical!$C:$C,MONTH(home!$W46)),NA()),NA())","v":-0.39902272727272731},{"$f":"+IF(LEN($W46)>0,IFERROR(AVERAGEIFS(historical!$B:$B,historical!$D:$D,home!AA$43,historical!$C:$C,MONTH(home!$W46)),NA()),NA())","v":-0.24847619047619052},{"$f":"+IF(LEN($W46)>0,IFERROR(AVERAGEIFS(historical!$B:$B,historical!$D:$D,home!AB$43,historical!$C:$C,MONTH(home!$W46)),NA()),NA())","v":{"$error":"#N/A"}},-0.37195833333333328]
[-0.34439999999999998,{"$f":"+IF(K47<L47,L47-K47,K47-L47)","v":0.15079999999999999},{"$f":"+MIN(S47:T47)","v":3.2581000000000002},null,null,"Fayette County, IA Corn Basis",{"$f":"+IF(LEN($S47)>0,VALUE(index!G31),\"\")","v":4},{"$f":"+IF(LEN($S47)>0,VALUE(index!H31),\"\")","v":"2020-12-01"},{"$f":"index!F31","v":"ZCBDIAFA.CM"},{"$f":"index!N31","v":"ZCBA04IAFA.CM"},{"$f":"+IF(LEN(I47)>0,_xll.cmdty.udfs.BCD(I47,\"Last\"),\"\")","v":-0.34439999999999998},{"$f":"+IF(J47=\"-\",NA(),_xll.cmdty.udfs.BCD(J47,\"Last\"))","v":-0.19359999999999999},{"$f":"+IFERROR(AVERAGEIF(historical!$C:$C,\"=\"&MONTH(home!$H47),historical!$B:$B),\"\")","v":-0.37935952380952392},null,0.15079999999999999,null,{"$f":"+index!$M31","v":"ZCZ20"},{"$f":"+IF(LEN(I47)>0,_xll.cmdty.udfs.BCD(Q47,\"Last\")/100,\"\")","v":3.6025},3.2581000000000002,3.4089,3.2231404761904763,null,"2020-12-01",{"$f":"+IF(LEN($W47)>0,IFERROR(AVERAGEIFS(historical!$B:$B,historical!$D:$D,home!X$43,historical!$C:$C,MONTH(home!$W47)),NA()),NA())","v":-0.3451999999999999},{"$f":"+IF(LEN($W47)>0,IFERROR(AVERAGEIFS(historical!$B:$B,historical!$D:$D,home!Y$43,historical!$C:$C,MONTH(home!$W47)),NA()),NA())","v":-0.41113500000000008},{"$f":"+IF(LEN($W47)>0,IFERROR(AVERAGEIFS(historical!$B:$B,historical!$D:$D,home!Z$43,historical!$C:$C,MONTH(home!$W47)),NA()),NA())","v":-0.44107619047619051},{"$f":"+IF(LEN($W47)>0,IFERROR(AVERAGEIFS(historical!$B:$B,historical!$D:$D,home!AA$43,historical!$C:$C,MONTH(home!$W47)),NA()),NA())","v":-0.3241681818181818},{"$f":"+IF(LEN($W47)>0,IFERROR(AVERAGEIFS(historical!$B:$B,historical!$D:$D,home!AB$43,historical!$C:$C,MONTH(home!$W47)),NA()),NA())","v":{"$error":"#N/A"}},-0.37935952380952392]
[-0.38219999999999998,{"$f":"+IF(K48<L48,L48-K48,K48-L48)","v":0.19279999999999997},{"$f":"+MIN(S48:T48)","v":3.3228},null,null,"Fayette County, IA Corn Basis",{"$f":"+IF(LEN($S48)>0,VALUE(index!G32),\"\")","v":5},{"$f":"+IF(LEN($S48)>0,VALUE(index!H32),\"\")","v":"2021-01-01"},{"$f":"index!F32","v":"ZCBEIAFA.CM"},{"$f":"index!N32","v":"ZCBA05IAFA.CM"},{"$f":"+IF(LEN(I48)>0,_xll.cmdty.udfs.BCD(I48,\"Last\"),\"\")","v":-0.38219999999999998},{"$f":"+IF(J48=\"-\",NA(),_xll.cmdty.udfs.BCD(J48,\"Last\"))","v":-0.18940000000000001},{"$f":"+IFERROR(AVERAGEIF(historical!$C:$C,\"=\"&MONTH(home!$H48),historical!$B:$B),\"\")","v":-0.31766823529411753},null,0.19279999999999997,null,{"$f":"+index!$M32","v":"ZCH21"},{"$f":"+IF(LEN(I48)>0,_xll.cmdty.udfs.BCD(Q48,\"Last\")/100,\"\")","v":3.7050000000000001},3.3228,3.5156000000000001,3.3873317647058827,null,"2021-01-01",{"$f":"+IF(LEN($W48)>0,IFERROR(AVERAGEIFS(historical!$B:$B,historical!$D:$D,home!X$43,historical!$C:$C,MONTH(home!$W48)),NA()),NA())","v":{"$error":"#N/A"}},{"$f":"+IF(LEN($W48)>0,IFERROR(AVERAGEIFS(historical!$B:$B,historical!$D:$D,home!Y$43,historical!$C:$C,MONTH(home!$W48)),NA()),NA())","v":-0.31739500000000004},{"$f":"+IF(LEN($W48)>0,IFERROR(AVERAGEIFS(historical!$B:$B,historical!$D:$D,home!Z$43,historical!$C:$C,MONTH(home!$W48)),NA()),NA())","v":-0.35179523809523811},{"$f":"+IF(LEN($W48)>0,IFERROR(AVERAGEIFS(historical!$B:$B,historical!$D:$D,home!AA$43,historical!$C:$C,MONTH(home!$W48)),NA()),NA())","v":-0.37015454545454546},{"$f":"+IF(LEN($W48)>0,IFERROR(AVERAGEIFS(historical!$B:$B,historical!$D:$D,home!AB$43,historical!$C:$C,MONTH(home!$W48)),NA()),NA())","v":-0.2328545454545454},-0.31766823529411753]
[-0.41949999999999998,0.20589999999999997,3.2854999999999999,null,null,"Fayette County, IA Corn Basis",{"$f":"+IF(LEN($S49)>0,VALUE(index!G33),\"\")","v":6},{"$f":"+IF(LEN($S49)>0,VALUE(index!H33),\"\")","v":"2021-02-01"},{"$f":"index!F33","v":"ZCBFIAFA.CM"},{"$f":"index!N33","v":"ZCBA06IAFA.CM"},{"$f":"+IF(LEN(I49)>0,_xll.cmdty.udfs.BCD(I49,\"Last\"),\"\")","v":-0.41949999999999998},{"$f":"+IF(J49=\"-\",NA(),_xll.cmdty.udfs.BCD(J49,\"Last\"))","v":-0.21360000000000001},{"$f":"+IFERROR(AVERAGEIF(historical!$C:$C,\"=\"&MONTH(home!$H49),historical!$B:$B),\"\")","v":-0.30484230769230769},null,0.20589999999999997,null,{"$f":"+index!$M33","v":"ZCH21"},{"$f":"+IF(LEN(I49)>0,_xll.cmdty.udfs.BCD(Q49,\"Last\")/100,\"\")","v":3.7050000000000001},3.2854999999999999,3.4914000000000001,3.4001576923076922,null,"2021-02-01",{"$f":"+IF(LEN($W49)>0,IFERROR(AVERAGEIFS(historical!$B:$B,historical!$D:$D,home!X$43,historical!$C:$C,MONTH(home!$W49)),NA()),NA())","v":{"$error":"#N/A"}},{"$f":"+IF(LEN($W49)>0,IFERROR(AVERAGEIFS(historical!$B:$B,historical!$D:$D,home!Y$43,historical!$C:$C,MONTH(home!$W49)),NA()),NA())","v":-0.37091052631578947},{"$f":"+IF(LEN($W49)>0,IFERROR(AVERAGEIFS(historical!$B:$B,historical!$D:$D,home!Z$43,historical!$C:$C,MONTH(home!$W49)),NA()),NA())","v":-0.33153157894736845},{"$f":"+IF(LEN($W49)>0,IFERROR(AVERAGEIFS(historical!$B:$B,historical!$D:$D,home!AA$43,historical!$C:$C,MONTH(home!$W49)),NA()),NA())","v":-0.32734000000000008},{"$f":"+IF(LEN($W49)>0,IFERROR(AVERAGEIFS(historical!$B:$B,historical!$D:$D,home!AB$43,historical!$C:$C,MONTH(home!$W49)),NA()),NA())","v":-0.19422500000000001},-0.30484230769230769]
[-0.3881,0.16650000000000001,3.3169,null,null,"Fayette County, IA Corn Basis",{"$f":"+IF(LEN($S50)>0,VALUE(index!G34),\"\")","v":7},{"$f":"+IF(LEN($S50)>0,VALUE(index!H34),\"\")","v":"2021-03-01"},{"$f":"index!F34","v":"ZCBGIAFA.CM"},{"$f":"index!N34","v":"ZCBA07IAFA.CM"},{"$f":"+IF(LEN(I50)>0,_xll.cmdty.udfs.BCD(I50,\"Last\"),\"\")","v":-0.3881},{"$f":"+IF(J50=\"-\",NA(),_xll.cmdty.udfs.BCD(J50,\"Last\"))","v":-0.22159999999999999},{"$f":"+IFERROR(AVERAGEIF(historical!$C:$C,\"=\"&MONTH(home!$H50),historical!$B:$B),\"\")","v":-0.3656471264367816},null,0.16650000000000001,null,{"$f":"+index!$M34","v":"ZCH21"},{"$f":"+IF(LEN(I50)>0,_xll.cmdty.udfs.BCD(Q50,\"Last\")/100,\"\")","v":3.7050000000000001},3.3169,3.4834000000000001,3.3393528735632185,null,"2021-03-01",{"$f":"+IF(LEN($W50)>0,IFERROR(AVERAGEIFS(historical!$B:$B,historical!$D:$D,home!X$43,historical!$C:$C,MONTH(home!$W50)),NA()),NA())","v":{"$error":"#N/A"}},{"$f":"+IF(LEN($W50)>0,IFERROR(AVERAGEIFS(historical!$B:$B,historical!$D:$D,home!Y$43,historical!$C:$C,MONTH(home!$W50)),NA()),NA())","v":-0.39781739130434784},{"$f":"+IF(LEN($W50)>0,IFERROR(AVERAGEIFS(historical!$B:$B,historical!$D:$D,home!Z$43,historical!$C:$C,MONTH(home!$W50)),NA()),NA())","v":-0.44562380952380953},{"$f":"+IF(LEN($W50)>0,IFERROR(AVERAGEIFS(historical!$B:$B,historical!$D:$D,home!AA$43,historical!$C:$C,MONTH(home!$W50)),NA()),NA())","v":-0.3270333333333334},{"$f":"+IF(LEN($W50)>0,IFERROR(AVERAGEIFS(historical!$B:$B,historical!$D:$D,home!AB$43,historical!$C:$C,MONTH(home!$W50)),NA()),NA())","v":-0.29253181818181812},-0.3656471264367816]
[-0.37659999999999999,0.12179999999999996,3.3934000000000002,null,null,"Fayette County, IA Corn Basis",{"$f":"+IF(LEN($S51)>0,VALUE(index!G35),\"\")","v":8},{"$f":"+IF(LEN($S51)>0,VALUE(index!H35),\"\")","v":"2021-04-01"},{"$f":"index!F35","v":"ZCBHIAFA.CM"},{"$f":"index!N35","v":"ZCBA08IAFA.CM"},{"$f":"+IF(LEN(I51)>0,_xll.cmdty.udfs.BCD(I51,\"Last\"),\"\")","v":-0.37659999999999999},{"$f":"+IF(J51=\"-\",NA(),_xll.cmdty.udfs.BCD(J51,\"Last\"))","v":-0.25480000000000003},{"$f":"+IFERROR(AVERAGEIF(historical!$C:$C,\"=\"&MONTH(home!$H51),historical!$B:$B),\"\")","v":-0.35062499999999991},null,0.12179999999999996,null,{"$f":"+index!$M35","v":"ZCK21"},{"$f":"+IF(LEN(I51)>0,_xll.cmdty.udfs.BCD(Q51,\"Last\")/100,\"\")","v":3.77},3.3934000000000002,3.5152000000000001,3.4193750000000001,null,"2021-04-01",{"$f":"+IF(LEN($W51)>0,IFERROR(AVERAGEIFS(historical!$B:$B,historical!$D:$D,home!X$43,historical!$C:$C,MONTH(home!$W51)),NA()),NA())","v":{"$error":"#N/A"}},{"$f":"+IF(LEN($W51)>0,IFERROR(AVERAGEIFS(historical!$B:$B,historical!$D:$D,home!Y$43,historical!$C:$C,MONTH(home!$W51)),NA()),NA())","v":-0.36579999999999996},{"$f":"+IF(LEN($W51)>0,IFERROR(AVERAGEIFS(historical!$B:$B,historical!$D:$D,home!Z$43,historical!$C:$C,MONTH(home!$W51)),NA()),NA())","v":-0.41615714285714295},{"$f":"+IF(LEN($W51)>0,IFERROR(AVERAGEIFS(historical!$B:$B,historical!$D:$D,home!AA$43,historical!$C:$C,MONTH(home!$W51)),NA()),NA())","v":-0.26114090909090909},{"$f":"+IF(LEN($W51)>0,IFERROR(AVERAGEIFS(historical!$B:$B,historical!$D:$D,home!AB$43,historical!$C:$C,MONTH(home!$W51)),NA()),NA())","v":-0.36445000000000005},-0.35062499999999991]
[-0.377,0.11570000000000003,3.3929999999999998,null,null,"Fayette County, IA Corn Basis",{"$f":"+IF(LEN($S52)>0,VALUE(index!G36),\"\")","v":9},{"$f":"+IF(LEN($S52)>0,VALUE(index!H36),\"\")","v":"2021-05-01"},{"$f":"index!F36","v":"ZCBIIAFA.CM"},{"$f":"index!N36","v":"ZCBA09IAFA.CM"},{"$f":"+IF(LEN(I52)>0,_xll.cmdty.udfs.BCD(I52,\"Last\"),\"\")","v":-0.377},{"$f":"+IF(J52=\"-\",NA(),_xll.cmdty.udfs.BCD(J52,\"Last\"))","v":-0.26129999999999998},{"$f":"+IFERROR(AVERAGEIF(historical!$C:$C,\"=\"&MONTH(home!$H52),historical!$B:$B),\"\")","v":-0.3835727272727274},null,0.11570000000000003,null,{"$f":"+index!$M36","v":"ZCK21"},{"$f":"+IF(LEN(I52)>0,_xll.cmdty.udfs.BCD(Q52,\"Last\")/100,\"\")","v":3.77},3.3929999999999998,3.5087000000000002,3.3864272727272726,null,"2021-05-01",{"$f":"+IF(LEN($W52)>0,IFERROR(AVERAGEIFS(historical!$B:$B,historical!$D:$D,home!X$43,historical!$C:$C,MONTH(home!$W52)),NA()),NA())","v":{"$error":"#N/A"}},{"$f":"+IF(LEN($W52)>0,IFERROR(AVERAGEIFS(historical!$B:$B,historical!$D:$D,home!Y$43,historical!$C:$C,MONTH(home!$W52)),NA()),NA())","v":-0.4126727272727273},{"$f":"+IF(LEN($W52)>0,IFERROR(AVERAGEIFS(historical!$B:$B,historical!$D:$D,home!Z$43,historical!$C:$C,MONTH(home!$W52)),NA()),NA())","v":-0.47206363636363641},{"$f":"+IF(LEN($W52)>0,IFERROR(AVERAGEIFS(historical!$B:$B,historical!$D:$D,home!AA$43,historical!$C:$C,MONTH(home!$W52)),NA()),NA())","v":-0.33818695652173908},{"$f":"+IF(LEN($W52)>0,IFERROR(AVERAGEIFS(historical!$B:$B,historical!$D:$D,home!AB$43,historical!$C:$C,MONTH(home!$W52)),NA()),NA())","v":-0.31009047619047619},-0.3835727272727274]
[-0.42149999999999999,0.17009999999999997,3.3935,null,null,"Fayette County, IA Corn Basis",{"$f":"+IF(LEN($S53)>0,VALUE(index!G37),\"\")","v":10},{"$f":"+IF(LEN($S53)>0,VALUE(index!H37),\"\")","v":"2021-06-01"},{"$f":"index!F37","v":"ZCBJIAFA.CM"},{"$f":"index!N37","v":"ZCBA10IAFA.CM"},{"$f":"+IF(LEN(I53)>0,_xll.cmdty.udfs.BCD(I53,\"Last\"),\"\")","v":-0.42149999999999999},{"$f":"+IF(J53=\"-\",NA(),_xll.cmdty.udfs.BCD(J53,\"Last\"))","v":-0.25140000000000001},{"$f":"+IFERROR(AVERAGEIF(historical!$C:$C,\"=\"&MONTH(home!$H53),historical!$B:$B),\"\")","v":-0.36096352941176468},null,0.17009999999999997,null,{"$f":"+index!$M37","v":"ZCN21"},{"$f":"+IF(LEN(I53)>0,_xll.cmdty.udfs.BCD(Q53,\"Last\")/100,\"\")","v":3.8149999999999999},3.3935,3.5636000000000001,3.4540364705882354,null,"2021-06-01",{"$f":"+IF(LEN($W53)>0,IFERROR(AVERAGEIFS(historical!$B:$B,historical!$D:$D,home!X$43,historical!$C:$C,MONTH(home!$W53)),NA()),NA())","v":{"$error":"#N/A"}},{"$f":"+IF(LEN($W53)>0,IFERROR(AVERAGEIFS(historical!$B:$B,historical!$D:$D,home!Y$43,historical!$C:$C,MONTH(home!$W53)),NA()),NA())","v":-0.42415909090909082},{"$f":"+IF(LEN($W53)>0,IFERROR(AVERAGEIFS(historical!$B:$B,historical!$D:$D,home!Z$43,historical!$C:$C,MONTH(home!$W53)),NA()),NA())","v":-0.44242857142857145},{"$f":"+IF(LEN($W53)>0,IFERROR(AVERAGEIFS(historical!$B:$B,historical!$D:$D,home!AA$43,historical!$C:$C,MONTH(home!$W53)),NA()),NA())","v":-0.32945000000000002},{"$f":"+IF(LEN($W53)>0,IFERROR(AVERAGEIFS(historical!$B:$B,historical!$D:$D,home!AB$43,historical!$C:$C,MONTH(home!$W53)),NA()),NA())","v":-0.24865454545454541},-0.36096352941176468]
[-0.39,0.13500000000000001,3.4249999999999998,null,null,"Fayette County, IA Corn Basis",{"$f":"+IF(LEN($S54)>0,VALUE(index!G38),\"\")","v":11},{"$f":"+IF(LEN($S54)>0,VALUE(index!H38),\"\")","v":"2021-07-01"},{"$f":"index!F38","v":"ZCBKIAFA.CM"},{"$f":"index!N38","v":"ZCBA11IAFA.CM"},{"$f":"+IF(LEN(I54)>0,_xll.cmdty.udfs.BCD(I54,\"Last\"),\"\")","v":-0.39},{"$f":"+IF(J54=\"-\",NA(),_xll.cmdty.udfs.BCD(J54,\"Last\"))","v":-0.255},{"$f":"+IFERROR(AVERAGEIF(historical!$C:$C,\"=\"&MONTH(home!$H54),historical!$B:$B),\"\")","v":-0.35788390804597708},null,0.13500000000000001,null,{"$f":"+index!$M38","v":"ZCN21"},{"$f":"+IF(LEN(I54)>0,_xll.cmdty.udfs.BCD(Q54,\"Last\")/100,\"\")","v":3.8149999999999999},3.4249999999999998,3.56,3.4571160919540227,null,"2021-07-01",{"$f":"+IF(LEN($W54)>0,IFERROR(AVERAGEIFS(historical!$B:$B,historical!$D:$D,home!X$43,historical!$C:$C,MONTH(home!$W54)),NA()),NA())","v":{"$error":"#N/A"}},{"$f":"+IF(LEN($W54)>0,IFERROR(AVERAGEIFS(historical!$B:$B,historical!$D:$D,home!Y$43,historical!$C:$C,MONTH(home!$W54)),NA()),NA())","v":-0.53753999999999991},{"$f":"+IF(LEN($W54)>0,IFERROR(AVERAGEIFS(historical!$B:$B,historical!$D:$D,home!Z$43,historical!$C:$C,MONTH(home!$W54)),NA()),NA())","v":-0.45057142857142857},{"$f":"+IF(LEN($W54)>0,IFERROR(AVERAGEIFS(historical!$B:$B,historical!$D:$D,home!AA$43,historical!$C:$C,MONTH(home!$W54)),NA()),NA())","v":-0.1847695652173913},{"$f":"+IF(LEN($W54)>0,IFERROR(AVERAGEIFS(historical!$B:$B,historical!$D:$D,home!AB$43,historical!$C:$C,MONTH(home!$W54)),NA()),NA())","v":-0.2901478260869565},-0.35788390804597708]
[-0.35260000000000002,8.7800000000000045E-2,3.4348999999999998,null,null,"Fayette County, IA Corn Basis",{"$f":"+IF(LEN($S55)>0,VALUE(index!G39),\"\")","v":12},{"$f":"+IF(LEN($S55)>0,VALUE(index!H39),\"\")","v":"2021-08-01"},{"$f":"index!F39","v":"ZCBLIAFA.CM"},{"$f":"index!N39","v":"ZCBA12IAFA.CM"},{"$f":"+IF(LEN(I55)>0,_xll.cmdty.udfs.BCD(I55,\"Last\"),\"\")","v":-0.35260000000000002},{"$f":"+IF(J55=\"-\",NA(),_xll.cmdty.udfs.BCD(J55,\"Last\"))","v":-0.26479999999999998},{"$f":"+IFERROR(AVERAGEIF(historical!$C:$C,\"=\"&MONTH(home!$H55),historical!$B:$B),\"\")","v":-0.34139213483146064},null,8.7800000000000045E-2,null,{"$f":"+index!$M39","v":"ZCU21"},{"$f":"+IF(LEN(I55)>0,_xll.cmdty.udfs.BCD(Q55,\"Last\")/100,\"\")","v":3.7875000000000001},3.4348999999999998,3.5226999999999999,3.4461078651685395,null,"2021-08-01",{"$f":"+IF(LEN($W55)>0,IFERROR(AVERAGEIFS(historical!$B:$B,historical!$D:$D,home!X$43,historical!$C:$C,MONTH(home!$W55)),NA()),NA())","v":{"$error":"#N/A"}},{"$f":"+IF(LEN($W55)>0,IFERROR(AVERAGEIFS(historical!$B:$B,historical!$D:$D,home!Y$43,historical!$C:$C,MONTH(home!$W55)),NA()),NA())","v":-0.46367391304347833},{"$f":"+IF(LEN($W55)>0,IFERROR(AVERAGEIFS(historical!$B:$B,historical!$D:$D,home!Z$43,historical!$C:$C,MONTH(home!$W55)),NA()),NA())","v":-0.44496086956521752},{"$f":"+IF(LEN($W55)>0,IFERROR(AVERAGEIFS(historical!$B:$B,historical!$D:$D,home!AA$43,historical!$C:$C,MONTH(home!$W55)),NA()),NA())","v":-0.17313636363636364},{"$f":"+IF(LEN($W55)>0,IFERROR(AVERAGEIFS(historical!$B:$B,historical!$D:$D,home!AB$43,historical!$C:$C,MONTH(home!$W55)),NA()),NA())","v":-0.27029999999999998},-0.34139213483146064]
[]
[]
["Cash Name",{"$f":"+F44&\" Forward Curve\"","v":"Fayette County, IA Corn Basis Forward Curve"}]
["Basis Name",{"$f":"+_xll.cmdty.udfs.BCD($I44,F$43)&\" Forward Curve\"","v":"Unknown field. Forward Curve"}]
["Future Name",{"$f":"+INDEX(index!$E$6:$E$10,MATCH(LEFT($I44,2),index!$F$6:$F$10,0),1)&\" Futures Forward Curve\"","v":"Corn Futures Forward Curve"}]
["Historical Curve",{"$f":"+LEFT(B59,FIND(\"Basis\",B59,1)-2)&\" Implied Forward Curve (Historical Basis Avg)\"","v":{"$error":"#VALUE!"}}]
["Chart 1 Name",{"$f":"+LEFT($G$10,FIND(\"Basis\",$G$10,1)-2)&\" (Forward Curve)\"","v":"Fayette County, IA Corn (Forward Curve)"}]
["Chart 2 Name",{"$f":"+\"Seasonality in \"&MID($G$10,7,FIND(\"Basis\",$G$10,1)-8)&\" (Basis)\"","v":"Seasonality in e County, IA Corn (Basis)"}]

{"sheet":"index","index":1,"n_rows":2042,"n_cols":16,"rows_kept":2042,"cut":false,"hidden":false,"merged":[]}
[]
[]
[null,"Variables"]
[]
[null,"Area","Type","State","Crop","Root","Months","Future Month","String","Value",null,"Measures",null,null,{"$f":"+ABS(MEDIAN(home!$O$44:$O$55)/MEDIAN(home!$M$44:$M$55))","v":0.41507786539104241},{"$f":"+INDEX($L$6:$L$9,MATCH(TRUE,$O$6:$O$9,0),1)","v":"Very"}]
[null,"County","Basis","Illinois","Corn","ZC","A",0,"M1",1,null,"Slightly",0,0.1,{"$f":"+AND(M6<$O$5,N6>=$O$5)","v":false}]
[null,"District","Cash","Indiana","Soybean","ZS","B",{"$f":"+H6+1","v":1},"M2",{"$f":"+J6+1","v":2},null,"Moderately",{"$f":"+N6","v":0.1},0.25,{"$f":"+AND(M7<$O$5,N7>=$O$5)","v":false}]
[null,"State",null,"Iowa",null,null,"C",2,"M3",{"$f":"+J7+1","v":3},null,"Very",{"$f":"+N7","v":0.25},0.5,true]
[null,null,null,"Kansas",null,null,"D",3,"M4",4,null,"Extremely",{"$f":"+N8","v":0.5},1,false]
[null,null,null,"Minnesota",null,null,"E",4,"M5",5]
[null,null,null,"Missouri",null,null,"F",5,"M6",6]
[null,null,null,"Nebraska",null,null,"G",6,"M7",7]
[null,null,null,"North Dakota",null,null,"H",7,"M8",8]
[null,null,null,"Ohio",null,null,"I",8,"M9",9]
[null,null,null,"South Dakota",null,null,"J",9,"M10",10]
[null,null,null,null,null,null,"K",10,"M11",11]
[null,null,null,null,null,null,"L",11,"M12",12]
[]
[]
[]
[]
[]
[]
[]
[null,"Instrument Check"]
[]
[null,"All Instruments","Last",null,null,"Valid Instruments","Month","Delivery","Month Code","Futures Month","Futures Delivery","Futures Year",null,"Forecast Instrument"]
[1,{"$f":"+LEFT(home!$G$11,3)&G6&RIGHT(home!$G$11,LEN(home!$G$11)-4)","v":"ZCBAIAFA.CM"},{"$f":"+_xll.cmdty.udfs.BCD(B28,C$27)+1","v":0.69350000000000001},{"$f":"+IF(ISNUMBER(C28),A28,\"\")","v":1},{"$f":"+IFERROR(_xlfn.RANK.EQ(D28,$D$28:$D$39,1),\"\")","v":1},{"$f":"+IFERROR(INDEX($B$28:$B$39,MATCH($A28,$E$28:$E$39,0),1),\"\")","v":"ZCBAIAFA.CM"},{"$f":"+IFERROR(INDEX($J$6:$J$17,MATCH(MID(F28,4,1),$G$6:$G$17,0),1),\"\")","v":1},{"$f":"+VALUE(MONTH(TODAY())&\"/1/\"&YEAR(TODAY()))","v":"2020-09-01"},{"$f":"+MID(F28,4,1)","v":"A"},{"$f":"IF(I28=\"A\",EOMONTH(EDATE(TODAY(),1),-1)+1,EOMONTH(EDATE(TODAY(),VLOOKUP(I28,$G$6:$H$17,2,0)),-1)+1)","v":"2020-10-01"},{"$f":"+INDEX(futures!$B$2:$F$13,MATCH(MONTH(index!J28),futures!$A$2:$A$13,0),MATCH(home!$G$7,futures!$B$1:$F$1,0))","v":"Z"},{"$f":"IF(LEFT(B28,2)=\"ZS\",IF(MONTH(J28)=12,MOD(YEAR(J28),100)+1,MOD(YEAR(J28),100)),MOD(YEAR(J28),100))","v":20},{"$f":"+LEFT($B28,2)&K28&L28","v":"ZCZ20"},{"$f":"+IF(G28<4,\"-\",LEFT(F28,3)&\"A\"&TEXT(G28,\"00\")&RIGHT(F28,LEN(F28)-4))","v":"-"}]
[{"$f":"+A28+1","v":2},{"$f":"+LEFT(home!$G$11,3)&G7&RIGHT(home!$G$11,LEN(home!$G$11)-4)","v":"ZCBBIAFA.CM"},{"$f":"+_xll.cmdty.udfs.BCD(B29,C$27)+1","v":0.6452},{"$f":"+IF(ISNUMBER(C29),A29,\"\")","v":2},{"$f":"+IFERROR(_xlfn.RANK.EQ(D29,$D$28:$D$39,1),\"\")","v":2},{"$f":"+IFERROR(INDEX($B$28:$B$39,MATCH($A29,$E$28:$E$39,0),1),\"\")","v":"ZCBBIAFA.CM"},2,{"$f":"+MONTH((G29-G28)*31+H28)&\"/1/\"&YEAR(VALUE((G29-G28)*31+H28))","v":"10/1/2020"},{"$f":"+MID(F29,4,1)","v":"B"},"2020-10-01",{"$f":"+INDEX(futures!$B$2:$F$13,MATCH(MONTH(index!J29),futures!$A$2:$A$13,0),MATCH(home!$G$7,futures!$B$1:$F$1,0))","v":"Z"},20,{"$f":"+LEFT($B29,2)&K29&L29","v":"ZCZ20"},{"$f":"+IF(G29<4,\"-\",LEFT(F29,3)&\"A\"&TEXT(G29,\"00\")&RIGHT(F29,LEN(F29)-4))","v":"-"}]
[{"$f":"+A29+1","v":3},{"$f":"+LEFT(home!$G$11,3)&G8&RIGHT(home!$G$11,LEN(home!$G$11)-4)","v":"ZCBCIAFA.CM"},{"$f":"+_xll.cmdty.udfs.BCD(B30,C$27)+1","v":0.64429999999999998},3,3,"ZCBCIAFA.CM",3,"11/1/2020","C","2020-11-01",{"$f":"+INDEX(futures!$B$2:$F$13,MATCH(MONTH(index!J30),futures!$A$2:$A$13,0),MATCH(home!$G$7,futures!$B$1:$F$1,0))","v":"Z"},20,"ZCZ20","-"]
[4,{"$f":"+LEFT(home!$G$11,3)&G9&RIGHT(home!$G$11,LEN(home!$G$11)-4)","v":"ZCBDIAFA.CM"},{"$f":"+_xll.cmdty.udfs.BCD(B31,C$27)+1","v":0.65559999999999996},4,4,"ZCBDIAFA.CM",4,"12/1/2020","D","2020-12-01",{"$f":"+INDEX(futures!$B$2:$F$13,MATCH(MONTH(index!J31),futures!$A$2:$A$13,0),MATCH(home!$G$7,futures!$B$1:$F$1,0))","v":"Z"},20,"ZCZ20","ZCBA04IAFA.CM"]
[5,{"$f":"+LEFT(home!$G$11,3)&G10&RIGHT(home!$G$11,LEN(home!$G$11)-4)","v":"ZCBEIAFA.CM"},{"$f":"+_xll.cmdty.udfs.BCD(B32,C$27)+1","v":0.61780000000000002},5,5,"ZCBEIAFA.CM",5,"1/1/2021","E","2021-01-01",{"$f":"+INDEX(futures!$B$2:$F$13,MATCH(MONTH(index!J32),futures!$A$2:$A$13,0),MATCH(home!$G$7,futures!$B$1:$F$1,0))","v":"H"},21,"ZCH21","ZCBA05IAFA.CM"]
[6,{"$f":"+LEFT(home!$G$11,3)&G11&RIGHT(home!$G$11,LEN(home!$G$11)-4)","v":"ZCBFIAFA.CM"},{"$f":"+_xll.cmdty.udfs.BCD(B33,C$27)+1","v":0.58050000000000002},6,6,"ZCBFIAFA.CM",6,"2/1/2021","F","2021-02-01",{"$f":"+INDEX(futures!$B$2:$F$13,MATCH(MONTH(index!J33),futures!$A$2:$A$13,0),MATCH(home!$G$7,futures!$B$1:$F$1,0))","v":"H"},21,"ZCH21","ZCBA06IAFA.CM"]
[7,{"$f":"+LEFT(home!$G$11,3)&G12&RIGHT(home!$G$11,LEN(home!$G$11)-4)","v":"ZCBGIAFA.CM"},{"$f":"+_xll.cmdty.udfs.BCD(B34,C$27)+1","v":0.6119},7,7,"ZCBGIAFA.CM",7,"3/1/2021","G","2021-03-01",{"$f":"+INDEX(futures!$B$2:$F$13,MATCH(MONTH(index!J34),futures!$A$2:$A$13,0),MATCH(home!$G$7,futures!$B$1:$F$1,0))","v":"H"},21,"ZCH21","ZCBA07IAFA.CM"]
[8,{"$f":"+LEFT(home!$G$11,3)&G13&RIGHT(home!$G$11,LEN(home!$G$11)-4)","v":"ZCBHIAFA.CM"},{"$f":"+_xll.cmdty.udfs.BCD(B35,C$27)+1","v":0.62339999999999995},8,8,"ZCBHIAFA.CM",8,"4/1/2021","H","2021-04-01",{"$f":"+INDEX(futures!$B$2:$F$13,MATCH(MONTH(index!J35),futures!$A$2:$A$13,0),MATCH(home!$G$7,futures!$B$1:$F$1,0))","v":"K"},21,"ZCK21","ZCBA08IAFA.CM"]
[9,{"$f":"+LEFT(home!$G$11,3)&G14&RIGHT(home!$G$11,LEN(home!$G$11)-4)","v":"ZCBIIAFA.CM"},{"$f":"+_xll.cmdty.udfs.BCD(B36,C$27)+1","v":0.623},9,9,"ZCBIIAFA.CM",9,"5/1/2021","I","2021-05-01",{"$f":"+INDEX(futures!$B$2:$F$13,MATCH(MONTH(index!J36),futures!$A$2:$A$13,0),MATCH(home!$G$7,futures!$B$1:$F$1,0))","v":"K"},21,"ZCK21","ZCBA09IAFA.CM"]
[10,{"$f":"+LEFT(home!$G$11,3)&G15&RIGHT(home!$G$11,LEN(home!$G$11)-4)","v":"ZCBJIAFA.CM"},{"$f":"+_xll.cmdty.udfs.BCD(B37,C$27)+1","v":0.57850000000000001},10,10,"ZCBJIAFA.CM",10,"6/1/2021","J","2021-06-01",{"$f":"+INDEX(futures!$B$2:$F$13,MATCH(MONTH(index!J37),futures!$A$2:$A$13,0),MATCH(home!$G$7,futures!$B$1:$F$1,0))","v":"N"},21,"ZCN21","ZCBA10IAFA.CM"]
[11,{"$f":"+LEFT(home!$G$11,3)&G16&RIGHT(home!$G$11,LEN(home!$G$11)-4)","v":"ZCBKIAFA.CM"},{"$f":"+_xll.cmdty.udfs.BCD(B38,C$27)+1","v":0.61},11,11,"ZCBKIAFA.CM",11,{"$f":"+MONTH((G38-G37)*31+H37)&\"/1/\"&YEAR(VALUE((G38-G37)*31+H37))","v":"7/1/2021"},"K","2021-07-01",{"$f":"+INDEX(futures!$B$2:$F$13,MATCH(MONTH(index!J38),futures!$A$2:$A$13,0),MATCH(home!$G$7,futures!$B$1:$F$1,0))","v":"N"},21,"ZCN21","ZCBA11IAFA.CM"]
[12,{"$f":"+LEFT(home!$G$11,3)&G17&RIGHT(home!$G$11,LEN(home!$G$11)-4)","v":"ZCBLIAFA.CM"},{"$f":"+_xll.cmdty.udfs.BCD(B39,C$27)+1","v":0.64739999999999998},12,12,"ZCBLIAFA.CM",12,"8/1/2021","L","2021-08-01",{"$f":"+INDEX(futures!$B$2:$F$13,MATCH(MONTH(index!J39),futures!$A$2:$A$13,0),MATCH(home!$G$7,futures!$B$1:$F$1,0))","v":"U"},21,"ZCU21","ZCBA12IAFA.CM"]
[]
[]
[null,"Available Areas"]
[]
[null,"Area"]
[1,{"$f":"+IFERROR(INDEX(instruments!$N$2:$N$5037,MATCH(index!$A45,instruments!$M$2:$M$5037,0),1),\"\")","v":"Adair County, IA Corn Basis"}]
[{"$f":"+A45+1","v":2},{"$f":"+IFERROR(INDEX(instruments!$N$2:$N$5037,MATCH(index!$A46,instruments!$M$2:$M$5037,0),1),\"\")","v":"Adams County, IA Corn Basis"}]
[{"$f":"+A46+1","v":3},{"$f":"+IFERROR(INDEX(instruments!$N$2:$N$5037,MATCH(index!$A47,instruments!$M$2:$M$5037,0),1),\"\")","v":"Allamakee County, IA Corn Basis"}]
[4,{"$f":"+IFERROR(INDEX(instruments!$N$2:$N$5037,MATCH(index!$A48,instruments!$M$2:$M$5037,0),1),\"\")","v":"Audubon County, IA Corn Basis"}]
[5,{"$f":"+IFERROR(INDEX(instruments!$N$2:$N$5037,MATCH(index!$A49,instruments!$M$2:$M$5037,0),1),\"\")","v":"Benton County, IA Corn Basis"}]
[6,{"$f":"+IFERROR(INDEX(instruments!$N$2:$N$5037,MATCH(index!$A50,instruments!$M$2:$M$5037,0),1),\"\")","v":"Black Hawk County, IA Corn Basis"}]
[7,{"$f":"+IFERROR(INDEX(instruments!$N$2:$N$5037,MATCH(index!$A51,instruments!$M$2:$M$5037,0),1),\"\")","v":"Boone County, IA Corn Basis"}]
[8,{"$f":"+IFERROR(INDEX(instruments!$N$2:$N$5037,MATCH(index!$A52,instruments!$M$2:$M$5037,0),1),\"\")","v":"Bremer County, IA Corn Basis"}]
[9,{"$f":"+IFERROR(INDEX(instruments!$N$2:$N$5037,MATCH(index!$A53,instruments!$M$2:$M$5037,0),1),\"\")","v":"Buchanan County, IA Corn Basis"}]
[10,{"$f":"+IFERROR(INDEX(instruments!$N$2:$N$5037,MATCH(index!$A54,instruments!$M$2:$M$5037,0),1),\"\")","v":"Buena Vista County, IA Corn Basis"}]
[11,{"$f":"+IFERROR(INDEX(instruments!$N$2:$N$5037,MATCH(index!$A55,instruments!$M$2:$M$5037,0),1),\"\")","v":"Butler County, IA Corn Basis"}]
[12,{"$f":"+IFERROR(INDEX(instruments!$N$2:$N$5037,MATCH(index!$A56,instruments!$M$2:$M$5037,0),1),\"\")","v":"Calhoun County, IA Corn Basis"}]
[13,{"$f":"+IFERROR(INDEX(instruments!$N$2:$N$5037,MATCH(index!$A57,instruments!$M$2:$M$5037,0),1),\"\")","v":"Carroll County, IA Corn Basis"}]
[14,{"$f":"+IFERROR(INDEX(instruments!$N$2:$N$5037,MATCH(index!$A58,instruments!$M$2:$M$5037,0),1),\"\")","v":"Cass County, IA Corn Basis"}]
[15,{"$f":"+IFERROR(INDEX(instruments!$N$2:$N$5037,MATCH(index!$A59,instruments!$M$2:$M$5037,0),1),\"\")","v":"Cedar County, IA Corn Basis"}]
[16,{"$f":"+IFERROR(INDEX(instruments!$N$2:$N$5037,MATCH(index!$A60,instruments!$M$2:$M$5037,0),1),\"\")","v":"Cerro Gordo County, IA Corn Basis"}]
[17,{"$f":"+IFERROR(INDEX(instruments!$N$2:$N$5037,MATCH(index!$A61,instruments!$M$2:$M$5037,0),1),\"\")","v":"Cherokee County, IA Corn Basis"}]
[18,{"$f":"+IFERROR(INDEX(instruments!$N$2:$N$5037,MATCH(index!$A62,instruments!$M$2:$M$5037,0),1),\"\")","v":"Chickasaw County, IA Corn Basis"}]
[19,{"$f":"+IFERROR(INDEX(instruments!$N$2:$N$5037,MATCH(index!$A63,instruments!$M$2:$M$5037,0),1),\"\")","v":"Clarke County, IA Corn Basis"}]
[20,{"$f":"+IFERROR(INDEX(instruments!$N$2:$N$5037,MATCH(index!$A64,instruments!$M$2:$M$5037,0),1),\"\")","v":"Clay County, IA Corn Basis"}]
[21,{"$f":"+IFERROR(INDEX(instruments!$N$2:$N$5037,MATCH(index!$A65,instruments!$M$2:$M$5037,0),1),\"\")","v":"Clayton County, IA Corn Basis"}]
[22,{"$f":"+IFERROR(INDEX(instruments!$N$2:$N$5037,MATCH(index!$A66,instruments!$M$2:$M$5037,0),1),\"\")","v":"Clinton County, IA Corn Basis"}]
[23,{"$f":"+IFERROR(INDEX(instruments!$N$2:$N$5037,MATCH(index!$A67,instruments!$M$2:$M$5037,0),1),\"\")","v":"Crawford County, IA Corn Basis"}]
[24,{"$f":"+IFERROR(INDEX(instruments!$N$2:$N$5037,MATCH(index!$A68,instruments!$M$2:$M$5037,0),1),\"\")","v":"Dallas County, IA Corn Basis"}]
[25,{"$f":"+IFERROR(INDEX(instruments!$N$2:$N$5037,MATCH(index!$A69,instruments!$M$2:$M$5037,0),1),\"\")","v":"Decatur County, IA Corn Basis"}]
[26,{"$f":"+IFERROR(INDEX(instruments!$N$2:$N$5037,MATCH(index!$A70,instruments!$M$2:$M$5037,0),1),\"\")","v":"Delaware County, IA Corn Basis"}]
[27,{"$f":"+IFERROR(INDEX(instruments!$N$2:$N$5037,MATCH(index!$A71,instruments!$M$2:$M$5037,0),1),\"\")","v":"Des Moines County, IA Corn Basis"}]
[28,{"$f":"+IFERROR(INDEX(instruments!$N$2:$N$5037,MATCH(index!$A72,instruments!$M$2:$M$5037,0),1),\"\")","v":"Dickinson County, IA Corn Basis"}]
[29,{"$f":"+IFERROR(INDEX(instruments!$N$2:$N$5037,MATCH(index!$A73,instruments!$M$2:$M$5037,0),1),\"\")","v":"Dubuque County, IA Corn Basis"}]
[30,{"$f":"+IFERROR(INDEX(instruments!$N$2:$N$5037,MATCH(index!$A74,instruments!$M$2:$M$5037,0),1),\"\")","v":"Emmet County, IA Corn Basis"}]
[31,{"$f":"+IFERROR(INDEX(instruments!$N$2:$N$5037,MATCH(index!$A75,instruments!$M$2:$M$5037,0),1),\"\")","v":"Fayette County, IA Corn Basis"}]
[32,{"$f":"+IFERROR(INDEX(instruments!$N$2:$N$5037,MATCH(index!$A76,instruments!$M$2:$M$5037,0),1),\"\")","v":"Floyd County, IA Corn Basis"}]
[33,{"$f":"+IFERROR(INDEX(instruments!$N$2:$N$5037,MATCH(index!$A77,instruments!$M$2:$M$5037,0),1),\"\")","v":"Franklin County, IA Corn Basis"}]
[34,{"$f":"+IFERROR(INDEX(instruments!$N$2:$N$5037,MATCH(index!$A78,instruments!$M$2:$M$5037,0),1),\"\")","v":"Fremont County, IA Corn Basis"}]
[35,{"$f":"+IFERROR(INDEX(instruments!$N$2:$N$5037,MATCH(index!$A79,instruments!$M$2:$M$5037,0),1),\"\")","v":"Greene County, IA Corn Basis"}]
[36,{"$f":"+IFERROR(INDEX(instruments!$N$2:$N$5037,MATCH(index!$A80,instruments!$M$2:$M$5037,0),1),\"\")","v":"Grundy County, IA Corn Basis"}]
[37,{"$f":"+IFERROR(INDEX(instruments!$N$2:$N$5037,MATCH(index!$A81,instruments!$M$2:$M$5037,0),1),\"\")","v":"Guthrie County, IA Corn Basis"}]
[38,{"$f":"+IFERROR(INDEX(instruments!$N$2:$N$5037,MATCH(index!$A82,instruments!$M$2:$M$5037,0),1),\"\")","v":"Hamilton County, IA Corn Basis"}]
[39,{"$f":"+IFERROR(INDEX(instruments!$N$2:$N$5037,MATCH(index!$A83,instruments!$M$2:$M$5037,0),1),\"\")","v":"Hancock County, IA Corn Basis"}]
[40,{"$f":"+IFERROR(INDEX(instruments!$N$2:$N$5037,MATCH(index!$A84,instruments!$M$2:$M$5037,0),1),\"\")","v":"Hardin County, IA Corn Basis"}]
[41,{"$f":"+IFERROR(INDEX(instruments!$N$2:$N$5037,MATCH(index!$A85,instruments!$M$2:$M$5037,0),1),\"\")","v":"Harrison County, IA Corn Basis"}]
[42,{"$f":"+IFERROR(INDEX(instruments!$N$2:$N$5037,MATCH(index!$A86,instruments!$M$2:$M$5037,0),1),\"\")","v":"Henry County, IA Corn Basis"}]
[43,{"$f":"+IFERROR(INDEX(instruments!$N$2:$N$5037,MATCH(index!$A87,instruments!$M$2:$M$5037,0),1),\"\")","v":"Howard County, IA Corn Basis"}]
[44,{"$f":"+IFERROR(INDEX(instruments!$N$2:$N$5037,MATCH(index!$A88,instruments!$M$2:$M$5037,0),1),\"\")","v":"Humboldt County, IA Corn Basis"}]
[45,{"$f":"+IFERROR(INDEX(instruments!$N$2:$N$5037,MATCH(index!$A89,instruments!$M$2:$M$5037,0),1),\"\")","v":"Ida County, IA Corn Basis"}]
[46,{"$f":"+IFERROR(INDEX(instruments!$N$2:$N$5037,MATCH(index!$A90,instruments!$M$2:$M$5037,0),1),\"\")","v":"Iowa County, IA Corn Basis"}]
[47,{"$f":"+IFERROR(INDEX(instruments!$N$2:$N$5037,MATCH(index!$A91,instruments!$M$2:$M$5037,0),1),\"\")","v":"Jasper County, IA Corn Basis"}]
[48,{"$f":"+IFERROR(INDEX(instruments!$N$2:$N$5037,MATCH(index!$A92,instruments!$M$2:$M$5037,0),1),\"\")","v":"Jefferson County, IA Corn Basis"}]
[49,{"$f":"+IFERROR(INDEX(instruments!$N$2:$N$5037,MATCH(index!$A93,instruments!$M$2:$M$5037,0),1),\"\")","v":"Johnson County, IA Corn Basis"}]
[50,{"$f":"+IFERROR(INDEX(instruments!$N$2:$N$5037,MATCH(index!$A94,instruments!$M$2:$M$5037,0),1),\"\")","v":"Jones County, IA Corn Basis"}]
[51,{"$f":"+IFERROR(INDEX(instruments!$N$2:$N$5037,MATCH(index!$A95,instruments!$M$2:$M$5037,0),1),\"\")","v":"Keokuk County, IA Corn Basis"}]
[52,{"$f":"+IFERROR(INDEX(instruments!$N$2:$N$5037,MATCH(index!$A96,instruments!$M$2:$M$5037,0),1),\"\")","v":"Kossuth County, IA Corn Basis"}]
[53,{"$f":"+IFERROR(INDEX(instruments!$N$2:$N$5037,MATCH(index!$A97,instruments!$M$2:$M$5037,0),1),\"\")","v":"Lee County, IA Corn Basis"}]
[54,{"$f":"+IFERROR(INDEX(instruments!$N$2:$N$5037,MATCH(index!$A98,instruments!$M$2:$M$5037,0),1),\"\")","v":"Linn County, IA Corn Basis"}]
[55,{"$f":"+IFERROR(INDEX(instruments!$N$2:$N$5037,MATCH(index!$A99,instruments!$M$2:$M$5037,0),1),\"\")","v":"Louisa County, IA Corn Basis"}]
[56,{"$f":"+IFERROR(INDEX(instruments!$N$2:$N$5037,MATCH(index!$A100,instruments!$M$2:$M$5037,0),1),\"\")","v":"Lucas County, IA Corn Basis"}]
[57,{"$f":"+IFERROR(INDEX(instruments!$N$2:$N$5037,MATCH(index!$A101,instruments!$M$2:$M$5037,0),1),\"\")","v":"Lyon County, IA Corn Basis"}]
[58,{"$f":"+IFERROR(INDEX(instruments!$N$2:$N$5037,MATCH(index!$A102,instruments!$M$2:$M$5037,0),1),\"\")","v":"Madison County, IA Corn Basis"}]
[59,{"$f":"+IFERROR(INDEX(instruments!$N$2:$N$5037,MATCH(index!$A103,instruments!$M$2:$M$5037,0),1),\"\")","v":"Mahaska County, IA Corn Basis"}]
[60,{"$f":"+IFERROR(INDEX(instruments!$N$2:$N$5037,MATCH(index!$A104,instruments!$M$2:$M$5037,0),1),\"\")","v":"Marion County, IA Corn Basis"}]
[61,{"$f":"+IFERROR(INDEX(instruments!$N$2:$N$5037,MATCH(index!$A105,instruments!$M$2:$M$5037,0),1),\"\")","v":"Marshall County, IA Corn Basis"}]
[62,{"$f":"+IFERROR(INDEX(instruments!$N$2:$N$5037,MATCH(index!$A106,instruments!$M$2:$M$5037,0),1),\"\")","v":"Mills County, IA Corn Basis"}]
[63,{"$f":"+IFERROR(INDEX(instruments!$N$2:$N$5037,MATCH(index!$A107,instruments!$M$2:$M$5037,0),1),\"\")","v":"Mitchell County, IA Corn Basis"}]
[64,{"$f":"+IFERROR(INDEX(instruments!$N$2:$N$5037,MATCH(index!$A108,instruments!$M$2:$M$5037,0),1),\"\")","v":"Monona County, IA Corn Basis"}]
[65,{"$f":"+IFERROR(INDEX(instruments!$N$2:$N$5037,MATCH(index!$A109,instruments!$M$2:$M$5037,0),1),\"\")","v":"Monroe County, IA Corn Basis"}]
[66,{"$f":"+IFERROR(INDEX(instruments!$N$2:$N$5037,MATCH(index!$A110,instruments!$M$2:$M$5037,0),1),\"\")","v":"Montgomery County, IA Corn Basis"}]
[{"$f":"+A110+1","v":67},{"$f":"+IFERROR(INDEX(instruments!$N$2:$N$5037,MATCH(index!$A111,instruments!$M$2:$M$5037,0),1),\"\")","v":"Muscatine County, IA Corn Basis"}]
[68,{"$f":"+IFERROR(INDEX(instruments!$N$2:$N$5037,MATCH(index!$A112,instruments!$M$2:$M$5037,0),1),\"\")","v":"Osceola County, IA Corn Basis"}]
[69,{"$f":"+IFERROR(INDEX(instruments!$N$2:$N$5037,MATCH(index!$A113,instruments!$M$2:$M$5037,0),1),\"\")","v":"Page County, IA Corn Basis"}]
[70,{"$f":"+IFERROR(INDEX(instruments!$N$2:$N$5037,MATCH(index!$A114,instruments!$M$2:$M$5037,0),1),\"\")","v":"Palo Alto County, IA Corn Basis"}]
[71,{"$f":"+IFERROR(INDEX(instruments!$N$2:$N$5037,MATCH(index!$A115,instruments!$M$2:$M$5037,0),1),\"\")","v":"Plymouth County, IA Corn Basis"}]
[72,{"$f":"+IFERROR(INDEX(instruments!$N$2:$N$5037,MATCH(index!$A116,instruments!$M$2:$M$5037,0),1),\"\")","v":"Pocahontas County, IA Corn Basis"}]
[73,{"$f":"+IFERROR(INDEX(instruments!$N$2:$N$5037,MATCH(index!$A117,instruments!$M$2:$M$5037,0),1),\"\")","v":"Polk County, IA Corn Basis"}]
[74,{"$f":"+IFERROR(INDEX(instruments!$N$2:$N$5037,MATCH(index!$A118,instruments!$M$2:$M$5037,0),1),\"\")","v":"Pottawattamie County, IA Corn Basis"}]
[75,{"$f":"+IFERROR(INDEX(instruments!$N$2:$N$5037,MATCH(index!$A119,instruments!$M$2:$M$5037,0),1),\"\")","v":"Poweshiek County, IA Corn Basis"}]
[76,{"$f":"+IFERROR(INDEX(instruments!$N$2:$N$5037,MATCH(index!$A120,instruments!$M$2:$M$5037,0),1),\"\")","v":"Ringgold County, IA Corn Basis"}]
[77,{"$f":"+IFERROR(INDEX(instruments!$N$2:$N$5037,MATCH(index!$A121,instruments!$M$2:$M$5037,0),1),\"\")","v":"Sac County, IA Corn Basis"}]
[78,{"$f":"+IFERROR(INDEX(instruments!$N$2:$N$5037,MATCH(index!$A122,instruments!$M$2:$M$5037,0),1),\"\")","v":"Scott County, IA Corn Basis"}]
[79,{"$f":"+IFERROR(INDEX(instruments!$N$2:$N$5037,MATCH(index!$A123,instruments!$M$2:$M$5037,0),1),\"\")","v":"Shelby County, IA Corn Basis"}]
[80,{"$f":"+IFERROR(INDEX(instruments!$N$2:$N$5037,MATCH(index!$A124,instruments!$M$2:$M$5037,0),1),\"\")","v":"Sioux County, IA Corn Basis"}]
[81,{"$f":"+IFERROR(INDEX(instruments!$N$2:$N$5037,MATCH(index!$A125,instruments!$M$2:$M$5037,0),1),\"\")","v":"Story County, IA Corn Basis"}]
[82,{"$f":"+IFERROR(INDEX(instruments!$N$2:$N$5037,MATCH(index!$A126,instruments!$M$2:$M$5037,0),1),\"\")","v":"Tama County, IA Corn Basis"}]
[83,{"$f":"+IFERROR(INDEX(instruments!$N$2:$N$5037,MATCH(index!$A127,instruments!$M$2:$M$5037,0),1),\"\")","v":"Taylor County, IA Corn Basis"}]
[84,{"$f":"+IFERROR(INDEX(instruments!$N$2:$N$5037,MATCH(index!$A128,instruments!$M$2:$M$5037,0),1),\"\")","v":"Union County, IA Corn Basis"}]
[85,{"$f":"+IFERROR(INDEX(instruments!$N$2:$N$5037,MATCH(index!$A129,instruments!$M$2:$M$5037,0),1),\"\")","v":"Van Buren County, IA Corn Basis"}]
[86,{"$f":"+IFERROR(INDEX(instruments!$N$2:$N$5037,MATCH(index!$A130,instruments!$M$2:$M$5037,0),1),\"\")","v":"Wapello County, IA Corn Basis"}]
[87,{"$f":"+IFERROR(INDEX(instruments!$N$2:$N$5037,MATCH(index!$A131,instruments!$M$2:$M$5037,0),1),\"\")","v":"Warren County, IA Corn Basis"}]
[88,{"$f":"+IFERROR(INDEX(instruments!$N$2:$N$5037,MATCH(index!$A132,instruments!$M$2:$M$5037,0),1),\"\")","v":"Washington County, IA Corn Basis"}]
[89,{"$f":"+IFERROR(INDEX(instruments!$N$2:$N$5037,MATCH(index!$A133,instruments!$M$2:$M$5037,0),1),\"\")","v":"Wayne County, IA Corn Basis"}]
[90,{"$f":"+IFERROR(INDEX(instruments!$N$2:$N$5037,MATCH(index!$A134,instruments!$M$2:$M$5037,0),1),\"\")","v":"Webster County, IA Corn Basis"}]
[91,{"$f":"+IFERROR(INDEX(instruments!$N$2:$N$5037,MATCH(index!$A135,instruments!$M$2:$M$5037,0),1),\"\")","v":"Winnebago County, IA Corn Basis"}]
[92,{"$f":"+IFERROR(INDEX(instruments!$N$2:$N$5037,MATCH(index!$A136,instruments!$M$2:$M$5037,0),1),\"\")","v":"Winneshiek County, IA Corn Basis"}]
[93,{"$f":"+IFERROR(INDEX(instruments!$N$2:$N$5037,MATCH(index!$A137,instruments!$M$2:$M$5037,0),1),\"\")","v":"Woodbury County, IA Corn Basis"}]
[94,{"$f":"+IFERROR(INDEX(instruments!$N$2:$N$5037,MATCH(index!$A138,instruments!$M$2:$M$5037,0),1),\"\")","v":"Worth County, IA Corn Basis"}]
[95,{"$f":"+IFERROR(INDEX(instruments!$N$2:$N$5037,MATCH(index!$A139,instruments!$M$2:$M$5037,0),1),\"\")","v":"Wright County, IA Corn Basis"}]
[96,{"$f":"+IFERROR(INDEX(instruments!$N$2:$N$5037,MATCH(index!$A140,instruments!$M$2:$M$5037,0),1),\"\")","v":""}]
[97,{"$f":"+IFERROR(INDEX(instruments!$N$2:$N$5037,MATCH(index!$A141,instruments!$M$2:$M$5037,0),1),\"\")","v":""}]
[98,{"$f":"+IFERROR(INDEX(instruments!$N$2:$N$5037,MATCH(index!$A142,instruments!$M$2:$M$5037,0),1),\"\")","v":""}]
[99,{"$f":"+IFERROR(INDEX(instruments!$N$2:$N$5037,MATCH(index!$A143,instruments!$M$2:$M$5037,0),1),\"\")","v":""}]
[100,{"$f":"+IFERROR(INDEX(instruments!$N$2:$N$5037,MATCH(index!$A144,instruments!$M$2:$M$5037,0),1),\"\")","v":""}]
[101,{"$f":"+IFERROR(INDEX(instruments!$N$2:$N$5037,MATCH(index!$A145,instruments!$M$2:$M$5037,0),1),\"\")","v":""}]
[102,{"$f":"+IFERROR(INDEX(instruments!$N$2:$N$5037,MATCH(index!$A146,instruments!$M$2:$M$5037,0),1),\"\")","v":""}]
[103,{"$f":"+IFERROR(INDEX(instruments!$N$2:$N$5037,MATCH(index!$A147,instruments!$M$2:$M$5037,0),1),\"\")","v":""}]
[104,{"$f":"+IFERROR(INDEX(instruments!$N$2:$N$5037,MATCH(index!$A148,instruments!$M$2:$M$5037,0),1),\"\")","v":""}]
[105,{"$f":"+IFERROR(INDEX(instruments!$N$2:$N$5037,MATCH(index!$A149,instruments!$M$2:$M$5037,0),1),\"\")","v":""}]
[106,{"$f":"+IFERROR(INDEX(instruments!$N$2:$N$5037,MATCH(index!$A150,instruments!$M$2:$M$5037,0),1),\"\")","v":""}]
[107,{"$f":"+IFERROR(INDEX(instruments!$N$2:$N$5037,MATCH(index!$A151,instruments!$M$2:$M$5037,0),1),\"\")","v":""}]
[108,{"$f":"+IFERROR(INDEX(instruments!$N$2:$N$5037,MATCH(index!$A152,instruments!$M$2:$M$5037,0),1),\"\")","v":""}]
[109,{"$f":"+IFERROR(INDEX(instruments!$N$2:$N$5037,MATCH(index!$A153,instruments!$M$2:$M$5037,0),1),\"\")","v":""}]
[110,{"$f":"+IFERROR(INDEX(instruments!$N$2:$N$5037,MATCH(index!$A154,instruments!$M$2:$M$5037,0),1),\"\")","v":""}]
[111,{"$f":"+IFERROR(INDEX(instruments!$N$2:$N$5037,MATCH(index!$A155,instruments!$M$2:$M$5037,0),1),\"\")","v":""}]
[112,{"$f":"+IFERROR(INDEX(instruments!$N$2:$N$5037,MATCH(index!$A156,instruments!$M$2:$M$5037,0),1),\"\")","v":""}]
[113,{"$f":"+IFERROR(INDEX(instruments!$N$2:$N$5037,MATCH(index!$A157,instruments!$M$2:$M$5037,0),1),\"\")","v":""}]
[114,{"$f":"+IFERROR(INDEX(instruments!$N$2:$N$5037,MATCH(index!$A158,instruments!$M$2:$M$5037,0),1),\"\")","v":""}]
[115,{"$f":"+IFERROR(INDEX(instruments!$N$2:$N$5037,MATCH(index!$A159,instruments!$M$2:$M$5037,0),1),\"\")","v":""}]
[116,{"$f":"+IFERROR(INDEX(instruments!$N$2:$N$5037,MATCH(index!$A160,instruments!$M$2:$M$5037,0),1),\"\")","v":""}]
[117,{"$f":"+IFERROR(INDEX(instruments!$N$2:$N$5037,MATCH(index!$A161,instruments!$M$2:$M$5037,0),1),\"\")","v":""}]
[118,{"$f":"+IFERROR(INDEX(instruments!$N$2:$N$5037,MATCH(index!$A162,instruments!$M$2:$M$5037,0),1),\"\")","v":""}]
[119,{"$f":"+IFERROR(INDEX(instruments!$N$2:$N$5037,MATCH(index!$A163,instruments!$M$2:$M$5037,0),1),\"\")","v":""}]
[120,{"$f":"+IFERROR(INDEX(instruments!$N$2:$N$5037,MATCH(index!$A164,instruments!$M$2:$M$5037,0),1),\"\")","v":""}]
[121,{"$f":"+IFERROR(INDEX(instruments!$N$2:$N$5037,MATCH(index!$A165,instruments!$M$2:$M$5037,0),1),\"\")","v":""}]
[122,{"$f":"+IFERROR(INDEX(instruments!$N$2:$N$5037,MATCH(index!$A166,instruments!$M$2:$M$5037,0),1),\"\")","v":""}]
[123,{"$f":"+IFERROR(INDEX(instruments!$N$2:$N$5037,MATCH(index!$A167,instruments!$M$2:$M$5037,0),1),\"\")","v":""}]
[124,{"$f":"+IFERROR(INDEX(instruments!$N$2:$N$5037,MATCH(index!$A168,instruments!$M$2:$M$5037,0),1),\"\")","v":""}]
[125,{"$f":"+IFERROR(INDEX(instruments!$N$2:$N$5037,MATCH(index!$A169,instruments!$M$2:$M$5037,0),1),\"\")","v":""}]
[126,{"$f":"+IFERROR(INDEX(instruments!$N$2:$N$5037,MATCH(index!$A170,instruments!$M$2:$M$5037,0),1),\"\")","v":""}]
[127,{"$f":"+IFERROR(INDEX(instruments!$N$2:$N$5037,MATCH(index!$A171,instruments!$M$2:$M$5037,0),1),\"\")","v":""}]
[128,{"$f":"+IFERROR(INDEX(instruments!$N$2:$N$5037,MATCH(index!$A172,instruments!$M$2:$M$5037,0),1),\"\")","v":""}]
[129,{"$f":"+IFERROR(INDEX(instruments!$N$2:$N$5037,MATCH(index!$A173,instruments!$M$2:$M$5037,0),1),\"\")","v":""}]
[130,{"$f":"+IFERROR(INDEX(instruments!$N$2:$N$5037,MATCH(index!$A174,instruments!$M$2:$M$5037,0),1),\"\")","v":""}]
[{"$f":"+A174+1","v":131},{"$f":"+IFERROR(INDEX(instruments!$N$2:$N$5037,MATCH(index!$A175,instruments!$M$2:$M$5037,0),1),\"\")","v":""}]
[132,{"$f":"+IFERROR(INDEX(instruments!$N$2:$N$5037,MATCH(index!$A176,instruments!$M$2:$M$5037,0),1),\"\")","v":""}]
[133,{"$f":"+IFERROR(INDEX(instruments!$N$2:$N$5037,MATCH(index!$A177,instruments!$M$2:$M$5037,0),1),\"\")","v":""}]
[134,{"$f":"+IFERROR(INDEX(instruments!$N$2:$N$5037,MATCH(index!$A178,instruments!$M$2:$M$5037,0),1),\"\")","v":""}]
[135,{"$f":"+IFERROR(INDEX(instruments!$N$2:$N$5037,MATCH(index!$A179,instruments!$M$2:$M$5037,0),1),\"\")","v":""}]
[136,{"$f":"+IFERROR(INDEX(instruments!$N$2:$N$5037,MATCH(index!$A180,instruments!$M$2:$M$5037,0),1),\"\")","v":""}]
[137,{"$f":"+IFERROR(INDEX(instruments!$N$2:$N$5037,MATCH(index!$A181,instruments!$M$2:$M$5037,0),1),\"\")","v":""}]
[138,{"$f":"+IFERROR(INDEX(instruments!$N$2:$N$5037,MATCH(index!$A182,instruments!$M$2:$M$5037,0),1),\"\")","v":""}]
[139,{"$f":"+IFERROR(INDEX(instruments!$N$2:$N$5037,MATCH(index!$A183,instruments!$M$2:$M$5037,0),1),\"\")","v":""}]
[140,{"$f":"+IFERROR(INDEX(instruments!$N$2:$N$5037,MATCH(index!$A184,instruments!$M$2:$M$5037,0),1),\"\")","v":""}]
[141,{"$f":"+IFERROR(INDEX(instruments!$N$2:$N$5037,MATCH(index!$A185,instruments!$M$2:$M$5037,0),1),\"\")","v":""}]
[142,{"$f":"+IFERROR(INDEX(instruments!$N$2:$N$5037,MATCH(index!$A186,instruments!$M$2:$M$5037,0),1),\"\")","v":""}]
[143,{"$f":"+IFERROR(INDEX(instruments!$N$2:$N$5037,MATCH(index!$A187,instruments!$M$2:$M$5037,0),1),\"\")","v":""}]
[144,{"$f":"+IFERROR(INDEX(instruments!$N$2:$N$5037,MATCH(index!$A188,instruments!$M$2:$M$5037,0),1),\"\")","v":""}]
[145,{"$f":"+IFERROR(INDEX(instruments!$N$2:$N$5037,MATCH(index!$A189,instruments!$M$2:$M$5037,0),1),\"\")","v":""}]
[146,{"$f":"+IFERROR(INDEX(instruments!$N$2:$N$5037,MATCH(index!$A190,instruments!$M$2:$M$5037,0),1),\"\")","v":""}]
[147,{"$f":"+IFERROR(INDEX(instruments!$N$2:$N$5037,MATCH(index!$A191,instruments!$M$2:$M$5037,0),1),\"\")","v":""}]
[148,{"$f":"+IFERROR(INDEX(instruments!$N$2:$N$5037,MATCH(index!$A192,instruments!$M$2:$M$5037,0),1),\"\")","v":""}]
[149,{"$f":"+IFERROR(INDEX(instruments!$N$2:$N$5037,MATCH(index!$A193,instruments!$M$2:$M$5037,0),1),\"\")","v":""}]
[150,{"$f":"+IFERROR(INDEX(instruments!$N$2:$N$5037,MATCH(index!$A194,instruments!$M$2:$M$5037,0),1),\"\")","v":""}]
[151,{"$f":"+IFERROR(INDEX(instruments!$N$2:$N$5037,MATCH(index!$A195,instruments!$M$2:$M$5037,0),1),\"\")","v":""}]
[152,{"$f":"+IFERROR(INDEX(instruments!$N$2:$N$5037,MATCH(index!$A196,instruments!$M$2:$M$5037,0),1),\"\")","v":""}]
[153,{"$f":"+IFERROR(INDEX(instruments!$N$2:$N$5037,MATCH(index!$A197,instruments!$M$2:$M$5037,0),1),\"\")","v":""}]
[154,{"$f":"+IFERROR(INDEX(instruments!$N$2:$N$5037,MATCH(index!$A198,instruments!$M$2:$M$5037,0),1),\"\")","v":""}]
[155,{"$f":"+IFERROR(INDEX(instruments!$N$2:$N$5037,MATCH(index!$A199,instruments!$M$2:$M$5037,0),1),\"\")","v":""}]
[156,{"$f":"+IFERROR(INDEX(instruments!$N$2:$N$5037,MATCH(index!$A200,instruments!$M$2:$M$5037,0),1),\"\")","v":""}]
[157,{"$f":"+IFERROR(INDEX(instruments!$N$2:$N$5037,MATCH(index!$A201,instruments!$M$2:$M$5037,0),1),\"\")","v":""}]
[158,{"$f":"+IFERROR(INDEX(instruments!$N$2:$N$5037,MATCH(index!$A202,instruments!$M$2:$M$5037,0),1),\"\")","v":""}]
[159,{"$f":"+IFERROR(INDEX(instruments!$N$2:$N$5037,MATCH(index!$A203,instruments!$M$2:$M$5037,0),1),\"\")","v":""}]
[160,{"$f":"+IFERROR(INDEX(instruments!$N$2:$N$5037,MATCH(index!$A204,instruments!$M$2:$M$5037,0),1),\"\")","v":""}]
[161,{"$f":"+IFERROR(INDEX(instruments!$N$2:$N$5037,MATCH(index!$A205,instruments!$M$2:$M$5037,0),1),\"\")","v":""}]
[162,{"$f":"+IFERROR(INDEX(instruments!$N$2:$N$5037,MATCH(index!$A206,instruments!$M$2:$M$5037,0),1),\"\")","v":""}]
[163,{"$f":"+IFERROR(INDEX(instruments!$N$2:$N$5037,MATCH(index!$A207,instruments!$M$2:$M$5037,0),1),\"\")","v":""}]
[164,{"$f":"+IFERROR(INDEX(instruments!$N$2:$N$5037,MATCH(index!$A208,instruments!$M$2:$M$5037,0),1),\"\")","v":""}]
[165,{"$f":"+IFERROR(INDEX(instruments!$N$2:$N$5037,MATCH(index!$A209,instruments!$M$2:$M$5037,0),1),\"\")","v":""}]
[166,{"$f":"+IFERROR(INDEX(instruments!$N$2:$N$5037,MATCH(index!$A210,instruments!$M$2:$M$5037,0),1),\"\")","v":""}]
[167,{"$f":"+IFERROR(INDEX(instruments!$N$2:$N$5037,MATCH(index!$A211,instruments!$M$2:$M$5037,0),1),\"\")","v":""}]
[168,{"$f":"+IFERROR(INDEX(instruments!$N$2:$N$5037,MATCH(index!$A212,instruments!$M$2:$M$5037,0),1),\"\")","v":""}]
[169,{"$f":"+IFERROR(INDEX(instruments!$N$2:$N$5037,MATCH(index!$A213,instruments!$M$2:$M$5037,0),1),\"\")","v":""}]
[170,{"$f":"+IFERROR(INDEX(instruments!$N$2:$N$5037,MATCH(index!$A214,instruments!$M$2:$M$5037,0),1),\"\")","v":""}]
[171,{"$f":"+IFERROR(INDEX(instruments!$N$2:$N$5037,MATCH(index!$A215,instruments!$M$2:$M$5037,0),1),\"\")","v":""}]
[172,{"$f":"+IFERROR(INDEX(instruments!$N$2:$N$5037,MATCH(index!$A216,instruments!$M$2:$M$5037,0),1),\"\")","v":""}]
[173,{"$f":"+IFERROR(INDEX(instruments!$N$2:$N$5037,MATCH(index!$A217,instruments!$M$2:$M$5037,0),1),\"\")","v":""}]
[174,{"$f":"+IFERROR(INDEX(instruments!$N$2:$N$5037,MATCH(index!$A218,instruments!$M$2:$M$5037,0),1),\"\")","v":""}]
[175,{"$f":"+IFERROR(INDEX(instruments!$N$2:$N$5037,MATCH(index!$A219,instruments!$M$2:$M$5037,0),1),\"\")","v":""}]
[176,{"$f":"+IFERROR(INDEX(instruments!$N$2:$N$5037,MATCH(index!$A220,instruments!$M$2:$M$5037,0),1),\"\")","v":""}]
[177,{"$f":"+IFERROR(INDEX(instruments!$N$2:$N$5037,MATCH(index!$A221,instruments!$M$2:$M$5037,0),1),\"\")","v":""}]
[178,{"$f":"+IFERROR(INDEX(instruments!$N$2:$N$5037,MATCH(index!$A222,instruments!$M$2:$M$5037,0),1),\"\")","v":""}]
[179,{"$f":"+IFERROR(INDEX(instruments!$N$2:$N$5037,MATCH(index!$A223,instruments!$M$2:$M$5037,0),1),\"\")","v":""}]
[180,{"$f":"+IFERROR(INDEX(instruments!$N$2:$N$5037,MATCH(index!$A224,instruments!$M$2:$M$5037,0),1),\"\")","v":""}]
[181,{"$f":"+IFERROR(INDEX(instruments!$N$2:$N$5037,MATCH(index!$A225,instruments!$M$2:$M$5037,0),1),\"\")","v":""}]
[182,{"$f":"+IFERROR(INDEX(instruments!$N$2:$N$5037,MATCH(index!$A226,instruments!$M$2:$M$5037,0),1),\"\")","v":""}]
[183,{"$f":"+IFERROR(INDEX(instruments!$N$2:$N$5037,MATCH(index!$A227,instruments!$M$2:$M$5037,0),1),\"\")","v":""}]
[184,{"$f":"+IFERROR(INDEX(instruments!$N$2:$N$5037,MATCH(index!$A228,instruments!$M$2:$M$5037,0),1),\"\")","v":""}]
[185,{"$f":"+IFERROR(INDEX(instruments!$N$2:$N$5037,MATCH(index!$A229,instruments!$M$2:$M$5037,0),1),\"\")","v":""}]
[186,{"$f":"+IFERROR(INDEX(instruments!$N$2:$N$5037,MATCH(index!$A230,instruments!$M$2:$M$5037,0),1),\"\")","v":""}]
[187,{"$f":"+IFERROR(INDEX(instruments!$N$2:$N$5037,MATCH(index!$A231,instruments!$M$2:$M$5037,0),1),\"\")","v":""}]
[188,{"$f":"+IFERROR(INDEX(instruments!$N$2:$N$5037,MATCH(index!$A232,instruments!$M$2:$M$5037,0),1),\"\")","v":""}]
[189,{"$f":"+IFERROR(INDEX(instruments!$N$2:$N$5037,MATCH(index!$A233,instruments!$M$2:$M$5037,0),1),\"\")","v":""}]
[190,{"$f":"+IFERROR(INDEX(instruments!$N$2:$N$5037,MATCH(index!$A234,instruments!$M$2:$M$5037,0),1),\"\")","v":""}]
[191,{"$f":"+IFERROR(INDEX(instruments!$N$2:$N$5037,MATCH(index!$A235,instruments!$M$2:$M$5037,0),1),\"\")","v":""}]
[192,{"$f":"+IFERROR(INDEX(instruments!$N$2:$N$5037,MATCH(index!$A236,instruments!$M$2:$M$5037,0),1),\"\")","v":""}]
[193,{"$f":"+IFERROR(INDEX(instruments!$N$2:$N$5037,MATCH(index!$A237,instruments!$M$2:$M$5037,0),1),\"\")","v":""}]
[194,{"$f":"+IFERROR(INDEX(instruments!$N$2:$N$5037,MATCH(index!$A238,instruments!$M$2:$M$5037,0),1),\"\")","v":""}]
[{"$f":"+A238+1","v":195},{"$f":"+IFERROR(INDEX(instruments!$N$2:$N$5037,MATCH(index!$A239,instruments!$M$2:$M$5037,0),1),\"\")","v":""}]
[196,{"$f":"+IFERROR(INDEX(instruments!$N$2:$N$5037,MATCH(index!$A240,instruments!$M$2:$M$5037,0),1),\"\")","v":""}]
[197,{"$f":"+IFERROR(INDEX(instruments!$N$2:$N$5037,MATCH(index!$A241,instruments!$M$2:$M$5037,0),1),\"\")","v":""}]
[198,{"$f":"+IFERROR(INDEX(instruments!$N$2:$N$5037,MATCH(index!$A242,instruments!$M$2:$M$5037,0),1),\"\")","v":""}]
[199,{"$f":"+IFERROR(INDEX(instruments!$N$2:$N$5037,MATCH(index!$A243,instruments!$M$2:$M$5037,0),1),\"\")","v":""}]
[200,{"$f":"+IFERROR(INDEX(instruments!$N$2:$N$5037,MATCH(index!$A244,instruments!$M$2:$M$5037,0),1),\"\")","v":""}]
[201,{"$f":"+IFERROR(INDEX(instruments!$N$2:$N$5037,MATCH(index!$A245,instruments!$M$2:$M$5037,0),1),\"\")","v":""}]
[202,{"$f":"+IFERROR(INDEX(instruments!$N$2:$N$5037,MATCH(index!$A246,instruments!$M$2:$M$5037,0),1),\"\")","v":""}]
[203,{"$f":"+IFERROR(INDEX(instruments!$N$2:$N$5037,MATCH(index!$A247,instruments!$M$2:$M$5037,0),1),\"\")","v":""}]
[204,{"$f":"+IFERROR(INDEX(instruments!$N$2:$N$5037,MATCH(index!$A248,instruments!$M$2:$M$5037,0),1),\"\")","v":""}]
[205,{"$f":"+IFERROR(INDEX(instruments!$N$2:$N$5037,MATCH(index!$A249,instruments!$M$2:$M$5037,0),1),\"\")","v":""}]
[206,{"$f":"+IFERROR(INDEX(instruments!$N$2:$N$5037,MATCH(index!$A250,instruments!$M$2:$M$5037,0),1),\"\")","v":""}]
[207,{"$f":"+IFERROR(INDEX(instruments!$N$2:$N$5037,MATCH(index!$A251,instruments!$M$2:$M$5037,0),1),\"\")","v":""}]
[208,{"$f":"+IFERROR(INDEX(instruments!$N$2:$N$5037,MATCH(index!$A252,instruments!$M$2:$M$5037,0),1),\"\")","v":""}]
[209,{"$f":"+IFERROR(INDEX(instruments!$N$2:$N$5037,MATCH(index!$A253,instruments!$M$2:$M$5037,0),1),\"\")","v":""}]
[210,{"$f":"+IFERROR(INDEX(instruments!$N$2:$N$5037,MATCH(index!$A254,instruments!$M$2:$M$5037,0),1),\"\")","v":""}]
[211,{"$f":"+IFERROR(INDEX(instruments!$N$2:$N$5037,MATCH(index!$A255,instruments!$M$2:$M$5037,0),1),\"\")","v":""}]
[212,{"$f":"+IFERROR(INDEX(instruments!$N$2:$N$5037,MATCH(index!$A256,instruments!$M$2:$M$5037,0),1),\"\")","v":""}]
[213,{"$f":"+IFERROR(INDEX(instruments!$N$2:$N$5037,MATCH(index!$A257,instruments!$M$2:$M$5037,0),1),\"\")","v":""}]
[214,{"$f":"+IFERROR(INDEX(instruments!$N$2:$N$5037,MATCH(index!$A258,instruments!$M$2:$M$5037,0),1),\"\")","v":""}]
[215,{"$f":"+IFERROR(INDEX(instruments!$N$2:$N$5037,MATCH(index!$A259,instruments!$M$2:$M$5037,0),1),\"\")","v":""}]
[216,{"$f":"+IFERROR(INDEX(instruments!$N$2:$N$5037,MATCH(index!$A260,instruments!$M$2:$M$5037,0),1),\"\")","v":""}]
[217,{"$f":"+IFERROR(INDEX(instruments!$N$2:$N$5037,MATCH(index!$A261,instruments!$M$2:$M$5037,0),1),\"\")","v":""}]
[218,{"$f":"+IFERROR(INDEX(instruments!$N$2:$N$5037,MATCH(index!$A262,instruments!$M$2:$M$5037,0),1),\"\")","v":""}]
[219,{"$f":"+IFERROR(INDEX(instruments!$N$2:$N$5037,MATCH(index!$A263,instruments!$M$2:$M$5037,0),1),\"\")","v":""}]
[220,{"$f":"+IFERROR(INDEX(instruments!$N$2:$N$5037,MATCH(index!$A264,instruments!$M$2:$M$5037,0),1),\"\")","v":""}]
[221,{"$f":"+IFERROR(INDEX(instruments!$N$2:$N$5037,MATCH(index!$A265,instruments!$M$2:$M$5037,0),1),\"\")","v":""}]
[222,{"$f":"+IFERROR(INDEX(instruments!$N$2:$N$5037,MATCH(index!$A266,instruments!$M$2:$M$5037,0),1),\"\")","v":""}]
[223,{"$f":"+IFERROR(INDEX(instruments!$N$2:$N$5037,MATCH(index!$A267,instruments!$M$2:$M$5037,0),1),\"\")","v":""}]
[224,{"$f":"+IFERROR(INDEX(instruments!$N$2:$N$5037,MATCH(index!$A268,instruments!$M$2:$M$5037,0),1),\"\")","v":""}]
[225,{"$f":"+IFERROR(INDEX(instruments!$N$2:$N$5037,MATCH(index!$A269,instruments!$M$2:$M$5037,0),1),\"\")","v":""}]
[226,{"$f":"+IFERROR(INDEX(instruments!$N$2:$N$5037,MATCH(index!$A270,instruments!$M$2:$M$5037,0),1),\"\")","v":""}]
[227,{"$f":"+IFERROR(INDEX(instruments!$N$2:$N$5037,MATCH(index!$A271,instruments!$M$2:$M$5037,0),1),\"\")","v":""}]
[228,{"$f":"+IFERROR(INDEX(instruments!$N$2:$N$5037,MATCH(index!$A272,instruments!$M$2:$M$5037,0),1),\"\")","v":""}]
[229,{"$f":"+IFERROR(INDEX(instruments!$N$2:$N$5037,MATCH(index!$A273,instruments!$M$2:$M$5037,0),1),\"\")","v":""}]
[230,{"$f":"+IFERROR(INDEX(instruments!$N$2:$N$5037,MATCH(index!$A274,instruments!$M$2:$M$5037,0),1),\"\")","v":""}]
[231,{"$f":"+IFERROR(INDEX(instruments!$N$2:$N$5037,MATCH(index!$A275,instruments!$M$2:$M$5037,0),1),\"\")","v":""}]
[232,{"$f":"+IFERROR(INDEX(instruments!$N$2:$N$5037,MATCH(index!$A276,instruments!$M$2:$M$5037,0),1),\"\")","v":""}]
[233,{"$f":"+IFERROR(INDEX(instruments!$N$2:$N$5037,MATCH(index!$A277,instruments!$M$2:$M$5037,0),1),\"\")","v":""}]
[234,{"$f":"+IFERROR(INDEX(instruments!$N$2:$N$5037,MATCH(index!$A278,instruments!$M$2:$M$5037,0),1),\"\")","v":""}]
[235,{"$f":"+IFERROR(INDEX(instruments!$N$2:$N$5037,MATCH(index!$A279,instruments!$M$2:$M$5037,0),1),\"\")","v":""}]
[236,{"$f":"+IFERROR(INDEX(instruments!$N$2:$N$5037,MATCH(index!$A280,instruments!$M$2:$M$5037,0),1),\"\")","v":""}]
[237,{"$f":"+IFERROR(INDEX(instruments!$N$2:$N$5037,MATCH(index!$A281,instruments!$M$2:$M$5037,0),1),\"\")","v":""}]
[238,{"$f":"+IFERROR(INDEX(instruments!$N$2:$N$5037,MATCH(index!$A282,instruments!$M$2:$M$5037,0),1),\"\")","v":""}]
[239,{"$f":"+IFERROR(INDEX(instruments!$N$2:$N$5037,MATCH(index!$A283,instruments!$M$2:$M$5037,0),1),\"\")","v":""}]
[240,{"$f":"+IFERROR(INDEX(instruments!$N$2:$N$5037,MATCH(index!$A284,instruments!$M$2:$M$5037,0),1),\"\")","v":""}]
[241,{"$f":"+IFERROR(INDEX(instruments!$N$2:$N$5037,MATCH(index!$A285,instruments!$M$2:$M$5037,0),1),\"\")","v":""}]
[242,{"$f":"+IFERROR(INDEX(instruments!$N$2:$N$5037,MATCH(index!$A286,instruments!$M$2:$M$5037,0),1),\"\")","v":""}]
[243,{"$f":"+IFERROR(INDEX(instruments!$N$2:$N$5037,MATCH(index!$A287,instruments!$M$2:$M$5037,0),1),\"\")","v":""}]
[244,{"$f":"+IFERROR(INDEX(instruments!$N$2:$N$5037,MATCH(index!$A288,instruments!$M$2:$M$5037,0),1),\"\")","v":""}]
[245,{"$f":"+IFERROR(INDEX(instruments!$N$2:$N$5037,MATCH(index!$A289,instruments!$M$2:$M$5037,0),1),\"\")","v":""}]
[246,{"$f":"+IFERROR(INDEX(instruments!$N$2:$N$5037,MATCH(index!$A290,instruments!$M$2:$M$5037,0),1),\"\")","v":""}]
[247,{"$f":"+IFERROR(INDEX(instruments!$N$2:$N$5037,MATCH(index!$A291,instruments!$M$2:$M$5037,0),1),\"\")","v":""}]
[248,{"$f":"+IFERROR(INDEX(instruments!$N$2:$N$5037,MATCH(index!$A292,instruments!$M$2:$M$5037,0),1),\"\")","v":""}]
[249,{"$f":"+IFERROR(INDEX(instruments!$N$2:$N$5037,MATCH(index!$A293,instruments!$M$2:$M$5037,0),1),\"\")","v":""}]
[250,{"$f":"+IFERROR(INDEX(instruments!$N$2:$N$5037,MATCH(index!$A294,instruments!$M$2:$M$5037,0),1),\"\")","v":""}]
[251,{"$f":"+IFERROR(INDEX(instruments!$N$2:$N$5037,MATCH(index!$A295,instruments!$M$2:$M$5037,0),1),\"\")","v":""}]
[252,{"$f":"+IFERROR(INDEX(instruments!$N$2:$N$5037,MATCH(index!$A296,instruments!$M$2:$M$5037,0),1),\"\")","v":""}]
[253,{"$f":"+IFERROR(INDEX(instruments!$N$2:$N$5037,MATCH(index!$A297,instruments!$M$2:$M$5037,0),1),\"\")","v":""}]
[254,{"$f":"+IFERROR(INDEX(instruments!$N$2:$N$5037,MATCH(index!$A298,instruments!$M$2:$M$5037,0),1),\"\")","v":""}]
[255,{"$f":"+IFERROR(INDEX(instruments!$N$2:$N$5037,MATCH(index!$A299,instruments!$M$2:$M$5037,0),1),\"\")","v":""}]
[256,{"$f":"+IFERROR(INDEX(instruments!$N$2:$N$5037,MATCH(index!$A300,instruments!$M$2:$M$5037,0),1),\"\")","v":""}]
[257,{"$f":"+IFERROR(INDEX(instruments!$N$2:$N$5037,MATCH(index!$A301,instruments!$M$2:$M$5037,0),1),\"\")","v":""}]
[258,{"$f":"+IFERROR(INDEX(instruments!$N$2:$N$5037,MATCH(index!$A302,instruments!$M$2:$M$5037,0),1),\"\")","v":""}]
[{"$f":"+A302+1","v":259},{"$f":"+IFERROR(INDEX(instruments!$N$2:$N$5037,MATCH(index!$A303,instruments!$M$2:$M$5037,0),1),\"\")","v":""}]
[260,{"$f":"+IFERROR(INDEX(instruments!$N$2:$N$5037,MATCH(index!$A304,instruments!$M$2:$M$5037,0),1),\"\")","v":""}]
[261,{"$f":"+IFERROR(INDEX(instruments!$N$2:$N$5037,MATCH(index!$A305,instruments!$M$2:$M$5037,0),1),\"\")","v":""}]
[262,{"$f":"+IFERROR(INDEX(instruments!$N$2:$N$5037,MATCH(index!$A306,instruments!$M$2:$M$5037,0),1),\"\")","v":""}]
[263,{"$f":"+IFERROR(INDEX(instruments!$N$2:$N$5037,MATCH(index!$A307,instruments!$M$2:$M$5037,0),1),\"\")","v":""}]
[264,{"$f":"+IFERROR(INDEX(instruments!$N$2:$N$5037,MATCH(index!$A308,instruments!$M$2:$M$5037,0),1),\"\")","v":""}]
[265,{"$f":"+IFERROR(INDEX(instruments!$N$2:$N$5037,MATCH(index!$A309,instruments!$M$2:$M$5037,0),1),\"\")","v":""}]
[266,{"$f":"+IFERROR(INDEX(instruments!$N$2:$N$5037,MATCH(index!$A310,instruments!$M$2:$M$5037,0),1),\"\")","v":""}]
[267,{"$f":"+IFERROR(INDEX(instruments!$N$2:$N$5037,MATCH(index!$A311,instruments!$M$2:$M$5037,0),1),\"\")","v":""}]
[268,{"$f":"+IFERROR(INDEX(instruments!$N$2:$N$5037,MATCH(index!$A312,instruments!$M$2:$M$5037,0),1),\"\")","v":""}]
[269,{"$f":"+IFERROR(INDEX(instruments!$N$2:$N$5037,MATCH(index!$A313,instruments!$M$2:$M$5037,0),1),\"\")","v":""}]
[270,{"$f":"+IFERROR(INDEX(instruments!$N$2:$N$5037,MATCH(index!$A314,instruments!$M$2:$M$5037,0),1),\"\")","v":""}]
[271,{"$f":"+IFERROR(INDEX(instruments!$N$2:$N$5037,MATCH(index!$A315,instruments!$M$2:$M$5037,0),1),\"\")","v":""}]
[272,{"$f":"+IFERROR(INDEX(instruments!$N$2:$N$5037,MATCH(index!$A316,instruments!$M$2:$M$5037,0),1),\"\")","v":""}]
[273,{"$f":"+IFERROR(INDEX(instruments!$N$2:$N$5037,MATCH(index!$A317,instruments!$M$2:$M$5037,0),1),\"\")","v":""}]
[274,{"$f":"+IFERROR(INDEX(instruments!$N$2:$N$5037,MATCH(index!$A318,instruments!$M$2:$M$5037,0),1),\"\")","v":""}]
[275,{"$f":"+IFERROR(INDEX(instruments!$N$2:$N$5037,MATCH(index!$A319,instruments!$M$2:$M$5037,0),1),\"\")","v":""}]
[276,{"$f":"+IFERROR(INDEX(instruments!$N$2:$N$5037,MATCH(index!$A320,instruments!$M$2:$M$5037,0),1),\"\")","v":""}]
[277,{"$f":"+IFERROR(INDEX(instruments!$N$2:$N$5037,MATCH(index!$A321,instruments!$M$2:$M$5037,0),1),\"\")","v":""}]
[278,{"$f":"+IFERROR(INDEX(instruments!$N$2:$N$5037,MATCH(index!$A322,instruments!$M$2:$M$5037,0),1),\"\")","v":""}]
[279,{"$f":"+IFERROR(INDEX(instruments!$N$2:$N$5037,MATCH(index!$A323,instruments!$M$2:$M$5037,0),1),\"\")","v":""}]
[280,{"$f":"+IFERROR(INDEX(instruments!$N$2:$N$5037,MATCH(index!$A324,instruments!$M$2:$M$5037,0),1),\"\")","v":""}]
[281,{"$f":"+IFERROR(INDEX(instruments!$N$2:$N$5037,MATCH(index!$A325,instruments!$M$2:$M$5037,0),1),\"\")","v":""}]
[282,{"$f":"+IFERROR(INDEX(instruments!$N$2:$N$5037,MATCH(index!$A326,instruments!$M$2:$M$5037,0),1),\"\")","v":""}]
[283,{"$f":"+IFERROR(INDEX(instruments!$N$2:$N$5037,MATCH(index!$A327,instruments!$M$2:$M$5037,0),1),\"\")","v":""}]
[284,{"$f":"+IFERROR(INDEX(instruments!$N$2:$N$5037,MATCH(index!$A328,instruments!$M$2:$M$5037,0),1),\"\")","v":""}]
[285,{"$f":"+IFERROR(INDEX(instruments!$N$2:$N$5037,MATCH(index!$A329,instruments!$M$2:$M$5037,0),1),\"\")","v":""}]
[286,{"$f":"+IFERROR(INDEX(instruments!$N$2:$N$5037,MATCH(index!$A330,instruments!$M$2:$M$5037,0),1),\"\")","v":""}]
[287,{"$f":"+IFERROR(INDEX(instruments!$N$2:$N$5037,MATCH(index!$A331,instruments!$M$2:$M$5037,0),1),\"\")","v":""}]
[288,{"$f":"+IFERROR(INDEX(instruments!$N$2:$N$5037,MATCH(index!$A332,instruments!$M$2:$M$5037,0),1),\"\")","v":""}]
[289,{"$f":"+IFERROR(INDEX(instruments!$N$2:$N$5037,MATCH(index!$A333,instruments!$M$2:$M$5037,0),1),\"\")","v":""}]
[290,{"$f":"+IFERROR(INDEX(instruments!$N$2:$N$5037,MATCH(index!$A334,instruments!$M$2:$M$5037,0),1),\"\")","v":""}]
[291,{"$f":"+IFERROR(INDEX(instruments!$N$2:$N$5037,MATCH(index!$A335,instruments!$M$2:$M$5037,0),1),\"\")","v":""}]
[292,{"$f":"+IFERROR(INDEX(instruments!$N$2:$N$5037,MATCH(index!$A336,instruments!$M$2:$M$5037,0),1),\"\")","v":""}]
[293,{"$f":"+IFERROR(INDEX(instruments!$N$2:$N$5037,MATCH(index!$A337,instruments!$M$2:$M$5037,0),1),\"\")","v":""}]
[294,{"$f":"+IFERROR(INDEX(instruments!$N$2:$N$5037,MATCH(index!$A338,instruments!$M$2:$M$5037,0),1),\"\")","v":""}]
[295,{"$f":"+IFERROR(INDEX(instruments!$N$2:$N$5037,MATCH(index!$A339,instruments!$M$2:$M$5037,0),1),\"\")","v":""}]
[296,{"$f":"+IFERROR(INDEX(instruments!$N$2:$N$5037,MATCH(index!$A340,instruments!$M$2:$M$5037,0),1),\"\")","v":""}]
[297,{"$f":"+IFERROR(INDEX(instruments!$N$2:$N$5037,MATCH(index!$A341,instruments!$M$2:$M$5037,0),1),\"\")","v":""}]
[298,{"$f":"+IFERROR(INDEX(instruments!$N$2:$N$5037,MATCH(index!$A342,instruments!$M$2:$M$5037,0),1),\"\")","v":""}]
[299,{"$f":"+IFERROR(INDEX(instruments!$N$2:$N$5037,MATCH(index!$A343,instruments!$M$2:$M$5037,0),1),\"\")","v":""}]
[300,{"$f":"+IFERROR(INDEX(instruments!$N$2:$N$5037,MATCH(index!$A344,instruments!$M$2:$M$5037,0),1),\"\")","v":""}]
[301,{"$f":"+IFERROR(INDEX(instruments!$N$2:$N$5037,MATCH(index!$A345,instruments!$M$2:$M$5037,0),1),\"\")","v":""}]
[302,{"$f":"+IFERROR(INDEX(instruments!$N$2:$N$5037,MATCH(index!$A346,instruments!$M$2:$M$5037,0),1),\"\")","v":""}]
[303,{"$f":"+IFERROR(INDEX(instruments!$N$2:$N$5037,MATCH(index!$A347,instruments!$M$2:$M$5037,0),1),\"\")","v":""}]
[304,{"$f":"+IFERROR(INDEX(instruments!$N$2:$N$5037,MATCH(index!$A348,instruments!$M$2:$M$5037,0),1),\"\")","v":""}]
[305,{"$f":"+IFERROR(INDEX(instruments!$N$2:$N$5037,MATCH(index!$A349,instruments!$M$2:$M$5037,0),1),\"\")","v":""}]
[306,{"$f":"+IFERROR(INDEX(instruments!$N$2:$N$5037,MATCH(index!$A350,instruments!$M$2:$M$5037,0),1),\"\")","v":""}]
[307,{"$f":"+IFERROR(INDEX(instruments!$N$2:$N$5037,MATCH(index!$A351,instruments!$M$2:$M$5037,0),1),\"\")","v":""}]
[308,{"$f":"+IFERROR(INDEX(instruments!$N$2:$N$5037,MATCH(index!$A352,instruments!$M$2:$M$5037,0),1),\"\")","v":""}]
[309,{"$f":"+IFERROR(INDEX(instruments!$N$2:$N$5037,MATCH(index!$A353,instruments!$M$2:$M$5037,0),1),\"\")","v":""}]
[310,{"$f":"+IFERROR(INDEX(instruments!$N$2:$N$5037,MATCH(index!$A354,instruments!$M$2:$M$5037,0),1),\"\")","v":""}]
[311,{"$f":"+IFERROR(INDEX(instruments!$N$2:$N$5037,MATCH(index!$A355,instruments!$M$2:$M$5037,0),1),\"\")","v":""}]
[312,{"$f":"+IFERROR(INDEX(instruments!$N$2:$N$5037,MATCH(index!$A356,instruments!$M$2:$M$5037,0),1),\"\")","v":""}]
[313,{"$f":"+IFERROR(INDEX(instruments!$N$2:$N$5037,MATCH(index!$A357,instruments!$M$2:$M$5037,0),1),\"\")","v":""}]
[314,{"$f":"+IFERROR(INDEX(instruments!$N$2:$N$5037,MATCH(index!$A358,instruments!$M$2:$M$5037,0),1),\"\")","v":""}]
[315,{"$f":"+IFERROR(INDEX(instruments!$N$2:$N$5037,MATCH(index!$A359,instruments!$M$2:$M$5037,0),1),\"\")","v":""}]
[316,{"$f":"+IFERROR(INDEX(instruments!$N$2:$N$5037,MATCH(index!$A360,instruments!$M$2:$M$5037,0),1),\"\")","v":""}]
[317,{"$f":"+IFERROR(INDEX(instruments!$N$2:$N$5037,MATCH(index!$A361,instruments!$M$2:$M$5037,0),1),\"\")","v":""}]
[318,{"$f":"+IFERROR(INDEX(instruments!$N$2:$N$5037,MATCH(index!$A362,instruments!$M$2:$M$5037,0),1),\"\")","v":""}]
[319,{"$f":"+IFERROR(INDEX(instruments!$N$2:$N$5037,MATCH(index!$A363,instruments!$M$2:$M$5037,0),1),\"\")","v":""}]
[320,{"$f":"+IFERROR(INDEX(instruments!$N$2:$N$5037,MATCH(index!$A364,instruments!$M$2:$M$5037,0),1),\"\")","v":""}]
[321,{"$f":"+IFERROR(INDEX(instruments!$N$2:$N$5037,MATCH(index!$A365,instruments!$M$2:$M$5037,0),1),\"\")","v":""}]
[322,{"$f":"+IFERROR(INDEX(instruments!$N$2:$N$5037,MATCH(index!$A366,instruments!$M$2:$M$5037,0),1),\"\")","v":""}]
[{"$f":"+A366+1","v":323},{"$f":"+IFERROR(INDEX(instruments!$N$2:$N$5037,MATCH(index!$A367,instruments!$M$2:$M$5037,0),1),\"\")","v":""}]
[324,{"$f":"+IFERROR(INDEX(instruments!$N$2:$N$5037,MATCH(index!$A368,instruments!$M$2:$M$5037,0),1),\"\")","v":""}]
[325,{"$f":"+IFERROR(INDEX(instruments!$N$2:$N$5037,MATCH(index!$A369,instruments!$M$2:$M$5037,0),1),\"\")","v":""}]
[326,{"$f":"+IFERROR(INDEX(instruments!$N$2:$N$5037,MATCH(index!$A370,instruments!$M$2:$M$5037,0),1),\"\")","v":""}]
[327,{"$f":"+IFERROR(INDEX(instruments!$N$2:$N$5037,MATCH(index!$A371,instruments!$M$2:$M$5037,0),1),\"\")","v":""}]
[328,{"$f":"+IFERROR(INDEX(instruments!$N$2:$N$5037,MATCH(index!$A372,instruments!$M$2:$M$5037,0),1),\"\")","v":""}]
[329,{"$f":"+IFERROR(INDEX(instruments!$N$2:$N$5037,MATCH(index!$A373,instruments!$M$2:$M$5037,0),1),\"\")","v":""}]
[330,{"$f":"+IFERROR(INDEX(instruments!$N$2:$N$5037,MATCH(index!$A374,instruments!$M$2:$M$5037,0),1),\"\")","v":""}]
[331,{"$f":"+IFERROR(INDEX(instruments!$N$2:$N$5037,MATCH(index!$A375,instruments!$M$2:$M$5037,0),1),\"\")","v":""}]
[332,{"$f":"+IFERROR(INDEX(instruments!$N$2:$N$5037,MATCH(index!$A376,instruments!$M$2:$M$5037,0),1),\"\")","v":""}]
[333,{"$f":"+IFERROR(INDEX(instruments!$N$2:$N$5037,MATCH(index!$A377,instruments!$M$2:$M$5037,0),1),\"\")","v":""}]
[334,{"$f":"+IFERROR(INDEX(instruments!$N$2:$N$5037,MATCH(index!$A378,instruments!$M$2:$M$5037,0),1),\"\")","v":""}]
[335,{"$f":"+IFERROR(INDEX(instruments!$N$2:$N$5037,MATCH(index!$A379,instruments!$M$2:$M$5037,0),1),\"\")","v":""}]
[336,{"$f":"+IFERROR(INDEX(instruments!$N$2:$N$5037,MATCH(index!$A380,instruments!$M$2:$M$5037,0),1),\"\")","v":""}]
[337,{"$f":"+IFERROR(INDEX(instruments!$N$2:$N$5037,MATCH(index!$A381,instruments!$M$2:$M$5037,0),1),\"\")","v":""}]
[338,{"$f":"+IFERROR(INDEX(instruments!$N$2:$N$5037,MATCH(index!$A382,instruments!$M$2:$M$5037,0),1),\"\")","v":""}]
[339,{"$f":"+IFERROR(INDEX(instruments!$N$2:$N$5037,MATCH(index!$A383,instruments!$M$2:$M$5037,0),1),\"\")","v":""}]
[340,{"$f":"+IFERROR(INDEX(instruments!$N$2:$N$5037,MATCH(index!$A384,instruments!$M$2:$M$5037,0),1),\"\")","v":""}]
[341,{"$f":"+IFERROR(INDEX(instruments!$N$2:$N$5037,MATCH(index!$A385,instruments!$M$2:$M$5037,0),1),\"\")","v":""}]
[342,{"$f":"+IFERROR(INDEX(instruments!$N$2:$N$5037,MATCH(index!$A386,instruments!$M$2:$M$5037,0),1),\"\")","v":""}]
[343,{"$f":"+IFERROR(INDEX(instruments!$N$2:$N$5037,MATCH(index!$A387,instruments!$M$2:$M$5037,0),1),\"\")","v":""}]
[344,{"$f":"+IFERROR(INDEX(instruments!$N$2:$N$5037,MATCH(index!$A388,instruments!$M$2:$M$5037,0),1),\"\")","v":""}]
[345,{"$f":"+IFERROR(INDEX(instruments!$N$2:$N$5037,MATCH(index!$A389,instruments!$M$2:$M$5037,0),1),\"\")","v":""}]
[346,{"$f":"+IFERROR(INDEX(instruments!$N$2:$N$5037,MATCH(index!$A390,instruments!$M$2:$M$5037,0),1),\"\")","v":""}]
[347,{"$f":"+IFERROR(INDEX(instruments!$N$2:$N$5037,MATCH(index!$A391,instruments!$M$2:$M$5037,0),1),\"\")","v":""}]
[348,{"$f":"+IFERROR(INDEX(instruments!$N$2:$N$5037,MATCH(index!$A392,instruments!$M$2:$M$5037,0),1),\"\")","v":""}]
[349,{"$f":"+IFERROR(INDEX(instruments!$N$2:$N$5037,MATCH(index!$A393,instruments!$M$2:$M$5037,0),1),\"\")","v":""}]
[350,{"$f":"+IFERROR(INDEX(instruments!$N$2:$N$5037,MATCH(index!$A394,instruments!$M$2:$M$5037,0),1),\"\")","v":""}]
[351,{"$f":"+IFERROR(INDEX(instruments!$N$2:$N$5037,MATCH(index!$A395,instruments!$M$2:$M$5037,0),1),\"\")","v":""}]
[352,{"$f":"+IFERROR(INDEX(instruments!$N$2:$N$5037,MATCH(index!$A396,instruments!$M$2:$M$5037,0),1),\"\")","v":""}]
[353,{"$f":"+IFERROR(INDEX(instruments!$N$2:$N$5037,MATCH(index!$A397,instruments!$M$2:$M$5037,0),1),\"\")","v":""}]
[354,{"$f":"+IFERROR(INDEX(instruments!$N$2:$N$5037,MATCH(index!$A398,instruments!$M$2:$M$5037,0),1),\"\")","v":""}]
[355,{"$f":"+IFERROR(INDEX(instruments!$N$2:$N$5037,MATCH(index!$A399,instruments!$M$2:$M$5037,0),1),\"\")","v":""}]
[356,{"$f":"+IFERROR(INDEX(instruments!$N$2:$N$5037,MATCH(index!$A400,instruments!$M$2:$M$5037,0),1),\"\")","v":""}]
[357,{"$f":"+IFERROR(INDEX(instruments!$N$2:$N$5037,MATCH(index!$A401,instruments!$M$2:$M$5037,0),1),\"\")","v":""}]
[358,{"$f":"+IFERROR(INDEX(instruments!$N$2:$N$5037,MATCH(index!$A402,instruments!$M$2:$M$5037,0),1),\"\")","v":""}]
[359,{"$f":"+IFERROR(INDEX(instruments!$N$2:$N$5037,MATCH(index!$A403,instruments!$M$2:$M$5037,0),1),\"\")","v":""}]
[360,{"$f":"+IFERROR(INDEX(instruments!$N$2:$N$5037,MATCH(index!$A404,instruments!$M$2:$M$5037,0),1),\"\")","v":""}]
[361,{"$f":"+IFERROR(INDEX(instruments!$N$2:$N$5037,MATCH(index!$A405,instruments!$M$2:$M$5037,0),1),\"\")","v":""}]
[362,{"$f":"+IFERROR(INDEX(instruments!$N$2:$N$5037,MATCH(index!$A406,instruments!$M$2:$M$5037,0),1),\"\")","v":""}]
[363,{"$f":"+IFERROR(INDEX(instruments!$N$2:$N$5037,MATCH(index!$A407,instruments!$M$2:$M$5037,0),1),\"\")","v":""}]
[364,{"$f":"+IFERROR(INDEX(instruments!$N$2:$N$5037,MATCH(index!$A408,instruments!$M$2:$M$5037,0),1),\"\")","v":""}]
[365,{"$f":"+IFERROR(INDEX(instruments!$N$2:$N$5037,MATCH(index!$A409,instruments!$M$2:$M$5037,0),1),\"\")","v":""}]
[366,{"$f":"+IFERROR(INDEX(instruments!$N$2:$N$5037,MATCH(index!$A410,instruments!$M$2:$M$5037,0),1),\"\")","v":""}]
[367,{"$f":"+IFERROR(INDEX(instruments!$N$2:$N$5037,MATCH(index!$A411,instruments!$M$2:$M$5037,0),1),\"\")","v":""}]
[368,{"$f":"+IFERROR(INDEX(instruments!$N$2:$N$5037,MATCH(index!$A412,instruments!$M$2:$M$5037,0),1),\"\")","v":""}]
[369,{"$f":"+IFERROR(INDEX(instruments!$N$2:$N$5037,MATCH(index!$A413,instruments!$M$2:$M$5037,0),1),\"\")","v":""}]
[370,{"$f":"+IFERROR(INDEX(instruments!$N$2:$N$5037,MATCH(index!$A414,instruments!$M$2:$M$5037,0),1),\"\")","v":""}]
[371,{"$f":"+IFERROR(INDEX(instruments!$N$2:$N$5037,MATCH(index!$A415,instruments!$M$2:$M$5037,0),1),\"\")","v":""}]
[372,{"$f":"+IFERROR(INDEX(instruments!$N$2:$N$5037,MATCH(index!$A416,instruments!$M$2:$M$5037,0),1),\"\")","v":""}]
[373,{"$f":"+IFERROR(INDEX(instruments!$N$2:$N$5037,MATCH(index!$A417,instruments!$M$2:$M$5037,0),1),\"\")","v":""}]
[374,{"$f":"+IFERROR(INDEX(instruments!$N$2:$N$5037,MATCH(index!$A418,instruments!$M$2:$M$5037,0),1),\"\")","v":""}]
[375,{"$f":"+IFERROR(INDEX(instruments!$N$2:$N$5037,MATCH(index!$A419,instruments!$M$2:$M$5037,0),1),\"\")","v":""}]
[376,{"$f":"+IFERROR(INDEX(instruments!$N$2:$N$5037,MATCH(index!$A420,instruments!$M$2:$M$5037,0),1),\"\")","v":""}]
[377,{"$f":"+IFERROR(INDEX(instruments!$N$2:$N$5037,MATCH(index!$A421,instruments!$M$2:$M$5037,0),1),\"\")","v":""}]
[378,{"$f":"+IFERROR(INDEX(instruments!$N$2:$N$5037,MATCH(index!$A422,instruments!$M$2:$M$5037,0),1),\"\")","v":""}]
[379,{"$f":"+IFERROR(INDEX(instruments!$N$2:$N$5037,MATCH(index!$A423,instruments!$M$2:$M$5037,0),1),\"\")","v":""}]
[380,{"$f":"+IFERROR(INDEX(instruments!$N$2:$N$5037,MATCH(index!$A424,instruments!$M$2:$M$5037,0),1),\"\")","v":""}]
[381,{"$f":"+IFERROR(INDEX(instruments!$N$2:$N$5037,MATCH(index!$A425,instruments!$M$2:$M$5037,0),1),\"\")","v":""}]
[382,{"$f":"+IFERROR(INDEX(instruments!$N$2:$N$5037,MATCH(index!$A426,instruments!$M$2:$M$5037,0),1),\"\")","v":""}]
[383,{"$f":"+IFERROR(INDEX(instruments!$N$2:$N$5037,MATCH(index!$A427,instruments!$M$2:$M$5037,0),1),\"\")","v":""}]
[384,{"$f":"+IFERROR(INDEX(instruments!$N$2:$N$5037,MATCH(index!$A428,instruments!$M$2:$M$5037,0),1),\"\")","v":""}]
[385,{"$f":"+IFERROR(INDEX(instruments!$N$2:$N$5037,MATCH(index!$A429,instruments!$M$2:$M$5037,0),1),\"\")","v":""}]
[386,{"$f":"+IFERROR(INDEX(instruments!$N$2:$N$5037,MATCH(index!$A430,instruments!$M$2:$M$5037,0),1),\"\")","v":""}]
[{"$f":"+A430+1","v":387},{"$f":"+IFERROR(INDEX(instruments!$N$2:$N$5037,MATCH(index!$A431,instruments!$M$2:$M$5037,0),1),\"\")","v":""}]
[388,{"$f":"+IFERROR(INDEX(instruments!$N$2:$N$5037,MATCH(index!$A432,instruments!$M$2:$M$5037,0),1),\"\")","v":""}]
[389,{"$f":"+IFERROR(INDEX(instruments!$N$2:$N$5037,MATCH(index!$A433,instruments!$M$2:$M$5037,0),1),\"\")","v":""}]
[390,{"$f":"+IFERROR(INDEX(instruments!$N$2:$N$5037,MATCH(index!$A434,instruments!$M$2:$M$5037,0),1),\"\")","v":""}]
[391,{"$f":"+IFERROR(INDEX(instruments!$N$2:$N$5037,MATCH(index!$A435,instruments!$M$2:$M$5037,0),1),\"\")","v":""}]
[392,{"$f":"+IFERROR(INDEX(instruments!$N$2:$N$5037,MATCH(index!$A436,instruments!$M$2:$M$5037,0),1),\"\")","v":""}]
[393,{"$f":"+IFERROR(INDEX(instruments!$N$2:$N$5037,MATCH(index!$A437,instruments!$M$2:$M$5037,0),1),\"\")","v":""}]
[394,{"$f":"+IFERROR(INDEX(instruments!$N$2:$N$5037,MATCH(index!$A438,instruments!$M$2:$M$5037,0),1),\"\")","v":""}]
[395,{"$f":"+IFERROR(INDEX(instruments!$N$2:$N$5037,MATCH(index!$A439,instruments!$M$2:$M$5037,0),1),\"\")","v":""}]
[396,{"$f":"+IFERROR(INDEX(instruments!$N$2:$N$5037,MATCH(index!$A440,instruments!$M$2:$M$5037,0),1),\"\")","v":""}]
[397,{"$f":"+IFERROR(INDEX(instruments!$N$2:$N$5037,MATCH(index!$A441,instruments!$M$2:$M$5037,0),1),\"\")","v":""}]
[398,{"$f":"+IFERROR(INDEX(instruments!$N$2:$N$5037,MATCH(index!$A442,instruments!$M$2:$M$5037,0),1),\"\")","v":""}]
[399,{"$f":"+IFERROR(INDEX(instruments!$N$2:$N$5037,MATCH(index!$A443,instruments!$M$2:$M$5037,0),1),\"\")","v":""}]
[400,{"$f":"+IFERROR(INDEX(instruments!$N$2:$N$5037,MATCH(index!$A444,instruments!$M$2:$M$5037,0),1),\"\")","v":""}]
[401,{"$f":"+IFERROR(INDEX(instruments!$N$2:$N$5037,MATCH(index!$A445,instruments!$M$2:$M$5037,0),1),\"\")","v":""}]
[402,{"$f":"+IFERROR(INDEX(instruments!$N$2:$N$5037,MATCH(index!$A446,instruments!$M$2:$M$5037,0),1),\"\")","v":""}]
[{"$f":"+A446+1","v":403},{"$f":"+IFERROR(INDEX(instruments!$N$2:$N$5037,MATCH(index!$A447,instruments!$M$2:$M$5037,0),1),\"\")","v":""}]
[404,{"$f":"+IFERROR(INDEX(instruments!$N$2:$N$5037,MATCH(index!$A448,instruments!$M$2:$M$5037,0),1),\"\")","v":""}]
[405,{"$f":"+IFERROR(INDEX(instruments!$N$2:$N$5037,MATCH(index!$A449,instruments!$M$2:$M$5037,0),1),\"\")","v":""}]
[406,{"$f":"+IFERROR(INDEX(instruments!$N$2:$N$5037,MATCH(index!$A450,instruments!$M$2:$M$5037,0),1),\"\")","v":""}]
[407,{"$f":"+IFERROR(INDEX(instruments!$N$2:$N$5037,MATCH(index!$A451,instruments!$M$2:$M$5037,0),1),\"\")","v":""}]
[408,{"$f":"+IFERROR(INDEX(instruments!$N$2:$N$5037,MATCH(index!$A452,instruments!$M$2:$M$5037,0),1),\"\")","v":""}]
[409,{"$f":"+IFERROR(INDEX(instruments!$N$2:$N$5037,MATCH(index!$A453,instruments!$M$2:$M$5037,0),1),\"\")","v":""}]
[410,{"$f":"+IFERROR(INDEX(instruments!$N$2:$N$5037,MATCH(index!$A454,instruments!$M$2:$M$5037,0),1),\"\")","v":""}]
[411,{"$f":"+IFERROR(INDEX(instruments!$N$2:$N$5037,MATCH(index!$A455,instruments!$M$2:$M$5037,0),1),\"\")","v":""}]
[412,{"$f":"+IFERROR(INDEX(instruments!$N$2:$N$5037,MATCH(index!$A456,instruments!$M$2:$M$5037,0),1),\"\")","v":""}]
[413,{"$f":"+IFERROR(INDEX(instruments!$N$2:$N$5037,MATCH(index!$A457,instruments!$M$2:$M$5037,0),1),\"\")","v":""}]
[414,{"$f":"+IFERROR(INDEX(instruments!$N$2:$N$5037,MATCH(index!$A458,instruments!$M$2:$M$5037,0),1),\"\")","v":""}]
[415,{"$f":"+IFERROR(INDEX(instruments!$N$2:$N$5037,MATCH(index!$A459,instruments!$M$2:$M$5037,0),1),\"\")","v":""}]
[416,{"$f":"+IFERROR(INDEX(instruments!$N$2:$N$5037,MATCH(index!$A460,instruments!$M$2:$M$5037,0),1),\"\")","v":""}]
[417,{"$f":"+IFERROR(INDEX(instruments!$N$2:$N$5037,MATCH(index!$A461,instruments!$M$2:$M$5037,0),1),\"\")","v":""}]
[418,{"$f":"+IFERROR(INDEX(instruments!$N$2:$N$5037,MATCH(index!$A462,instruments!$M$2:$M$5037,0),1),\"\")","v":""}]
[419,{"$f":"+IFERROR(INDEX(instruments!$N$2:$N$5037,MATCH(index!$A463,instruments!$M$2:$M$5037,0),1),\"\")","v":""}]
[420,{"$f":"+IFERROR(INDEX(instruments!$N$2:$N$5037,MATCH(index!$A464,instruments!$M$2:$M$5037,0),1),\"\")","v":""}]
[421,{"$f":"+IFERROR(INDEX(instruments!$N$2:$N$5037,MATCH(index!$A465,instruments!$M$2:$M$5037,0),1),\"\")","v":""}]
[422,{"$f":"+IFERROR(INDEX(instruments!$N$2:$N$5037,MATCH(index!$A466,instruments!$M$2:$M$5037,0),1),\"\")","v":""}]
[423,{"$f":"+IFERROR(INDEX(instruments!$N$2:$N$5037,MATCH(index!$A467,instruments!$M$2:$M$5037,0),1),\"\")","v":""}]
[424,{"$f":"+IFERROR(INDEX(instruments!$N$2:$N$5037,MATCH(index!$A468,instruments!$M$2:$M$5037,0),1),\"\")","v":""}]
[425,{"$f":"+IFERROR(INDEX(instruments!$N$2:$N$5037,MATCH(index!$A469,instruments!$M$2:$M$5037,0),1),\"\")","v":""}]
[426,{"$f":"+IFERROR(INDEX(instruments!$N$2:$N$5037,MATCH(index!$A470,instruments!$M$2:$M$5037,0),1),\"\")","v":""}]
[427,{"$f":"+IFERROR(INDEX(instruments!$N$2:$N$5037,MATCH(index!$A471,instruments!$M$2:$M$5037,0),1),\"\")","v":""}]
[428,{"$f":"+IFERROR(INDEX(instruments!$N$2:$N$5037,MATCH(index!$A472,instruments!$M$2:$M$5037,0),1),\"\")","v":""}]
[429,{"$f":"+IFERROR(INDEX(instruments!$N$2:$N$5037,MATCH(index!$A473,instruments!$M$2:$M$5037,0),1),\"\")","v":""}]
[430,{"$f":"+IFERROR(INDEX(instruments!$N$2:$N$5037,MATCH(index!$A474,instruments!$M$2:$M$5037,0),1),\"\")","v":""}]
[431,{"$f":"+IFERROR(INDEX(instruments!$N$2:$N$5037,MATCH(index!$A475,instruments!$M$2:$M$5037,0),1),\"\")","v":""}]
[432,{"$f":"+IFERROR(INDEX(instruments!$N$2:$N$5037,MATCH(index!$A476,instruments!$M$2:$M$5037,0),1),\"\")","v":""}]
[433,{"$f":"+IFERROR(INDEX(instruments!$N$2:$N$5037,MATCH(index!$A477,instruments!$M$2:$M$5037,0),1),\"\")","v":""}]
[434,{"$f":"+IFERROR(INDEX(instruments!$N$2:$N$5037,MATCH(index!$A478,instruments!$M$2:$M$5037,0),1),\"\")","v":""}]
[435,{"$f":"+IFERROR(INDEX(instruments!$N$2:$N$5037,MATCH(index!$A479,instruments!$M$2:$M$5037,0),1),\"\")","v":""}]
[436,{"$f":"+IFERROR(INDEX(instruments!$N$2:$N$5037,MATCH(index!$A480,instruments!$M$2:$M$5037,0),1),\"\")","v":""}]
[437,{"$f":"+IFERROR(INDEX(instruments!$N$2:$N$5037,MATCH(index!$A481,instruments!$M$2:$M$5037,0),1),\"\")","v":""}]
[438,{"$f":"+IFERROR(INDEX(instruments!$N$2:$N$5037,MATCH(index!$A482,instruments!$M$2:$M$5037,0),1),\"\")","v":""}]
[439,{"$f":"+IFERROR(INDEX(instruments!$N$2:$N$5037,MATCH(index!$A483,instruments!$M$2:$M$5037,0),1),\"\")","v":""}]
[440,{"$f":"+IFERROR(INDEX(instruments!$N$2:$N$5037,MATCH(index!$A484,instruments!$M$2:$M$5037,0),1),\"\")","v":""}]
[441,{"$f":"+IFERROR(INDEX(instruments!$N$2:$N$5037,MATCH(index!$A485,instruments!$M$2:$M$5037,0),1),\"\")","v":""}]
[442,{"$f":"+IFERROR(INDEX(instruments!$N$2:$N$5037,MATCH(index!$A486,instruments!$M$2:$M$5037,0),1),\"\")","v":""}]
[443,{"$f":"+IFERROR(INDEX(instruments!$N$2:$N$5037,MATCH(index!$A487,instruments!$M$2:$M$5037,0),1),\"\")","v":""}]
[444,{"$f":"+IFERROR(INDEX(instruments!$N$2:$N$5037,MATCH(index!$A488,instruments!$M$2:$M$5037,0),1),\"\")","v":""}]
[445,{"$f":"+IFERROR(INDEX(instruments!$N$2:$N$5037,MATCH(index!$A489,instruments!$M$2:$M$5037,0),1),\"\")","v":""}]
[446,{"$f":"+IFERROR(INDEX(instruments!$N$2:$N$5037,MATCH(index!$A490,instruments!$M$2:$M$5037,0),1),\"\")","v":""}]
[447,{"$f":"+IFERROR(INDEX(instruments!$N$2:$N$5037,MATCH(index!$A491,instruments!$M$2:$M$5037,0),1),\"\")","v":""}]
[448,{"$f":"+IFERROR(INDEX(instruments!$N$2:$N$5037,MATCH(index!$A492,instruments!$M$2:$M$5037,0),1),\"\")","v":""}]
[449,{"$f":"+IFERROR(INDEX(instruments!$N$2:$N$5037,MATCH(index!$A493,instruments!$M$2:$M$5037,0),1),\"\")","v":""}]
[450,{"$f":"+IFERROR(INDEX(instruments!$N$2:$N$5037,MATCH(index!$A494,instruments!$M$2:$M$5037,0),1),\"\")","v":""}]
[451,{"$f":"+IFERROR(INDEX(instruments!$N$2:$N$5037,MATCH(index!$A495,instruments!$M$2:$M$5037,0),1),\"\")","v":""}]
[452,{"$f":"+IFERROR(INDEX(instruments!$N$2:$N$5037,MATCH(index!$A496,instruments!$M$2:$M$5037,0),1),\"\")","v":""}]
[453,{"$f":"+IFERROR(INDEX(instruments!$N$2:$N$5037,MATCH(index!$A497,instruments!$M$2:$M$5037,0),1),\"\")","v":""}]
[454,{"$f":"+IFERROR(INDEX(instruments!$N$2:$N$5037,MATCH(index!$A498,instruments!$M$2:$M$5037,0),1),\"\")","v":""}]
[455,{"$f":"+IFERROR(INDEX(instruments!$N$2:$N$5037,MATCH(index!$A499,instruments!$M$2:$M$5037,0),1),\"\")","v":""}]
[456,{"$f":"+IFERROR(INDEX(instruments!$N$2:$N$5037,MATCH(index!$A500,instruments!$M$2:$M$5037,0),1),\"\")","v":""}]
[457,{"$f":"+IFERROR(INDEX(instruments!$N$2:$N$5037,MATCH(index!$A501,instruments!$M$2:$M$5037,0),1),\"\")","v":""}]
[458,{"$f":"+IFERROR(INDEX(instruments!$N$2:$N$5037,MATCH(index!$A502,instruments!$M$2:$M$5037,0),1),\"\")","v":""}]
[459,{"$f":"+IFERROR(INDEX(instruments!$N$2:$N$5037,MATCH(index!$A503,instruments!$M$2:$M$5037,0),1),\"\")","v":""}]
[460,{"$f":"+IFERROR(INDEX(instruments!$N$2:$N$5037,MATCH(index!$A504,instruments!$M$2:$M$5037,0),1),\"\")","v":""}]
[461,{"$f":"+IFERROR(INDEX(instruments!$N$2:$N$5037,MATCH(index!$A505,instruments!$M$2:$M$5037,0),1),\"\")","v":""}]
[462,{"$f":"+IFERROR(INDEX(instruments!$N$2:$N$5037,MATCH(index!$A506,instruments!$M$2:$M$5037,0),1),\"\")","v":""}]
[463,{"$f":"+IFERROR(INDEX(instruments!$N$2:$N$5037,MATCH(index!$A507,instruments!$M$2:$M$5037,0),1),\"\")","v":""}]
[464,{"$f":"+IFERROR(INDEX(instruments!$N$2:$N$5037,MATCH(index!$A508,instruments!$M$2:$M$5037,0),1),\"\")","v":""}]
[465,{"$f":"+IFERROR(INDEX(instruments!$N$2:$N$5037,MATCH(index!$A509,instruments!$M$2:$M$5037,0),1),\"\")","v":""}]
[466,{"$f":"+IFERROR(INDEX(instruments!$N$2:$N$5037,MATCH(index!$A510,instruments!$M$2:$M$5037,0),1),\"\")","v":""}]
[{"$f":"+A510+1","v":467},{"$f":"+IFERROR(INDEX(instruments!$N$2:$N$5037,MATCH(index!$A511,instruments!$M$2:$M$5037,0),1),\"\")","v":""}]
[468,{"$f":"+IFERROR(INDEX(instruments!$N$2:$N$5037,MATCH(index!$A512,instruments!$M$2:$M$5037,0),1),\"\")","v":""}]
[469,{"$f":"+IFERROR(INDEX(instruments!$N$2:$N$5037,MATCH(index!$A513,instruments!$M$2:$M$5037,0),1),\"\")","v":""}]
[470,{"$f":"+IFERROR(INDEX(instruments!$N$2:$N$5037,MATCH(index!$A514,instruments!$M$2:$M$5037,0),1),\"\")","v":""}]
[471,{"$f":"+IFERROR(INDEX(instruments!$N$2:$N$5037,MATCH(index!$A515,instruments!$M$2:$M$5037,0),1),\"\")","v":""}]
[472,{"$f":"+IFERROR(INDEX(instruments!$N$2:$N$5037,MATCH(index!$A516,instruments!$M$2:$M$5037,0),1),\"\")","v":""}]
[473,{"$f":"+IFERROR(INDEX(instruments!$N$2:$N$5037,MATCH(index!$A517,instruments!$M$2:$M$5037,0),1),\"\")","v":""}]
[474,{"$f":"+IFERROR(INDEX(instruments!$N$2:$N$5037,MATCH(index!$A518,instruments!$M$2:$M$5037,0),1),\"\")","v":""}]
[475,{"$f":"+IFERROR(INDEX(instruments!$N$2:$N$5037,MATCH(index!$A519,instruments!$M$2:$M$5037,0),1),\"\")","v":""}]
[476,{"$f":"+IFERROR(INDEX(instruments!$N$2:$N$5037,MATCH(index!$A520,instruments!$M$2:$M$5037,0),1),\"\")","v":""}]
[477,{"$f":"+IFERROR(INDEX(instruments!$N$2:$N$5037,MATCH(index!$A521,instruments!$M$2:$M$5037,0),1),\"\")","v":""}]
[478,{"$f":"+IFERROR(INDEX(instruments!$N$2:$N$5037,MATCH(index!$A522,instruments!$M$2:$M$5037,0),1),\"\")","v":""}]
[479,{"$f":"+IFERROR(INDEX(instruments!$N$2:$N$5037,MATCH(index!$A523,instruments!$M$2:$M$5037,0),1),\"\")","v":""}]
[480,{"$f":"+IFERROR(INDEX(instruments!$N$2:$N$5037,MATCH(index!$A524,instruments!$M$2:$M$5037,0),1),\"\")","v":""}]
[481,{"$f":"+IFERROR(INDEX(instruments!$N$2:$N$5037,MATCH(index!$A525,instruments!$M$2:$M$5037,0),1),\"\")","v":""}]
[482,{"$f":"+IFERROR(INDEX(instruments!$N$2:$N$5037,MATCH(index!$A526,instruments!$M$2:$M$5037,0),1),\"\")","v":""}]
[483,{"$f":"+IFERROR(INDEX(instruments!$N$2:$N$5037,MATCH(index!$A527,instruments!$M$2:$M$5037,0),1),\"\")","v":""}]
[484,{"$f":"+IFERROR(INDEX(instruments!$N$2:$N$5037,MATCH(index!$A528,instruments!$M$2:$M$5037,0),1),\"\")","v":""}]
[485,{"$f":"+IFERROR(INDEX(instruments!$N$2:$N$5037,MATCH(index!$A529,instruments!$M$2:$M$5037,0),1),\"\")","v":""}]
[486,{"$f":"+IFERROR(INDEX(instruments!$N$2:$N$5037,MATCH(index!$A530,instruments!$M$2:$M$5037,0),1),\"\")","v":""}]
[487,{"$f":"+IFERROR(INDEX(instruments!$N$2:$N$5037,MATCH(index!$A531,instruments!$M$2:$M$5037,0),1),\"\")","v":""}]
[488,{"$f":"+IFERROR(INDEX(instruments!$N$2:$N$5037,MATCH(index!$A532,instruments!$M$2:$M$5037,0),1),\"\")","v":""}]
[489,{"$f":"+IFERROR(INDEX(instruments!$N$2:$N$5037,MATCH(index!$A533,instruments!$M$2:$M$5037,0),1),\"\")","v":""}]
[490,{"$f":"+IFERROR(INDEX(instruments!$N$2:$N$5037,MATCH(index!$A534,instruments!$M$2:$M$5037,0),1),\"\")","v":""}]
[491,{"$f":"+IFERROR(INDEX(instruments!$N$2:$N$5037,MATCH(index!$A535,instruments!$M$2:$M$5037,0),1),\"\")","v":""}]
[492,{"$f":"+IFERROR(INDEX(instruments!$N$2:$N$5037,MATCH(index!$A536,instruments!$M$2:$M$5037,0),1),\"\")","v":""}]
[493,{"$f":"+IFERROR(INDEX(instruments!$N$2:$N$5037,MATCH(index!$A537,instruments!$M$2:$M$5037,0),1),\"\")","v":""}]
[494,{"$f":"+IFERROR(INDEX(instruments!$N$2:$N$5037,MATCH(index!$A538,instruments!$M$2:$M$5037,0),1),\"\")","v":""}]
[495,{"$f":"+IFERROR(INDEX(instruments!$N$2:$N$5037,MATCH(index!$A539,instruments!$M$2:$M$5037,0),1),\"\")","v":""}]
[496,{"$f":"+IFERROR(INDEX(instruments!$N$2:$N$5037,MATCH(index!$A540,instruments!$M$2:$M$5037,0),1),\"\")","v":""}]
[497,{"$f":"+IFERROR(INDEX(instruments!$N$2:$N$5037,MATCH(index!$A541,instruments!$M$2:$M$5037,0),1),\"\")","v":""}]
[498,{"$f":"+IFERROR(INDEX(instruments!$N$2:$N$5037,MATCH(index!$A542,instruments!$M$2:$M$5037,0),1),\"\")","v":""}]
[499,{"$f":"+IFERROR(INDEX(instruments!$N$2:$N$5037,MATCH(index!$A543,instruments!$M$2:$M$5037,0),1),\"\")","v":""}]
[500,{"$f":"+IFERROR(INDEX(instruments!$N$2:$N$5037,MATCH(index!$A544,instruments!$M$2:$M$5037,0),1),\"\")","v":""}]
[501,{"$f":"+IFERROR(INDEX(instruments!$N$2:$N$5037,MATCH(index!$A545,instruments!$M$2:$M$5037,0),1),\"\")","v":""}]
[502,{"$f":"+IFERROR(INDEX(instruments!$N$2:$N$5037,MATCH(index!$A546,instruments!$M$2:$M$5037,0),1),\"\")","v":""}]
[503,{"$f":"+IFERROR(INDEX(instruments!$N$2:$N$5037,MATCH(index!$A547,instruments!$M$2:$M$5037,0),1),\"\")","v":""}]
[504,{"$f":"+IFERROR(INDEX(instruments!$N$2:$N$5037,MATCH(index!$A548,instruments!$M$2:$M$5037,0),1),\"\")","v":""}]
[505,{"$f":"+IFERROR(INDEX(instruments!$N$2:$N$5037,MATCH(index!$A549,instruments!$M$2:$M$5037,0),1),\"\")","v":""}]
[506,{"$f":"+IFERROR(INDEX(instruments!$N$2:$N$5037,MATCH(index!$A550,instruments!$M$2:$M$5037,0),1),\"\")","v":""}]
[507,{"$f":"+IFERROR(INDEX(instruments!$N$2:$N$5037,MATCH(index!$A551,instruments!$M$2:$M$5037,0),1),\"\")","v":""}]
[508,{"$f":"+IFERROR(INDEX(instruments!$N$2:$N$5037,MATCH(index!$A552,instruments!$M$2:$M$5037,0),1),\"\")","v":""}]
[509,{"$f":"+IFERROR(INDEX(instruments!$N$2:$N$5037,MATCH(index!$A553,instruments!$M$2:$M$5037,0),1),\"\")","v":""}]
[510,{"$f":"+IFERROR(INDEX(instruments!$N$2:$N$5037,MATCH(index!$A554,instruments!$M$2:$M$5037,0),1),\"\")","v":""}]
[511,{"$f":"+IFERROR(INDEX(instruments!$N$2:$N$5037,MATCH(index!$A555,instruments!$M$2:$M$5037,0),1),\"\")","v":""}]
[512,{"$f":"+IFERROR(INDEX(instruments!$N$2:$N$5037,MATCH(index!$A556,instruments!$M$2:$M$5037,0),1),\"\")","v":""}]
[513,{"$f":"+IFERROR(INDEX(instruments!$N$2:$N$5037,MATCH(index!$A557,instruments!$M$2:$M$5037,0),1),\"\")","v":""}]
[514,{"$f":"+IFERROR(INDEX(instruments!$N$2:$N$5037,MATCH(index!$A558,instruments!$M$2:$M$5037,0),1),\"\")","v":""}]
[515,{"$f":"+IFERROR(INDEX(instruments!$N$2:$N$5037,MATCH(index!$A559,instruments!$M$2:$M$5037,0),1),\"\")","v":""}]
[516,{"$f":"+IFERROR(INDEX(instruments!$N$2:$N$5037,MATCH(index!$A560,instruments!$M$2:$M$5037,0),1),\"\")","v":""}]
[517,{"$f":"+IFERROR(INDEX(instruments!$N$2:$N$5037,MATCH(index!$A561,instruments!$M$2:$M$5037,0),1),\"\")","v":""}]
[518,{"$f":"+IFERROR(INDEX(instruments!$N$2:$N$5037,MATCH(index!$A562,instruments!$M$2:$M$5037,0),1),\"\")","v":""}]
[519,{"$f":"+IFERROR(INDEX(instruments!$N$2:$N$5037,MATCH(index!$A563,instruments!$M$2:$M$5037,0),1),\"\")","v":""}]
[520,{"$f":"+IFERROR(INDEX(instruments!$N$2:$N$5037,MATCH(index!$A564,instruments!$M$2:$M$5037,0),1),\"\")","v":""}]
[521,{"$f":"+IFERROR(INDEX(instruments!$N$2:$N$5037,MATCH(index!$A565,instruments!$M$2:$M$5037,0),1),\"\")","v":""}]
[522,{"$f":"+IFERROR(INDEX(instruments!$N$2:$N$5037,MATCH(index!$A566,instruments!$M$2:$M$5037,0),1),\"\")","v":""}]
[523,{"$f":"+IFERROR(INDEX(instruments!$N$2:$N$5037,MATCH(index!$A567,instruments!$M$2:$M$5037,0),1),\"\")","v":""}]
[524,{"$f":"+IFERROR(INDEX(instruments!$N$2:$N$5037,MATCH(index!$A568,instruments!$M$2:$M$5037,0),1),\"\")","v":""}]
[525,{"$f":"+IFERROR(INDEX(instruments!$N$2:$N$5037,MATCH(index!$A569,instruments!$M$2:$M$5037,0),1),\"\")","v":""}]
[526,{"$f":"+IFERROR(INDEX(instruments!$N$2:$N$5037,MATCH(index!$A570,instruments!$M$2:$M$5037,0),1),\"\")","v":""}]
[527,{"$f":"+IFERROR(INDEX(instruments!$N$2:$N$5037,MATCH(index!$A571,instruments!$M$2:$M$5037,0),1),\"\")","v":""}]
[528,{"$f":"+IFERROR(INDEX(instruments!$N$2:$N$5037,MATCH(index!$A572,instruments!$M$2:$M$5037,0),1),\"\")","v":""}]
[529,{"$f":"+IFERROR(INDEX(instruments!$N$2:$N$5037,MATCH(index!$A573,instruments!$M$2:$M$5037,0),1),\"\")","v":""}]
[530,{"$f":"+IFERROR(INDEX(instruments!$N$2:$N$5037,MATCH(index!$A574,instruments!$M$2:$M$5037,0),1),\"\")","v":""}]
[{"$f":"+A574+1","v":531},{"$f":"+IFERROR(INDEX(instruments!$N$2:$N$5037,MATCH(index!$A575,instruments!$M$2:$M$5037,0),1),\"\")","v":""}]
[532,{"$f":"+IFERROR(INDEX(instruments!$N$2:$N$5037,MATCH(index!$A576,instruments!$M$2:$M$5037,0),1),\"\")","v":""}]
[533,{"$f":"+IFERROR(INDEX(instruments!$N$2:$N$5037,MATCH(index!$A577,instruments!$M$2:$M$5037,0),1),\"\")","v":""}]
[534,{"$f":"+IFERROR(INDEX(instruments!$N$2:$N$5037,MATCH(index!$A578,instruments!$M$2:$M$5037,0),1),\"\")","v":""}]
[535,{"$f":"+IFERROR(INDEX(instruments!$N$2:$N$5037,MATCH(index!$A579,instruments!$M$2:$M$5037,0),1),\"\")","v":""}]
[536,{"$f":"+IFERROR(INDEX(instruments!$N$2:$N$5037,MATCH(index!$A580,instruments!$M$2:$M$5037,0),1),\"\")","v":""}]
[537,{"$f":"+IFERROR(INDEX(instruments!$N$2:$N$5037,MATCH(index!$A581,instruments!$M$2:$M$5037,0),1),\"\")","v":""}]
[538,{"$f":"+IFERROR(INDEX(instruments!$N$2:$N$5037,MATCH(index!$A582,instruments!$M$2:$M$5037,0),1),\"\")","v":""}]
[539,{"$f":"+IFERROR(INDEX(instruments!$N$2:$N$5037,MATCH(index!$A583,instruments!$M$2:$M$5037,0),1),\"\")","v":""}]
[540,{"$f":"+IFERROR(INDEX(instruments!$N$2:$N$5037,MATCH(index!$A584,instruments!$M$2:$M$5037,0),1),\"\")","v":""}]
[541,{"$f":"+IFERROR(INDEX(instruments!$N$2:$N$5037,MATCH(index!$A585,instruments!$M$2:$M$5037,0),1),\"\")","v":""}]
[542,{"$f":"+IFERROR(INDEX(instruments!$N$2:$N$5037,MATCH(index!$A586,instruments!$M$2:$M$5037,0),1),\"\")","v":""}]
[543,{"$f":"+IFERROR(INDEX(instruments!$N$2:$N$5037,MATCH(index!$A587,instruments!$M$2:$M$5037,0),1),\"\")","v":""}]
[544,{"$f":"+IFERROR(INDEX(instruments!$N$2:$N$5037,MATCH(index!$A588,instruments!$M$2:$M$5037,0),1),\"\")","v":""}]
[545,{"$f":"+IFERROR(INDEX(instruments!$N$2:$N$5037,MATCH(index!$A589,instruments!$M$2:$M$5037,0),1),\"\")","v":""}]
[546,{"$f":"+IFERROR(INDEX(instruments!$N$2:$N$5037,MATCH(index!$A590,instruments!$M$2:$M$5037,0),1),\"\")","v":""}]
[547,{"$f":"+IFERROR(INDEX(instruments!$N$2:$N$5037,MATCH(index!$A591,instruments!$M$2:$M$5037,0),1),\"\")","v":""}]
[548,{"$f":"+IFERROR(INDEX(instruments!$N$2:$N$5037,MATCH(index!$A592,instruments!$M$2:$M$5037,0),1),\"\")","v":""}]
[549,{"$f":"+IFERROR(INDEX(instruments!$N$2:$N$5037,MATCH(index!$A593,instruments!$M$2:$M$5037,0),1),\"\")","v":""}]
[550,{"$f":"+IFERROR(INDEX(instruments!$N$2:$N$5037,MATCH(index!$A594,instruments!$M$2:$M$5037,0),1),\"\")","v":""}]
[551,{"$f":"+IFERROR(INDEX(instruments!$N$2:$N$5037,MATCH(index!$A595,instruments!$M$2:$M$5037,0),1),\"\")","v":""}]
[552,{"$f":"+IFERROR(INDEX(instruments!$N$2:$N$5037,MATCH(index!$A596,instruments!$M$2:$M$5037,0),1),\"\")","v":""}]
[553,{"$f":"+IFERROR(INDEX(instruments!$N$2:$N$5037,MATCH(index!$A597,instruments!$M$2:$M$5037,0),1),\"\")","v":""}]
[554,{"$f":"+IFERROR(INDEX(instruments!$N$2:$N$5037,MATCH(index!$A598,instruments!$M$2:$M$5037,0),1),\"\")","v":""}]
[555,{"$f":"+IFERROR(INDEX(instruments!$N$2:$N$5037,MATCH(index!$A599,instruments!$M$2:$M$5037,0),1),\"\")","v":""}]
[556,{"$f":"+IFERROR(INDEX(instruments!$N$2:$N$5037,MATCH(index!$A600,instruments!$M$2:$M$5037,0),1),\"\")","v":""}]
[557,{"$f":"+IFERROR(INDEX(instruments!$N$2:$N$5037,MATCH(index!$A601,instruments!$M$2:$M$5037,0),1),\"\")","v":""}]
[558,{"$f":"+IFERROR(INDEX(instruments!$N$2:$N$5037,MATCH(index!$A602,instruments!$M$2:$M$5037,0),1),\"\")","v":""}]
[559,{"$f":"+IFERROR(INDEX(instruments!$N$2:$N$5037,MATCH(index!$A603,instruments!$M$2:$M$5037,0),1),\"\")","v":""}]
[560,{"$f":"+IFERROR(INDEX(instruments!$N$2:$N$5037,MATCH(index!$A604,instruments!$M$2:$M$5037,0),1),\"\")","v":""}]
[561,{"$f":"+IFERROR(INDEX(instruments!$N$2:$N$5037,MATCH(index!$A605,instruments!$M$2:$M$5037,0),1),\"\")","v":""}]
[562,{"$f":"+IFERROR(INDEX(instruments!$N$2:$N$5037,MATCH(index!$A606,instruments!$M$2:$M$5037,0),1),\"\")","v":""}]
[563,{"$f":"+IFERROR(INDEX(instruments!$N$2:$N$5037,MATCH(index!$A607,instruments!$M$2:$M$5037,0),1),\"\")","v":""}]
[564,{"$f":"+IFERROR(INDEX(instruments!$N$2:$N$5037,MATCH(index!$A608,instruments!$M$2:$M$5037,0),1),\"\")","v":""}]
[565,{"$f":"+IFERROR(INDEX(instruments!$N$2:$N$5037,MATCH(index!$A609,instruments!$M$2:$M$5037,0),1),\"\")","v":""}]
[566,{"$f":"+IFERROR(INDEX(instruments!$N$2:$N$5037,MATCH(index!$A610,instruments!$M$2:$M$5037,0),1),\"\")","v":""}]
[567,{"$f":"+IFERROR(INDEX(instruments!$N$2:$N$5037,MATCH(index!$A611,instruments!$M$2:$M$5037,0),1),\"\")","v":""}]
[568,{"$f":"+IFERROR(INDEX(instruments!$N$2:$N$5037,MATCH(index!$A612,instruments!$M$2:$M$5037,0),1),\"\")","v":""}]
[569,{"$f":"+IFERROR(INDEX(instruments!$N$2:$N$5037,MATCH(index!$A613,instruments!$M$2:$M$5037,0),1),\"\")","v":""}]
[570,{"$f":"+IFERROR(INDEX(instruments!$N$2:$N$5037,MATCH(index!$A614,instruments!$M$2:$M$5037,0),1),\"\")","v":""}]
[571,{"$f":"+IFERROR(INDEX(instruments!$N$2:$N$5037,MATCH(index!$A615,instruments!$M$2:$M$5037,0),1),\"\")","v":""}]
[572,{"$f":"+IFERROR(INDEX(instruments!$N$2:$N$5037,MATCH(index!$A616,instruments!$M$2:$M$5037,0),1),\"\")","v":""}]
[573,{"$f":"+IFERROR(INDEX(instruments!$N$2:$N$5037,MATCH(index!$A617,instruments!$M$2:$M$5037,0),1),\"\")","v":""}]
[574,{"$f":"+IFERROR(INDEX(instruments!$N$2:$N$5037,MATCH(index!$A618,instruments!$M$2:$M$5037,0),1),\"\")","v":""}]
[575,{"$f":"+IFERROR(INDEX(instruments!$N$2:$N$5037,MATCH(index!$A619,instruments!$M$2:$M$5037,0),1),\"\")","v":""}]
[576,{"$f":"+IFERROR(INDEX(instruments!$N$2:$N$5037,MATCH(index!$A620,instruments!$M$2:$M$5037,0),1),\"\")","v":""}]
[577,{"$f":"+IFERROR(INDEX(instruments!$N$2:$N$5037,MATCH(index!$A621,instruments!$M$2:$M$5037,0),1),\"\")","v":""}]
[578,{"$f":"+IFERROR(INDEX(instruments!$N$2:$N$5037,MATCH(index!$A622,instruments!$M$2:$M$5037,0),1),\"\")","v":""}]
[579,{"$f":"+IFERROR(INDEX(instruments!$N$2:$N$5037,MATCH(index!$A623,instruments!$M$2:$M$5037,0),1),\"\")","v":""}]
[580,{"$f":"+IFERROR(INDEX(instruments!$N$2:$N$5037,MATCH(index!$A624,instruments!$M$2:$M$5037,0),1),\"\")","v":""}]
[581,{"$f":"+IFERROR(INDEX(instruments!$N$2:$N$5037,MATCH(index!$A625,instruments!$M$2:$M$5037,0),1),\"\")","v":""}]
[582,{"$f":"+IFERROR(INDEX(instruments!$N$2:$N$5037,MATCH(index!$A626,instruments!$M$2:$M$5037,0),1),\"\")","v":""}]
[583,{"$f":"+IFERROR(INDEX(instruments!$N$2:$N$5037,MATCH(index!$A627,instruments!$M$2:$M$5037,0),1),\"\")","v":""}]
[584,{"$f":"+IFERROR(INDEX(instruments!$N$2:$N$5037,MATCH(index!$A628,instruments!$M$2:$M$5037,0),1),\"\")","v":""}]
[585,{"$f":"+IFERROR(INDEX(instruments!$N$2:$N$5037,MATCH(index!$A629,instruments!$M$2:$M$5037,0),1),\"\")","v":""}]
[586,{"$f":"+IFERROR(INDEX(instruments!$N$2:$N$5037,MATCH(index!$A630,instruments!$M$2:$M$5037,0),1),\"\")","v":""}]
[587,{"$f":"+IFERROR(INDEX(instruments!$N$2:$N$5037,MATCH(index!$A631,instruments!$M$2:$M$5037,0),1),\"\")","v":""}]
[588,{"$f":"+IFERROR(INDEX(instruments!$N$2:$N$5037,MATCH(index!$A632,instruments!$M$2:$M$5037,0),1),\"\")","v":""}]
[589,{"$f":"+IFERROR(INDEX(instruments!$N$2:$N$5037,MATCH(index!$A633,instruments!$M$2:$M$5037,0),1),\"\")","v":""}]
[590,{"$f":"+IFERROR(INDEX(instruments!$N$2:$N$5037,MATCH(index!$A634,instruments!$M$2:$M$5037,0),1),\"\")","v":""}]
[591,{"$f":"+IFERROR(INDEX(instruments!$N$2:$N$5037,MATCH(index!$A635,instruments!$M$2:$M$5037,0),1),\"\")","v":""}]
[592,{"$f":"+IFERROR(INDEX(instruments!$N$2:$N$5037,MATCH(index!$A636,instruments!$M$2:$M$5037,0),1),\"\")","v":""}]
[593,{"$f":"+IFERROR(INDEX(instruments!$N$2:$N$5037,MATCH(index!$A637,instruments!$M$2:$M$5037,0),1),\"\")","v":""}]
[594,{"$f":"+IFERROR(INDEX(instruments!$N$2:$N$5037,MATCH(index!$A638,instruments!$M$2:$M$5037,0),1),\"\")","v":""}]
[{"$f":"+A638+1","v":595},{"$f":"+IFERROR(INDEX(instruments!$N$2:$N$5037,MATCH(index!$A639,instruments!$M$2:$M$5037,0),1),\"\")","v":""}]
[596,{"$f":"+IFERROR(INDEX(instruments!$N$2:$N$5037,MATCH(index!$A640,instruments!$M$2:$M$5037,0),1),\"\")","v":""}]
[597,{"$f":"+IFERROR(INDEX(instruments!$N$2:$N$5037,MATCH(index!$A641,instruments!$M$2:$M$5037,0),1),\"\")","v":""}]
[598,{"$f":"+IFERROR(INDEX(instruments!$N$2:$N$5037,MATCH(index!$A642,instruments!$M$2:$M$5037,0),1),\"\")","v":""}]
[599,{"$f":"+IFERROR(INDEX(instruments!$N$2:$N$5037,MATCH(index!$A643,instruments!$M$2:$M$5037,0),1),\"\")","v":""}]
[600,{"$f":"+IFERROR(INDEX(instruments!$N$2:$N$5037,MATCH(index!$A644,instruments!$M$2:$M$5037,0),1),\"\")","v":""}]
[601,{"$f":"+IFERROR(INDEX(instruments!$N$2:$N$5037,MATCH(index!$A645,instruments!$M$2:$M$5037,0),1),\"\")","v":""}]
[602,{"$f":"+IFERROR(INDEX(instruments!$N$2:$N$5037,MATCH(index!$A646,instruments!$M$2:$M$5037,0),1),\"\")","v":""}]
[603,{"$f":"+IFERROR(INDEX(instruments!$N$2:$N$5037,MATCH(index!$A647,instruments!$M$2:$M$5037,0),1),\"\")","v":""}]
[604,{"$f":"+IFERROR(INDEX(instruments!$N$2:$N$5037,MATCH(index!$A648,instruments!$M$2:$M$5037,0),1),\"\")","v":""}]
[605,{"$f":"+IFERROR(INDEX(instruments!$N$2:$N$5037,MATCH(index!$A649,instruments!$M$2:$M$5037,0),1),\"\")","v":""}]
[606,{"$f":"+IFERROR(INDEX(instruments!$N$2:$N$5037,MATCH(index!$A650,instruments!$M$2:$M$5037,0),1),\"\")","v":""}]
[607,{"$f":"+IFERROR(INDEX(instruments!$N$2:$N$5037,MATCH(index!$A651,instruments!$M$2:$M$5037,0),1),\"\")","v":""}]
[608,{"$f":"+IFERROR(INDEX(instruments!$N$2:$N$5037,MATCH(index!$A652,instruments!$M$2:$M$5037,0),1),\"\")","v":""}]
[609,{"$f":"+IFERROR(INDEX(instruments!$N$2:$N$5037,MATCH(index!$A653,instruments!$M$2:$M$5037,0),1),\"\")","v":""}]
[610,{"$f":"+IFERROR(INDEX(instruments!$N$2:$N$5037,MATCH(index!$A654,instruments!$M$2:$M$5037,0),1),\"\")","v":""}]
[611,{"$f":"+IFERROR(INDEX(instruments!$N$2:$N$5037,MATCH(index!$A655,instruments!$M$2:$M$5037,0),1),\"\")","v":""}]
[612,{"$f":"+IFERROR(INDEX(instruments!$N$2:$N$5037,MATCH(index!$A656,instruments!$M$2:$M$5037,0),1),\"\")","v":""}]
[613,{"$f":"+IFERROR(INDEX(instruments!$N$2:$N$5037,MATCH(index!$A657,instruments!$M$2:$M$5037,0),1),\"\")","v":""}]
[614,{"$f":"+IFERROR(INDEX(instruments!$N$2:$N$5037,MATCH(index!$A658,instruments!$M$2:$M$5037,0),1),\"\")","v":""}]
[615,{"$f":"+IFERROR(INDEX(instruments!$N$2:$N$5037,MATCH(index!$A659,instruments!$M$2:$M$5037,0),1),\"\")","v":""}]
[616,{"$f":"+IFERROR(INDEX(instruments!$N$2:$N$5037,MATCH(index!$A660,instruments!$M$2:$M$5037,0),1),\"\")","v":""}]
[617,{"$f":"+IFERROR(INDEX(instruments!$N$2:$N$5037,MATCH(index!$A661,instruments!$M$2:$M$5037,0),1),\"\")","v":""}]
[618,{"$f":"+IFERROR(INDEX(instruments!$N$2:$N$5037,MATCH(index!$A662,instruments!$M$2:$M$5037,0),1),\"\")","v":""}]
[619,{"$f":"+IFERROR(INDEX(instruments!$N$2:$N$5037,MATCH(index!$A663,instruments!$M$2:$M$5037,0),1),\"\")","v":""}]
[620,{"$f":"+IFERROR(INDEX(instruments!$N$2:$N$5037,MATCH(index!$A664,instruments!$M$2:$M$5037,0),1),\"\")","v":""}]
[621,{"$f":"+IFERROR(INDEX(instruments!$N$2:$N$5037,MATCH(index!$A665,instruments!$M$2:$M$5037,0),1),\"\")","v":""}]
[622,{"$f":"+IFERROR(INDEX(instruments!$N$2:$N$5037,MATCH(index!$A666,instruments!$M$2:$M$5037,0),1),\"\")","v":""}]
[623,{"$f":"+IFERROR(INDEX(instruments!$N$2:$N$5037,MATCH(index!$A667,instruments!$M$2:$M$5037,0),1),\"\")","v":""}]
[624,{"$f":"+IFERROR(INDEX(instruments!$N$2:$N$5037,MATCH(index!$A668,instruments!$M$2:$M$5037,0),1),\"\")","v":""}]
[625,{"$f":"+IFERROR(INDEX(instruments!$N$2:$N$5037,MATCH(index!$A669,instruments!$M$2:$M$5037,0),1),\"\")","v":""}]
[626,{"$f":"+IFERROR(INDEX(instruments!$N$2:$N$5037,MATCH(index!$A670,instruments!$M$2:$M$5037,0),1),\"\")","v":""}]
[627,{"$f":"+IFERROR(INDEX(instruments!$N$2:$N$5037,MATCH(index!$A671,instruments!$M$2:$M$5037,0),1),\"\")","v":""}]
[628,{"$f":"+IFERROR(INDEX(instruments!$N$2:$N$5037,MATCH(index!$A672,instruments!$M$2:$M$5037,0),1),\"\")","v":""}]
[629,{"$f":"+IFERROR(INDEX(instruments!$N$2:$N$5037,MATCH(index!$A673,instruments!$M$2:$M$5037,0),1),\"\")","v":""}]
[630,{"$f":"+IFERROR(INDEX(instruments!$N$2:$N$5037,MATCH(index!$A674,instruments!$M$2:$M$5037,0),1),\"\")","v":""}]
[631,{"$f":"+IFERROR(INDEX(instruments!$N$2:$N$5037,MATCH(index!$A675,instruments!$M$2:$M$5037,0),1),\"\")","v":""}]
[632,{"$f":"+IFERROR(INDEX(instruments!$N$2:$N$5037,MATCH(index!$A676,instruments!$M$2:$M$5037,0),1),\"\")","v":""}]
[633,{"$f":"+IFERROR(INDEX(instruments!$N$2:$N$5037,MATCH(index!$A677,instruments!$M$2:$M$5037,0),1),\"\")","v":""}]
[634,{"$f":"+IFERROR(INDEX(instruments!$N$2:$N$5037,MATCH(index!$A678,instruments!$M$2:$M$5037,0),1),\"\")","v":""}]
[635,{"$f":"+IFERROR(INDEX(instruments!$N$2:$N$5037,MATCH(index!$A679,instruments!$M$2:$M$5037,0),1),\"\")","v":""}]
[636,{"$f":"+IFERROR(INDEX(instruments!$N$2:$N$5037,MATCH(index!$A680,instruments!$M$2:$M$5037,0),1),\"\")","v":""}]
[637,{"$f":"+IFERROR(INDEX(instruments!$N$2:$N$5037,MATCH(index!$A681,instruments!$M$2:$M$5037,0),1),\"\")","v":""}]
[638,{"$f":"+IFERROR(INDEX(instruments!$N$2:$N$5037,MATCH(index!$A682,instruments!$M$2:$M$5037,0),1),\"\")","v":""}]
[639,{"$f":"+IFERROR(INDEX(instruments!$N$2:$N$5037,MATCH(index!$A683,instruments!$M$2:$M$5037,0),1),\"\")","v":""}]
[640,{"$f":"+IFERROR(INDEX(instruments!$N$2:$N$5037,MATCH(index!$A684,instruments!$M$2:$M$5037,0),1),\"\")","v":""}]
[641,{"$f":"+IFERROR(INDEX(instruments!$N$2:$N$5037,MATCH(index!$A685,instruments!$M$2:$M$5037,0),1),\"\")","v":""}]
[642,{"$f":"+IFERROR(INDEX(instruments!$N$2:$N$5037,MATCH(index!$A686,instruments!$M$2:$M$5037,0),1),\"\")","v":""}]
[643,{"$f":"+IFERROR(INDEX(instruments!$N$2:$N$5037,MATCH(index!$A687,instruments!$M$2:$M$5037,0),1),\"\")","v":""}]
[644,{"$f":"+IFERROR(INDEX(instruments!$N$2:$N$5037,MATCH(index!$A688,instruments!$M$2:$M$5037,0),1),\"\")","v":""}]
[645,{"$f":"+IFERROR(INDEX(instruments!$N$2:$N$5037,MATCH(index!$A689,instruments!$M$2:$M$5037,0),1),\"\")","v":""}]
[646,{"$f":"+IFERROR(INDEX(instruments!$N$2:$N$5037,MATCH(index!$A690,instruments!$M$2:$M$5037,0),1),\"\")","v":""}]
[647,{"$f":"+IFERROR(INDEX(instruments!$N$2:$N$5037,MATCH(index!$A691,instruments!$M$2:$M$5037,0),1),\"\")","v":""}]
[648,{"$f":"+IFERROR(INDEX(instruments!$N$2:$N$5037,MATCH(index!$A692,instruments!$M$2:$M$5037,0),1),\"\")","v":""}]
[649,{"$f":"+IFERROR(INDEX(instruments!$N$2:$N$5037,MATCH(index!$A693,instruments!$M$2:$M$5037,0),1),\"\")","v":""}]
[650,{"$f":"+IFERROR(INDEX(instruments!$N$2:$N$5037,MATCH(index!$A694,instruments!$M$2:$M$5037,0),1),\"\")","v":""}]
[651,{"$f":"+IFERROR(INDEX(instruments!$N$2:$N$5037,MATCH(index!$A695,instruments!$M$2:$M$5037,0),1),\"\")","v":""}]
[652,{"$f":"+IFERROR(INDEX(instruments!$N$2:$N$5037,MATCH(index!$A696,instruments!$M$2:$M$5037,0),1),\"\")","v":""}]
[653,{"$f":"+IFERROR(INDEX(instruments!$N$2:$N$5037,MATCH(index!$A697,instruments!$M$2:$M$5037,0),1),\"\")","v":""}]
[654,{"$f":"+IFERROR(INDEX(instruments!$N$2:$N$5037,MATCH(index!$A698,instruments!$M$2:$M$5037,0),1),\"\")","v":""}]
[655,{"$f":"+IFERROR(INDEX(instruments!$N$2:$N$5037,MATCH(index!$A699,instruments!$M$2:$M$5037,0),1),\"\")","v":""}]
[656,{"$f":"+IFERROR(INDEX(instruments!$N$2:$N$5037,MATCH(index!$A700,instruments!$M$2:$M$5037,0),1),\"\")","v":""}]
[657,{"$f":"+IFERROR(INDEX(instruments!$N$2:$N$5037,MATCH(index!$A701,instruments!$M$2:$M$5037,0),1),\"\")","v":""}]
[658,{"$f":"+IFERROR(INDEX(instruments!$N$2:$N$5037,MATCH(index!$A702,instruments!$M$2:$M$5037,0),1),\"\")","v":""}]
[{"$f":"+A702+1","v":659},{"$f":"+IFERROR(INDEX(instruments!$N$2:$N$5037,MATCH(index!$A703,instruments!$M$2:$M$5037,0),1),\"\")","v":""}]
[660,{"$f":"+IFERROR(INDEX(instruments!$N$2:$N$5037,MATCH(index!$A704,instruments!$M$2:$M$5037,0),1),\"\")","v":""}]
[661,{"$f":"+IFERROR(INDEX(instruments!$N$2:$N$5037,MATCH(index!$A705,instruments!$M$2:$M$5037,0),1),\"\")","v":""}]
[662,{"$f":"+IFERROR(INDEX(instruments!$N$2:$N$5037,MATCH(index!$A706,instruments!$M$2:$M$5037,0),1),\"\")","v":""}]
[663,{"$f":"+IFERROR(INDEX(instruments!$N$2:$N$5037,MATCH(index!$A707,instruments!$M$2:$M$5037,0),1),\"\")","v":""}]
[664,{"$f":"+IFERROR(INDEX(instruments!$N$2:$N$5037,MATCH(index!$A708,instruments!$M$2:$M$5037,0),1),\"\")","v":""}]
[665,{"$f":"+IFERROR(INDEX(instruments!$N$2:$N$5037,MATCH(index!$A709,instruments!$M$2:$M$5037,0),1),\"\")","v":""}]
[666,{"$f":"+IFERROR(INDEX(instruments!$N$2:$N$5037,MATCH(index!$A710,instruments!$M$2:$M$5037,0),1),\"\")","v":""}]
[667,{"$f":"+IFERROR(INDEX(instruments!$N$2:$N$5037,MATCH(index!$A711,instruments!$M$2:$M$5037,0),1),\"\")","v":""}]
[668,{"$f":"+IFERROR(INDEX(instruments!$N$2:$N$5037,MATCH(index!$A712,instruments!$M$2:$M$5037,0),1),\"\")","v":""}]
[669,{"$f":"+IFERROR(INDEX(instruments!$N$2:$N$5037,MATCH(index!$A713,instruments!$M$2:$M$5037,0),1),\"\")","v":""}]
[670,{"$f":"+IFERROR(INDEX(instruments!$N$2:$N$5037,MATCH(index!$A714,instruments!$M$2:$M$5037,0),1),\"\")","v":""}]
[671,{"$f":"+IFERROR(INDEX(instruments!$N$2:$N$5037,MATCH(index!$A715,instruments!$M$2:$M$5037,0),1),\"\")","v":""}]
[672,{"$f":"+IFERROR(INDEX(instruments!$N$2:$N$5037,MATCH(index!$A716,instruments!$M$2:$M$5037,0),1),\"\")","v":""}]
[673,{"$f":"+IFERROR(INDEX(instruments!$N$2:$N$5037,MATCH(index!$A717,instruments!$M$2:$M$5037,0),1),\"\")","v":""}]
[674,{"$f":"+IFERROR(INDEX(instruments!$N$2:$N$5037,MATCH(index!$A718,instruments!$M$2:$M$5037,0),1),\"\")","v":""}]
[675,{"$f":"+IFERROR(INDEX(instruments!$N$2:$N$5037,MATCH(index!$A719,instruments!$M$2:$M$5037,0),1),\"\")","v":""}]
[676,{"$f":"+IFERROR(INDEX(instruments!$N$2:$N$5037,MATCH(index!$A720,instruments!$M$2:$M$5037,0),1),\"\")","v":""}]
[677,{"$f":"+IFERROR(INDEX(instruments!$N$2:$N$5037,MATCH(index!$A721,instruments!$M$2:$M$5037,0),1),\"\")","v":""}]
[678,{"$f":"+IFERROR(INDEX(instruments!$N$2:$N$5037,MATCH(index!$A722,instruments!$M$2:$M$5037,0),1),\"\")","v":""}]
[679,{"$f":"+IFERROR(INDEX(instruments!$N$2:$N$5037,MATCH(index!$A723,instruments!$M$2:$M$5037,0),1),\"\")","v":""}]
[680,{"$f":"+IFERROR(INDEX(instruments!$N$2:$N$5037,MATCH(index!$A724,instruments!$M$2:$M$5037,0),1),\"\")","v":""}]
[681,{"$f":"+IFERROR(INDEX(instruments!$N$2:$N$5037,MATCH(index!$A725,instruments!$M$2:$M$5037,0),1),\"\")","v":""}]
[682,{"$f":"+IFERROR(INDEX(instruments!$N$2:$N$5037,MATCH(index!$A726,instruments!$M$2:$M$5037,0),1),\"\")","v":""}]
[683,{"$f":"+IFERROR(INDEX(instruments!$N$2:$N$5037,MATCH(index!$A727,instruments!$M$2:$M$5037,0),1),\"\")","v":""}]
[684,{"$f":"+IFERROR(INDEX(instruments!$N$2:$N$5037,MATCH(index!$A728,instruments!$M$2:$M$5037,0),1),\"\")","v":""}]
[685,{"$f":"+IFERROR(INDEX(instruments!$N$2:$N$5037,MATCH(index!$A729,instruments!$M$2:$M$5037,0),1),\"\")","v":""}]
[686,{"$f":"+IFERROR(INDEX(instruments!$N$2:$N$5037,MATCH(index!$A730,instruments!$M$2:$M$5037,0),1),\"\")","v":""}]
[687,{"$f":"+IFERROR(INDEX(instruments!$N$2:$N$5037,MATCH(index!$A731,instruments!$M$2:$M$5037,0),1),\"\")","v":""}]
[688,{"$f":"+IFERROR(INDEX(instruments!$N$2:$N$5037,MATCH(index!$A732,instruments!$M$2:$M$5037,0),1),\"\")","v":""}]
[689,{"$f":"+IFERROR(INDEX(instruments!$N$2:$N$5037,MATCH(index!$A733,instruments!$M$2:$M$5037,0),1),\"\")","v":""}]
[690,{"$f":"+IFERROR(INDEX(instruments!$N$2:$N$5037,MATCH(index!$A734,instruments!$M$2:$M$5037,0),1),\"\")","v":""}]
[691,{"$f":"+IFERROR(INDEX(instruments!$N$2:$N$5037,MATCH(index!$A735,instruments!$M$2:$M$5037,0),1),\"\")","v":""}]
[692,{"$f":"+IFERROR(INDEX(instruments!$N$2:$N$5037,MATCH(index!$A736,instruments!$M$2:$M$5037,0),1),\"\")","v":""}]
[693,{"$f":"+IFERROR(INDEX(instruments!$N$2:$N$5037,MATCH(index!$A737,instruments!$M$2:$M$5037,0),1),\"\")","v":""}]
[694,{"$f":"+IFERROR(INDEX(instruments!$N$2:$N$5037,MATCH(index!$A738,instruments!$M$2:$M$5037,0),1),\"\")","v":""}]
[695,{"$f":"+IFERROR(INDEX(instruments!$N$2:$N$5037,MATCH(index!$A739,instruments!$M$2:$M$5037,0),1),\"\")","v":""}]
[696,{"$f":"+IFERROR(INDEX(instruments!$N$2:$N$5037,MATCH(index!$A740,instruments!$M$2:$M$5037,0),1),\"\")","v":""}]
[697,{"$f":"+IFERROR(INDEX(instruments!$N$2:$N$5037,MATCH(index!$A741,instruments!$M$2:$M$5037,0),1),\"\")","v":""}]
[698,{"$f":"+IFERROR(INDEX(instruments!$N$2:$N$5037,MATCH(index!$A742,instruments!$M$2:$M$5037,0),1),\"\")","v":""}]
[699,{"$f":"+IFERROR(INDEX(instruments!$N$2:$N$5037,MATCH(index!$A743,instruments!$M$2:$M$5037,0),1),\"\")","v":""}]
[700,{"$f":"+IFERROR(INDEX(instruments!$N$2:$N$5037,MATCH(index!$A744,instruments!$M$2:$M$5037,0),1),\"\")","v":""}]
[701,{"$f":"+IFERROR(INDEX(instruments!$N$2:$N$5037,MATCH(index!$A745,instruments!$M$2:$M$5037,0),1),\"\")","v":""}]
[702,{"$f":"+IFERROR(INDEX(instruments!$N$2:$N$5037,MATCH(index!$A746,instruments!$M$2:$M$5037,0),1),\"\")","v":""}]
[703,{"$f":"+IFERROR(INDEX(instruments!$N$2:$N$5037,MATCH(index!$A747,instruments!$M$2:$M$5037,0),1),\"\")","v":""}]
[704,{"$f":"+IFERROR(INDEX(instruments!$N$2:$N$5037,MATCH(index!$A748,instruments!$M$2:$M$5037,0),1),\"\")","v":""}]
[705,{"$f":"+IFERROR(INDEX(instruments!$N$2:$N$5037,MATCH(index!$A749,instruments!$M$2:$M$5037,0),1),\"\")","v":""}]
[706,{"$f":"+IFERROR(INDEX(instruments!$N$2:$N$5037,MATCH(index!$A750,instruments!$M$2:$M$5037,0),1),\"\")","v":""}]
[707,{"$f":"+IFERROR(INDEX(instruments!$N$2:$N$5037,MATCH(index!$A751,instruments!$M$2:$M$5037,0),1),\"\")","v":""}]
[708,{"$f":"+IFERROR(INDEX(instruments!$N$2:$N$5037,MATCH(index!$A752,instruments!$M$2:$M$5037,0),1),\"\")","v":""}]
[709,{"$f":"+IFERROR(INDEX(instruments!$N$2:$N$5037,MATCH(index!$A753,instruments!$M$2:$M$5037,0),1),\"\")","v":""}]
[710,{"$f":"+IFERROR(INDEX(instruments!$N$2:$N$5037,MATCH(index!$A754,instruments!$M$2:$M$5037,0),1),\"\")","v":""}]
[711,{"$f":"+IFERROR(INDEX(instruments!$N$2:$N$5037,MATCH(index!$A755,instruments!$M$2:$M$5037,0),1),\"\")","v":""}]
[712,{"$f":"+IFERROR(INDEX(instruments!$N$2:$N$5037,MATCH(index!$A756,instruments!$M$2:$M$5037,0),1),\"\")","v":""}]
[713,{"$f":"+IFERROR(INDEX(instruments!$N$2:$N$5037,MATCH(index!$A757,instruments!$M$2:$M$5037,0),1),\"\")","v":""}]
[714,{"$f":"+IFERROR(INDEX(instruments!$N$2:$N$5037,MATCH(index!$A758,instruments!$M$2:$M$5037,0),1),\"\")","v":""}]
[715,{"$f":"+IFERROR(INDEX(instruments!$N$2:$N$5037,MATCH(index!$A759,instruments!$M$2:$M$5037,0),1),\"\")","v":""}]
[716,{"$f":"+IFERROR(INDEX(instruments!$N$2:$N$5037,MATCH(index!$A760,instruments!$M$2:$M$5037,0),1),\"\")","v":""}]
[717,{"$f":"+IFERROR(INDEX(instruments!$N$2:$N$5037,MATCH(index!$A761,instruments!$M$2:$M$5037,0),1),\"\")","v":""}]
[718,{"$f":"+IFERROR(INDEX(instruments!$N$2:$N$5037,MATCH(index!$A762,instruments!$M$2:$M$5037,0),1),\"\")","v":""}]
[719,{"$f":"+IFERROR(INDEX(instruments!$N$2:$N$5037,MATCH(index!$A763,instruments!$M$2:$M$5037,0),1),\"\")","v":""}]
[720,{"$f":"+IFERROR(INDEX(instruments!$N$2:$N$5037,MATCH(index!$A764,instruments!$M$2:$M$5037,0),1),\"\")","v":""}]
[721,{"$f":"+IFERROR(INDEX(instruments!$N$2:$N$5037,MATCH(index!$A765,instruments!$M$2:$M$5037,0),1),\"\")","v":""}]
[722,{"$f":"+IFERROR(INDEX(instruments!$N$2:$N$5037,MATCH(index!$A766,instruments!$M$2:$M$5037,0),1),\"\")","v":""}]
[{"$f":"+A766+1","v":723},{"$f":"+IFERROR(INDEX(instruments!$N$2:$N$5037,MATCH(index!$A767,instruments!$M$2:$M$5037,0),1),\"\")","v":""}]
[724,{"$f":"+IFERROR(INDEX(instruments!$N$2:$N$5037,MATCH(index!$A768,instruments!$M$2:$M$5037,0),1),\"\")","v":""}]
[725,{"$f":"+IFERROR(INDEX(instruments!$N$2:$N$5037,MATCH(index!$A769,instruments!$M$2:$M$5037,0),1),\"\")","v":""}]
[726,{"$f":"+IFERROR(INDEX(instruments!$N$2:$N$5037,MATCH(index!$A770,instruments!$M$2:$M$5037,0),1),\"\")","v":""}]
[727,{"$f":"+IFERROR(INDEX(instruments!$N$2:$N$5037,MATCH(index!$A771,instruments!$M$2:$M$5037,0),1),\"\")","v":""}]
[728,{"$f":"+IFERROR(INDEX(instruments!$N$2:$N$5037,MATCH(index!$A772,instruments!$M$2:$M$5037,0),1),\"\")","v":""}]
[729,{"$f":"+IFERROR(INDEX(instruments!$N$2:$N$5037,MATCH(index!$A773,instruments!$M$2:$M$5037,0),1),\"\")","v":""}]
[730,{"$f":"+IFERROR(INDEX(instruments!$N$2:$N$5037,MATCH(index!$A774,instruments!$M$2:$M$5037,0),1),\"\")","v":""}]
[731,{"$f":"+IFERROR(INDEX(instruments!$N$2:$N$5037,MATCH(index!$A775,instruments!$M$2:$M$5037,0),1),\"\")","v":""}]
[732,{"$f":"+IFERROR(INDEX(instruments!$N$2:$N$5037,MATCH(index!$A776,instruments!$M$2:$M$5037,0),1),\"\")","v":""}]
[733,{"$f":"+IFERROR(INDEX(instruments!$N$2:$N$5037,MATCH(index!$A777,instruments!$M$2:$M$5037,0),1),\"\")","v":""}]
[734,{"$f":"+IFERROR(INDEX(instruments!$N$2:$N$5037,MATCH(index!$A778,instruments!$M$2:$M$5037,0),1),\"\")","v":""}]
[735,{"$f":"+IFERROR(INDEX(instruments!$N$2:$N$5037,MATCH(index!$A779,instruments!$M$2:$M$5037,0),1),\"\")","v":""}]
[736,{"$f":"+IFERROR(INDEX(instruments!$N$2:$N$5037,MATCH(index!$A780,instruments!$M$2:$M$5037,0),1),\"\")","v":""}]
[737,{"$f":"+IFERROR(INDEX(instruments!$N$2:$N$5037,MATCH(index!$A781,instruments!$M$2:$M$5037,0),1),\"\")","v":""}]
[738,{"$f":"+IFERROR(INDEX(instruments!$N$2:$N$5037,MATCH(index!$A782,instruments!$M$2:$M$5037,0),1),\"\")","v":""}]
[739,{"$f":"+IFERROR(INDEX(instruments!$N$2:$N$5037,MATCH(index!$A783,instruments!$M$2:$M$5037,0),1),\"\")","v":""}]
[740,{"$f":"+IFERROR(INDEX(instruments!$N$2:$N$5037,MATCH(index!$A784,instruments!$M$2:$M$5037,0),1),\"\")","v":""}]
[741,{"$f":"+IFERROR(INDEX(instruments!$N$2:$N$5037,MATCH(index!$A785,instruments!$M$2:$M$5037,0),1),\"\")","v":""}]
[742,{"$f":"+IFERROR(INDEX(instruments!$N$2:$N$5037,MATCH(index!$A786,instruments!$M$2:$M$5037,0),1),\"\")","v":""}]
[743,{"$f":"+IFERROR(INDEX(instruments!$N$2:$N$5037,MATCH(index!$A787,instruments!$M$2:$M$5037,0),1),\"\")","v":""}]
[744,{"$f":"+IFERROR(INDEX(instruments!$N$2:$N$5037,MATCH(index!$A788,instruments!$M$2:$M$5037,0),1),\"\")","v":""}]
[745,{"$f":"+IFERROR(INDEX(instruments!$N$2:$N$5037,MATCH(index!$A789,instruments!$M$2:$M$5037,0),1),\"\")","v":""}]
[746,{"$f":"+IFERROR(INDEX(instruments!$N$2:$N$5037,MATCH(index!$A790,instruments!$M$2:$M$5037,0),1),\"\")","v":""}]
[747,{"$f":"+IFERROR(INDEX(instruments!$N$2:$N$5037,MATCH(index!$A791,instruments!$M$2:$M$5037,0),1),\"\")","v":""}]
[748,{"$f":"+IFERROR(INDEX(instruments!$N$2:$N$5037,MATCH(index!$A792,instruments!$M$2:$M$5037,0),1),\"\")","v":""}]
[749,{"$f":"+IFERROR(INDEX(instruments!$N$2:$N$5037,MATCH(index!$A793,instruments!$M$2:$M$5037,0),1),\"\")","v":""}]
[750,{"$f":"+IFERROR(INDEX(instruments!$N$2:$N$5037,MATCH(index!$A794,instruments!$M$2:$M$5037,0),1),\"\")","v":""}]
[751,{"$f":"+IFERROR(INDEX(instruments!$N$2:$N$5037,MATCH(index!$A795,instruments!$M$2:$M$5037,0),1),\"\")","v":""}]
[752,{"$f":"+IFERROR(INDEX(instruments!$N$2:$N$5037,MATCH(index!$A796,instruments!$M$2:$M$5037,0),1),\"\")","v":""}]
[753,{"$f":"+IFERROR(INDEX(instruments!$N$2:$N$5037,MATCH(index!$A797,instruments!$M$2:$M$5037,0),1),\"\")","v":""}]
[754,{"$f":"+IFERROR(INDEX(instruments!$N$2:$N$5037,MATCH(index!$A798,instruments!$M$2:$M$5037,0),1),\"\")","v":""}]
[755,{"$f":"+IFERROR(INDEX(instruments!$N$2:$N$5037,MATCH(index!$A799,instruments!$M$2:$M$5037,0),1),\"\")","v":""}]
[756,{"$f":"+IFERROR(INDEX(instruments!$N$2:$N$5037,MATCH(index!$A800,instruments!$M$2:$M$5037,0),1),\"\")","v":""}]
[757,{"$f":"+IFERROR(INDEX(instruments!$N$2:$N$5037,MATCH(index!$A801,instruments!$M$2:$M$5037,0),1),\"\")","v":""}]
[758,{"$f":"+IFERROR(INDEX(instruments!$N$2:$N$5037,MATCH(index!$A802,instruments!$M$2:$M$5037,0),1),\"\")","v":""}]
[759,{"$f":"+IFERROR(INDEX(instruments!$N$2:$N$5037,MATCH(index!$A803,instruments!$M$2:$M$5037,0),1),\"\")","v":""}]
[760,{"$f":"+IFERROR(INDEX(instruments!$N$2:$N$5037,MATCH(index!$A804,instruments!$M$2:$M$5037,0),1),\"\")","v":""}]
[761,{"$f":"+IFERROR(INDEX(instruments!$N$2:$N$5037,MATCH(index!$A805,instruments!$M$2:$M$5037,0),1),\"\")","v":""}]
[762,{"$f":"+IFERROR(INDEX(instruments!$N$2:$N$5037,MATCH(index!$A806,instruments!$M$2:$M$5037,0),1),\"\")","v":""}]
[763,{"$f":"+IFERROR(INDEX(instruments!$N$2:$N$5037,MATCH(index!$A807,instruments!$M$2:$M$5037,0),1),\"\")","v":""}]
[764,{"$f":"+IFERROR(INDEX(instruments!$N$2:$N$5037,MATCH(index!$A808,instruments!$M$2:$M$5037,0),1),\"\")","v":""}]
[765,{"$f":"+IFERROR(INDEX(instruments!$N$2:$N$5037,MATCH(index!$A809,instruments!$M$2:$M$5037,0),1),\"\")","v":""}]
[766,{"$f":"+IFERROR(INDEX(instruments!$N$2:$N$5037,MATCH(index!$A810,instruments!$M$2:$M$5037,0),1),\"\")","v":""}]
[767,{"$f":"+IFERROR(INDEX(instruments!$N$2:$N$5037,MATCH(index!$A811,instruments!$M$2:$M$5037,0),1),\"\")","v":""}]
[768,{"$f":"+IFERROR(INDEX(instruments!$N$2:$N$5037,MATCH(index!$A812,instruments!$M$2:$M$5037,0),1),\"\")","v":""}]
[769,{"$f":"+IFERROR(INDEX(instruments!$N$2:$N$5037,MATCH(index!$A813,instruments!$M$2:$M$5037,0),1),\"\")","v":""}]
[770,{"$f":"+IFERROR(INDEX(instruments!$N$2:$N$5037,MATCH(index!$A814,instruments!$M$2:$M$5037,0),1),\"\")","v":""}]
[771,{"$f":"+IFERROR(INDEX(instruments!$N$2:$N$5037,MATCH(index!$A815,instruments!$M$2:$M$5037,0),1),\"\")","v":""}]
[772,{"$f":"+IFERROR(INDEX(instruments!$N$2:$N$5037,MATCH(index!$A816,instruments!$M$2:$M$5037,0),1),\"\")","v":""}]
[773,{"$f":"+IFERROR(INDEX(instruments!$N$2:$N$5037,MATCH(index!$A817,instruments!$M$2:$M$5037,0),1),\"\")","v":""}]
[774,{"$f":"+IFERROR(INDEX(instruments!$N$2:$N$5037,MATCH(index!$A818,instruments!$M$2:$M$5037,0),1),\"\")","v":""}]
[775,{"$f":"+IFERROR(INDEX(instruments!$N$2:$N$5037,MATCH(index!$A819,instruments!$M$2:$M$5037,0),1),\"\")","v":""}]
[776,{"$f":"+IFERROR(INDEX(instruments!$N$2:$N$5037,MATCH(index!$A820,instruments!$M$2:$M$5037,0),1),\"\")","v":""}]
[777,{"$f":"+IFERROR(INDEX(instruments!$N$2:$N$5037,MATCH(index!$A821,instruments!$M$2:$M$5037,0),1),\"\")","v":""}]
[778,{"$f":"+IFERROR(INDEX(instruments!$N$2:$N$5037,MATCH(index!$A822,instruments!$M$2:$M$5037,0),1),\"\")","v":""}]
[779,{"$f":"+IFERROR(INDEX(instruments!$N$2:$N$5037,MATCH(index!$A823,instruments!$M$2:$M$5037,0),1),\"\")","v":""}]
[780,{"$f":"+IFERROR(INDEX(instruments!$N$2:$N$5037,MATCH(index!$A824,instruments!$M$2:$M$5037,0),1),\"\")","v":""}]
[781,{"$f":"+IFERROR(INDEX(instruments!$N$2:$N$5037,MATCH(index!$A825,instruments!$M$2:$M$5037,0),1),\"\")","v":""}]
[782,{"$f":"+IFERROR(INDEX(instruments!$N$2:$N$5037,MATCH(index!$A826,instruments!$M$2:$M$5037,0),1),\"\")","v":""}]
[783,{"$f":"+IFERROR(INDEX(instruments!$N$2:$N$5037,MATCH(index!$A827,instruments!$M$2:$M$5037,0),1),\"\")","v":""}]
[784,{"$f":"+IFERROR(INDEX(instruments!$N$2:$N$5037,MATCH(index!$A828,instruments!$M$2:$M$5037,0),1),\"\")","v":""}]
[785,{"$f":"+IFERROR(INDEX(instruments!$N$2:$N$5037,MATCH(index!$A829,instruments!$M$2:$M$5037,0),1),\"\")","v":""}]
[786,{"$f":"+IFERROR(INDEX(instruments!$N$2:$N$5037,MATCH(index!$A830,instruments!$M$2:$M$5037,0),1),\"\")","v":""}]
[{"$f":"+A830+1","v":787},{"$f":"+IFERROR(INDEX(instruments!$N$2:$N$5037,MATCH(index!$A831,instruments!$M$2:$M$5037,0),1),\"\")","v":""}]
[788,{"$f":"+IFERROR(INDEX(instruments!$N$2:$N$5037,MATCH(index!$A832,instruments!$M$2:$M$5037,0),1),\"\")","v":""}]
[789,{"$f":"+IFERROR(INDEX(instruments!$N$2:$N$5037,MATCH(index!$A833,instruments!$M$2:$M$5037,0),1),\"\")","v":""}]
[790,{"$f":"+IFERROR(INDEX(instruments!$N$2:$N$5037,MATCH(index!$A834,instruments!$M$2:$M$5037,0),1),\"\")","v":""}]
[791,{"$f":"+IFERROR(INDEX(instruments!$N$2:$N$5037,MATCH(index!$A835,instruments!$M$2:$M$5037,0),1),\"\")","v":""}]
[792,{"$f":"+IFERROR(INDEX(instruments!$N$2:$N$5037,MATCH(index!$A836,instruments!$M$2:$M$5037,0),1),\"\")","v":""}]
[793,{"$f":"+IFERROR(INDEX(instruments!$N$2:$N$5037,MATCH(index!$A837,instruments!$M$2:$M$5037,0),1),\"\")","v":""}]
[794,{"$f":"+IFERROR(INDEX(instruments!$N$2:$N$5037,MATCH(index!$A838,instruments!$M$2:$M$5037,0),1),\"\")","v":""}]
[795,{"$f":"+IFERROR(INDEX(instruments!$N$2:$N$5037,MATCH(index!$A839,instruments!$M$2:$M$5037,0),1),\"\")","v":""}]
[796,{"$f":"+IFERROR(INDEX(instruments!$N$2:$N$5037,MATCH(index!$A840,instruments!$M$2:$M$5037,0),1),\"\")","v":""}]
[797,{"$f":"+IFERROR(INDEX(instruments!$N$2:$N$5037,MATCH(index!$A841,instruments!$M$2:$M$5037,0),1),\"\")","v":""}]
[798,{"$f":"+IFERROR(INDEX(instruments!$N$2:$N$5037,MATCH(index!$A842,instruments!$M$2:$M$5037,0),1),\"\")","v":""}]
[799,{"$f":"+IFERROR(INDEX(instruments!$N$2:$N$5037,MATCH(index!$A843,instruments!$M$2:$M$5037,0),1),\"\")","v":""}]
[800,{"$f":"+IFERROR(INDEX(instruments!$N$2:$N$5037,MATCH(index!$A844,instruments!$M$2:$M$5037,0),1),\"\")","v":""}]
[801,{"$f":"+IFERROR(INDEX(instruments!$N$2:$N$5037,MATCH(index!$A845,instruments!$M$2:$M$5037,0),1),\"\")","v":""}]
[802,{"$f":"+IFERROR(INDEX(instruments!$N$2:$N$5037,MATCH(index!$A846,instruments!$M$2:$M$5037,0),1),\"\")","v":""}]
[803,{"$f":"+IFERROR(INDEX(instruments!$N$2:$N$5037,MATCH(index!$A847,instruments!$M$2:$M$5037,0),1),\"\")","v":""}]
[804,{"$f":"+IFERROR(INDEX(instruments!$N$2:$N$5037,MATCH(index!$A848,instruments!$M$2:$M$5037,0),1),\"\")","v":""}]
[805,{"$f":"+IFERROR(INDEX(instruments!$N$2:$N$5037,MATCH(index!$A849,instruments!$M$2:$M$5037,0),1),\"\")","v":""}]
[806,{"$f":"+IFERROR(INDEX(instruments!$N$2:$N$5037,MATCH(index!$A850,instruments!$M$2:$M$5037,0),1),\"\")","v":""}]
[807,{"$f":"+IFERROR(INDEX(instruments!$N$2:$N$5037,MATCH(index!$A851,instruments!$M$2:$M$5037,0),1),\"\")","v":""}]
[808,{"$f":"+IFERROR(INDEX(instruments!$N$2:$N$5037,MATCH(index!$A852,instruments!$M$2:$M$5037,0),1),\"\")","v":""}]
[809,{"$f":"+IFERROR(INDEX(instruments!$N$2:$N$5037,MATCH(index!$A853,instruments!$M$2:$M$5037,0),1),\"\")","v":""}]
[810,{"$f":"+IFERROR(INDEX(instruments!$N$2:$N$5037,MATCH(index!$A854,instruments!$M$2:$M$5037,0),1),\"\")","v":""}]
[811,{"$f":"+IFERROR(INDEX(instruments!$N$2:$N$5037,MATCH(index!$A855,instruments!$M$2:$M$5037,0),1),\"\")","v":""}]
[812,{"$f":"+IFERROR(INDEX(instruments!$N$2:$N$5037,MATCH(index!$A856,instruments!$M$2:$M$5037,0),1),\"\")","v":""}]
[813,{"$f":"+IFERROR(INDEX(instruments!$N$2:$N$5037,MATCH(index!$A857,instruments!$M$2:$M$5037,0),1),\"\")","v":""}]
[814,{"$f":"+IFERROR(INDEX(instruments!$N$2:$N$5037,MATCH(index!$A858,instruments!$M$2:$M$5037,0),1),\"\")","v":""}]
[815,{"$f":"+IFERROR(INDEX(instruments!$N$2:$N$5037,MATCH(index!$A859,instruments!$M$2:$M$5037,0),1),\"\")","v":""}]
[816,{"$f":"+IFERROR(INDEX(instruments!$N$2:$N$5037,MATCH(index!$A860,instruments!$M$2:$M$5037,0),1),\"\")","v":""}]
[817,{"$f":"+IFERROR(INDEX(instruments!$N$2:$N$5037,MATCH(index!$A861,instruments!$M$2:$M$5037,0),1),\"\")","v":""}]
[818,{"$f":"+IFERROR(INDEX(instruments!$N$2:$N$5037,MATCH(index!$A862,instruments!$M$2:$M$5037,0),1),\"\")","v":""}]
[819,{"$f":"+IFERROR(INDEX(instruments!$N$2:$N$5037,MATCH(index!$A863,instruments!$M$2:$M$5037,0),1),\"\")","v":""}]
[820,{"$f":"+IFERROR(INDEX(instruments!$N$2:$N$5037,MATCH(index!$A864,instruments!$M$2:$M$5037,0),1),\"\")","v":""}]
[821,{"$f":"+IFERROR(INDEX(instruments!$N$2:$N$5037,MATCH(index!$A865,instruments!$M$2:$M$5037,0),1),\"\")","v":""}]
[822,{"$f":"+IFERROR(INDEX(instruments!$N$2:$N$5037,MATCH(index!$A866,instruments!$M$2:$M$5037,0),1),\"\")","v":""}]
[823,{"$f":"+IFERROR(INDEX(instruments!$N$2:$N$5037,MATCH(index!$A867,instruments!$M$2:$M$5037,0),1),\"\")","v":""}]
[824,{"$f":"+IFERROR(INDEX(instruments!$N$2:$N$5037,MATCH(index!$A868,instruments!$M$2:$M$5037,0),1),\"\")","v":""}]
[825,{"$f":"+IFERROR(INDEX(instruments!$N$2:$N$5037,MATCH(index!$A869,instruments!$M$2:$M$5037,0),1),\"\")","v":""}]
[826,{"$f":"+IFERROR(INDEX(instruments!$N$2:$N$5037,MATCH(index!$A870,instruments!$M$2:$M$5037,0),1),\"\")","v":""}]
[827,{"$f":"+IFERROR(INDEX(instruments!$N$2:$N$5037,MATCH(index!$A871,instruments!$M$2:$M$5037,0),1),\"\")","v":""}]
[828,{"$f":"+IFERROR(INDEX(instruments!$N$2:$N$5037,MATCH(index!$A872,instruments!$M$2:$M$5037,0),1),\"\")","v":""}]
[829,{"$f":"+IFERROR(INDEX(instruments!$N$2:$N$5037,MATCH(index!$A873,instruments!$M$2:$M$5037,0),1),\"\")","v":""}]
[830,{"$f":"+IFERROR(INDEX(instruments!$N$2:$N$5037,MATCH(index!$A874,instruments!$M$2:$M$5037,0),1),\"\")","v":""}]
[831,{"$f":"+IFERROR(INDEX(instruments!$N$2:$N$5037,MATCH(index!$A875,instruments!$M$2:$M$5037,0),1),\"\")","v":""}]
[832,{"$f":"+IFERROR(INDEX(instruments!$N$2:$N$5037,MATCH(index!$A876,instruments!$M$2:$M$5037,0),1),\"\")","v":""}]
[833,{"$f":"+IFERROR(INDEX(instruments!$N$2:$N$5037,MATCH(index!$A877,instruments!$M$2:$M$5037,0),1),\"\")","v":""}]
[834,{"$f":"+IFERROR(INDEX(instruments!$N$2:$N$5037,MATCH(index!$A878,instruments!$M$2:$M$5037,0),1),\"\")","v":""}]
[835,{"$f":"+IFERROR(INDEX(instruments!$N$2:$N$5037,MATCH(index!$A879,instruments!$M$2:$M$5037,0),1),\"\")","v":""}]
[836,{"$f":"+IFERROR(INDEX(instruments!$N$2:$N$5037,MATCH(index!$A880,instruments!$M$2:$M$5037,0),1),\"\")","v":""}]
[837,{"$f":"+IFERROR(INDEX(instruments!$N$2:$N$5037,MATCH(index!$A881,instruments!$M$2:$M$5037,0),1),\"\")","v":""}]
[838,{"$f":"+IFERROR(INDEX(instruments!$N$2:$N$5037,MATCH(index!$A882,instruments!$M$2:$M$5037,0),1),\"\")","v":""}]
[839,{"$f":"+IFERROR(INDEX(instruments!$N$2:$N$5037,MATCH(index!$A883,instruments!$M$2:$M$5037,0),1),\"\")","v":""}]
[840,{"$f":"+IFERROR(INDEX(instruments!$N$2:$N$5037,MATCH(index!$A884,instruments!$M$2:$M$5037,0),1),\"\")","v":""}]
[841,{"$f":"+IFERROR(INDEX(instruments!$N$2:$N$5037,MATCH(index!$A885,instruments!$M$2:$M$5037,0),1),\"\")","v":""}]
[842,{"$f":"+IFERROR(INDEX(instruments!$N$2:$N$5037,MATCH(index!$A886,instruments!$M$2:$M$5037,0),1),\"\")","v":""}]
[843,{"$f":"+IFERROR(INDEX(instruments!$N$2:$N$5037,MATCH(index!$A887,instruments!$M$2:$M$5037,0),1),\"\")","v":""}]
[844,{"$f":"+IFERROR(INDEX(instruments!$N$2:$N$5037,MATCH(index!$A888,instruments!$M$2:$M$5037,0),1),\"\")","v":""}]
[845,{"$f":"+IFERROR(INDEX(instruments!$N$2:$N$5037,MATCH(index!$A889,instruments!$M$2:$M$5037,0),1),\"\")","v":""}]
[846,{"$f":"+IFERROR(INDEX(instruments!$N$2:$N$5037,MATCH(index!$A890,instruments!$M$2:$M$5037,0),1),\"\")","v":""}]
[847,{"$f":"+IFERROR(INDEX(instruments!$N$2:$N$5037,MATCH(index!$A891,instruments!$M$2:$M$5037,0),1),\"\")","v":""}]
[848,{"$f":"+IFERROR(INDEX(instruments!$N$2:$N$5037,MATCH(index!$A892,instruments!$M$2:$M$5037,0),1),\"\")","v":""}]
[849,{"$f":"+IFERROR(INDEX(instruments!$N$2:$N$5037,MATCH(index!$A893,instruments!$M$2:$M$5037,0),1),\"\")","v":""}]
[850,{"$f":"+IFERROR(INDEX(instruments!$N$2:$N$5037,MATCH(index!$A894,instruments!$M$2:$M$5037,0),1),\"\")","v":""}]
[{"$f":"+A894+1","v":851},{"$f":"+IFERROR(INDEX(instruments!$N$2:$N$5037,MATCH(index!$A895,instruments!$M$2:$M$5037,0),1),\"\")","v":""}]
[852,{"$f":"+IFERROR(INDEX(instruments!$N$2:$N$5037,MATCH(index!$A896,instruments!$M$2:$M$5037,0),1),\"\")","v":""}]
[853,{"$f":"+IFERROR(INDEX(instruments!$N$2:$N$5037,MATCH(index!$A897,instruments!$M$2:$M$5037,0),1),\"\")","v":""}]
[854,{"$f":"+IFERROR(INDEX(instruments!$N$2:$N$5037,MATCH(index!$A898,instruments!$M$2:$M$5037,0),1),\"\")","v":""}]
[855,{"$f":"+IFERROR(INDEX(instruments!$N$2:$N$5037,MATCH(index!$A899,instruments!$M$2:$M$5037,0),1),\"\")","v":""}]
[856,{"$f":"+IFERROR(INDEX(instruments!$N$2:$N$5037,MATCH(index!$A900,instruments!$M$2:$M$5037,0),1),\"\")","v":""}]
[857,{"$f":"+IFERROR(INDEX(instruments!$N$2:$N$5037,MATCH(index!$A901,instruments!$M$2:$M$5037,0),1),\"\")","v":""}]
[858,{"$f":"+IFERROR(INDEX(instruments!$N$2:$N$5037,MATCH(index!$A902,instruments!$M$2:$M$5037,0),1),\"\")","v":""}]
[859,{"$f":"+IFERROR(INDEX(instruments!$N$2:$N$5037,MATCH(index!$A903,instruments!$M$2:$M$5037,0),1),\"\")","v":""}]
[860,{"$f":"+IFERROR(INDEX(instruments!$N$2:$N$5037,MATCH(index!$A904,instruments!$M$2:$M$5037,0),1),\"\")","v":""}]
[861,{"$f":"+IFERROR(INDEX(instruments!$N$2:$N$5037,MATCH(index!$A905,instruments!$M$2:$M$5037,0),1),\"\")","v":""}]
[862,{"$f":"+IFERROR(INDEX(instruments!$N$2:$N$5037,MATCH(index!$A906,instruments!$M$2:$M$5037,0),1),\"\")","v":""}]
[863,{"$f":"+IFERROR(INDEX(instruments!$N$2:$N$5037,MATCH(index!$A907,instruments!$M$2:$M$5037,0),1),\"\")","v":""}]
[864,{"$f":"+IFERROR(INDEX(instruments!$N$2:$N$5037,MATCH(index!$A908,instruments!$M$2:$M$5037,0),1),\"\")","v":""}]
[865,{"$f":"+IFERROR(INDEX(instruments!$N$2:$N$5037,MATCH(index!$A909,instruments!$M$2:$M$5037,0),1),\"\")","v":""}]
[866,{"$f":"+IFERROR(INDEX(instruments!$N$2:$N$5037,MATCH(index!$A910,instruments!$M$2:$M$5037,0),1),\"\")","v":""}]
[867,{"$f":"+IFERROR(INDEX(instruments!$N$2:$N$5037,MATCH(index!$A911,instruments!$M$2:$M$5037,0),1),\"\")","v":""}]
[868,{"$f":"+IFERROR(INDEX(instruments!$N$2:$N$5037,MATCH(index!$A912,instruments!$M$2:$M$5037,0),1),\"\")","v":""}]
[869,{"$f":"+IFERROR(INDEX(instruments!$N$2:$N$5037,MATCH(index!$A913,instruments!$M$2:$M$5037,0),1),\"\")","v":""}]
[870,{"$f":"+IFERROR(INDEX(instruments!$N$2:$N$5037,MATCH(index!$A914,instruments!$M$2:$M$5037,0),1),\"\")","v":""}]
[871,{"$f":"+IFERROR(INDEX(instruments!$N$2:$N$5037,MATCH(index!$A915,instruments!$M$2:$M$5037,0),1),\"\")","v":""}]
[872,{"$f":"+IFERROR(INDEX(instruments!$N$2:$N$5037,MATCH(index!$A916,instruments!$M$2:$M$5037,0),1),\"\")","v":""}]
[873,{"$f":"+IFERROR(INDEX(instruments!$N$2:$N$5037,MATCH(index!$A917,instruments!$M$2:$M$5037,0),1),\"\")","v":""}]
[874,{"$f":"+IFERROR(INDEX(instruments!$N$2:$N$5037,MATCH(index!$A918,instruments!$M$2:$M$5037,0),1),\"\")","v":""}]
[875,{"$f":"+IFERROR(INDEX(instruments!$N$2:$N$5037,MATCH(index!$A919,instruments!$M$2:$M$5037,0),1),\"\")","v":""}]
[876,{"$f":"+IFERROR(INDEX(instruments!$N$2:$N$5037,MATCH(index!$A920,instruments!$M$2:$M$5037,0),1),\"\")","v":""}]
[877,{"$f":"+IFERROR(INDEX(instruments!$N$2:$N$5037,MATCH(index!$A921,instruments!$M$2:$M$5037,0),1),\"\")","v":""}]
[878,{"$f":"+IFERROR(INDEX(instruments!$N$2:$N$5037,MATCH(index!$A922,instruments!$M$2:$M$5037,0),1),\"\")","v":""}]
[879,{"$f":"+IFERROR(INDEX(instruments!$N$2:$N$5037,MATCH(index!$A923,instruments!$M$2:$M$5037,0),1),\"\")","v":""}]
[880,{"$f":"+IFERROR(INDEX(instruments!$N$2:$N$5037,MATCH(index!$A924,instruments!$M$2:$M$5037,0),1),\"\")","v":""}]
[881,{"$f":"+IFERROR(INDEX(instruments!$N$2:$N$5037,MATCH(index!$A925,instruments!$M$2:$M$5037,0),1),\"\")","v":""}]
[882,{"$f":"+IFERROR(INDEX(instruments!$N$2:$N$5037,MATCH(index!$A926,instruments!$M$2:$M$5037,0),1),\"\")","v":""}]
[883,{"$f":"+IFERROR(INDEX(instruments!$N$2:$N$5037,MATCH(index!$A927,instruments!$M$2:$M$5037,0),1),\"\")","v":""}]
[884,{"$f":"+IFERROR(INDEX(instruments!$N$2:$N$5037,MATCH(index!$A928,instruments!$M$2:$M$5037,0),1),\"\")","v":""}]
[885,{"$f":"+IFERROR(INDEX(instruments!$N$2:$N$5037,MATCH(index!$A929,instruments!$M$2:$M$5037,0),1),\"\")","v":""}]
[886,{"$f":"+IFERROR(INDEX(instruments!$N$2:$N$5037,MATCH(index!$A930,instruments!$M$2:$M$5037,0),1),\"\")","v":""}]
[887,{"$f":"+IFERROR(INDEX(instruments!$N$2:$N$5037,MATCH(index!$A931,instruments!$M$2:$M$5037,0),1),\"\")","v":""}]
[888,{"$f":"+IFERROR(INDEX(instruments!$N$2:$N$5037,MATCH(index!$A932,instruments!$M$2:$M$5037,0),1),\"\")","v":""}]
[889,{"$f":"+IFERROR(INDEX(instruments!$N$2:$N$5037,MATCH(index!$A933,instruments!$M$2:$M$5037,0),1),\"\")","v":""}]
[890,{"$f":"+IFERROR(INDEX(instruments!$N$2:$N$5037,MATCH(index!$A934,instruments!$M$2:$M$5037,0),1),\"\")","v":""}]
[891,{"$f":"+IFERROR(INDEX(instruments!$N$2:$N$5037,MATCH(index!$A935,instruments!$M$2:$M$5037,0),1),\"\")","v":""}]
[892,{"$f":"+IFERROR(INDEX(instruments!$N$2:$N$5037,MATCH(index!$A936,instruments!$M$2:$M$5037,0),1),\"\")","v":""}]
[893,{"$f":"+IFERROR(INDEX(instruments!$N$2:$N$5037,MATCH(index!$A937,instruments!$M$2:$M$5037,0),1),\"\")","v":""}]
[894,{"$f":"+IFERROR(INDEX(instruments!$N$2:$N$5037,MATCH(index!$A938,instruments!$M$2:$M$5037,0),1),\"\")","v":""}]
[895,{"$f":"+IFERROR(INDEX(instruments!$N$2:$N$5037,MATCH(index!$A939,instruments!$M$2:$M$5037,0),1),\"\")","v":""}]
[896,{"$f":"+IFERROR(INDEX(instruments!$N$2:$N$5037,MATCH(index!$A940,instruments!$M$2:$M$5037,0),1),\"\")","v":""}]
[897,{"$f":"+IFERROR(INDEX(instruments!$N$2:$N$5037,MATCH(index!$A941,instruments!$M$2:$M$5037,0),1),\"\")","v":""}]
[898,{"$f":"+IFERROR(INDEX(instruments!$N$2:$N$5037,MATCH(index!$A942,instruments!$M$2:$M$5037,0),1),\"\")","v":""}]
[899,{"$f":"+IFERROR(INDEX(instruments!$N$2:$N$5037,MATCH(index!$A943,instruments!$M$2:$M$5037,0),1),\"\")","v":""}]
[900,{"$f":"+IFERROR(INDEX(instruments!$N$2:$N$5037,MATCH(index!$A944,instruments!$M$2:$M$5037,0),1),\"\")","v":""}]
[901,{"$f":"+IFERROR(INDEX(instruments!$N$2:$N$5037,MATCH(index!$A945,instruments!$M$2:$M$5037,0),1),\"\")","v":""}]
[902,{"$f":"+IFERROR(INDEX(instruments!$N$2:$N$5037,MATCH(index!$A946,instruments!$M$2:$M$5037,0),1),\"\")","v":""}]
[903,{"$f":"+IFERROR(INDEX(instruments!$N$2:$N$5037,MATCH(index!$A947,instruments!$M$2:$M$5037,0),1),\"\")","v":""}]
[904,{"$f":"+IFERROR(INDEX(instruments!$N$2:$N$5037,MATCH(index!$A948,instruments!$M$2:$M$5037,0),1),\"\")","v":""}]
[905,{"$f":"+IFERROR(INDEX(instruments!$N$2:$N$5037,MATCH(index!$A949,instruments!$M$2:$M$5037,0),1),\"\")","v":""}]
[906,{"$f":"+IFERROR(INDEX(instruments!$N$2:$N$5037,MATCH(index!$A950,instruments!$M$2:$M$5037,0),1),\"\")","v":""}]
[907,{"$f":"+IFERROR(INDEX(instruments!$N$2:$N$5037,MATCH(index!$A951,instruments!$M$2:$M$5037,0),1),\"\")","v":""}]
[908,{"$f":"+IFERROR(INDEX(instruments!$N$2:$N$5037,MATCH(index!$A952,instruments!$M$2:$M$5037,0),1),\"\")","v":""}]
[909,{"$f":"+IFERROR(INDEX(instruments!$N$2:$N$5037,MATCH(index!$A953,instruments!$M$2:$M$5037,0),1),\"\")","v":""}]
[910,{"$f":"+IFERROR(INDEX(instruments!$N$2:$N$5037,MATCH(index!$A954,instruments!$M$2:$M$5037,0),1),\"\")","v":""}]
[911,{"$f":"+IFERROR(INDEX(instruments!$N$2:$N$5037,MATCH(index!$A955,instruments!$M$2:$M$5037,0),1),\"\")","v":""}]
[912,{"$f":"+IFERROR(INDEX(instruments!$N$2:$N$5037,MATCH(index!$A956,instruments!$M$2:$M$5037,0),1),\"\")","v":""}]
[913,{"$f":"+IFERROR(INDEX(instruments!$N$2:$N$5037,MATCH(index!$A957,instruments!$M$2:$M$5037,0),1),\"\")","v":""}]
[914,{"$f":"+IFERROR(INDEX(instruments!$N$2:$N$5037,MATCH(index!$A958,instruments!$M$2:$M$5037,0),1),\"\")","v":""}]
[{"$f":"+A958+1","v":915},{"$f":"+IFERROR(INDEX(instruments!$N$2:$N$5037,MATCH(index!$A959,instruments!$M$2:$M$5037,0),1),\"\")","v":""}]
[916,{"$f":"+IFERROR(INDEX(instruments!$N$2:$N$5037,MATCH(index!$A960,instruments!$M$2:$M$5037,0),1),\"\")","v":""}]
[917,{"$f":"+IFERROR(INDEX(instruments!$N$2:$N$5037,MATCH(index!$A961,instruments!$M$2:$M$5037,0),1),\"\")","v":""}]
[918,{"$f":"+IFERROR(INDEX(instruments!$N$2:$N$5037,MATCH(index!$A962,instruments!$M$2:$M$5037,0),1),\"\")","v":""}]
[919,{"$f":"+IFERROR(INDEX(instruments!$N$2:$N$5037,MATCH(index!$A963,instruments!$M$2:$M$5037,0),1),\"\")","v":""}]
[920,{"$f":"+IFERROR(INDEX(instruments!$N$2:$N$5037,MATCH(index!$A964,instruments!$M$2:$M$5037,0),1),\"\")","v":""}]
[921,{"$f":"+IFERROR(INDEX(instruments!$N$2:$N$5037,MATCH(index!$A965,instruments!$M$2:$M$5037,0),1),\"\")","v":""}]
[922,{"$f":"+IFERROR(INDEX(instruments!$N$2:$N$5037,MATCH(index!$A966,instruments!$M$2:$M$5037,0),1),\"\")","v":""}]
[923,{"$f":"+IFERROR(INDEX(instruments!$N$2:$N$5037,MATCH(index!$A967,instruments!$M$2:$M$5037,0),1),\"\")","v":""}]
[924,{"$f":"+IFERROR(INDEX(instruments!$N$2:$N$5037,MATCH(index!$A968,instruments!$M$2:$M$5037,0),1),\"\")","v":""}]
[925,{"$f":"+IFERROR(INDEX(instruments!$N$2:$N$5037,MATCH(index!$A969,instruments!$M$2:$M$5037,0),1),\"\")","v":""}]
[926,{"$f":"+IFERROR(INDEX(instruments!$N$2:$N$5037,MATCH(index!$A970,instruments!$M$2:$M$5037,0),1),\"\")","v":""}]
[927,{"$f":"+IFERROR(INDEX(instruments!$N$2:$N$5037,MATCH(index!$A971,instruments!$M$2:$M$5037,0),1),\"\")","v":""}]
[928,{"$f":"+IFERROR(INDEX(instruments!$N$2:$N$5037,MATCH(index!$A972,instruments!$M$2:$M$5037,0),1),\"\")","v":""}]
[929,{"$f":"+IFERROR(INDEX(instruments!$N$2:$N$5037,MATCH(index!$A973,instruments!$M$2:$M$5037,0),1),\"\")","v":""}]
[930,{"$f":"+IFERROR(INDEX(instruments!$N$2:$N$5037,MATCH(index!$A974,instruments!$M$2:$M$5037,0),1),\"\")","v":""}]
[931,{"$f":"+IFERROR(INDEX(instruments!$N$2:$N$5037,MATCH(index!$A975,instruments!$M$2:$M$5037,0),1),\"\")","v":""}]
[932,{"$f":"+IFERROR(INDEX(instruments!$N$2:$N$5037,MATCH(index!$A976,instruments!$M$2:$M$5037,0),1),\"\")","v":""}]
[933,{"$f":"+IFERROR(INDEX(instruments!$N$2:$N$5037,MATCH(index!$A977,instruments!$M$2:$M$5037,0),1),\"\")","v":""}]
[934,{"$f":"+IFERROR(INDEX(instruments!$N$2:$N$5037,MATCH(index!$A978,instruments!$M$2:$M$5037,0),1),\"\")","v":""}]
[935,{"$f":"+IFERROR(INDEX(instruments!$N$2:$N$5037,MATCH(index!$A979,instruments!$M$2:$M$5037,0),1),\"\")","v":""}]
[936,{"$f":"+IFERROR(INDEX(instruments!$N$2:$N$5037,MATCH(index!$A980,instruments!$M$2:$M$5037,0),1),\"\")","v":""}]
[937,{"$f":"+IFERROR(INDEX(instruments!$N$2:$N$5037,MATCH(index!$A981,instruments!$M$2:$M$5037,0),1),\"\")","v":""}]
[938,{"$f":"+IFERROR(INDEX(instruments!$N$2:$N$5037,MATCH(index!$A982,instruments!$M$2:$M$5037,0),1),\"\")","v":""}]
[939,{"$f":"+IFERROR(INDEX(instruments!$N$2:$N$5037,MATCH(index!$A983,instruments!$M$2:$M$5037,0),1),\"\")","v":""}]
[940,{"$f":"+IFERROR(INDEX(instruments!$N$2:$N$5037,MATCH(index!$A984,instruments!$M$2:$M$5037,0),1),\"\")","v":""}]
[941,{"$f":"+IFERROR(INDEX(instruments!$N$2:$N$5037,MATCH(index!$A985,instruments!$M$2:$M$5037,0),1),\"\")","v":""}]
[942,{"$f":"+IFERROR(INDEX(instruments!$N$2:$N$5037,MATCH(index!$A986,instruments!$M$2:$M$5037,0),1),\"\")","v":""}]
[943,{"$f":"+IFERROR(INDEX(instruments!$N$2:$N$5037,MATCH(index!$A987,instruments!$M$2:$M$5037,0),1),\"\")","v":""}]
[944,{"$f":"+IFERROR(INDEX(instruments!$N$2:$N$5037,MATCH(index!$A988,instruments!$M$2:$M$5037,0),1),\"\")","v":""}]
[945,{"$f":"+IFERROR(INDEX(instruments!$N$2:$N$5037,MATCH(index!$A989,instruments!$M$2:$M$5037,0),1),\"\")","v":""}]
[946,{"$f":"+IFERROR(INDEX(instruments!$N$2:$N$5037,MATCH(index!$A990,instruments!$M$2:$M$5037,0),1),\"\")","v":""}]
[947,{"$f":"+IFERROR(INDEX(instruments!$N$2:$N$5037,MATCH(index!$A991,instruments!$M$2:$M$5037,0),1),\"\")","v":""}]
[948,{"$f":"+IFERROR(INDEX(instruments!$N$2:$N$5037,MATCH(index!$A992,instruments!$M$2:$M$5037,0),1),\"\")","v":""}]
[949,{"$f":"+IFERROR(INDEX(instruments!$N$2:$N$5037,MATCH(index!$A993,instruments!$M$2:$M$5037,0),1),\"\")","v":""}]
[950,{"$f":"+IFERROR(INDEX(instruments!$N$2:$N$5037,MATCH(index!$A994,instruments!$M$2:$M$5037,0),1),\"\")","v":""}]
[951,{"$f":"+IFERROR(INDEX(instruments!$N$2:$N$5037,MATCH(index!$A995,instruments!$M$2:$M$5037,0),1),\"\")","v":""}]
[952,{"$f":"+IFERROR(INDEX(instruments!$N$2:$N$5037,MATCH(index!$A996,instruments!$M$2:$M$5037,0),1),\"\")","v":""}]
[953,{"$f":"+IFERROR(INDEX(instruments!$N$2:$N$5037,MATCH(index!$A997,instruments!$M$2:$M$5037,0),1),\"\")","v":""}]
[954,{"$f":"+IFERROR(INDEX(instruments!$N$2:$N$5037,MATCH(index!$A998,instruments!$M$2:$M$5037,0),1),\"\")","v":""}]
[955,{"$f":"+IFERROR(INDEX(instruments!$N$2:$N$5037,MATCH(index!$A999,instruments!$M$2:$M$5037,0),1),\"\")","v":""}]
[956,{"$f":"+IFERROR(INDEX(instruments!$N$2:$N$5037,MATCH(index!$A1000,instruments!$M$2:$M$5037,0),1),\"\")","v":""}]
[957,{"$f":"+IFERROR(INDEX(instruments!$N$2:$N$5037,MATCH(index!$A1001,instruments!$M$2:$M$5037,0),1),\"\")","v":""}]
[958,{"$f":"+IFERROR(INDEX(instruments!$N$2:$N$5037,MATCH(index!$A1002,instruments!$M$2:$M$5037,0),1),\"\")","v":""}]
[959,{"$f":"+IFERROR(INDEX(instruments!$N$2:$N$5037,MATCH(index!$A1003,instruments!$M$2:$M$5037,0),1),\"\")","v":""}]
[960,{"$f":"+IFERROR(INDEX(instruments!$N$2:$N$5037,MATCH(index!$A1004,instruments!$M$2:$M$5037,0),1),\"\")","v":""}]
[961,{"$f":"+IFERROR(INDEX(instruments!$N$2:$N$5037,MATCH(index!$A1005,instruments!$M$2:$M$5037,0),1),\"\")","v":""}]
[962,{"$f":"+IFERROR(INDEX(instruments!$N$2:$N$5037,MATCH(index!$A1006,instruments!$M$2:$M$5037,0),1),\"\")","v":""}]
[963,{"$f":"+IFERROR(INDEX(instruments!$N$2:$N$5037,MATCH(index!$A1007,instruments!$M$2:$M$5037,0),1),\"\")","v":""}]
[964,{"$f":"+IFERROR(INDEX(instruments!$N$2:$N$5037,MATCH(index!$A1008,instruments!$M$2:$M$5037,0),1),\"\")","v":""}]
[965,{"$f":"+IFERROR(INDEX(instruments!$N$2:$N$5037,MATCH(index!$A1009,instruments!$M$2:$M$5037,0),1),\"\")","v":""}]
[966,{"$f":"+IFERROR(INDEX(instruments!$N$2:$N$5037,MATCH(index!$A1010,instruments!$M$2:$M$5037,0),1),\"\")","v":""}]
[967,{"$f":"+IFERROR(INDEX(instruments!$N$2:$N$5037,MATCH(index!$A1011,instruments!$M$2:$M$5037,0),1),\"\")","v":""}]
[968,{"$f":"+IFERROR(INDEX(instruments!$N$2:$N$5037,MATCH(index!$A1012,instruments!$M$2:$M$5037,0),1),\"\")","v":""}]
[969,{"$f":"+IFERROR(INDEX(instruments!$N$2:$N$5037,MATCH(index!$A1013,instruments!$M$2:$M$5037,0),1),\"\")","v":""}]
[970,{"$f":"+IFERROR(INDEX(instruments!$N$2:$N$5037,MATCH(index!$A1014,instruments!$M$2:$M$5037,0),1),\"\")","v":""}]
[971,{"$f":"+IFERROR(INDEX(instruments!$N$2:$N$5037,MATCH(index!$A1015,instruments!$M$2:$M$5037,0),1),\"\")","v":""}]
[972,{"$f":"+IFERROR(INDEX(instruments!$N$2:$N$5037,MATCH(index!$A1016,instruments!$M$2:$M$5037,0),1),\"\")","v":""}]
[973,{"$f":"+IFERROR(INDEX(instruments!$N$2:$N$5037,MATCH(index!$A1017,instruments!$M$2:$M$5037,0),1),\"\")","v":""}]
[974,{"$f":"+IFERROR(INDEX(instruments!$N$2:$N$5037,MATCH(index!$A1018,instruments!$M$2:$M$5037,0),1),\"\")","v":""}]
[975,{"$f":"+IFERROR(INDEX(instruments!$N$2:$N$5037,MATCH(index!$A1019,instruments!$M$2:$M$5037,0),1),\"\")","v":""}]
[976,{"$f":"+IFERROR(INDEX(instruments!$N$2:$N$5037,MATCH(index!$A1020,instruments!$M$2:$M$5037,0),1),\"\")","v":""}]
[977,{"$f":"+IFERROR(INDEX(instruments!$N$2:$N$5037,MATCH(index!$A1021,instruments!$M$2:$M$5037,0),1),\"\")","v":""}]
[978,{"$f":"+IFERROR(INDEX(instruments!$N$2:$N$5037,MATCH(index!$A1022,instruments!$M$2:$M$5037,0),1),\"\")","v":""}]
[{"$f":"+A1022+1","v":979},{"$f":"+IFERROR(INDEX(instruments!$N$2:$N$5037,MATCH(index!$A1023,instruments!$M$2:$M$5037,0),1),\"\")","v":""}]
[980,{"$f":"+IFERROR(INDEX(instruments!$N$2:$N$5037,MATCH(index!$A1024,instruments!$M$2:$M$5037,0),1),\"\")","v":""}]
[981,{"$f":"+IFERROR(INDEX(instruments!$N$2:$N$5037,MATCH(index!$A1025,instruments!$M$2:$M$5037,0),1),\"\")","v":""}]
[982,{"$f":"+IFERROR(INDEX(instruments!$N$2:$N$5037,MATCH(index!$A1026,instruments!$M$2:$M$5037,0),1),\"\")","v":""}]
[983,{"$f":"+IFERROR(INDEX(instruments!$N$2:$N$5037,MATCH(index!$A1027,instruments!$M$2:$M$5037,0),1),\"\")","v":""}]
[984,{"$f":"+IFERROR(INDEX(instruments!$N$2:$N$5037,MATCH(index!$A1028,instruments!$M$2:$M$5037,0),1),\"\")","v":""}]
[985,{"$f":"+IFERROR(INDEX(instruments!$N$2:$N$5037,MATCH(index!$A1029,instruments!$M$2:$M$5037,0),1),\"\")","v":""}]
[986,{"$f":"+IFERROR(INDEX(instruments!$N$2:$N$5037,MATCH(index!$A1030,instruments!$M$2:$M$5037,0),1),\"\")","v":""}]
[987,{"$f":"+IFERROR(INDEX(instruments!$N$2:$N$5037,MATCH(index!$A1031,instruments!$M$2:$M$5037,0),1),\"\")","v":""}]
[988,{"$f":"+IFERROR(INDEX(instruments!$N$2:$N$5037,MATCH(index!$A1032,instruments!$M$2:$M$5037,0),1),\"\")","v":""}]
[989,{"$f":"+IFERROR(INDEX(instruments!$N$2:$N$5037,MATCH(index!$A1033,instruments!$M$2:$M$5037,0),1),\"\")","v":""}]
[990,{"$f":"+IFERROR(INDEX(instruments!$N$2:$N$5037,MATCH(index!$A1034,instruments!$M$2:$M$5037,0),1),\"\")","v":""}]
[991,{"$f":"+IFERROR(INDEX(instruments!$N$2:$N$5037,MATCH(index!$A1035,instruments!$M$2:$M$5037,0),1),\"\")","v":""}]
[992,{"$f":"+IFERROR(INDEX(instruments!$N$2:$N$5037,MATCH(index!$A1036,instruments!$M$2:$M$5037,0),1),\"\")","v":""}]
[993,{"$f":"+IFERROR(INDEX(instruments!$N$2:$N$5037,MATCH(index!$A1037,instruments!$M$2:$M$5037,0),1),\"\")","v":""}]
[994,{"$f":"+IFERROR(INDEX(instruments!$N$2:$N$5037,MATCH(index!$A1038,instruments!$M$2:$M$5037,0),1),\"\")","v":""}]
[995,{"$f":"+IFERROR(INDEX(instruments!$N$2:$N$5037,MATCH(index!$A1039,instruments!$M$2:$M$5037,0),1),\"\")","v":""}]
[996,{"$f":"+IFERROR(INDEX(instruments!$N$2:$N$5037,MATCH(index!$A1040,instruments!$M$2:$M$5037,0),1),\"\")","v":""}]
[997,{"$f":"+IFERROR(INDEX(instruments!$N$2:$N$5037,MATCH(index!$A1041,instruments!$M$2:$M$5037,0),1),\"\")","v":""}]
[998,{"$f":"+IFERROR(INDEX(instruments!$N$2:$N$5037,MATCH(index!$A1042,instruments!$M$2:$M$5037,0),1),\"\")","v":""}]
[999,{"$f":"+IFERROR(INDEX(instruments!$N$2:$N$5037,MATCH(index!$A1043,instruments!$M$2:$M$5037,0),1),\"\")","v":""}]
[1000,{"$f":"+IFERROR(INDEX(instruments!$N$2:$N$5037,MATCH(index!$A1044,instruments!$M$2:$M$5037,0),1),\"\")","v":""}]
[1001,{"$f":"+IFERROR(INDEX(instruments!$N$2:$N$5037,MATCH(index!$A1045,instruments!$M$2:$M$5037,0),1),\"\")","v":""}]
[1002,{"$f":"+IFERROR(INDEX(instruments!$N$2:$N$5037,MATCH(index!$A1046,instruments!$M$2:$M$5037,0),1),\"\")","v":""}]
[1003,{"$f":"+IFERROR(INDEX(instruments!$N$2:$N$5037,MATCH(index!$A1047,instruments!$M$2:$M$5037,0),1),\"\")","v":""}]
[1004,{"$f":"+IFERROR(INDEX(instruments!$N$2:$N$5037,MATCH(index!$A1048,instruments!$M$2:$M$5037,0),1),\"\")","v":""}]
[1005,{"$f":"+IFERROR(INDEX(instruments!$N$2:$N$5037,MATCH(index!$A1049,instruments!$M$2:$M$5037,0),1),\"\")","v":""}]
[1006,{"$f":"+IFERROR(INDEX(instruments!$N$2:$N$5037,MATCH(index!$A1050,instruments!$M$2:$M$5037,0),1),\"\")","v":""}]
[1007,{"$f":"+IFERROR(INDEX(instruments!$N$2:$N$5037,MATCH(index!$A1051,instruments!$M$2:$M$5037,0),1),\"\")","v":""}]
[1008,{"$f":"+IFERROR(INDEX(instruments!$N$2:$N$5037,MATCH(index!$A1052,instruments!$M$2:$M$5037,0),1),\"\")","v":""}]
[1009,{"$f":"+IFERROR(INDEX(instruments!$N$2:$N$5037,MATCH(index!$A1053,instruments!$M$2:$M$5037,0),1),\"\")","v":""}]
[1010,{"$f":"+IFERROR(INDEX(instruments!$N$2:$N$5037,MATCH(index!$A1054,instruments!$M$2:$M$5037,0),1),\"\")","v":""}]
[1011,{"$f":"+IFERROR(INDEX(instruments!$N$2:$N$5037,MATCH(index!$A1055,instruments!$M$2:$M$5037,0),1),\"\")","v":""}]
[1012,{"$f":"+IFERROR(INDEX(instruments!$N$2:$N$5037,MATCH(index!$A1056,instruments!$M$2:$M$5037,0),1),\"\")","v":""}]
[1013,{"$f":"+IFERROR(INDEX(instruments!$N$2:$N$5037,MATCH(index!$A1057,instruments!$M$2:$M$5037,0),1),\"\")","v":""}]
[1014,{"$f":"+IFERROR(INDEX(instruments!$N$2:$N$5037,MATCH(index!$A1058,instruments!$M$2:$M$5037,0),1),\"\")","v":""}]
[1015,{"$f":"+IFERROR(INDEX(instruments!$N$2:$N$5037,MATCH(index!$A1059,instruments!$M$2:$M$5037,0),1),\"\")","v":""}]
[1016,{"$f":"+IFERROR(INDEX(instruments!$N$2:$N$5037,MATCH(index!$A1060,instruments!$M$2:$M$5037,0),1),\"\")","v":""}]
[1017,{"$f":"+IFERROR(INDEX(instruments!$N$2:$N$5037,MATCH(index!$A1061,instruments!$M$2:$M$5037,0),1),\"\")","v":""}]
[1018,{"$f":"+IFERROR(INDEX(instruments!$N$2:$N$5037,MATCH(index!$A1062,instruments!$M$2:$M$5037,0),1),\"\")","v":""}]
[1019,{"$f":"+IFERROR(INDEX(instruments!$N$2:$N$5037,MATCH(index!$A1063,instruments!$M$2:$M$5037,0),1),\"\")","v":""}]
[1020,{"$f":"+IFERROR(INDEX(instruments!$N$2:$N$5037,MATCH(index!$A1064,instruments!$M$2:$M$5037,0),1),\"\")","v":""}]
[1021,{"$f":"+IFERROR(INDEX(instruments!$N$2:$N$5037,MATCH(index!$A1065,instruments!$M$2:$M$5037,0),1),\"\")","v":""}]
[1022,{"$f":"+IFERROR(INDEX(instruments!$N$2:$N$5037,MATCH(index!$A1066,instruments!$M$2:$M$5037,0),1),\"\")","v":""}]
[1023,{"$f":"+IFERROR(INDEX(instruments!$N$2:$N$5037,MATCH(index!$A1067,instruments!$M$2:$M$5037,0),1),\"\")","v":""}]
[1024,{"$f":"+IFERROR(INDEX(instruments!$N$2:$N$5037,MATCH(index!$A1068,instruments!$M$2:$M$5037,0),1),\"\")","v":""}]
[1025,{"$f":"+IFERROR(INDEX(instruments!$N$2:$N$5037,MATCH(index!$A1069,instruments!$M$2:$M$5037,0),1),\"\")","v":""}]
[1026,{"$f":"+IFERROR(INDEX(instruments!$N$2:$N$5037,MATCH(index!$A1070,instruments!$M$2:$M$5037,0),1),\"\")","v":""}]
[1027,{"$f":"+IFERROR(INDEX(instruments!$N$2:$N$5037,MATCH(index!$A1071,instruments!$M$2:$M$5037,0),1),\"\")","v":""}]
[1028,{"$f":"+IFERROR(INDEX(instruments!$N$2:$N$5037,MATCH(index!$A1072,instruments!$M$2:$M$5037,0),1),\"\")","v":""}]
[1029,{"$f":"+IFERROR(INDEX(instruments!$N$2:$N$5037,MATCH(index!$A1073,instruments!$M$2:$M$5037,0),1),\"\")","v":""}]
[1030,{"$f":"+IFERROR(INDEX(instruments!$N$2:$N$5037,MATCH(index!$A1074,instruments!$M$2:$M$5037,0),1),\"\")","v":""}]
[1031,{"$f":"+IFERROR(INDEX(instruments!$N$2:$N$5037,MATCH(index!$A1075,instruments!$M$2:$M$5037,0),1),\"\")","v":""}]
[1032,{"$f":"+IFERROR(INDEX(instruments!$N$2:$N$5037,MATCH(index!$A1076,instruments!$M$2:$M$5037,0),1),\"\")","v":""}]
[1033,{"$f":"+IFERROR(INDEX(instruments!$N$2:$N$5037,MATCH(index!$A1077,instruments!$M$2:$M$5037,0),1),\"\")","v":""}]
[1034,{"$f":"+IFERROR(INDEX(instruments!$N$2:$N$5037,MATCH(index!$A1078,instruments!$M$2:$M$5037,0),1),\"\")","v":""}]
[1035,{"$f":"+IFERROR(INDEX(instruments!$N$2:$N$5037,MATCH(index!$A1079,instruments!$M$2:$M$5037,0),1),\"\")","v":""}]
[1036,{"$f":"+IFERROR(INDEX(instruments!$N$2:$N$5037,MATCH(index!$A1080,instruments!$M$2:$M$5037,0),1),\"\")","v":""}]
[1037,{"$f":"+IFERROR(INDEX(instruments!$N$2:$N$5037,MATCH(index!$A1081,instruments!$M$2:$M$5037,0),1),\"\")","v":""}]
[1038,{"$f":"+IFERROR(INDEX(instruments!$N$2:$N$5037,MATCH(index!$A1082,instruments!$M$2:$M$5037,0),1),\"\")","v":""}]
[1039,{"$f":"+IFERROR(INDEX(instruments!$N$2:$N$5037,MATCH(index!$A1083,instruments!$M$2:$M$5037,0),1),\"\")","v":""}]
[1040,{"$f":"+IFERROR(INDEX(instruments!$N$2:$N$5037,MATCH(index!$A1084,instruments!$M$2:$M$5037,0),1),\"\")","v":""}]
[1041,{"$f":"+IFERROR(INDEX(instruments!$N$2:$N$5037,MATCH(index!$A1085,instruments!$M$2:$M$5037,0),1),\"\")","v":""}]
[1042,{"$f":"+IFERROR(INDEX(instruments!$N$2:$N$5037,MATCH(index!$A1086,instruments!$M$2:$M$5037,0),1),\"\")","v":""}]
[{"$f":"+A1086+1","v":1043},{"$f":"+IFERROR(INDEX(instruments!$N$2:$N$5037,MATCH(index!$A1087,instruments!$M$2:$M$5037,0),1),\"\")","v":""}]
[1044,{"$f":"+IFERROR(INDEX(instruments!$N$2:$N$5037,MATCH(index!$A1088,instruments!$M$2:$M$5037,0),1),\"\")","v":""}]
[1045,{"$f":"+IFERROR(INDEX(instruments!$N$2:$N$5037,MATCH(index!$A1089,instruments!$M$2:$M$5037,0),1),\"\")","v":""}]
[1046,{"$f":"+IFERROR(INDEX(instruments!$N$2:$N$5037,MATCH(index!$A1090,instruments!$M$2:$M$5037,0),1),\"\")","v":""}]
[1047,{"$f":"+IFERROR(INDEX(instruments!$N$2:$N$5037,MATCH(index!$A1091,instruments!$M$2:$M$5037,0),1),\"\")","v":""}]
[1048,{"$f":"+IFERROR(INDEX(instruments!$N$2:$N$5037,MATCH(index!$A1092,instruments!$M$2:$M$5037,0),1),\"\")","v":""}]
[1049,{"$f":"+IFERROR(INDEX(instruments!$N$2:$N$5037,MATCH(index!$A1093,instruments!$M$2:$M$5037,0),1),\"\")","v":""}]
[1050,{"$f":"+IFERROR(INDEX(instruments!$N$2:$N$5037,MATCH(index!$A1094,instruments!$M$2:$M$5037,0),1),\"\")","v":""}]
[1051,{"$f":"+IFERROR(INDEX(instruments!$N$2:$N$5037,MATCH(index!$A1095,instruments!$M$2:$M$5037,0),1),\"\")","v":""}]
[1052,{"$f":"+IFERROR(INDEX(instruments!$N$2:$N$5037,MATCH(index!$A1096,instruments!$M$2:$M$5037,0),1),\"\")","v":""}]
[1053,{"$f":"+IFERROR(INDEX(instruments!$N$2:$N$5037,MATCH(index!$A1097,instruments!$M$2:$M$5037,0),1),\"\")","v":""}]
[1054,{"$f":"+IFERROR(INDEX(instruments!$N$2:$N$5037,MATCH(index!$A1098,instruments!$M$2:$M$5037,0),1),\"\")","v":""}]
[1055,{"$f":"+IFERROR(INDEX(instruments!$N$2:$N$5037,MATCH(index!$A1099,instruments!$M$2:$M$5037,0),1),\"\")","v":""}]
[1056,{"$f":"+IFERROR(INDEX(instruments!$N$2:$N$5037,MATCH(index!$A1100,instruments!$M$2:$M$5037,0),1),\"\")","v":""}]
[1057,{"$f":"+IFERROR(INDEX(instruments!$N$2:$N$5037,MATCH(index!$A1101,instruments!$M$2:$M$5037,0),1),\"\")","v":""}]
[1058,{"$f":"+IFERROR(INDEX(instruments!$N$2:$N$5037,MATCH(index!$A1102,instruments!$M$2:$M$5037,0),1),\"\")","v":""}]
[1059,{"$f":"+IFERROR(INDEX(instruments!$N$2:$N$5037,MATCH(index!$A1103,instruments!$M$2:$M$5037,0),1),\"\")","v":""}]
[1060,{"$f":"+IFERROR(INDEX(instruments!$N$2:$N$5037,MATCH(index!$A1104,instruments!$M$2:$M$5037,0),1),\"\")","v":""}]
[1061,{"$f":"+IFERROR(INDEX(instruments!$N$2:$N$5037,MATCH(index!$A1105,instruments!$M$2:$M$5037,0),1),\"\")","v":""}]
[1062,{"$f":"+IFERROR(INDEX(instruments!$N$2:$N$5037,MATCH(index!$A1106,instruments!$M$2:$M$5037,0),1),\"\")","v":""}]
[1063,{"$f":"+IFERROR(INDEX(instruments!$N$2:$N$5037,MATCH(index!$A1107,instruments!$M$2:$M$5037,0),1),\"\")","v":""}]
[1064,{"$f":"+IFERROR(INDEX(instruments!$N$2:$N$5037,MATCH(index!$A1108,instruments!$M$2:$M$5037,0),1),\"\")","v":""}]
[1065,{"$f":"+IFERROR(INDEX(instruments!$N$2:$N$5037,MATCH(index!$A1109,instruments!$M$2:$M$5037,0),1),\"\")","v":""}]
[1066,{"$f":"+IFERROR(INDEX(instruments!$N$2:$N$5037,MATCH(index!$A1110,instruments!$M$2:$M$5037,0),1),\"\")","v":""}]
[1067,{"$f":"+IFERROR(INDEX(instruments!$N$2:$N$5037,MATCH(index!$A1111,instruments!$M$2:$M$5037,0),1),\"\")","v":""}]
[1068,{"$f":"+IFERROR(INDEX(instruments!$N$2:$N$5037,MATCH(index!$A1112,instruments!$M$2:$M$5037,0),1),\"\")","v":""}]
[1069,{"$f":"+IFERROR(INDEX(instruments!$N$2:$N$5037,MATCH(index!$A1113,instruments!$M$2:$M$5037,0),1),\"\")","v":""}]
[1070,{"$f":"+IFERROR(INDEX(instruments!$N$2:$N$5037,MATCH(index!$A1114,instruments!$M$2:$M$5037,0),1),\"\")","v":""}]
[1071,{"$f":"+IFERROR(INDEX(instruments!$N$2:$N$5037,MATCH(index!$A1115,instruments!$M$2:$M$5037,0),1),\"\")","v":""}]
[1072,{"$f":"+IFERROR(INDEX(instruments!$N$2:$N$5037,MATCH(index!$A1116,instruments!$M$2:$M$5037,0),1),\"\")","v":""}]
[1073,{"$f":"+IFERROR(INDEX(instruments!$N$2:$N$5037,MATCH(index!$A1117,instruments!$M$2:$M$5037,0),1),\"\")","v":""}]
[1074,{"$f":"+IFERROR(INDEX(instruments!$N$2:$N$5037,MATCH(index!$A1118,instruments!$M$2:$M$5037,0),1),\"\")","v":""}]
[1075,{"$f":"+IFERROR(INDEX(instruments!$N$2:$N$5037,MATCH(index!$A1119,instruments!$M$2:$M$5037,0),1),\"\")","v":""}]
[1076,{"$f":"+IFERROR(INDEX(instruments!$N$2:$N$5037,MATCH(index!$A1120,instruments!$M$2:$M$5037,0),1),\"\")","v":""}]
[1077,{"$f":"+IFERROR(INDEX(instruments!$N$2:$N$5037,MATCH(index!$A1121,instruments!$M$2:$M$5037,0),1),\"\")","v":""}]
[1078,{"$f":"+IFERROR(INDEX(instruments!$N$2:$N$5037,MATCH(index!$A1122,instruments!$M$2:$M$5037,0),1),\"\")","v":""}]
[1079,{"$f":"+IFERROR(INDEX(instruments!$N$2:$N$5037,MATCH(index!$A1123,instruments!$M$2:$M$5037,0),1),\"\")","v":""}]
[1080,{"$f":"+IFERROR(INDEX(instruments!$N$2:$N$5037,MATCH(index!$A1124,instruments!$M$2:$M$5037,0),1),\"\")","v":""}]
[1081,{"$f":"+IFERROR(INDEX(instruments!$N$2:$N$5037,MATCH(index!$A1125,instruments!$M$2:$M$5037,0),1),\"\")","v":""}]
[1082,{"$f":"+IFERROR(INDEX(instruments!$N$2:$N$5037,MATCH(index!$A1126,instruments!$M$2:$M$5037,0),1),\"\")","v":""}]
[1083,{"$f":"+IFERROR(INDEX(instruments!$N$2:$N$5037,MATCH(index!$A1127,instruments!$M$2:$M$5037,0),1),\"\")","v":""}]
[1084,{"$f":"+IFERROR(INDEX(instruments!$N$2:$N$5037,MATCH(index!$A1128,instruments!$M$2:$M$5037,0),1),\"\")","v":""}]
[1085,{"$f":"+IFERROR(INDEX(instruments!$N$2:$N$5037,MATCH(index!$A1129,instruments!$M$2:$M$5037,0),1),\"\")","v":""}]
[1086,{"$f":"+IFERROR(INDEX(instruments!$N$2:$N$5037,MATCH(index!$A1130,instruments!$M$2:$M$5037,0),1),\"\")","v":""}]
[1087,{"$f":"+IFERROR(INDEX(instruments!$N$2:$N$5037,MATCH(index!$A1131,instruments!$M$2:$M$5037,0),1),\"\")","v":""}]
[1088,{"$f":"+IFERROR(INDEX(instruments!$N$2:$N$5037,MATCH(index!$A1132,instruments!$M$2:$M$5037,0),1),\"\")","v":""}]
[1089,{"$f":"+IFERROR(INDEX(instruments!$N$2:$N$5037,MATCH(index!$A1133,instruments!$M$2:$M$5037,0),1),\"\")","v":""}]
[1090,{"$f":"+IFERROR(INDEX(instruments!$N$2:$N$5037,MATCH(index!$A1134,instruments!$M$2:$M$5037,0),1),\"\")","v":""}]
[1091,{"$f":"+IFERROR(INDEX(instruments!$N$2:$N$5037,MATCH(index!$A1135,instruments!$M$2:$M$5037,0),1),\"\")","v":""}]
[1092,{"$f":"+IFERROR(INDEX(instruments!$N$2:$N$5037,MATCH(index!$A1136,instruments!$M$2:$M$5037,0),1),\"\")","v":""}]
[1093,{"$f":"+IFERROR(INDEX(instruments!$N$2:$N$5037,MATCH(index!$A1137,instruments!$M$2:$M$5037,0),1),\"\")","v":""}]
[1094,{"$f":"+IFERROR(INDEX(instruments!$N$2:$N$5037,MATCH(index!$A1138,instruments!$M$2:$M$5037,0),1),\"\")","v":""}]
[1095,{"$f":"+IFERROR(INDEX(instruments!$N$2:$N$5037,MATCH(index!$A1139,instruments!$M$2:$M$5037,0),1),\"\")","v":""}]
[1096,{"$f":"+IFERROR(INDEX(instruments!$N$2:$N$5037,MATCH(index!$A1140,instruments!$M$2:$M$5037,0),1),\"\")","v":""}]
[1097,{"$f":"+IFERROR(INDEX(instruments!$N$2:$N$5037,MATCH(index!$A1141,instruments!$M$2:$M$5037,0),1),\"\")","v":""}]
[1098,{"$f":"+IFERROR(INDEX(instruments!$N$2:$N$5037,MATCH(index!$A1142,instruments!$M$2:$M$5037,0),1),\"\")","v":""}]
[1099,{"$f":"+IFERROR(INDEX(instruments!$N$2:$N$5037,MATCH(index!$A1143,instruments!$M$2:$M$5037,0),1),\"\")","v":""}]
[1100,{"$f":"+IFERROR(INDEX(instruments!$N$2:$N$5037,MATCH(index!$A1144,instruments!$M$2:$M$5037,0),1),\"\")","v":""}]
[1101,{"$f":"+IFERROR(INDEX(instruments!$N$2:$N$5037,MATCH(index!$A1145,instruments!$M$2:$M$5037,0),1),\"\")","v":""}]
[1102,{"$f":"+IFERROR(INDEX(instruments!$N$2:$N$5037,MATCH(index!$A1146,instruments!$M$2:$M$5037,0),1),\"\")","v":""}]
[1103,{"$f":"+IFERROR(INDEX(instruments!$N$2:$N$5037,MATCH(index!$A1147,instruments!$M$2:$M$5037,0),1),\"\")","v":""}]
[1104,{"$f":"+IFERROR(INDEX(instruments!$N$2:$N$5037,MATCH(index!$A1148,instruments!$M$2:$M$5037,0),1),\"\")","v":""}]
[1105,{"$f":"+IFERROR(INDEX(instruments!$N$2:$N$5037,MATCH(index!$A1149,instruments!$M$2:$M$5037,0),1),\"\")","v":""}]
[1106,{"$f":"+IFERROR(INDEX(instruments!$N$2:$N$5037,MATCH(index!$A1150,instruments!$M$2:$M$5037,0),1),\"\")","v":""}]
[{"$f":"+A1150+1","v":1107},{"$f":"+IFERROR(INDEX(instruments!$N$2:$N$5037,MATCH(index!$A1151,instruments!$M$2:$M$5037,0),1),\"\")","v":""}]
[1108,{"$f":"+IFERROR(INDEX(instruments!$N$2:$N$5037,MATCH(index!$A1152,instruments!$M$2:$M$5037,0),1),\"\")","v":""}]
[1109,{"$f":"+IFERROR(INDEX(instruments!$N$2:$N$5037,MATCH(index!$A1153,instruments!$M$2:$M$5037,0),1),\"\")","v":""}]
[1110,{"$f":"+IFERROR(INDEX(instruments!$N$2:$N$5037,MATCH(index!$A1154,instruments!$M$2:$M$5037,0),1),\"\")","v":""}]
[1111,{"$f":"+IFERROR(INDEX(instruments!$N$2:$N$5037,MATCH(index!$A1155,instruments!$M$2:$M$5037,0),1),\"\")","v":""}]
[1112,{"$f":"+IFERROR(INDEX(instruments!$N$2:$N$5037,MATCH(index!$A1156,instruments!$M$2:$M$5037,0),1),\"\")","v":""}]
[1113,{"$f":"+IFERROR(INDEX(instruments!$N$2:$N$5037,MATCH(index!$A1157,instruments!$M$2:$M$5037,0),1),\"\")","v":""}]
[1114,{"$f":"+IFERROR(INDEX(instruments!$N$2:$N$5037,MATCH(index!$A1158,instruments!$M$2:$M$5037,0),1),\"\")","v":""}]
[1115,{"$f":"+IFERROR(INDEX(instruments!$N$2:$N$5037,MATCH(index!$A1159,instruments!$M$2:$M$5037,0),1),\"\")","v":""}]
[1116,{"$f":"+IFERROR(INDEX(instruments!$N$2:$N$5037,MATCH(index!$A1160,instruments!$M$2:$M$5037,0),1),\"\")","v":""}]
[1117,{"$f":"+IFERROR(INDEX(instruments!$N$2:$N$5037,MATCH(index!$A1161,instruments!$M$2:$M$5037,0),1),\"\")","v":""}]
[1118,{"$f":"+IFERROR(INDEX(instruments!$N$2:$N$5037,MATCH(index!$A1162,instruments!$M$2:$M$5037,0),1),\"\")","v":""}]
[1119,{"$f":"+IFERROR(INDEX(instruments!$N$2:$N$5037,MATCH(index!$A1163,instruments!$M$2:$M$5037,0),1),\"\")","v":""}]
[1120,{"$f":"+IFERROR(INDEX(instruments!$N$2:$N$5037,MATCH(index!$A1164,instruments!$M$2:$M$5037,0),1),\"\")","v":""}]
[1121,{"$f":"+IFERROR(INDEX(instruments!$N$2:$N$5037,MATCH(index!$A1165,instruments!$M$2:$M$5037,0),1),\"\")","v":""}]
[1122,{"$f":"+IFERROR(INDEX(instruments!$N$2:$N$5037,MATCH(index!$A1166,instruments!$M$2:$M$5037,0),1),\"\")","v":""}]
[1123,{"$f":"+IFERROR(INDEX(instruments!$N$2:$N$5037,MATCH(index!$A1167,instruments!$M$2:$M$5037,0),1),\"\")","v":""}]
[1124,{"$f":"+IFERROR(INDEX(instruments!$N$2:$N$5037,MATCH(index!$A1168,instruments!$M$2:$M$5037,0),1),\"\")","v":""}]
[1125,{"$f":"+IFERROR(INDEX(instruments!$N$2:$N$5037,MATCH(index!$A1169,instruments!$M$2:$M$5037,0),1),\"\")","v":""}]
[1126,{"$f":"+IFERROR(INDEX(instruments!$N$2:$N$5037,MATCH(index!$A1170,instruments!$M$2:$M$5037,0),1),\"\")","v":""}]
[1127,{"$f":"+IFERROR(INDEX(instruments!$N$2:$N$5037,MATCH(index!$A1171,instruments!$M$2:$M$5037,0),1),\"\")","v":""}]
[1128,{"$f":"+IFERROR(INDEX(instruments!$N$2:$N$5037,MATCH(index!$A1172,instruments!$M$2:$M$5037,0),1),\"\")","v":""}]
[1129,{"$f":"+IFERROR(INDEX(instruments!$N$2:$N$5037,MATCH(index!$A1173,instruments!$M$2:$M$5037,0),1),\"\")","v":""}]
[1130,{"$f":"+IFERROR(INDEX(instruments!$N$2:$N$5037,MATCH(index!$A1174,instruments!$M$2:$M$5037,0),1),\"\")","v":""}]
[1131,{"$f":"+IFERROR(INDEX(instruments!$N$2:$N$5037,MATCH(index!$A1175,instruments!$M$2:$M$5037,0),1),\"\")","v":""}]
[1132,{"$f":"+IFERROR(INDEX(instruments!$N$2:$N$5037,MATCH(index!$A1176,instruments!$M$2:$M$5037,0),1),\"\")","v":""}]
[1133,{"$f":"+IFERROR(INDEX(instruments!$N$2:$N$5037,MATCH(index!$A1177,instruments!$M$2:$M$5037,0),1),\"\")","v":""}]
[1134,{"$f":"+IFERROR(INDEX(instruments!$N$2:$N$5037,MATCH(index!$A1178,instruments!$M$2:$M$5037,0),1),\"\")","v":""}]
[1135,{"$f":"+IFERROR(INDEX(instruments!$N$2:$N$5037,MATCH(index!$A1179,instruments!$M$2:$M$5037,0),1),\"\")","v":""}]
[1136,{"$f":"+IFERROR(INDEX(instruments!$N$2:$N$5037,MATCH(index!$A1180,instruments!$M$2:$M$5037,0),1),\"\")","v":""}]
[1137,{"$f":"+IFERROR(INDEX(instruments!$N$2:$N$5037,MATCH(index!$A1181,instruments!$M$2:$M$5037,0),1),\"\")","v":""}]
[1138,{"$f":"+IFERROR(INDEX(instruments!$N$2:$N$5037,MATCH(index!$A1182,instruments!$M$2:$M$5037,0),1),\"\")","v":""}]
[1139,{"$f":"+IFERROR(INDEX(instruments!$N$2:$N$5037,MATCH(index!$A1183,instruments!$M$2:$M$5037,0),1),\"\")","v":""}]
[1140,{"$f":"+IFERROR(INDEX(instruments!$N$2:$N$5037,MATCH(index!$A1184,instruments!$M$2:$M$5037,0),1),\"\")","v":""}]
[1141,{"$f":"+IFERROR(INDEX(instruments!$N$2:$N$5037,MATCH(index!$A1185,instruments!$M$2:$M$5037,0),1),\"\")","v":""}]
[1142,{"$f":"+IFERROR(INDEX(instruments!$N$2:$N$5037,MATCH(index!$A1186,instruments!$M$2:$M$5037,0),1),\"\")","v":""}]
[1143,{"$f":"+IFERROR(INDEX(instruments!$N$2:$N$5037,MATCH(index!$A1187,instruments!$M$2:$M$5037,0),1),\"\")","v":""}]
[1144,{"$f":"+IFERROR(INDEX(instruments!$N$2:$N$5037,MATCH(index!$A1188,instruments!$M$2:$M$5037,0),1),\"\")","v":""}]
[1145,{"$f":"+IFERROR(INDEX(instruments!$N$2:$N$5037,MATCH(index!$A1189,instruments!$M$2:$M$5037,0),1),\"\")","v":""}]
[1146,{"$f":"+IFERROR(INDEX(instruments!$N$2:$N$5037,MATCH(index!$A1190,instruments!$M$2:$M$5037,0),1),\"\")","v":""}]
[1147,{"$f":"+IFERROR(INDEX(instruments!$N$2:$N$5037,MATCH(index!$A1191,instruments!$M$2:$M$5037,0),1),\"\")","v":""}]
[1148,{"$f":"+IFERROR(INDEX(instruments!$N$2:$N$5037,MATCH(index!$A1192,instruments!$M$2:$M$5037,0),1),\"\")","v":""}]
[1149,{"$f":"+IFERROR(INDEX(instruments!$N$2:$N$5037,MATCH(index!$A1193,instruments!$M$2:$M$5037,0),1),\"\")","v":""}]
[1150,{"$f":"+IFERROR(INDEX(instruments!$N$2:$N$5037,MATCH(index!$A1194,instruments!$M$2:$M$5037,0),1),\"\")","v":""}]
[1151,{"$f":"+IFERROR(INDEX(instruments!$N$2:$N$5037,MATCH(index!$A1195,instruments!$M$2:$M$5037,0),1),\"\")","v":""}]
[1152,{"$f":"+IFERROR(INDEX(instruments!$N$2:$N$5037,MATCH(index!$A1196,instruments!$M$2:$M$5037,0),1),\"\")","v":""}]
[1153,{"$f":"+IFERROR(INDEX(instruments!$N$2:$N$5037,MATCH(index!$A1197,instruments!$M$2:$M$5037,0),1),\"\")","v":""}]
[1154,{"$f":"+IFERROR(INDEX(instruments!$N$2:$N$5037,MATCH(index!$A1198,instruments!$M$2:$M$5037,0),1),\"\")","v":""}]
[1155,{"$f":"+IFERROR(INDEX(instruments!$N$2:$N$5037,MATCH(index!$A1199,instruments!$M$2:$M$5037,0),1),\"\")","v":""}]
[1156,{"$f":"+IFERROR(INDEX(instruments!$N$2:$N$5037,MATCH(index!$A1200,instruments!$M$2:$M$5037,0),1),\"\")","v":""}]
[1157,{"$f":"+IFERROR(INDEX(instruments!$N$2:$N$5037,MATCH(index!$A1201,instruments!$M$2:$M$5037,0),1),\"\")","v":""}]
[1158,{"$f":"+IFERROR(INDEX(instruments!$N$2:$N$5037,MATCH(index!$A1202,instruments!$M$2:$M$5037,0),1),\"\")","v":""}]
[1159,{"$f":"+IFERROR(INDEX(instruments!$N$2:$N$5037,MATCH(index!$A1203,instruments!$M$2:$M$5037,0),1),\"\")","v":""}]
[1160,{"$f":"+IFERROR(INDEX(instruments!$N$2:$N$5037,MATCH(index!$A1204,instruments!$M$2:$M$5037,0),1),\"\")","v":""}]
[1161,{"$f":"+IFERROR(INDEX(instruments!$N$2:$N$5037,MATCH(index!$A1205,instruments!$M$2:$M$5037,0),1),\"\")","v":""}]
[1162,{"$f":"+IFERROR(INDEX(instruments!$N$2:$N$5037,MATCH(index!$A1206,instruments!$M$2:$M$5037,0),1),\"\")","v":""}]
[1163,{"$f":"+IFERROR(INDEX(instruments!$N$2:$N$5037,MATCH(index!$A1207,instruments!$M$2:$M$5037,0),1),\"\")","v":""}]
[1164,{"$f":"+IFERROR(INDEX(instruments!$N$2:$N$5037,MATCH(index!$A1208,instruments!$M$2:$M$5037,0),1),\"\")","v":""}]
[1165,{"$f":"+IFERROR(INDEX(instruments!$N$2:$N$5037,MATCH(index!$A1209,instruments!$M$2:$M$5037,0),1),\"\")","v":""}]
[1166,{"$f":"+IFERROR(INDEX(instruments!$N$2:$N$5037,MATCH(index!$A1210,instruments!$M$2:$M$5037,0),1),\"\")","v":""}]
[1167,{"$f":"+IFERROR(INDEX(instruments!$N$2:$N$5037,MATCH(index!$A1211,instruments!$M$2:$M$5037,0),1),\"\")","v":""}]
[1168,{"$f":"+IFERROR(INDEX(instruments!$N$2:$N$5037,MATCH(index!$A1212,instruments!$M$2:$M$5037,0),1),\"\")","v":""}]
[1169,{"$f":"+IFERROR(INDEX(instruments!$N$2:$N$5037,MATCH(index!$A1213,instruments!$M$2:$M$5037,0),1),\"\")","v":""}]
[1170,{"$f":"+IFERROR(INDEX(instruments!$N$2:$N$5037,MATCH(index!$A1214,instruments!$M$2:$M$5037,0),1),\"\")","v":""}]
[{"$f":"+A1214+1","v":1171},{"$f":"+IFERROR(INDEX(instruments!$N$2:$N$5037,MATCH(index!$A1215,instruments!$M$2:$M$5037,0),1),\"\")","v":""}]
[1172,{"$f":"+IFERROR(INDEX(instruments!$N$2:$N$5037,MATCH(index!$A1216,instruments!$M$2:$M$5037,0),1),\"\")","v":""}]
[1173,{"$f":"+IFERROR(INDEX(instruments!$N$2:$N$5037,MATCH(index!$A1217,instruments!$M$2:$M$5037,0),1),\"\")","v":""}]
[1174,{"$f":"+IFERROR(INDEX(instruments!$N$2:$N$5037,MATCH(index!$A1218,instruments!$M$2:$M$5037,0),1),\"\")","v":""}]
[1175,{"$f":"+IFERROR(INDEX(instruments!$N$2:$N$5037,MATCH(index!$A1219,instruments!$M$2:$M$5037,0),1),\"\")","v":""}]
[1176,{"$f":"+IFERROR(INDEX(instruments!$N$2:$N$5037,MATCH(index!$A1220,instruments!$M$2:$M$5037,0),1),\"\")","v":""}]
[1177,{"$f":"+IFERROR(INDEX(instruments!$N$2:$N$5037,MATCH(index!$A1221,instruments!$M$2:$M$5037,0),1),\"\")","v":""}]
[1178,{"$f":"+IFERROR(INDEX(instruments!$N$2:$N$5037,MATCH(index!$A1222,instruments!$M$2:$M$5037,0),1),\"\")","v":""}]
[1179,{"$f":"+IFERROR(INDEX(instruments!$N$2:$N$5037,MATCH(index!$A1223,instruments!$M$2:$M$5037,0),1),\"\")","v":""}]
[1180,{"$f":"+IFERROR(INDEX(instruments!$N$2:$N$5037,MATCH(index!$A1224,instruments!$M$2:$M$5037,0),1),\"\")","v":""}]
[1181,{"$f":"+IFERROR(INDEX(instruments!$N$2:$N$5037,MATCH(index!$A1225,instruments!$M$2:$M$5037,0),1),\"\")","v":""}]
[1182,{"$f":"+IFERROR(INDEX(instruments!$N$2:$N$5037,MATCH(index!$A1226,instruments!$M$2:$M$5037,0),1),\"\")","v":""}]
[1183,{"$f":"+IFERROR(INDEX(instruments!$N$2:$N$5037,MATCH(index!$A1227,instruments!$M$2:$M$5037,0),1),\"\")","v":""}]
[1184,{"$f":"+IFERROR(INDEX(instruments!$N$2:$N$5037,MATCH(index!$A1228,instruments!$M$2:$M$5037,0),1),\"\")","v":""}]
[1185,{"$f":"+IFERROR(INDEX(instruments!$N$2:$N$5037,MATCH(index!$A1229,instruments!$M$2:$M$5037,0),1),\"\")","v":""}]
[1186,{"$f":"+IFERROR(INDEX(instruments!$N$2:$N$5037,MATCH(index!$A1230,instruments!$M$2:$M$5037,0),1),\"\")","v":""}]
[1187,{"$f":"+IFERROR(INDEX(instruments!$N$2:$N$5037,MATCH(index!$A1231,instruments!$M$2:$M$5037,0),1),\"\")","v":""}]
[1188,{"$f":"+IFERROR(INDEX(instruments!$N$2:$N$5037,MATCH(index!$A1232,instruments!$M$2:$M$5037,0),1),\"\")","v":""}]
[1189,{"$f":"+IFERROR(INDEX(instruments!$N$2:$N$5037,MATCH(index!$A1233,instruments!$M$2:$M$5037,0),1),\"\")","v":""}]
[1190,{"$f":"+IFERROR(INDEX(instruments!$N$2:$N$5037,MATCH(index!$A1234,instruments!$M$2:$M$5037,0),1),\"\")","v":""}]
[1191,{"$f":"+IFERROR(INDEX(instruments!$N$2:$N$5037,MATCH(index!$A1235,instruments!$M$2:$M$5037,0),1),\"\")","v":""}]
[1192,{"$f":"+IFERROR(INDEX(instruments!$N$2:$N$5037,MATCH(index!$A1236,instruments!$M$2:$M$5037,0),1),\"\")","v":""}]
[1193,{"$f":"+IFERROR(INDEX(instruments!$N$2:$N$5037,MATCH(index!$A1237,instruments!$M$2:$M$5037,0),1),\"\")","v":""}]
[1194,{"$f":"+IFERROR(INDEX(instruments!$N$2:$N$5037,MATCH(index!$A1238,instruments!$M$2:$M$5037,0),1),\"\")","v":""}]
[1195,{"$f":"+IFERROR(INDEX(instruments!$N$2:$N$5037,MATCH(index!$A1239,instruments!$M$2:$M$5037,0),1),\"\")","v":""}]
[1196,{"$f":"+IFERROR(INDEX(instruments!$N$2:$N$5037,MATCH(index!$A1240,instruments!$M$2:$M$5037,0),1),\"\")","v":""}]
[1197,{"$f":"+IFERROR(INDEX(instruments!$N$2:$N$5037,MATCH(index!$A1241,instruments!$M$2:$M$5037,0),1),\"\")","v":""}]
[1198,{"$f":"+IFERROR(INDEX(instruments!$N$2:$N$5037,MATCH(index!$A1242,instruments!$M$2:$M$5037,0),1),\"\")","v":""}]
[1199,{"$f":"+IFERROR(INDEX(instruments!$N$2:$N$5037,MATCH(index!$A1243,instruments!$M$2:$M$5037,0),1),\"\")","v":""}]
[1200,{"$f":"+IFERROR(INDEX(instruments!$N$2:$N$5037,MATCH(index!$A1244,instruments!$M$2:$M$5037,0),1),\"\")","v":""}]
[1201,{"$f":"+IFERROR(INDEX(instruments!$N$2:$N$5037,MATCH(index!$A1245,instruments!$M$2:$M$5037,0),1),\"\")","v":""}]
[1202,{"$f":"+IFERROR(INDEX(instruments!$N$2:$N$5037,MATCH(index!$A1246,instruments!$M$2:$M$5037,0),1),\"\")","v":""}]
[1203,{"$f":"+IFERROR(INDEX(instruments!$N$2:$N$5037,MATCH(index!$A1247,instruments!$M$2:$M$5037,0),1),\"\")","v":""}]
[1204,{"$f":"+IFERROR(INDEX(instruments!$N$2:$N$5037,MATCH(index!$A1248,instruments!$M$2:$M$5037,0),1),\"\")","v":""}]
[1205,{"$f":"+IFERROR(INDEX(instruments!$N$2:$N$5037,MATCH(index!$A1249,instruments!$M$2:$M$5037,0),1),\"\")","v":""}]
[1206,{"$f":"+IFERROR(INDEX(instruments!$N$2:$N$5037,MATCH(index!$A1250,instruments!$M$2:$M$5037,0),1),\"\")","v":""}]
[1207,{"$f":"+IFERROR(INDEX(instruments!$N$2:$N$5037,MATCH(index!$A1251,instruments!$M$2:$M$5037,0),1),\"\")","v":""}]
[1208,{"$f":"+IFERROR(INDEX(instruments!$N$2:$N$5037,MATCH(index!$A1252,instruments!$M$2:$M$5037,0),1),\"\")","v":""}]
[1209,{"$f":"+IFERROR(INDEX(instruments!$N$2:$N$5037,MATCH(index!$A1253,instruments!$M$2:$M$5037,0),1),\"\")","v":""}]
[1210,{"$f":"+IFERROR(INDEX(instruments!$N$2:$N$5037,MATCH(index!$A1254,instruments!$M$2:$M$5037,0),1),\"\")","v":""}]
[1211,{"$f":"+IFERROR(INDEX(instruments!$N$2:$N$5037,MATCH(index!$A1255,instruments!$M$2:$M$5037,0),1),\"\")","v":""}]
[1212,{"$f":"+IFERROR(INDEX(instruments!$N$2:$N$5037,MATCH(index!$A1256,instruments!$M$2:$M$5037,0),1),\"\")","v":""}]
[1213,{"$f":"+IFERROR(INDEX(instruments!$N$2:$N$5037,MATCH(index!$A1257,instruments!$M$2:$M$5037,0),1),\"\")","v":""}]
[1214,{"$f":"+IFERROR(INDEX(instruments!$N$2:$N$5037,MATCH(index!$A1258,instruments!$M$2:$M$5037,0),1),\"\")","v":""}]
[1215,{"$f":"+IFERROR(INDEX(instruments!$N$2:$N$5037,MATCH(index!$A1259,instruments!$M$2:$M$5037,0),1),\"\")","v":""}]
[1216,{"$f":"+IFERROR(INDEX(instruments!$N$2:$N$5037,MATCH(index!$A1260,instruments!$M$2:$M$5037,0),1),\"\")","v":""}]
[1217,{"$f":"+IFERROR(INDEX(instruments!$N$2:$N$5037,MATCH(index!$A1261,instruments!$M$2:$M$5037,0),1),\"\")","v":""}]
[1218,{"$f":"+IFERROR(INDEX(instruments!$N$2:$N$5037,MATCH(index!$A1262,instruments!$M$2:$M$5037,0),1),\"\")","v":""}]
[1219,{"$f":"+IFERROR(INDEX(instruments!$N$2:$N$5037,MATCH(index!$A1263,instruments!$M$2:$M$5037,0),1),\"\")","v":""}]
[1220,{"$f":"+IFERROR(INDEX(instruments!$N$2:$N$5037,MATCH(index!$A1264,instruments!$M$2:$M$5037,0),1),\"\")","v":""}]
[1221,{"$f":"+IFERROR(INDEX(instruments!$N$2:$N$5037,MATCH(index!$A1265,instruments!$M$2:$M$5037,0),1),\"\")","v":""}]
[1222,{"$f":"+IFERROR(INDEX(instruments!$N$2:$N$5037,MATCH(index!$A1266,instruments!$M$2:$M$5037,0),1),\"\")","v":""}]
[1223,{"$f":"+IFERROR(INDEX(instruments!$N$2:$N$5037,MATCH(index!$A1267,instruments!$M$2:$M$5037,0),1),\"\")","v":""}]
[1224,{"$f":"+IFERROR(INDEX(instruments!$N$2:$N$5037,MATCH(index!$A1268,instruments!$M$2:$M$5037,0),1),\"\")","v":""}]
[1225,{"$f":"+IFERROR(INDEX(instruments!$N$2:$N$5037,MATCH(index!$A1269,instruments!$M$2:$M$5037,0),1),\"\")","v":""}]
[1226,{"$f":"+IFERROR(INDEX(instruments!$N$2:$N$5037,MATCH(index!$A1270,instruments!$M$2:$M$5037,0),1),\"\")","v":""}]
[1227,{"$f":"+IFERROR(INDEX(instruments!$N$2:$N$5037,MATCH(index!$A1271,instruments!$M$2:$M$5037,0),1),\"\")","v":""}]
[1228,{"$f":"+IFERROR(INDEX(instruments!$N$2:$N$5037,MATCH(index!$A1272,instruments!$M$2:$M$5037,0),1),\"\")","v":""}]
[1229,{"$f":"+IFERROR(INDEX(instruments!$N$2:$N$5037,MATCH(index!$A1273,instruments!$M$2:$M$5037,0),1),\"\")","v":""}]
[1230,{"$f":"+IFERROR(INDEX(instruments!$N$2:$N$5037,MATCH(index!$A1274,instruments!$M$2:$M$5037,0),1),\"\")","v":""}]
[1231,{"$f":"+IFERROR(INDEX(instruments!$N$2:$N$5037,MATCH(index!$A1275,instruments!$M$2:$M$5037,0),1),\"\")","v":""}]
[1232,{"$f":"+IFERROR(INDEX(instruments!$N$2:$N$5037,MATCH(index!$A1276,instruments!$M$2:$M$5037,0),1),\"\")","v":""}]
[1233,{"$f":"+IFERROR(INDEX(instruments!$N$2:$N$5037,MATCH(index!$A1277,instruments!$M$2:$M$5037,0),1),\"\")","v":""}]
[1234,{"$f":"+IFERROR(INDEX(instruments!$N$2:$N$5037,MATCH(index!$A1278,instruments!$M$2:$M$5037,0),1),\"\")","v":""}]
[{"$f":"+A1278+1","v":1235},{"$f":"+IFERROR(INDEX(instruments!$N$2:$N$5037,MATCH(index!$A1279,instruments!$M$2:$M$5037,0),1),\"\")","v":""}]
[1236,{"$f":"+IFERROR(INDEX(instruments!$N$2:$N$5037,MATCH(index!$A1280,instruments!$M$2:$M$5037,0),1),\"\")","v":""}]
[1237,{"$f":"+IFERROR(INDEX(instruments!$N$2:$N$5037,MATCH(index!$A1281,instruments!$M$2:$M$5037,0),1),\"\")","v":""}]
[1238,{"$f":"+IFERROR(INDEX(instruments!$N$2:$N$5037,MATCH(index!$A1282,instruments!$M$2:$M$5037,0),1),\"\")","v":""}]
[1239,{"$f":"+IFERROR(INDEX(instruments!$N$2:$N$5037,MATCH(index!$A1283,instruments!$M$2:$M$5037,0),1),\"\")","v":""}]
[1240,{"$f":"+IFERROR(INDEX(instruments!$N$2:$N$5037,MATCH(index!$A1284,instruments!$M$2:$M$5037,0),1),\"\")","v":""}]
[1241,{"$f":"+IFERROR(INDEX(instruments!$N$2:$N$5037,MATCH(index!$A1285,instruments!$M$2:$M$5037,0),1),\"\")","v":""}]
[1242,{"$f":"+IFERROR(INDEX(instruments!$N$2:$N$5037,MATCH(index!$A1286,instruments!$M$2:$M$5037,0),1),\"\")","v":""}]
[1243,{"$f":"+IFERROR(INDEX(instruments!$N$2:$N$5037,MATCH(index!$A1287,instruments!$M$2:$M$5037,0),1),\"\")","v":""}]
[1244,{"$f":"+IFERROR(INDEX(instruments!$N$2:$N$5037,MATCH(index!$A1288,instruments!$M$2:$M$5037,0),1),\"\")","v":""}]
[1245,{"$f":"+IFERROR(INDEX(instruments!$N$2:$N$5037,MATCH(index!$A1289,instruments!$M$2:$M$5037,0),1),\"\")","v":""}]
[1246,{"$f":"+IFERROR(INDEX(instruments!$N$2:$N$5037,MATCH(index!$A1290,instruments!$M$2:$M$5037,0),1),\"\")","v":""}]
[1247,{"$f":"+IFERROR(INDEX(instruments!$N$2:$N$5037,MATCH(index!$A1291,instruments!$M$2:$M$5037,0),1),\"\")","v":""}]
[1248,{"$f":"+IFERROR(INDEX(instruments!$N$2:$N$5037,MATCH(index!$A1292,instruments!$M$2:$M$5037,0),1),\"\")","v":""}]
[1249,{"$f":"+IFERROR(INDEX(instruments!$N$2:$N$5037,MATCH(index!$A1293,instruments!$M$2:$M$5037,0),1),\"\")","v":""}]
[1250,{"$f":"+IFERROR(INDEX(instruments!$N$2:$N$5037,MATCH(index!$A1294,instruments!$M$2:$M$5037,0),1),\"\")","v":""}]
[1251,{"$f":"+IFERROR(INDEX(instruments!$N$2:$N$5037,MATCH(index!$A1295,instruments!$M$2:$M$5037,0),1),\"\")","v":""}]
[1252,{"$f":"+IFERROR(INDEX(instruments!$N$2:$N$5037,MATCH(index!$A1296,instruments!$M$2:$M$5037,0),1),\"\")","v":""}]
[1253,{"$f":"+IFERROR(INDEX(instruments!$N$2:$N$5037,MATCH(index!$A1297,instruments!$M$2:$M$5037,0),1),\"\")","v":""}]
[1254,{"$f":"+IFERROR(INDEX(instruments!$N$2:$N$5037,MATCH(index!$A1298,instruments!$M$2:$M$5037,0),1),\"\")","v":""}]
[1255,{"$f":"+IFERROR(INDEX(instruments!$N$2:$N$5037,MATCH(index!$A1299,instruments!$M$2:$M$5037,0),1),\"\")","v":""}]
[1256,{"$f":"+IFERROR(INDEX(instruments!$N$2:$N$5037,MATCH(index!$A1300,instruments!$M$2:$M$5037,0),1),\"\")","v":""}]
[1257,{"$f":"+IFERROR(INDEX(instruments!$N$2:$N$5037,MATCH(index!$A1301,instruments!$M$2:$M$5037,0),1),\"\")","v":""}]
[1258,{"$f":"+IFERROR(INDEX(instruments!$N$2:$N$5037,MATCH(index!$A1302,instruments!$M$2:$M$5037,0),1),\"\")","v":""}]
[1259,{"$f":"+IFERROR(INDEX(instruments!$N$2:$N$5037,MATCH(index!$A1303,instruments!$M$2:$M$5037,0),1),\"\")","v":""}]
[1260,{"$f":"+IFERROR(INDEX(instruments!$N$2:$N$5037,MATCH(index!$A1304,instruments!$M$2:$M$5037,0),1),\"\")","v":""}]
[1261,{"$f":"+IFERROR(INDEX(instruments!$N$2:$N$5037,MATCH(index!$A1305,instruments!$M$2:$M$5037,0),1),\"\")","v":""}]
[1262,{"$f":"+IFERROR(INDEX(instruments!$N$2:$N$5037,MATCH(index!$A1306,instruments!$M$2:$M$5037,0),1),\"\")","v":""}]
[1263,{"$f":"+IFERROR(INDEX(instruments!$N$2:$N$5037,MATCH(index!$A1307,instruments!$M$2:$M$5037,0),1),\"\")","v":""}]
[1264,{"$f":"+IFERROR(INDEX(instruments!$N$2:$N$5037,MATCH(index!$A1308,instruments!$M$2:$M$5037,0),1),\"\")","v":""}]
[1265,{"$f":"+IFERROR(INDEX(instruments!$N$2:$N$5037,MATCH(index!$A1309,instruments!$M$2:$M$5037,0),1),\"\")","v":""}]
[1266,{"$f":"+IFERROR(INDEX(instruments!$N$2:$N$5037,MATCH(index!$A1310,instruments!$M$2:$M$5037,0),1),\"\")","v":""}]
[1267,{"$f":"+IFERROR(INDEX(instruments!$N$2:$N$5037,MATCH(index!$A1311,instruments!$M$2:$M$5037,0),1),\"\")","v":""}]
[1268,{"$f":"+IFERROR(INDEX(instruments!$N$2:$N$5037,MATCH(index!$A1312,instruments!$M$2:$M$5037,0),1),\"\")","v":""}]
[1269,{"$f":"+IFERROR(INDEX(instruments!$N$2:$N$5037,MATCH(index!$A1313,instruments!$M$2:$M$5037,0),1),\"\")","v":""}]
[1270,{"$f":"+IFERROR(INDEX(instruments!$N$2:$N$5037,MATCH(index!$A1314,instruments!$M$2:$M$5037,0),1),\"\")","v":""}]
[1271,{"$f":"+IFERROR(INDEX(instruments!$N$2:$N$5037,MATCH(index!$A1315,instruments!$M$2:$M$5037,0),1),\"\")","v":""}]
[1272,{"$f":"+IFERROR(INDEX(instruments!$N$2:$N$5037,MATCH(index!$A1316,instruments!$M$2:$M$5037,0),1),\"\")","v":""}]
[1273,{"$f":"+IFERROR(INDEX(instruments!$N$2:$N$5037,MATCH(index!$A1317,instruments!$M$2:$M$5037,0),1),\"\")","v":""}]
[1274,{"$f":"+IFERROR(INDEX(instruments!$N$2:$N$5037,MATCH(index!$A1318,instruments!$M$2:$M$5037,0),1),\"\")","v":""}]
[1275,{"$f":"+IFERROR(INDEX(instruments!$N$2:$N$5037,MATCH(index!$A1319,instruments!$M$2:$M$5037,0),1),\"\")","v":""}]
[1276,{"$f":"+IFERROR(INDEX(instruments!$N$2:$N$5037,MATCH(index!$A1320,instruments!$M$2:$M$5037,0),1),\"\")","v":""}]
[1277,{"$f":"+IFERROR(INDEX(instruments!$N$2:$N$5037,MATCH(index!$A1321,instruments!$M$2:$M$5037,0),1),\"\")","v":""}]
[1278,{"$f":"+IFERROR(INDEX(instruments!$N$2:$N$5037,MATCH(index!$A1322,instruments!$M$2:$M$5037,0),1),\"\")","v":""}]
[1279,{"$f":"+IFERROR(INDEX(instruments!$N$2:$N$5037,MATCH(index!$A1323,instruments!$M$2:$M$5037,0),1),\"\")","v":""}]
[1280,{"$f":"+IFERROR(INDEX(instruments!$N$2:$N$5037,MATCH(index!$A1324,instruments!$M$2:$M$5037,0),1),\"\")","v":""}]
[1281,{"$f":"+IFERROR(INDEX(instruments!$N$2:$N$5037,MATCH(index!$A1325,instruments!$M$2:$M$5037,0),1),\"\")","v":""}]
[1282,{"$f":"+IFERROR(INDEX(instruments!$N$2:$N$5037,MATCH(index!$A1326,instruments!$M$2:$M$5037,0),1),\"\")","v":""}]
[1283,{"$f":"+IFERROR(INDEX(instruments!$N$2:$N$5037,MATCH(index!$A1327,instruments!$M$2:$M$5037,0),1),\"\")","v":""}]
[1284,{"$f":"+IFERROR(INDEX(instruments!$N$2:$N$5037,MATCH(index!$A1328,instruments!$M$2:$M$5037,0),1),\"\")","v":""}]
[1285,{"$f":"+IFERROR(INDEX(instruments!$N$2:$N$5037,MATCH(index!$A1329,instruments!$M$2:$M$5037,0),1),\"\")","v":""}]
[1286,{"$f":"+IFERROR(INDEX(instruments!$N$2:$N$5037,MATCH(index!$A1330,instruments!$M$2:$M$5037,0),1),\"\")","v":""}]
[1287,{"$f":"+IFERROR(INDEX(instruments!$N$2:$N$5037,MATCH(index!$A1331,instruments!$M$2:$M$5037,0),1),\"\")","v":""}]
[1288,{"$f":"+IFERROR(INDEX(instruments!$N$2:$N$5037,MATCH(index!$A1332,instruments!$M$2:$M$5037,0),1),\"\")","v":""}]
[1289,{"$f":"+IFERROR(INDEX(instruments!$N$2:$N$5037,MATCH(index!$A1333,instruments!$M$2:$M$5037,0),1),\"\")","v":""}]
[1290,{"$f":"+IFERROR(INDEX(instruments!$N$2:$N$5037,MATCH(index!$A1334,instruments!$M$2:$M$5037,0),1),\"\")","v":""}]
[1291,{"$f":"+IFERROR(INDEX(instruments!$N$2:$N$5037,MATCH(index!$A1335,instruments!$M$2:$M$5037,0),1),\"\")","v":""}]
[1292,{"$f":"+IFERROR(INDEX(instruments!$N$2:$N$5037,MATCH(index!$A1336,instruments!$M$2:$M$5037,0),1),\"\")","v":""}]
[1293,{"$f":"+IFERROR(INDEX(instruments!$N$2:$N$5037,MATCH(index!$A1337,instruments!$M$2:$M$5037,0),1),\"\")","v":""}]
[1294,{"$f":"+IFERROR(INDEX(instruments!$N$2:$N$5037,MATCH(index!$A1338,instruments!$M$2:$M$5037,0),1),\"\")","v":""}]
[1295,{"$f":"+IFERROR(INDEX(instruments!$N$2:$N$5037,MATCH(index!$A1339,instruments!$M$2:$M$5037,0),1),\"\")","v":""}]
[1296,{"$f":"+IFERROR(INDEX(instruments!$N$2:$N$5037,MATCH(index!$A1340,instruments!$M$2:$M$5037,0),1),\"\")","v":""}]
[1297,{"$f":"+IFERROR(INDEX(instruments!$N$2:$N$5037,MATCH(index!$A1341,instruments!$M$2:$M$5037,0),1),\"\")","v":""}]
[1298,{"$f":"+IFERROR(INDEX(instruments!$N$2:$N$5037,MATCH(index!$A1342,instruments!$M$2:$M$5037,0),1),\"\")","v":""}]
[{"$f":"+A1342+1","v":1299},{"$f":"+IFERROR(INDEX(instruments!$N$2:$N$5037,MATCH(index!$A1343,instruments!$M$2:$M$5037,0),1),\"\")","v":""}]
[1300,{"$f":"+IFERROR(INDEX(instruments!$N$2:$N$5037,MATCH(index!$A1344,instruments!$M$2:$M$5037,0),1),\"\")","v":""}]
[1301,{"$f":"+IFERROR(INDEX(instruments!$N$2:$N$5037,MATCH(index!$A1345,instruments!$M$2:$M$5037,0),1),\"\")","v":""}]
[1302,{"$f":"+IFERROR(INDEX(instruments!$N$2:$N$5037,MATCH(index!$A1346,instruments!$M$2:$M$5037,0),1),\"\")","v":""}]
[1303,{"$f":"+IFERROR(INDEX(instruments!$N$2:$N$5037,MATCH(index!$A1347,instruments!$M$2:$M$5037,0),1),\"\")","v":""}]
[1304,{"$f":"+IFERROR(INDEX(instruments!$N$2:$N$5037,MATCH(index!$A1348,instruments!$M$2:$M$5037,0),1),\"\")","v":""}]
[1305,{"$f":"+IFERROR(INDEX(instruments!$N$2:$N$5037,MATCH(index!$A1349,instruments!$M$2:$M$5037,0),1),\"\")","v":""}]
[1306,{"$f":"+IFERROR(INDEX(instruments!$N$2:$N$5037,MATCH(index!$A1350,instruments!$M$2:$M$5037,0),1),\"\")","v":""}]
[1307,{"$f":"+IFERROR(INDEX(instruments!$N$2:$N$5037,MATCH(index!$A1351,instruments!$M$2:$M$5037,0),1),\"\")","v":""}]
[1308,{"$f":"+IFERROR(INDEX(instruments!$N$2:$N$5037,MATCH(index!$A1352,instruments!$M$2:$M$5037,0),1),\"\")","v":""}]
[1309,{"$f":"+IFERROR(INDEX(instruments!$N$2:$N$5037,MATCH(index!$A1353,instruments!$M$2:$M$5037,0),1),\"\")","v":""}]
[1310,{"$f":"+IFERROR(INDEX(instruments!$N$2:$N$5037,MATCH(index!$A1354,instruments!$M$2:$M$5037,0),1),\"\")","v":""}]
[1311,{"$f":"+IFERROR(INDEX(instruments!$N$2:$N$5037,MATCH(index!$A1355,instruments!$M$2:$M$5037,0),1),\"\")","v":""}]
[1312,{"$f":"+IFERROR(INDEX(instruments!$N$2:$N$5037,MATCH(index!$A1356,instruments!$M$2:$M$5037,0),1),\"\")","v":""}]
[1313,{"$f":"+IFERROR(INDEX(instruments!$N$2:$N$5037,MATCH(index!$A1357,instruments!$M$2:$M$5037,0),1),\"\")","v":""}]
[1314,{"$f":"+IFERROR(INDEX(instruments!$N$2:$N$5037,MATCH(index!$A1358,instruments!$M$2:$M$5037,0),1),\"\")","v":""}]
[1315,{"$f":"+IFERROR(INDEX(instruments!$N$2:$N$5037,MATCH(index!$A1359,instruments!$M$2:$M$5037,0),1),\"\")","v":""}]
[1316,{"$f":"+IFERROR(INDEX(instruments!$N$2:$N$5037,MATCH(index!$A1360,instruments!$M$2:$M$5037,0),1),\"\")","v":""}]
[1317,{"$f":"+IFERROR(INDEX(instruments!$N$2:$N$5037,MATCH(index!$A1361,instruments!$M$2:$M$5037,0),1),\"\")","v":""}]
[1318,{"$f":"+IFERROR(INDEX(instruments!$N$2:$N$5037,MATCH(index!$A1362,instruments!$M$2:$M$5037,0),1),\"\")","v":""}]
[1319,{"$f":"+IFERROR(INDEX(instruments!$N$2:$N$5037,MATCH(index!$A1363,instruments!$M$2:$M$5037,0),1),\"\")","v":""}]
[1320,{"$f":"+IFERROR(INDEX(instruments!$N$2:$N$5037,MATCH(index!$A1364,instruments!$M$2:$M$5037,0),1),\"\")","v":""}]
[1321,{"$f":"+IFERROR(INDEX(instruments!$N$2:$N$5037,MATCH(index!$A1365,instruments!$M$2:$M$5037,0),1),\"\")","v":""}]
[1322,{"$f":"+IFERROR(INDEX(instruments!$N$2:$N$5037,MATCH(index!$A1366,instruments!$M$2:$M$5037,0),1),\"\")","v":""}]
[1323,{"$f":"+IFERROR(INDEX(instruments!$N$2:$N$5037,MATCH(index!$A1367,instruments!$M$2:$M$5037,0),1),\"\")","v":""}]
[1324,{"$f":"+IFERROR(INDEX(instruments!$N$2:$N$5037,MATCH(index!$A1368,instruments!$M$2:$M$5037,0),1),\"\")","v":""}]
[1325,{"$f":"+IFERROR(INDEX(instruments!$N$2:$N$5037,MATCH(index!$A1369,instruments!$M$2:$M$5037,0),1),\"\")","v":""}]
[1326,{"$f":"+IFERROR(INDEX(instruments!$N$2:$N$5037,MATCH(index!$A1370,instruments!$M$2:$M$5037,0),1),\"\")","v":""}]
[1327,{"$f":"+IFERROR(INDEX(instruments!$N$2:$N$5037,MATCH(index!$A1371,instruments!$M$2:$M$5037,0),1),\"\")","v":""}]
[1328,{"$f":"+IFERROR(INDEX(instruments!$N$2:$N$5037,MATCH(index!$A1372,instruments!$M$2:$M$5037,0),1),\"\")","v":""}]
[1329,{"$f":"+IFERROR(INDEX(instruments!$N$2:$N$5037,MATCH(index!$A1373,instruments!$M$2:$M$5037,0),1),\"\")","v":""}]
[1330,{"$f":"+IFERROR(INDEX(instruments!$N$2:$N$5037,MATCH(index!$A1374,instruments!$M$2:$M$5037,0),1),\"\")","v":""}]
[1331,{"$f":"+IFERROR(INDEX(instruments!$N$2:$N$5037,MATCH(index!$A1375,instruments!$M$2:$M$5037,0),1),\"\")","v":""}]
[1332,{"$f":"+IFERROR(INDEX(instruments!$N$2:$N$5037,MATCH(index!$A1376,instruments!$M$2:$M$5037,0),1),\"\")","v":""}]
[1333,{"$f":"+IFERROR(INDEX(instruments!$N$2:$N$5037,MATCH(index!$A1377,instruments!$M$2:$M$5037,0),1),\"\")","v":""}]
[1334,{"$f":"+IFERROR(INDEX(instruments!$N$2:$N$5037,MATCH(index!$A1378,instruments!$M$2:$M$5037,0),1),\"\")","v":""}]
[1335,{"$f":"+IFERROR(INDEX(instruments!$N$2:$N$5037,MATCH(index!$A1379,instruments!$M$2:$M$5037,0),1),\"\")","v":""}]
[1336,{"$f":"+IFERROR(INDEX(instruments!$N$2:$N$5037,MATCH(index!$A1380,instruments!$M$2:$M$5037,0),1),\"\")","v":""}]
[1337,{"$f":"+IFERROR(INDEX(instruments!$N$2:$N$5037,MATCH(index!$A1381,instruments!$M$2:$M$5037,0),1),\"\")","v":""}]
[1338,{"$f":"+IFERROR(INDEX(instruments!$N$2:$N$5037,MATCH(index!$A1382,instruments!$M$2:$M$5037,0),1),\"\")","v":""}]
[1339,{"$f":"+IFERROR(INDEX(instruments!$N$2:$N$5037,MATCH(index!$A1383,instruments!$M$2:$M$5037,0),1),\"\")","v":""}]
[1340,{"$f":"+IFERROR(INDEX(instruments!$N$2:$N$5037,MATCH(index!$A1384,instruments!$M$2:$M$5037,0),1),\"\")","v":""}]
[1341,{"$f":"+IFERROR(INDEX(instruments!$N$2:$N$5037,MATCH(index!$A1385,instruments!$M$2:$M$5037,0),1),\"\")","v":""}]
[1342,{"$f":"+IFERROR(INDEX(instruments!$N$2:$N$5037,MATCH(index!$A1386,instruments!$M$2:$M$5037,0),1),\"\")","v":""}]
[1343,{"$f":"+IFERROR(INDEX(instruments!$N$2:$N$5037,MATCH(index!$A1387,instruments!$M$2:$M$5037,0),1),\"\")","v":""}]
[1344,{"$f":"+IFERROR(INDEX(instruments!$N$2:$N$5037,MATCH(index!$A1388,instruments!$M$2:$M$5037,0),1),\"\")","v":""}]
[1345,{"$f":"+IFERROR(INDEX(instruments!$N$2:$N$5037,MATCH(index!$A1389,instruments!$M$2:$M$5037,0),1),\"\")","v":""}]
[1346,{"$f":"+IFERROR(INDEX(instruments!$N$2:$N$5037,MATCH(index!$A1390,instruments!$M$2:$M$5037,0),1),\"\")","v":""}]
[1347,{"$f":"+IFERROR(INDEX(instruments!$N$2:$N$5037,MATCH(index!$A1391,instruments!$M$2:$M$5037,0),1),\"\")","v":""}]
[1348,{"$f":"+IFERROR(INDEX(instruments!$N$2:$N$5037,MATCH(index!$A1392,instruments!$M$2:$M$5037,0),1),\"\")","v":""}]
[1349,{"$f":"+IFERROR(INDEX(instruments!$N$2:$N$5037,MATCH(index!$A1393,instruments!$M$2:$M$5037,0),1),\"\")","v":""}]
[1350,{"$f":"+IFERROR(INDEX(instruments!$N$2:$N$5037,MATCH(index!$A1394,instruments!$M$2:$M$5037,0),1),\"\")","v":""}]
[1351,{"$f":"+IFERROR(INDEX(instruments!$N$2:$N$5037,MATCH(index!$A1395,instruments!$M$2:$M$5037,0),1),\"\")","v":""}]
[1352,{"$f":"+IFERROR(INDEX(instruments!$N$2:$N$5037,MATCH(index!$A1396,instruments!$M$2:$M$5037,0),1),\"\")","v":""}]
[1353,{"$f":"+IFERROR(INDEX(instruments!$N$2:$N$5037,MATCH(index!$A1397,instruments!$M$2:$M$5037,0),1),\"\")","v":""}]
[1354,{"$f":"+IFERROR(INDEX(instruments!$N$2:$N$5037,MATCH(index!$A1398,instruments!$M$2:$M$5037,0),1),\"\")","v":""}]
[1355,{"$f":"+IFERROR(INDEX(instruments!$N$2:$N$5037,MATCH(index!$A1399,instruments!$M$2:$M$5037,0),1),\"\")","v":""}]
[1356,{"$f":"+IFERROR(INDEX(instruments!$N$2:$N$5037,MATCH(index!$A1400,instruments!$M$2:$M$5037,0),1),\"\")","v":""}]
[1357,{"$f":"+IFERROR(INDEX(instruments!$N$2:$N$5037,MATCH(index!$A1401,instruments!$M$2:$M$5037,0),1),\"\")","v":""}]
[1358,{"$f":"+IFERROR(INDEX(instruments!$N$2:$N$5037,MATCH(index!$A1402,instruments!$M$2:$M$5037,0),1),\"\")","v":""}]
[1359,{"$f":"+IFERROR(INDEX(instruments!$N$2:$N$5037,MATCH(index!$A1403,instruments!$M$2:$M$5037,0),1),\"\")","v":""}]
[1360,{"$f":"+IFERROR(INDEX(instruments!$N$2:$N$5037,MATCH(index!$A1404,instruments!$M$2:$M$5037,0),1),\"\")","v":""}]
[1361,{"$f":"+IFERROR(INDEX(instruments!$N$2:$N$5037,MATCH(index!$A1405,instruments!$M$2:$M$5037,0),1),\"\")","v":""}]
[1362,{"$f":"+IFERROR(INDEX(instruments!$N$2:$N$5037,MATCH(index!$A1406,instruments!$M$2:$M$5037,0),1),\"\")","v":""}]
[{"$f":"+A1406+1","v":1363},{"$f":"+IFERROR(INDEX(instruments!$N$2:$N$5037,MATCH(index!$A1407,instruments!$M$2:$M$5037,0),1),\"\")","v":""}]
[1364,{"$f":"+IFERROR(INDEX(instruments!$N$2:$N$5037,MATCH(index!$A1408,instruments!$M$2:$M$5037,0),1),\"\")","v":""}]
[1365,{"$f":"+IFERROR(INDEX(instruments!$N$2:$N$5037,MATCH(index!$A1409,instruments!$M$2:$M$5037,0),1),\"\")","v":""}]
[1366,{"$f":"+IFERROR(INDEX(instruments!$N$2:$N$5037,MATCH(index!$A1410,instruments!$M$2:$M$5037,0),1),\"\")","v":""}]
[1367,{"$f":"+IFERROR(INDEX(instruments!$N$2:$N$5037,MATCH(index!$A1411,instruments!$M$2:$M$5037,0),1),\"\")","v":""}]
[1368,{"$f":"+IFERROR(INDEX(instruments!$N$2:$N$5037,MATCH(index!$A1412,instruments!$M$2:$M$5037,0),1),\"\")","v":""}]
[1369,{"$f":"+IFERROR(INDEX(instruments!$N$2:$N$5037,MATCH(index!$A1413,instruments!$M$2:$M$5037,0),1),\"\")","v":""}]
[1370,{"$f":"+IFERROR(INDEX(instruments!$N$2:$N$5037,MATCH(index!$A1414,instruments!$M$2:$M$5037,0),1),\"\")","v":""}]
[1371,{"$f":"+IFERROR(INDEX(instruments!$N$2:$N$5037,MATCH(index!$A1415,instruments!$M$2:$M$5037,0),1),\"\")","v":""}]
[1372,{"$f":"+IFERROR(INDEX(instruments!$N$2:$N$5037,MATCH(index!$A1416,instruments!$M$2:$M$5037,0),1),\"\")","v":""}]
[1373,{"$f":"+IFERROR(INDEX(instruments!$N$2:$N$5037,MATCH(index!$A1417,instruments!$M$2:$M$5037,0),1),\"\")","v":""}]
[1374,{"$f":"+IFERROR(INDEX(instruments!$N$2:$N$5037,MATCH(index!$A1418,instruments!$M$2:$M$5037,0),1),\"\")","v":""}]
[1375,{"$f":"+IFERROR(INDEX(instruments!$N$2:$N$5037,MATCH(index!$A1419,instruments!$M$2:$M$5037,0),1),\"\")","v":""}]
[1376,{"$f":"+IFERROR(INDEX(instruments!$N$2:$N$5037,MATCH(index!$A1420,instruments!$M$2:$M$5037,0),1),\"\")","v":""}]
[1377,{"$f":"+IFERROR(INDEX(instruments!$N$2:$N$5037,MATCH(index!$A1421,instruments!$M$2:$M$5037,0),1),\"\")","v":""}]
[1378,{"$f":"+IFERROR(INDEX(instruments!$N$2:$N$5037,MATCH(index!$A1422,instruments!$M$2:$M$5037,0),1),\"\")","v":""}]
[1379,{"$f":"+IFERROR(INDEX(instruments!$N$2:$N$5037,MATCH(index!$A1423,instruments!$M$2:$M$5037,0),1),\"\")","v":""}]
[1380,{"$f":"+IFERROR(INDEX(instruments!$N$2:$N$5037,MATCH(index!$A1424,instruments!$M$2:$M$5037,0),1),\"\")","v":""}]
[1381,{"$f":"+IFERROR(INDEX(instruments!$N$2:$N$5037,MATCH(index!$A1425,instruments!$M$2:$M$5037,0),1),\"\")","v":""}]
[1382,{"$f":"+IFERROR(INDEX(instruments!$N$2:$N$5037,MATCH(index!$A1426,instruments!$M$2:$M$5037,0),1),\"\")","v":""}]
[1383,{"$f":"+IFERROR(INDEX(instruments!$N$2:$N$5037,MATCH(index!$A1427,instruments!$M$2:$M$5037,0),1),\"\")","v":""}]
[1384,{"$f":"+IFERROR(INDEX(instruments!$N$2:$N$5037,MATCH(index!$A1428,instruments!$M$2:$M$5037,0),1),\"\")","v":""}]
[1385,{"$f":"+IFERROR(INDEX(instruments!$N$2:$N$5037,MATCH(index!$A1429,instruments!$M$2:$M$5037,0),1),\"\")","v":""}]
[1386,{"$f":"+IFERROR(INDEX(instruments!$N$2:$N$5037,MATCH(index!$A1430,instruments!$M$2:$M$5037,0),1),\"\")","v":""}]
[1387,{"$f":"+IFERROR(INDEX(instruments!$N$2:$N$5037,MATCH(index!$A1431,instruments!$M$2:$M$5037,0),1),\"\")","v":""}]
[1388,{"$f":"+IFERROR(INDEX(instruments!$N$2:$N$5037,MATCH(index!$A1432,instruments!$M$2:$M$5037,0),1),\"\")","v":""}]
[1389,{"$f":"+IFERROR(INDEX(instruments!$N$2:$N$5037,MATCH(index!$A1433,instruments!$M$2:$M$5037,0),1),\"\")","v":""}]
[1390,{"$f":"+IFERROR(INDEX(instruments!$N$2:$N$5037,MATCH(index!$A1434,instruments!$M$2:$M$5037,0),1),\"\")","v":""}]
[1391,{"$f":"+IFERROR(INDEX(instruments!$N$2:$N$5037,MATCH(index!$A1435,instruments!$M$2:$M$5037,0),1),\"\")","v":""}]
[1392,{"$f":"+IFERROR(INDEX(instruments!$N$2:$N$5037,MATCH(index!$A1436,instruments!$M$2:$M$5037,0),1),\"\")","v":""}]
[1393,{"$f":"+IFERROR(INDEX(instruments!$N$2:$N$5037,MATCH(index!$A1437,instruments!$M$2:$M$5037,0),1),\"\")","v":""}]
[1394,{"$f":"+IFERROR(INDEX(instruments!$N$2:$N$5037,MATCH(index!$A1438,instruments!$M$2:$M$5037,0),1),\"\")","v":""}]
[1395,{"$f":"+IFERROR(INDEX(instruments!$N$2:$N$5037,MATCH(index!$A1439,instruments!$M$2:$M$5037,0),1),\"\")","v":""}]
[1396,{"$f":"+IFERROR(INDEX(instruments!$N$2:$N$5037,MATCH(index!$A1440,instruments!$M$2:$M$5037,0),1),\"\")","v":""}]
[1397,{"$f":"+IFERROR(INDEX(instruments!$N$2:$N$5037,MATCH(index!$A1441,instruments!$M$2:$M$5037,0),1),\"\")","v":""}]
[1398,{"$f":"+IFERROR(INDEX(instruments!$N$2:$N$5037,MATCH(index!$A1442,instruments!$M$2:$M$5037,0),1),\"\")","v":""}]
[1399,{"$f":"+IFERROR(INDEX(instruments!$N$2:$N$5037,MATCH(index!$A1443,instruments!$M$2:$M$5037,0),1),\"\")","v":""}]
[1400,{"$f":"+IFERROR(INDEX(instruments!$N$2:$N$5037,MATCH(index!$A1444,instruments!$M$2:$M$5037,0),1),\"\")","v":""}]
[1401,{"$f":"+IFERROR(INDEX(instruments!$N$2:$N$5037,MATCH(index!$A1445,instruments!$M$2:$M$5037,0),1),\"\")","v":""}]
[1402,{"$f":"+IFERROR(INDEX(instruments!$N$2:$N$5037,MATCH(index!$A1446,instruments!$M$2:$M$5037,0),1),\"\")","v":""}]
[1403,{"$f":"+IFERROR(INDEX(instruments!$N$2:$N$5037,MATCH(index!$A1447,instruments!$M$2:$M$5037,0),1),\"\")","v":""}]
[1404,{"$f":"+IFERROR(INDEX(instruments!$N$2:$N$5037,MATCH(index!$A1448,instruments!$M$2:$M$5037,0),1),\"\")","v":""}]
[1405,{"$f":"+IFERROR(INDEX(instruments!$N$2:$N$5037,MATCH(index!$A1449,instruments!$M$2:$M$5037,0),1),\"\")","v":""}]
[1406,{"$f":"+IFERROR(INDEX(instruments!$N$2:$N$5037,MATCH(index!$A1450,instruments!$M$2:$M$5037,0),1),\"\")","v":""}]
[1407,{"$f":"+IFERROR(INDEX(instruments!$N$2:$N$5037,MATCH(index!$A1451,instruments!$M$2:$M$5037,0),1),\"\")","v":""}]
[1408,{"$f":"+IFERROR(INDEX(instruments!$N$2:$N$5037,MATCH(index!$A1452,instruments!$M$2:$M$5037,0),1),\"\")","v":""}]
[1409,{"$f":"+IFERROR(INDEX(instruments!$N$2:$N$5037,MATCH(index!$A1453,instruments!$M$2:$M$5037,0),1),\"\")","v":""}]
[1410,{"$f":"+IFERROR(INDEX(instruments!$N$2:$N$5037,MATCH(index!$A1454,instruments!$M$2:$M$5037,0),1),\"\")","v":""}]
[1411,{"$f":"+IFERROR(INDEX(instruments!$N$2:$N$5037,MATCH(index!$A1455,instruments!$M$2:$M$5037,0),1),\"\")","v":""}]
[1412,{"$f":"+IFERROR(INDEX(instruments!$N$2:$N$5037,MATCH(index!$A1456,instruments!$M$2:$M$5037,0),1),\"\")","v":""}]
[1413,{"$f":"+IFERROR(INDEX(instruments!$N$2:$N$5037,MATCH(index!$A1457,instruments!$M$2:$M$5037,0),1),\"\")","v":""}]
[1414,{"$f":"+IFERROR(INDEX(instruments!$N$2:$N$5037,MATCH(index!$A1458,instruments!$M$2:$M$5037,0),1),\"\")","v":""}]
[1415,{"$f":"+IFERROR(INDEX(instruments!$N$2:$N$5037,MATCH(index!$A1459,instruments!$M$2:$M$5037,0),1),\"\")","v":""}]
[1416,{"$f":"+IFERROR(INDEX(instruments!$N$2:$N$5037,MATCH(index!$A1460,instruments!$M$2:$M$5037,0),1),\"\")","v":""}]
[1417,{"$f":"+IFERROR(INDEX(instruments!$N$2:$N$5037,MATCH(index!$A1461,instruments!$M$2:$M$5037,0),1),\"\")","v":""}]
[1418,{"$f":"+IFERROR(INDEX(instruments!$N$2:$N$5037,MATCH(index!$A1462,instruments!$M$2:$M$5037,0),1),\"\")","v":""}]
[1419,{"$f":"+IFERROR(INDEX(instruments!$N$2:$N$5037,MATCH(index!$A1463,instruments!$M$2:$M$5037,0),1),\"\")","v":""}]
[1420,{"$f":"+IFERROR(INDEX(instruments!$N$2:$N$5037,MATCH(index!$A1464,instruments!$M$2:$M$5037,0),1),\"\")","v":""}]
[1421,{"$f":"+IFERROR(INDEX(instruments!$N$2:$N$5037,MATCH(index!$A1465,instruments!$M$2:$M$5037,0),1),\"\")","v":""}]
[1422,{"$f":"+IFERROR(INDEX(instruments!$N$2:$N$5037,MATCH(index!$A1466,instruments!$M$2:$M$5037,0),1),\"\")","v":""}]
[1423,{"$f":"+IFERROR(INDEX(instruments!$N$2:$N$5037,MATCH(index!$A1467,instruments!$M$2:$M$5037,0),1),\"\")","v":""}]
[1424,{"$f":"+IFERROR(INDEX(instruments!$N$2:$N$5037,MATCH(index!$A1468,instruments!$M$2:$M$5037,0),1),\"\")","v":""}]
[1425,{"$f":"+IFERROR(INDEX(instruments!$N$2:$N$5037,MATCH(index!$A1469,instruments!$M$2:$M$5037,0),1),\"\")","v":""}]
[1426,{"$f":"+IFERROR(INDEX(instruments!$N$2:$N$5037,MATCH(index!$A1470,instruments!$M$2:$M$5037,0),1),\"\")","v":""}]
[{"$f":"+A1470+1","v":1427},{"$f":"+IFERROR(INDEX(instruments!$N$2:$N$5037,MATCH(index!$A1471,instruments!$M$2:$M$5037,0),1),\"\")","v":""}]
[1428,{"$f":"+IFERROR(INDEX(instruments!$N$2:$N$5037,MATCH(index!$A1472,instruments!$M$2:$M$5037,0),1),\"\")","v":""}]
[{"$f":"+A1472+1","v":1429},{"$f":"+IFERROR(INDEX(instruments!$N$2:$N$5037,MATCH(index!$A1473,instruments!$M$2:$M$5037,0),1),\"\")","v":""}]
[1430,{"$f":"+IFERROR(INDEX(instruments!$N$2:$N$5037,MATCH(index!$A1474,instruments!$M$2:$M$5037,0),1),\"\")","v":""}]
[1431,{"$f":"+IFERROR(INDEX(instruments!$N$2:$N$5037,MATCH(index!$A1475,instruments!$M$2:$M$5037,0),1),\"\")","v":""}]
[1432,{"$f":"+IFERROR(INDEX(instruments!$N$2:$N$5037,MATCH(index!$A1476,instruments!$M$2:$M$5037,0),1),\"\")","v":""}]
[1433,{"$f":"+IFERROR(INDEX(instruments!$N$2:$N$5037,MATCH(index!$A1477,instruments!$M$2:$M$5037,0),1),\"\")","v":""}]
[1434,{"$f":"+IFERROR(INDEX(instruments!$N$2:$N$5037,MATCH(index!$A1478,instruments!$M$2:$M$5037,0),1),\"\")","v":""}]
[1435,{"$f":"+IFERROR(INDEX(instruments!$N$2:$N$5037,MATCH(index!$A1479,instruments!$M$2:$M$5037,0),1),\"\")","v":""}]
[1436,{"$f":"+IFERROR(INDEX(instruments!$N$2:$N$5037,MATCH(index!$A1480,instruments!$M$2:$M$5037,0),1),\"\")","v":""}]
[1437,{"$f":"+IFERROR(INDEX(instruments!$N$2:$N$5037,MATCH(index!$A1481,instruments!$M$2:$M$5037,0),1),\"\")","v":""}]
[1438,{"$f":"+IFERROR(INDEX(instruments!$N$2:$N$5037,MATCH(index!$A1482,instruments!$M$2:$M$5037,0),1),\"\")","v":""}]
[1439,{"$f":"+IFERROR(INDEX(instruments!$N$2:$N$5037,MATCH(index!$A1483,instruments!$M$2:$M$5037,0),1),\"\")","v":""}]
[1440,{"$f":"+IFERROR(INDEX(instruments!$N$2:$N$5037,MATCH(index!$A1484,instruments!$M$2:$M$5037,0),1),\"\")","v":""}]
[1441,{"$f":"+IFERROR(INDEX(instruments!$N$2:$N$5037,MATCH(index!$A1485,instruments!$M$2:$M$5037,0),1),\"\")","v":""}]
[1442,{"$f":"+IFERROR(INDEX(instruments!$N$2:$N$5037,MATCH(index!$A1486,instruments!$M$2:$M$5037,0),1),\"\")","v":""}]
[1443,{"$f":"+IFERROR(INDEX(instruments!$N$2:$N$5037,MATCH(index!$A1487,instruments!$M$2:$M$5037,0),1),\"\")","v":""}]
[1444,{"$f":"+IFERROR(INDEX(instruments!$N$2:$N$5037,MATCH(index!$A1488,instruments!$M$2:$M$5037,0),1),\"\")","v":""}]
[1445,{"$f":"+IFERROR(INDEX(instruments!$N$2:$N$5037,MATCH(index!$A1489,instruments!$M$2:$M$5037,0),1),\"\")","v":""}]
[1446,{"$f":"+IFERROR(INDEX(instruments!$N$2:$N$5037,MATCH(index!$A1490,instruments!$M$2:$M$5037,0),1),\"\")","v":""}]
[1447,{"$f":"+IFERROR(INDEX(instruments!$N$2:$N$5037,MATCH(index!$A1491,instruments!$M$2:$M$5037,0),1),\"\")","v":""}]
[1448,{"$f":"+IFERROR(INDEX(instruments!$N$2:$N$5037,MATCH(index!$A1492,instruments!$M$2:$M$5037,0),1),\"\")","v":""}]
[1449,{"$f":"+IFERROR(INDEX(instruments!$N$2:$N$5037,MATCH(index!$A1493,instruments!$M$2:$M$5037,0),1),\"\")","v":""}]
[1450,{"$f":"+IFERROR(INDEX(instruments!$N$2:$N$5037,MATCH(index!$A1494,instruments!$M$2:$M$5037,0),1),\"\")","v":""}]
[1451,{"$f":"+IFERROR(INDEX(instruments!$N$2:$N$5037,MATCH(index!$A1495,instruments!$M$2:$M$5037,0),1),\"\")","v":""}]
[1452,{"$f":"+IFERROR(INDEX(instruments!$N$2:$N$5037,MATCH(index!$A1496,instruments!$M$2:$M$5037,0),1),\"\")","v":""}]
[1453,{"$f":"+IFERROR(INDEX(instruments!$N$2:$N$5037,MATCH(index!$A1497,instruments!$M$2:$M$5037,0),1),\"\")","v":""}]
[1454,{"$f":"+IFERROR(INDEX(instruments!$N$2:$N$5037,MATCH(index!$A1498,instruments!$M$2:$M$5037,0),1),\"\")","v":""}]
[1455,{"$f":"+IFERROR(INDEX(instruments!$N$2:$N$5037,MATCH(index!$A1499,instruments!$M$2:$M$5037,0),1),\"\")","v":""}]
[1456,{"$f":"+IFERROR(INDEX(instruments!$N$2:$N$5037,MATCH(index!$A1500,instruments!$M$2:$M$5037,0),1),\"\")","v":""}]
[1457,{"$f":"+IFERROR(INDEX(instruments!$N$2:$N$5037,MATCH(index!$A1501,instruments!$M$2:$M$5037,0),1),\"\")","v":""}]
[1458,{"$f":"+IFERROR(INDEX(instruments!$N$2:$N$5037,MATCH(index!$A1502,instruments!$M$2:$M$5037,0),1),\"\")","v":""}]
[1459,{"$f":"+IFERROR(INDEX(instruments!$N$2:$N$5037,MATCH(index!$A1503,instruments!$M$2:$M$5037,0),1),\"\")","v":""}]
[1460,{"$f":"+IFERROR(INDEX(instruments!$N$2:$N$5037,MATCH(index!$A1504,instruments!$M$2:$M$5037,0),1),\"\")","v":""}]
[1461,{"$f":"+IFERROR(INDEX(instruments!$N$2:$N$5037,MATCH(index!$A1505,instruments!$M$2:$M$5037,0),1),\"\")","v":""}]
[1462,{"$f":"+IFERROR(INDEX(instruments!$N$2:$N$5037,MATCH(index!$A1506,instruments!$M$2:$M$5037,0),1),\"\")","v":""}]
[1463,{"$f":"+IFERROR(INDEX(instruments!$N$2:$N$5037,MATCH(index!$A1507,instruments!$M$2:$M$5037,0),1),\"\")","v":""}]
[1464,{"$f":"+IFERROR(INDEX(instruments!$N$2:$N$5037,MATCH(index!$A1508,instruments!$M$2:$M$5037,0),1),\"\")","v":""}]
[1465,{"$f":"+IFERROR(INDEX(instruments!$N$2:$N$5037,MATCH(index!$A1509,instruments!$M$2:$M$5037,0),1),\"\")","v":""}]
[1466,{"$f":"+IFERROR(INDEX(instruments!$N$2:$N$5037,MATCH(index!$A1510,instruments!$M$2:$M$5037,0),1),\"\")","v":""}]
[1467,{"$f":"+IFERROR(INDEX(instruments!$N$2:$N$5037,MATCH(index!$A1511,instruments!$M$2:$M$5037,0),1),\"\")","v":""}]
[1468,{"$f":"+IFERROR(INDEX(instruments!$N$2:$N$5037,MATCH(index!$A1512,instruments!$M$2:$M$5037,0),1),\"\")","v":""}]
[1469,{"$f":"+IFERROR(INDEX(instruments!$N$2:$N$5037,MATCH(index!$A1513,instruments!$M$2:$M$5037,0),1),\"\")","v":""}]
[1470,{"$f":"+IFERROR(INDEX(instruments!$N$2:$N$5037,MATCH(index!$A1514,instruments!$M$2:$M$5037,0),1),\"\")","v":""}]
[1471,{"$f":"+IFERROR(INDEX(instruments!$N$2:$N$5037,MATCH(index!$A1515,instruments!$M$2:$M$5037,0),1),\"\")","v":""}]
[1472,{"$f":"+IFERROR(INDEX(instruments!$N$2:$N$5037,MATCH(index!$A1516,instruments!$M$2:$M$5037,0),1),\"\")","v":""}]
[1473,{"$f":"+IFERROR(INDEX(instruments!$N$2:$N$5037,MATCH(index!$A1517,instruments!$M$2:$M$5037,0),1),\"\")","v":""}]
[1474,{"$f":"+IFERROR(INDEX(instruments!$N$2:$N$5037,MATCH(index!$A1518,instruments!$M$2:$M$5037,0),1),\"\")","v":""}]
[1475,{"$f":"+IFERROR(INDEX(instruments!$N$2:$N$5037,MATCH(index!$A1519,instruments!$M$2:$M$5037,0),1),\"\")","v":""}]
[1476,{"$f":"+IFERROR(INDEX(instruments!$N$2:$N$5037,MATCH(index!$A1520,instruments!$M$2:$M$5037,0),1),\"\")","v":""}]
[1477,{"$f":"+IFERROR(INDEX(instruments!$N$2:$N$5037,MATCH(index!$A1521,instruments!$M$2:$M$5037,0),1),\"\")","v":""}]
[1478,{"$f":"+IFERROR(INDEX(instruments!$N$2:$N$5037,MATCH(index!$A1522,instruments!$M$2:$M$5037,0),1),\"\")","v":""}]
[1479,{"$f":"+IFERROR(INDEX(instruments!$N$2:$N$5037,MATCH(index!$A1523,instruments!$M$2:$M$5037,0),1),\"\")","v":""}]
[1480,{"$f":"+IFERROR(INDEX(instruments!$N$2:$N$5037,MATCH(index!$A1524,instruments!$M$2:$M$5037,0),1),\"\")","v":""}]
[1481,{"$f":"+IFERROR(INDEX(instruments!$N$2:$N$5037,MATCH(index!$A1525,instruments!$M$2:$M$5037,0),1),\"\")","v":""}]
[1482,{"$f":"+IFERROR(INDEX(instruments!$N$2:$N$5037,MATCH(index!$A1526,instruments!$M$2:$M$5037,0),1),\"\")","v":""}]
[1483,{"$f":"+IFERROR(INDEX(instruments!$N$2:$N$5037,MATCH(index!$A1527,instruments!$M$2:$M$5037,0),1),\"\")","v":""}]
[1484,{"$f":"+IFERROR(INDEX(instruments!$N$2:$N$5037,MATCH(index!$A1528,instruments!$M$2:$M$5037,0),1),\"\")","v":""}]
[1485,{"$f":"+IFERROR(INDEX(instruments!$N$2:$N$5037,MATCH(index!$A1529,instruments!$M$2:$M$5037,0),1),\"\")","v":""}]
[1486,{"$f":"+IFERROR(INDEX(instruments!$N$2:$N$5037,MATCH(index!$A1530,instruments!$M$2:$M$5037,0),1),\"\")","v":""}]
[1487,{"$f":"+IFERROR(INDEX(instruments!$N$2:$N$5037,MATCH(index!$A1531,instruments!$M$2:$M$5037,0),1),\"\")","v":""}]
[1488,{"$f":"+IFERROR(INDEX(instruments!$N$2:$N$5037,MATCH(index!$A1532,instruments!$M$2:$M$5037,0),1),\"\")","v":""}]
[1489,{"$f":"+IFERROR(INDEX(instruments!$N$2:$N$5037,MATCH(index!$A1533,instruments!$M$2:$M$5037,0),1),\"\")","v":""}]
[1490,{"$f":"+IFERROR(INDEX(instruments!$N$2:$N$5037,MATCH(index!$A1534,instruments!$M$2:$M$5037,0),1),\"\")","v":""}]
[1491,{"$f":"+IFERROR(INDEX(instruments!$N$2:$N$5037,MATCH(index!$A1535,instruments!$M$2:$M$5037,0),1),\"\")","v":""}]
[1492,{"$f":"+IFERROR(INDEX(instruments!$N$2:$N$5037,MATCH(index!$A1536,instruments!$M$2:$M$5037,0),1),\"\")","v":""}]
[{"$f":"+A1536+1","v":1493},{"$f":"+IFERROR(INDEX(instruments!$N$2:$N$5037,MATCH(index!$A1537,instruments!$M$2:$M$5037,0),1),\"\")","v":""}]
[1494,{"$f":"+IFERROR(INDEX(instruments!$N$2:$N$5037,MATCH(index!$A1538,instruments!$M$2:$M$5037,0),1),\"\")","v":""}]
[1495,{"$f":"+IFERROR(INDEX(instruments!$N$2:$N$5037,MATCH(index!$A1539,instruments!$M$2:$M$5037,0),1),\"\")","v":""}]
[1496,{"$f":"+IFERROR(INDEX(instruments!$N$2:$N$5037,MATCH(index!$A1540,instruments!$M$2:$M$5037,0),1),\"\")","v":""}]
[1497,{"$f":"+IFERROR(INDEX(instruments!$N$2:$N$5037,MATCH(index!$A1541,instruments!$M$2:$M$5037,0),1),\"\")","v":""}]
[1498,{"$f":"+IFERROR(INDEX(instruments!$N$2:$N$5037,MATCH(index!$A1542,instruments!$M$2:$M$5037,0),1),\"\")","v":""}]
[1499,{"$f":"+IFERROR(INDEX(instruments!$N$2:$N$5037,MATCH(index!$A1543,instruments!$M$2:$M$5037,0),1),\"\")","v":""}]
[1500,{"$f":"+IFERROR(INDEX(instruments!$N$2:$N$5037,MATCH(index!$A1544,instruments!$M$2:$M$5037,0),1),\"\")","v":""}]
[1501,{"$f":"+IFERROR(INDEX(instruments!$N$2:$N$5037,MATCH(index!$A1545,instruments!$M$2:$M$5037,0),1),\"\")","v":""}]
[1502,{"$f":"+IFERROR(INDEX(instruments!$N$2:$N$5037,MATCH(index!$A1546,instruments!$M$2:$M$5037,0),1),\"\")","v":""}]
[1503,{"$f":"+IFERROR(INDEX(instruments!$N$2:$N$5037,MATCH(index!$A1547,instruments!$M$2:$M$5037,0),1),\"\")","v":""}]
[1504,{"$f":"+IFERROR(INDEX(instruments!$N$2:$N$5037,MATCH(index!$A1548,instruments!$M$2:$M$5037,0),1),\"\")","v":""}]
[1505,{"$f":"+IFERROR(INDEX(instruments!$N$2:$N$5037,MATCH(index!$A1549,instruments!$M$2:$M$5037,0),1),\"\")","v":""}]
[1506,{"$f":"+IFERROR(INDEX(instruments!$N$2:$N$5037,MATCH(index!$A1550,instruments!$M$2:$M$5037,0),1),\"\")","v":""}]
[1507,{"$f":"+IFERROR(INDEX(instruments!$N$2:$N$5037,MATCH(index!$A1551,instruments!$M$2:$M$5037,0),1),\"\")","v":""}]
[1508,{"$f":"+IFERROR(INDEX(instruments!$N$2:$N$5037,MATCH(index!$A1552,instruments!$M$2:$M$5037,0),1),\"\")","v":""}]
[1509,{"$f":"+IFERROR(INDEX(instruments!$N$2:$N$5037,MATCH(index!$A1553,instruments!$M$2:$M$5037,0),1),\"\")","v":""}]
[1510,{"$f":"+IFERROR(INDEX(instruments!$N$2:$N$5037,MATCH(index!$A1554,instruments!$M$2:$M$5037,0),1),\"\")","v":""}]
[1511,{"$f":"+IFERROR(INDEX(instruments!$N$2:$N$5037,MATCH(index!$A1555,instruments!$M$2:$M$5037,0),1),\"\")","v":""}]
[1512,{"$f":"+IFERROR(INDEX(instruments!$N$2:$N$5037,MATCH(index!$A1556,instruments!$M$2:$M$5037,0),1),\"\")","v":""}]
[1513,{"$f":"+IFERROR(INDEX(instruments!$N$2:$N$5037,MATCH(index!$A1557,instruments!$M$2:$M$5037,0),1),\"\")","v":""}]
[1514,{"$f":"+IFERROR(INDEX(instruments!$N$2:$N$5037,MATCH(index!$A1558,instruments!$M$2:$M$5037,0),1),\"\")","v":""}]
[1515,{"$f":"+IFERROR(INDEX(instruments!$N$2:$N$5037,MATCH(index!$A1559,instruments!$M$2:$M$5037,0),1),\"\")","v":""}]
[1516,{"$f":"+IFERROR(INDEX(instruments!$N$2:$N$5037,MATCH(index!$A1560,instruments!$M$2:$M$5037,0),1),\"\")","v":""}]
[1517,{"$f":"+IFERROR(INDEX(instruments!$N$2:$N$5037,MATCH(index!$A1561,instruments!$M$2:$M$5037,0),1),\"\")","v":""}]
[1518,{"$f":"+IFERROR(INDEX(instruments!$N$2:$N$5037,MATCH(index!$A1562,instruments!$M$2:$M$5037,0),1),\"\")","v":""}]
[1519,{"$f":"+IFERROR(INDEX(instruments!$N$2:$N$5037,MATCH(index!$A1563,instruments!$M$2:$M$5037,0),1),\"\")","v":""}]
[1520,{"$f":"+IFERROR(INDEX(instruments!$N$2:$N$5037,MATCH(index!$A1564,instruments!$M$2:$M$5037,0),1),\"\")","v":""}]
[1521,{"$f":"+IFERROR(INDEX(instruments!$N$2:$N$5037,MATCH(index!$A1565,instruments!$M$2:$M$5037,0),1),\"\")","v":""}]
[1522,{"$f":"+IFERROR(INDEX(instruments!$N$2:$N$5037,MATCH(index!$A1566,instruments!$M$2:$M$5037,0),1),\"\")","v":""}]
[1523,{"$f":"+IFERROR(INDEX(instruments!$N$2:$N$5037,MATCH(index!$A1567,instruments!$M$2:$M$5037,0),1),\"\")","v":""}]
[1524,{"$f":"+IFERROR(INDEX(instruments!$N$2:$N$5037,MATCH(index!$A1568,instruments!$M$2:$M$5037,0),1),\"\")","v":""}]
[1525,{"$f":"+IFERROR(INDEX(instruments!$N$2:$N$5037,MATCH(index!$A1569,instruments!$M$2:$M$5037,0),1),\"\")","v":""}]
[1526,{"$f":"+IFERROR(INDEX(instruments!$N$2:$N$5037,MATCH(index!$A1570,instruments!$M$2:$M$5037,0),1),\"\")","v":""}]
[1527,{"$f":"+IFERROR(INDEX(instruments!$N$2:$N$5037,MATCH(index!$A1571,instruments!$M$2:$M$5037,0),1),\"\")","v":""}]
[1528,{"$f":"+IFERROR(INDEX(instruments!$N$2:$N$5037,MATCH(index!$A1572,instruments!$M$2:$M$5037,0),1),\"\")","v":""}]
[1529,{"$f":"+IFERROR(INDEX(instruments!$N$2:$N$5037,MATCH(index!$A1573,instruments!$M$2:$M$5037,0),1),\"\")","v":""}]
[1530,{"$f":"+IFERROR(INDEX(instruments!$N$2:$N$5037,MATCH(index!$A1574,instruments!$M$2:$M$5037,0),1),\"\")","v":""}]
[1531,{"$f":"+IFERROR(INDEX(instruments!$N$2:$N$5037,MATCH(index!$A1575,instruments!$M$2:$M$5037,0),1),\"\")","v":""}]
[1532,{"$f":"+IFERROR(INDEX(instruments!$N$2:$N$5037,MATCH(index!$A1576,instruments!$M$2:$M$5037,0),1),\"\")","v":""}]
[1533,{"$f":"+IFERROR(INDEX(instruments!$N$2:$N$5037,MATCH(index!$A1577,instruments!$M$2:$M$5037,0),1),\"\")","v":""}]
[1534,{"$f":"+IFERROR(INDEX(instruments!$N$2:$N$5037,MATCH(index!$A1578,instruments!$M$2:$M$5037,0),1),\"\")","v":""}]
[1535,{"$f":"+IFERROR(INDEX(instruments!$N$2:$N$5037,MATCH(index!$A1579,instruments!$M$2:$M$5037,0),1),\"\")","v":""}]
[1536,{"$f":"+IFERROR(INDEX(instruments!$N$2:$N$5037,MATCH(index!$A1580,instruments!$M$2:$M$5037,0),1),\"\")","v":""}]
[1537,{"$f":"+IFERROR(INDEX(instruments!$N$2:$N$5037,MATCH(index!$A1581,instruments!$M$2:$M$5037,0),1),\"\")","v":""}]
[1538,{"$f":"+IFERROR(INDEX(instruments!$N$2:$N$5037,MATCH(index!$A1582,instruments!$M$2:$M$5037,0),1),\"\")","v":""}]
[1539,{"$f":"+IFERROR(INDEX(instruments!$N$2:$N$5037,MATCH(index!$A1583,instruments!$M$2:$M$5037,0),1),\"\")","v":""}]
[1540,{"$f":"+IFERROR(INDEX(instruments!$N$2:$N$5037,MATCH(index!$A1584,instruments!$M$2:$M$5037,0),1),\"\")","v":""}]
[1541,{"$f":"+IFERROR(INDEX(instruments!$N$2:$N$5037,MATCH(index!$A1585,instruments!$M$2:$M$5037,0),1),\"\")","v":""}]
[1542,{"$f":"+IFERROR(INDEX(instruments!$N$2:$N$5037,MATCH(index!$A1586,instruments!$M$2:$M$5037,0),1),\"\")","v":""}]
[1543,{"$f":"+IFERROR(INDEX(instruments!$N$2:$N$5037,MATCH(index!$A1587,instruments!$M$2:$M$5037,0),1),\"\")","v":""}]
[1544,{"$f":"+IFERROR(INDEX(instruments!$N$2:$N$5037,MATCH(index!$A1588,instruments!$M$2:$M$5037,0),1),\"\")","v":""}]
[1545,{"$f":"+IFERROR(INDEX(instruments!$N$2:$N$5037,MATCH(index!$A1589,instruments!$M$2:$M$5037,0),1),\"\")","v":""}]
[1546,{"$f":"+IFERROR(INDEX(instruments!$N$2:$N$5037,MATCH(index!$A1590,instruments!$M$2:$M$5037,0),1),\"\")","v":""}]
[1547,{"$f":"+IFERROR(INDEX(instruments!$N$2:$N$5037,MATCH(index!$A1591,instruments!$M$2:$M$5037,0),1),\"\")","v":""}]
[1548,{"$f":"+IFERROR(INDEX(instruments!$N$2:$N$5037,MATCH(index!$A1592,instruments!$M$2:$M$5037,0),1),\"\")","v":""}]
[1549,{"$f":"+IFERROR(INDEX(instruments!$N$2:$N$5037,MATCH(index!$A1593,instruments!$M$2:$M$5037,0),1),\"\")","v":""}]
[1550,{"$f":"+IFERROR(INDEX(instruments!$N$2:$N$5037,MATCH(index!$A1594,instruments!$M$2:$M$5037,0),1),\"\")","v":""}]
[1551,{"$f":"+IFERROR(INDEX(instruments!$N$2:$N$5037,MATCH(index!$A1595,instruments!$M$2:$M$5037,0),1),\"\")","v":""}]
[1552,{"$f":"+IFERROR(INDEX(instruments!$N$2:$N$5037,MATCH(index!$A1596,instruments!$M$2:$M$5037,0),1),\"\")","v":""}]
[1553,{"$f":"+IFERROR(INDEX(instruments!$N$2:$N$5037,MATCH(index!$A1597,instruments!$M$2:$M$5037,0),1),\"\")","v":""}]
[1554,{"$f":"+IFERROR(INDEX(instruments!$N$2:$N$5037,MATCH(index!$A1598,instruments!$M$2:$M$5037,0),1),\"\")","v":""}]
[1555,{"$f":"+IFERROR(INDEX(instruments!$N$2:$N$5037,MATCH(index!$A1599,instruments!$M$2:$M$5037,0),1),\"\")","v":""}]
[1556,{"$f":"+IFERROR(INDEX(instruments!$N$2:$N$5037,MATCH(index!$A1600,instruments!$M$2:$M$5037,0),1),\"\")","v":""}]
[{"$f":"+A1600+1","v":1557},{"$f":"+IFERROR(INDEX(instruments!$N$2:$N$5037,MATCH(index!$A1601,instruments!$M$2:$M$5037,0),1),\"\")","v":""}]
[1558,{"$f":"+IFERROR(INDEX(instruments!$N$2:$N$5037,MATCH(index!$A1602,instruments!$M$2:$M$5037,0),1),\"\")","v":""}]
[1559,{"$f":"+IFERROR(INDEX(instruments!$N$2:$N$5037,MATCH(index!$A1603,instruments!$M$2:$M$5037,0),1),\"\")","v":""}]
[1560,{"$f":"+IFERROR(INDEX(instruments!$N$2:$N$5037,MATCH(index!$A1604,instruments!$M$2:$M$5037,0),1),\"\")","v":""}]
[1561,{"$f":"+IFERROR(INDEX(instruments!$N$2:$N$5037,MATCH(index!$A1605,instruments!$M$2:$M$5037,0),1),\"\")","v":""}]
[1562,{"$f":"+IFERROR(INDEX(instruments!$N$2:$N$5037,MATCH(index!$A1606,instruments!$M$2:$M$5037,0),1),\"\")","v":""}]
[1563,{"$f":"+IFERROR(INDEX(instruments!$N$2:$N$5037,MATCH(index!$A1607,instruments!$M$2:$M$5037,0),1),\"\")","v":""}]
[1564,{"$f":"+IFERROR(INDEX(instruments!$N$2:$N$5037,MATCH(index!$A1608,instruments!$M$2:$M$5037,0),1),\"\")","v":""}]
[1565,{"$f":"+IFERROR(INDEX(instruments!$N$2:$N$5037,MATCH(index!$A1609,instruments!$M$2:$M$5037,0),1),\"\")","v":""}]
[1566,{"$f":"+IFERROR(INDEX(instruments!$N$2:$N$5037,MATCH(index!$A1610,instruments!$M$2:$M$5037,0),1),\"\")","v":""}]
[1567,{"$f":"+IFERROR(INDEX(instruments!$N$2:$N$5037,MATCH(index!$A1611,instruments!$M$2:$M$5037,0),1),\"\")","v":""}]
[1568,{"$f":"+IFERROR(INDEX(instruments!$N$2:$N$5037,MATCH(index!$A1612,instruments!$M$2:$M$5037,0),1),\"\")","v":""}]
[1569,{"$f":"+IFERROR(INDEX(instruments!$N$2:$N$5037,MATCH(index!$A1613,instruments!$M$2:$M$5037,0),1),\"\")","v":""}]
[1570,{"$f":"+IFERROR(INDEX(instruments!$N$2:$N$5037,MATCH(index!$A1614,instruments!$M$2:$M$5037,0),1),\"\")","v":""}]
[1571,{"$f":"+IFERROR(INDEX(instruments!$N$2:$N$5037,MATCH(index!$A1615,instruments!$M$2:$M$5037,0),1),\"\")","v":""}]
[1572,{"$f":"+IFERROR(INDEX(instruments!$N$2:$N$5037,MATCH(index!$A1616,instruments!$M$2:$M$5037,0),1),\"\")","v":""}]
[1573,{"$f":"+IFERROR(INDEX(instruments!$N$2:$N$5037,MATCH(index!$A1617,instruments!$M$2:$M$5037,0),1),\"\")","v":""}]
[1574,{"$f":"+IFERROR(INDEX(instruments!$N$2:$N$5037,MATCH(index!$A1618,instruments!$M$2:$M$5037,0),1),\"\")","v":""}]
[1575,{"$f":"+IFERROR(INDEX(instruments!$N$2:$N$5037,MATCH(index!$A1619,instruments!$M$2:$M$5037,0),1),\"\")","v":""}]
[1576,{"$f":"+IFERROR(INDEX(instruments!$N$2:$N$5037,MATCH(index!$A1620,instruments!$M$2:$M$5037,0),1),\"\")","v":""}]
[1577,{"$f":"+IFERROR(INDEX(instruments!$N$2:$N$5037,MATCH(index!$A1621,instruments!$M$2:$M$5037,0),1),\"\")","v":""}]
[1578,{"$f":"+IFERROR(INDEX(instruments!$N$2:$N$5037,MATCH(index!$A1622,instruments!$M$2:$M$5037,0),1),\"\")","v":""}]
[1579,{"$f":"+IFERROR(INDEX(instruments!$N$2:$N$5037,MATCH(index!$A1623,instruments!$M$2:$M$5037,0),1),\"\")","v":""}]
[1580,{"$f":"+IFERROR(INDEX(instruments!$N$2:$N$5037,MATCH(index!$A1624,instruments!$M$2:$M$5037,0),1),\"\")","v":""}]
[1581,{"$f":"+IFERROR(INDEX(instruments!$N$2:$N$5037,MATCH(index!$A1625,instruments!$M$2:$M$5037,0),1),\"\")","v":""}]
[1582,{"$f":"+IFERROR(INDEX(instruments!$N$2:$N$5037,MATCH(index!$A1626,instruments!$M$2:$M$5037,0),1),\"\")","v":""}]
[1583,{"$f":"+IFERROR(INDEX(instruments!$N$2:$N$5037,MATCH(index!$A1627,instruments!$M$2:$M$5037,0),1),\"\")","v":""}]
[1584,{"$f":"+IFERROR(INDEX(instruments!$N$2:$N$5037,MATCH(index!$A1628,instruments!$M$2:$M$5037,0),1),\"\")","v":""}]
[1585,{"$f":"+IFERROR(INDEX(instruments!$N$2:$N$5037,MATCH(index!$A1629,instruments!$M$2:$M$5037,0),1),\"\")","v":""}]
[1586,{"$f":"+IFERROR(INDEX(instruments!$N$2:$N$5037,MATCH(index!$A1630,instruments!$M$2:$M$5037,0),1),\"\")","v":""}]
[1587,{"$f":"+IFERROR(INDEX(instruments!$N$2:$N$5037,MATCH(index!$A1631,instruments!$M$2:$M$5037,0),1),\"\")","v":""}]
[1588,{"$f":"+IFERROR(INDEX(instruments!$N$2:$N$5037,MATCH(index!$A1632,instruments!$M$2:$M$5037,0),1),\"\")","v":""}]
[1589,{"$f":"+IFERROR(INDEX(instruments!$N$2:$N$5037,MATCH(index!$A1633,instruments!$M$2:$M$5037,0),1),\"\")","v":""}]
[1590,{"$f":"+IFERROR(INDEX(instruments!$N$2:$N$5037,MATCH(index!$A1634,instruments!$M$2:$M$5037,0),1),\"\")","v":""}]
[1591,{"$f":"+IFERROR(INDEX(instruments!$N$2:$N$5037,MATCH(index!$A1635,instruments!$M$2:$M$5037,0),1),\"\")","v":""}]
[1592,{"$f":"+IFERROR(INDEX(instruments!$N$2:$N$5037,MATCH(index!$A1636,instruments!$M$2:$M$5037,0),1),\"\")","v":""}]
[1593,{"$f":"+IFERROR(INDEX(instruments!$N$2:$N$5037,MATCH(index!$A1637,instruments!$M$2:$M$5037,0),1),\"\")","v":""}]
[1594,{"$f":"+IFERROR(INDEX(instruments!$N$2:$N$5037,MATCH(index!$A1638,instruments!$M$2:$M$5037,0),1),\"\")","v":""}]
[1595,{"$f":"+IFERROR(INDEX(instruments!$N$2:$N$5037,MATCH(index!$A1639,instruments!$M$2:$M$5037,0),1),\"\")","v":""}]
[1596,{"$f":"+IFERROR(INDEX(instruments!$N$2:$N$5037,MATCH(index!$A1640,instruments!$M$2:$M$5037,0),1),\"\")","v":""}]
[1597,{"$f":"+IFERROR(INDEX(instruments!$N$2:$N$5037,MATCH(index!$A1641,instruments!$M$2:$M$5037,0),1),\"\")","v":""}]
[1598,{"$f":"+IFERROR(INDEX(instruments!$N$2:$N$5037,MATCH(index!$A1642,instruments!$M$2:$M$5037,0),1),\"\")","v":""}]
[1599,{"$f":"+IFERROR(INDEX(instruments!$N$2:$N$5037,MATCH(index!$A1643,instruments!$M$2:$M$5037,0),1),\"\")","v":""}]
[1600,{"$f":"+IFERROR(INDEX(instruments!$N$2:$N$5037,MATCH(index!$A1644,instruments!$M$2:$M$5037,0),1),\"\")","v":""}]
[1601,{"$f":"+IFERROR(INDEX(instruments!$N$2:$N$5037,MATCH(index!$A1645,instruments!$M$2:$M$5037,0),1),\"\")","v":""}]
[1602,{"$f":"+IFERROR(INDEX(instruments!$N$2:$N$5037,MATCH(index!$A1646,instruments!$M$2:$M$5037,0),1),\"\")","v":""}]
[1603,{"$f":"+IFERROR(INDEX(instruments!$N$2:$N$5037,MATCH(index!$A1647,instruments!$M$2:$M$5037,0),1),\"\")","v":""}]
[1604,{"$f":"+IFERROR(INDEX(instruments!$N$2:$N$5037,MATCH(index!$A1648,instruments!$M$2:$M$5037,0),1),\"\")","v":""}]
[1605,{"$f":"+IFERROR(INDEX(instruments!$N$2:$N$5037,MATCH(index!$A1649,instruments!$M$2:$M$5037,0),1),\"\")","v":""}]
[1606,{"$f":"+IFERROR(INDEX(instruments!$N$2:$N$5037,MATCH(index!$A1650,instruments!$M$2:$M$5037,0),1),\"\")","v":""}]
[1607,{"$f":"+IFERROR(INDEX(instruments!$N$2:$N$5037,MATCH(index!$A1651,instruments!$M$2:$M$5037,0),1),\"\")","v":""}]
[1608,{"$f":"+IFERROR(INDEX(instruments!$N$2:$N$5037,MATCH(index!$A1652,instruments!$M$2:$M$5037,0),1),\"\")","v":""}]
[1609,{"$f":"+IFERROR(INDEX(instruments!$N$2:$N$5037,MATCH(index!$A1653,instruments!$M$2:$M$5037,0),1),\"\")","v":""}]
[1610,{"$f":"+IFERROR(INDEX(instruments!$N$2:$N$5037,MATCH(index!$A1654,instruments!$M$2:$M$5037,0),1),\"\")","v":""}]
[1611,{"$f":"+IFERROR(INDEX(instruments!$N$2:$N$5037,MATCH(index!$A1655,instruments!$M$2:$M$5037,0),1),\"\")","v":""}]
[1612,{"$f":"+IFERROR(INDEX(instruments!$N$2:$N$5037,MATCH(index!$A1656,instruments!$M$2:$M$5037,0),1),\"\")","v":""}]
[1613,{"$f":"+IFERROR(INDEX(instruments!$N$2:$N$5037,MATCH(index!$A1657,instruments!$M$2:$M$5037,0),1),\"\")","v":""}]
[1614,{"$f":"+IFERROR(INDEX(instruments!$N$2:$N$5037,MATCH(index!$A1658,instruments!$M$2:$M$5037,0),1),\"\")","v":""}]
[1615,{"$f":"+IFERROR(INDEX(instruments!$N$2:$N$5037,MATCH(index!$A1659,instruments!$M$2:$M$5037,0),1),\"\")","v":""}]
[1616,{"$f":"+IFERROR(INDEX(instruments!$N$2:$N$5037,MATCH(index!$A1660,instruments!$M$2:$M$5037,0),1),\"\")","v":""}]
[1617,{"$f":"+IFERROR(INDEX(instruments!$N$2:$N$5037,MATCH(index!$A1661,instruments!$M$2:$M$5037,0),1),\"\")","v":""}]
[1618,{"$f":"+IFERROR(INDEX(instruments!$N$2:$N$5037,MATCH(index!$A1662,instruments!$M$2:$M$5037,0),1),\"\")","v":""}]
[1619,{"$f":"+IFERROR(INDEX(instruments!$N$2:$N$5037,MATCH(index!$A1663,instruments!$M$2:$M$5037,0),1),\"\")","v":""}]
[1620,{"$f":"+IFERROR(INDEX(instruments!$N$2:$N$5037,MATCH(index!$A1664,instruments!$M$2:$M$5037,0),1),\"\")","v":""}]
[{"$f":"+A1664+1","v":1621},{"$f":"+IFERROR(INDEX(instruments!$N$2:$N$5037,MATCH(index!$A1665,instruments!$M$2:$M$5037,0),1),\"\")","v":""}]
[1622,{"$f":"+IFERROR(INDEX(instruments!$N$2:$N$5037,MATCH(index!$A1666,instruments!$M$2:$M$5037,0),1),\"\")","v":""}]
[1623,{"$f":"+IFERROR(INDEX(instruments!$N$2:$N$5037,MATCH(index!$A1667,instruments!$M$2:$M$5037,0),1),\"\")","v":""}]
[1624,{"$f":"+IFERROR(INDEX(instruments!$N$2:$N$5037,MATCH(index!$A1668,instruments!$M$2:$M$5037,0),1),\"\")","v":""}]
[1625,{"$f":"+IFERROR(INDEX(instruments!$N$2:$N$5037,MATCH(index!$A1669,instruments!$M$2:$M$5037,0),1),\"\")","v":""}]
[1626,{"$f":"+IFERROR(INDEX(instruments!$N$2:$N$5037,MATCH(index!$A1670,instruments!$M$2:$M$5037,0),1),\"\")","v":""}]
[1627,{"$f":"+IFERROR(INDEX(instruments!$N$2:$N$5037,MATCH(index!$A1671,instruments!$M$2:$M$5037,0),1),\"\")","v":""}]
[1628,{"$f":"+IFERROR(INDEX(instruments!$N$2:$N$5037,MATCH(index!$A1672,instruments!$M$2:$M$5037,0),1),\"\")","v":""}]
[1629,{"$f":"+IFERROR(INDEX(instruments!$N$2:$N$5037,MATCH(index!$A1673,instruments!$M$2:$M$5037,0),1),\"\")","v":""}]
[1630,{"$f":"+IFERROR(INDEX(instruments!$N$2:$N$5037,MATCH(index!$A1674,instruments!$M$2:$M$5037,0),1),\"\")","v":""}]
[1631,{"$f":"+IFERROR(INDEX(instruments!$N$2:$N$5037,MATCH(index!$A1675,instruments!$M$2:$M$5037,0),1),\"\")","v":""}]
[1632,{"$f":"+IFERROR(INDEX(instruments!$N$2:$N$5037,MATCH(index!$A1676,instruments!$M$2:$M$5037,0),1),\"\")","v":""}]
[1633,{"$f":"+IFERROR(INDEX(instruments!$N$2:$N$5037,MATCH(index!$A1677,instruments!$M$2:$M$5037,0),1),\"\")","v":""}]
[1634,{"$f":"+IFERROR(INDEX(instruments!$N$2:$N$5037,MATCH(index!$A1678,instruments!$M$2:$M$5037,0),1),\"\")","v":""}]
[1635,{"$f":"+IFERROR(INDEX(instruments!$N$2:$N$5037,MATCH(index!$A1679,instruments!$M$2:$M$5037,0),1),\"\")","v":""}]
[1636,{"$f":"+IFERROR(INDEX(instruments!$N$2:$N$5037,MATCH(index!$A1680,instruments!$M$2:$M$5037,0),1),\"\")","v":""}]
[1637,{"$f":"+IFERROR(INDEX(instruments!$N$2:$N$5037,MATCH(index!$A1681,instruments!$M$2:$M$5037,0),1),\"\")","v":""}]
[1638,{"$f":"+IFERROR(INDEX(instruments!$N$2:$N$5037,MATCH(index!$A1682,instruments!$M$2:$M$5037,0),1),\"\")","v":""}]
[1639,{"$f":"+IFERROR(INDEX(instruments!$N$2:$N$5037,MATCH(index!$A1683,instruments!$M$2:$M$5037,0),1),\"\")","v":""}]
[1640,{"$f":"+IFERROR(INDEX(instruments!$N$2:$N$5037,MATCH(index!$A1684,instruments!$M$2:$M$5037,0),1),\"\")","v":""}]
[1641,{"$f":"+IFERROR(INDEX(instruments!$N$2:$N$5037,MATCH(index!$A1685,instruments!$M$2:$M$5037,0),1),\"\")","v":""}]
[1642,{"$f":"+IFERROR(INDEX(instruments!$N$2:$N$5037,MATCH(index!$A1686,instruments!$M$2:$M$5037,0),1),\"\")","v":""}]
[1643,{"$f":"+IFERROR(INDEX(instruments!$N$2:$N$5037,MATCH(index!$A1687,instruments!$M$2:$M$5037,0),1),\"\")","v":""}]
[1644,{"$f":"+IFERROR(INDEX(instruments!$N$2:$N$5037,MATCH(index!$A1688,instruments!$M$2:$M$5037,0),1),\"\")","v":""}]
[1645,{"$f":"+IFERROR(INDEX(instruments!$N$2:$N$5037,MATCH(index!$A1689,instruments!$M$2:$M$5037,0),1),\"\")","v":""}]
[1646,{"$f":"+IFERROR(INDEX(instruments!$N$2:$N$5037,MATCH(index!$A1690,instruments!$M$2:$M$5037,0),1),\"\")","v":""}]
[1647,{"$f":"+IFERROR(INDEX(instruments!$N$2:$N$5037,MATCH(index!$A1691,instruments!$M$2:$M$5037,0),1),\"\")","v":""}]
[1648,{"$f":"+IFERROR(INDEX(instruments!$N$2:$N$5037,MATCH(index!$A1692,instruments!$M$2:$M$5037,0),1),\"\")","v":""}]
[1649,{"$f":"+IFERROR(INDEX(instruments!$N$2:$N$5037,MATCH(index!$A1693,instruments!$M$2:$M$5037,0),1),\"\")","v":""}]
[1650,{"$f":"+IFERROR(INDEX(instruments!$N$2:$N$5037,MATCH(index!$A1694,instruments!$M$2:$M$5037,0),1),\"\")","v":""}]
[1651,{"$f":"+IFERROR(INDEX(instruments!$N$2:$N$5037,MATCH(index!$A1695,instruments!$M$2:$M$5037,0),1),\"\")","v":""}]
[1652,{"$f":"+IFERROR(INDEX(instruments!$N$2:$N$5037,MATCH(index!$A1696,instruments!$M$2:$M$5037,0),1),\"\")","v":""}]
[1653,{"$f":"+IFERROR(INDEX(instruments!$N$2:$N$5037,MATCH(index!$A1697,instruments!$M$2:$M$5037,0),1),\"\")","v":""}]
[1654,{"$f":"+IFERROR(INDEX(instruments!$N$2:$N$5037,MATCH(index!$A1698,instruments!$M$2:$M$5037,0),1),\"\")","v":""}]
[1655,{"$f":"+IFERROR(INDEX(instruments!$N$2:$N$5037,MATCH(index!$A1699,instruments!$M$2:$M$5037,0),1),\"\")","v":""}]
[1656,{"$f":"+IFERROR(INDEX(instruments!$N$2:$N$5037,MATCH(index!$A1700,instruments!$M$2:$M$5037,0),1),\"\")","v":""}]
[1657,{"$f":"+IFERROR(INDEX(instruments!$N$2:$N$5037,MATCH(index!$A1701,instruments!$M$2:$M$5037,0),1),\"\")","v":""}]
[1658,{"$f":"+IFERROR(INDEX(instruments!$N$2:$N$5037,MATCH(index!$A1702,instruments!$M$2:$M$5037,0),1),\"\")","v":""}]
[1659,{"$f":"+IFERROR(INDEX(instruments!$N$2:$N$5037,MATCH(index!$A1703,instruments!$M$2:$M$5037,0),1),\"\")","v":""}]
[1660,{"$f":"+IFERROR(INDEX(instruments!$N$2:$N$5037,MATCH(index!$A1704,instruments!$M$2:$M$5037,0),1),\"\")","v":""}]
[1661,{"$f":"+IFERROR(INDEX(instruments!$N$2:$N$5037,MATCH(index!$A1705,instruments!$M$2:$M$5037,0),1),\"\")","v":""}]
[1662,{"$f":"+IFERROR(INDEX(instruments!$N$2:$N$5037,MATCH(index!$A1706,instruments!$M$2:$M$5037,0),1),\"\")","v":""}]
[1663,{"$f":"+IFERROR(INDEX(instruments!$N$2:$N$5037,MATCH(index!$A1707,instruments!$M$2:$M$5037,0),1),\"\")","v":""}]
[1664,{"$f":"+IFERROR(INDEX(instruments!$N$2:$N$5037,MATCH(index!$A1708,instruments!$M$2:$M$5037,0),1),\"\")","v":""}]
[1665,{"$f":"+IFERROR(INDEX(instruments!$N$2:$N$5037,MATCH(index!$A1709,instruments!$M$2:$M$5037,0),1),\"\")","v":""}]
[1666,{"$f":"+IFERROR(INDEX(instruments!$N$2:$N$5037,MATCH(index!$A1710,instruments!$M$2:$M$5037,0),1),\"\")","v":""}]
[1667,{"$f":"+IFERROR(INDEX(instruments!$N$2:$N$5037,MATCH(index!$A1711,instruments!$M$2:$M$5037,0),1),\"\")","v":""}]
[1668,{"$f":"+IFERROR(INDEX(instruments!$N$2:$N$5037,MATCH(index!$A1712,instruments!$M$2:$M$5037,0),1),\"\")","v":""}]
[1669,{"$f":"+IFERROR(INDEX(instruments!$N$2:$N$5037,MATCH(index!$A1713,instruments!$M$2:$M$5037,0),1),\"\")","v":""}]
[1670,{"$f":"+IFERROR(INDEX(instruments!$N$2:$N$5037,MATCH(index!$A1714,instruments!$M$2:$M$5037,0),1),\"\")","v":""}]
[1671,{"$f":"+IFERROR(INDEX(instruments!$N$2:$N$5037,MATCH(index!$A1715,instruments!$M$2:$M$5037,0),1),\"\")","v":""}]
[1672,{"$f":"+IFERROR(INDEX(instruments!$N$2:$N$5037,MATCH(index!$A1716,instruments!$M$2:$M$5037,0),1),\"\")","v":""}]
[1673,{"$f":"+IFERROR(INDEX(instruments!$N$2:$N$5037,MATCH(index!$A1717,instruments!$M$2:$M$5037,0),1),\"\")","v":""}]
[1674,{"$f":"+IFERROR(INDEX(instruments!$N$2:$N$5037,MATCH(index!$A1718,instruments!$M$2:$M$5037,0),1),\"\")","v":""}]
[1675,{"$f":"+IFERROR(INDEX(instruments!$N$2:$N$5037,MATCH(index!$A1719,instruments!$M$2:$M$5037,0),1),\"\")","v":""}]
[1676,{"$f":"+IFERROR(INDEX(instruments!$N$2:$N$5037,MATCH(index!$A1720,instruments!$M$2:$M$5037,0),1),\"\")","v":""}]
[1677,{"$f":"+IFERROR(INDEX(instruments!$N$2:$N$5037,MATCH(index!$A1721,instruments!$M$2:$M$5037,0),1),\"\")","v":""}]
[1678,{"$f":"+IFERROR(INDEX(instruments!$N$2:$N$5037,MATCH(index!$A1722,instruments!$M$2:$M$5037,0),1),\"\")","v":""}]
[1679,{"$f":"+IFERROR(INDEX(instruments!$N$2:$N$5037,MATCH(index!$A1723,instruments!$M$2:$M$5037,0),1),\"\")","v":""}]
[1680,{"$f":"+IFERROR(INDEX(instruments!$N$2:$N$5037,MATCH(index!$A1724,instruments!$M$2:$M$5037,0),1),\"\")","v":""}]
[1681,{"$f":"+IFERROR(INDEX(instruments!$N$2:$N$5037,MATCH(index!$A1725,instruments!$M$2:$M$5037,0),1),\"\")","v":""}]
[1682,{"$f":"+IFERROR(INDEX(instruments!$N$2:$N$5037,MATCH(index!$A1726,instruments!$M$2:$M$5037,0),1),\"\")","v":""}]
[1683,{"$f":"+IFERROR(INDEX(instruments!$N$2:$N$5037,MATCH(index!$A1727,instruments!$M$2:$M$5037,0),1),\"\")","v":""}]
[1684,{"$f":"+IFERROR(INDEX(instruments!$N$2:$N$5037,MATCH(index!$A1728,instruments!$M$2:$M$5037,0),1),\"\")","v":""}]
[{"$f":"+A1728+1","v":1685},{"$f":"+IFERROR(INDEX(instruments!$N$2:$N$5037,MATCH(index!$A1729,instruments!$M$2:$M$5037,0),1),\"\")","v":""}]
[1686,{"$f":"+IFERROR(INDEX(instruments!$N$2:$N$5037,MATCH(index!$A1730,instruments!$M$2:$M$5037,0),1),\"\")","v":""}]
[1687,{"$f":"+IFERROR(INDEX(instruments!$N$2:$N$5037,MATCH(index!$A1731,instruments!$M$2:$M$5037,0),1),\"\")","v":""}]
[1688,{"$f":"+IFERROR(INDEX(instruments!$N$2:$N$5037,MATCH(index!$A1732,instruments!$M$2:$M$5037,0),1),\"\")","v":""}]
[1689,{"$f":"+IFERROR(INDEX(instruments!$N$2:$N$5037,MATCH(index!$A1733,instruments!$M$2:$M$5037,0),1),\"\")","v":""}]
[1690,{"$f":"+IFERROR(INDEX(instruments!$N$2:$N$5037,MATCH(index!$A1734,instruments!$M$2:$M$5037,0),1),\"\")","v":""}]
[1691,{"$f":"+IFERROR(INDEX(instruments!$N$2:$N$5037,MATCH(index!$A1735,instruments!$M$2:$M$5037,0),1),\"\")","v":""}]
[1692,{"$f":"+IFERROR(INDEX(instruments!$N$2:$N$5037,MATCH(index!$A1736,instruments!$M$2:$M$5037,0),1),\"\")","v":""}]
[1693,{"$f":"+IFERROR(INDEX(instruments!$N$2:$N$5037,MATCH(index!$A1737,instruments!$M$2:$M$5037,0),1),\"\")","v":""}]
[1694,{"$f":"+IFERROR(INDEX(instruments!$N$2:$N$5037,MATCH(index!$A1738,instruments!$M$2:$M$5037,0),1),\"\")","v":""}]
[1695,{"$f":"+IFERROR(INDEX(instruments!$N$2:$N$5037,MATCH(index!$A1739,instruments!$M$2:$M$5037,0),1),\"\")","v":""}]
[1696,{"$f":"+IFERROR(INDEX(instruments!$N$2:$N$5037,MATCH(index!$A1740,instruments!$M$2:$M$5037,0),1),\"\")","v":""}]
[1697,{"$f":"+IFERROR(INDEX(instruments!$N$2:$N$5037,MATCH(index!$A1741,instruments!$M$2:$M$5037,0),1),\"\")","v":""}]
[1698,{"$f":"+IFERROR(INDEX(instruments!$N$2:$N$5037,MATCH(index!$A1742,instruments!$M$2:$M$5037,0),1),\"\")","v":""}]
[1699,{"$f":"+IFERROR(INDEX(instruments!$N$2:$N$5037,MATCH(index!$A1743,instruments!$M$2:$M$5037,0),1),\"\")","v":""}]
[1700,{"$f":"+IFERROR(INDEX(instruments!$N$2:$N$5037,MATCH(index!$A1744,instruments!$M$2:$M$5037,0),1),\"\")","v":""}]
[1701,{"$f":"+IFERROR(INDEX(instruments!$N$2:$N$5037,MATCH(index!$A1745,instruments!$M$2:$M$5037,0),1),\"\")","v":""}]
[1702,{"$f":"+IFERROR(INDEX(instruments!$N$2:$N$5037,MATCH(index!$A1746,instruments!$M$2:$M$5037,0),1),\"\")","v":""}]
[1703,{"$f":"+IFERROR(INDEX(instruments!$N$2:$N$5037,MATCH(index!$A1747,instruments!$M$2:$M$5037,0),1),\"\")","v":""}]
[1704,{"$f":"+IFERROR(INDEX(instruments!$N$2:$N$5037,MATCH(index!$A1748,instruments!$M$2:$M$5037,0),1),\"\")","v":""}]
[1705,{"$f":"+IFERROR(INDEX(instruments!$N$2:$N$5037,MATCH(index!$A1749,instruments!$M$2:$M$5037,0),1),\"\")","v":""}]
[1706,{"$f":"+IFERROR(INDEX(instruments!$N$2:$N$5037,MATCH(index!$A1750,instruments!$M$2:$M$5037,0),1),\"\")","v":""}]
[1707,{"$f":"+IFERROR(INDEX(instruments!$N$2:$N$5037,MATCH(index!$A1751,instruments!$M$2:$M$5037,0),1),\"\")","v":""}]
[1708,{"$f":"+IFERROR(INDEX(instruments!$N$2:$N$5037,MATCH(index!$A1752,instruments!$M$2:$M$5037,0),1),\"\")","v":""}]
[1709,{"$f":"+IFERROR(INDEX(instruments!$N$2:$N$5037,MATCH(index!$A1753,instruments!$M$2:$M$5037,0),1),\"\")","v":""}]
[1710,{"$f":"+IFERROR(INDEX(instruments!$N$2:$N$5037,MATCH(index!$A1754,instruments!$M$2:$M$5037,0),1),\"\")","v":""}]
[1711,{"$f":"+IFERROR(INDEX(instruments!$N$2:$N$5037,MATCH(index!$A1755,instruments!$M$2:$M$5037,0),1),\"\")","v":""}]
[1712,{"$f":"+IFERROR(INDEX(instruments!$N$2:$N$5037,MATCH(index!$A1756,instruments!$M$2:$M$5037,0),1),\"\")","v":""}]
[1713,{"$f":"+IFERROR(INDEX(instruments!$N$2:$N$5037,MATCH(index!$A1757,instruments!$M$2:$M$5037,0),1),\"\")","v":""}]
[1714,{"$f":"+IFERROR(INDEX(instruments!$N$2:$N$5037,MATCH(index!$A1758,instruments!$M$2:$M$5037,0),1),\"\")","v":""}]
[1715,{"$f":"+IFERROR(INDEX(instruments!$N$2:$N$5037,MATCH(index!$A1759,instruments!$M$2:$M$5037,0),1),\"\")","v":""}]
[1716,{"$f":"+IFERROR(INDEX(instruments!$N$2:$N$5037,MATCH(index!$A1760,instruments!$M$2:$M$5037,0),1),\"\")","v":""}]
[1717,{"$f":"+IFERROR(INDEX(instruments!$N$2:$N$5037,MATCH(index!$A1761,instruments!$M$2:$M$5037,0),1),\"\")","v":""}]
[1718,{"$f":"+IFERROR(INDEX(instruments!$N$2:$N$5037,MATCH(index!$A1762,instruments!$M$2:$M$5037,0),1),\"\")","v":""}]
[1719,{"$f":"+IFERROR(INDEX(instruments!$N$2:$N$5037,MATCH(index!$A1763,instruments!$M$2:$M$5037,0),1),\"\")","v":""}]
[1720,{"$f":"+IFERROR(INDEX(instruments!$N$2:$N$5037,MATCH(index!$A1764,instruments!$M$2:$M$5037,0),1),\"\")","v":""}]
[1721,{"$f":"+IFERROR(INDEX(instruments!$N$2:$N$5037,MATCH(index!$A1765,instruments!$M$2:$M$5037,0),1),\"\")","v":""}]
[1722,{"$f":"+IFERROR(INDEX(instruments!$N$2:$N$5037,MATCH(index!$A1766,instruments!$M$2:$M$5037,0),1),\"\")","v":""}]
[1723,{"$f":"+IFERROR(INDEX(instruments!$N$2:$N$5037,MATCH(index!$A1767,instruments!$M$2:$M$5037,0),1),\"\")","v":""}]
[1724,{"$f":"+IFERROR(INDEX(instruments!$N$2:$N$5037,MATCH(index!$A1768,instruments!$M$2:$M$5037,0),1),\"\")","v":""}]
[1725,{"$f":"+IFERROR(INDEX(instruments!$N$2:$N$5037,MATCH(index!$A1769,instruments!$M$2:$M$5037,0),1),\"\")","v":""}]
[1726,{"$f":"+IFERROR(INDEX(instruments!$N$2:$N$5037,MATCH(index!$A1770,instruments!$M$2:$M$5037,0),1),\"\")","v":""}]
[1727,{"$f":"+IFERROR(INDEX(instruments!$N$2:$N$5037,MATCH(index!$A1771,instruments!$M$2:$M$5037,0),1),\"\")","v":""}]
[1728,{"$f":"+IFERROR(INDEX(instruments!$N$2:$N$5037,MATCH(index!$A1772,instruments!$M$2:$M$5037,0),1),\"\")","v":""}]
[1729,{"$f":"+IFERROR(INDEX(instruments!$N$2:$N$5037,MATCH(index!$A1773,instruments!$M$2:$M$5037,0),1),\"\")","v":""}]
[1730,{"$f":"+IFERROR(INDEX(instruments!$N$2:$N$5037,MATCH(index!$A1774,instruments!$M$2:$M$5037,0),1),\"\")","v":""}]
[1731,{"$f":"+IFERROR(INDEX(instruments!$N$2:$N$5037,MATCH(index!$A1775,instruments!$M$2:$M$5037,0),1),\"\")","v":""}]
[1732,{"$f":"+IFERROR(INDEX(instruments!$N$2:$N$5037,MATCH(index!$A1776,instruments!$M$2:$M$5037,0),1),\"\")","v":""}]
[1733,{"$f":"+IFERROR(INDEX(instruments!$N$2:$N$5037,MATCH(index!$A1777,instruments!$M$2:$M$5037,0),1),\"\")","v":""}]
[1734,{"$f":"+IFERROR(INDEX(instruments!$N$2:$N$5037,MATCH(index!$A1778,instruments!$M$2:$M$5037,0),1),\"\")","v":""}]
[1735,{"$f":"+IFERROR(INDEX(instruments!$N$2:$N$5037,MATCH(index!$A1779,instruments!$M$2:$M$5037,0),1),\"\")","v":""}]
[1736,{"$f":"+IFERROR(INDEX(instruments!$N$2:$N$5037,MATCH(index!$A1780,instruments!$M$2:$M$5037,0),1),\"\")","v":""}]
[1737,{"$f":"+IFERROR(INDEX(instruments!$N$2:$N$5037,MATCH(index!$A1781,instruments!$M$2:$M$5037,0),1),\"\")","v":""}]
[1738,{"$f":"+IFERROR(INDEX(instruments!$N$2:$N$5037,MATCH(index!$A1782,instruments!$M$2:$M$5037,0),1),\"\")","v":""}]
[1739,{"$f":"+IFERROR(INDEX(instruments!$N$2:$N$5037,MATCH(index!$A1783,instruments!$M$2:$M$5037,0),1),\"\")","v":""}]
[1740,{"$f":"+IFERROR(INDEX(instruments!$N$2:$N$5037,MATCH(index!$A1784,instruments!$M$2:$M$5037,0),1),\"\")","v":""}]
[1741,{"$f":"+IFERROR(INDEX(instruments!$N$2:$N$5037,MATCH(index!$A1785,instruments!$M$2:$M$5037,0),1),\"\")","v":""}]
[1742,{"$f":"+IFERROR(INDEX(instruments!$N$2:$N$5037,MATCH(index!$A1786,instruments!$M$2:$M$5037,0),1),\"\")","v":""}]
[1743,{"$f":"+IFERROR(INDEX(instruments!$N$2:$N$5037,MATCH(index!$A1787,instruments!$M$2:$M$5037,0),1),\"\")","v":""}]
[1744,{"$f":"+IFERROR(INDEX(instruments!$N$2:$N$5037,MATCH(index!$A1788,instruments!$M$2:$M$5037,0),1),\"\")","v":""}]
[1745,{"$f":"+IFERROR(INDEX(instruments!$N$2:$N$5037,MATCH(index!$A1789,instruments!$M$2:$M$5037,0),1),\"\")","v":""}]
[1746,{"$f":"+IFERROR(INDEX(instruments!$N$2:$N$5037,MATCH(index!$A1790,instruments!$M$2:$M$5037,0),1),\"\")","v":""}]
[1747,{"$f":"+IFERROR(INDEX(instruments!$N$2:$N$5037,MATCH(index!$A1791,instruments!$M$2:$M$5037,0),1),\"\")","v":""}]
[1748,{"$f":"+IFERROR(INDEX(instruments!$N$2:$N$5037,MATCH(index!$A1792,instruments!$M$2:$M$5037,0),1),\"\")","v":""}]
[{"$f":"+A1792+1","v":1749},{"$f":"+IFERROR(INDEX(instruments!$N$2:$N$5037,MATCH(index!$A1793,instruments!$M$2:$M$5037,0),1),\"\")","v":""}]
[1750,{"$f":"+IFERROR(INDEX(instruments!$N$2:$N$5037,MATCH(index!$A1794,instruments!$M$2:$M$5037,0),1),\"\")","v":""}]
[1751,{"$f":"+IFERROR(INDEX(instruments!$N$2:$N$5037,MATCH(index!$A1795,instruments!$M$2:$M$5037,0),1),\"\")","v":""}]
[1752,{"$f":"+IFERROR(INDEX(instruments!$N$2:$N$5037,MATCH(index!$A1796,instruments!$M$2:$M$5037,0),1),\"\")","v":""}]
[1753,{"$f":"+IFERROR(INDEX(instruments!$N$2:$N$5037,MATCH(index!$A1797,instruments!$M$2:$M$5037,0),1),\"\")","v":""}]
[1754,{"$f":"+IFERROR(INDEX(instruments!$N$2:$N$5037,MATCH(index!$A1798,instruments!$M$2:$M$5037,0),1),\"\")","v":""}]
[1755,{"$f":"+IFERROR(INDEX(instruments!$N$2:$N$5037,MATCH(index!$A1799,instruments!$M$2:$M$5037,0),1),\"\")","v":""}]
[1756,{"$f":"+IFERROR(INDEX(instruments!$N$2:$N$5037,MATCH(index!$A1800,instruments!$M$2:$M$5037,0),1),\"\")","v":""}]
[1757,{"$f":"+IFERROR(INDEX(instruments!$N$2:$N$5037,MATCH(index!$A1801,instruments!$M$2:$M$5037,0),1),\"\")","v":""}]
[1758,{"$f":"+IFERROR(INDEX(instruments!$N$2:$N$5037,MATCH(index!$A1802,instruments!$M$2:$M$5037,0),1),\"\")","v":""}]
[1759,{"$f":"+IFERROR(INDEX(instruments!$N$2:$N$5037,MATCH(index!$A1803,instruments!$M$2:$M$5037,0),1),\"\")","v":""}]
[1760,{"$f":"+IFERROR(INDEX(instruments!$N$2:$N$5037,MATCH(index!$A1804,instruments!$M$2:$M$5037,0),1),\"\")","v":""}]
[1761,{"$f":"+IFERROR(INDEX(instruments!$N$2:$N$5037,MATCH(index!$A1805,instruments!$M$2:$M$5037,0),1),\"\")","v":""}]
[1762,{"$f":"+IFERROR(INDEX(instruments!$N$2:$N$5037,MATCH(index!$A1806,instruments!$M$2:$M$5037,0),1),\"\")","v":""}]
[1763,{"$f":"+IFERROR(INDEX(instruments!$N$2:$N$5037,MATCH(index!$A1807,instruments!$M$2:$M$5037,0),1),\"\")","v":""}]
[1764,{"$f":"+IFERROR(INDEX(instruments!$N$2:$N$5037,MATCH(index!$A1808,instruments!$M$2:$M$5037,0),1),\"\")","v":""}]
[1765,{"$f":"+IFERROR(INDEX(instruments!$N$2:$N$5037,MATCH(index!$A1809,instruments!$M$2:$M$5037,0),1),\"\")","v":""}]
[1766,{"$f":"+IFERROR(INDEX(instruments!$N$2:$N$5037,MATCH(index!$A1810,instruments!$M$2:$M$5037,0),1),\"\")","v":""}]
[1767,{"$f":"+IFERROR(INDEX(instruments!$N$2:$N$5037,MATCH(index!$A1811,instruments!$M$2:$M$5037,0),1),\"\")","v":""}]
[1768,{"$f":"+IFERROR(INDEX(instruments!$N$2:$N$5037,MATCH(index!$A1812,instruments!$M$2:$M$5037,0),1),\"\")","v":""}]
[1769,{"$f":"+IFERROR(INDEX(instruments!$N$2:$N$5037,MATCH(index!$A1813,instruments!$M$2:$M$5037,0),1),\"\")","v":""}]
[1770,{"$f":"+IFERROR(INDEX(instruments!$N$2:$N$5037,MATCH(index!$A1814,instruments!$M$2:$M$5037,0),1),\"\")","v":""}]
[1771,{"$f":"+IFERROR(INDEX(instruments!$N$2:$N$5037,MATCH(index!$A1815,instruments!$M$2:$M$5037,0),1),\"\")","v":""}]
[1772,{"$f":"+IFERROR(INDEX(instruments!$N$2:$N$5037,MATCH(index!$A1816,instruments!$M$2:$M$5037,0),1),\"\")","v":""}]
[1773,{"$f":"+IFERROR(INDEX(instruments!$N$2:$N$5037,MATCH(index!$A1817,instruments!$M$2:$M$5037,0),1),\"\")","v":""}]
[1774,{"$f":"+IFERROR(INDEX(instruments!$N$2:$N$5037,MATCH(index!$A1818,instruments!$M$2:$M$5037,0),1),\"\")","v":""}]
[1775,{"$f":"+IFERROR(INDEX(instruments!$N$2:$N$5037,MATCH(index!$A1819,instruments!$M$2:$M$5037,0),1),\"\")","v":""}]
[1776,{"$f":"+IFERROR(INDEX(instruments!$N$2:$N$5037,MATCH(index!$A1820,instruments!$M$2:$M$5037,0),1),\"\")","v":""}]
[1777,{"$f":"+IFERROR(INDEX(instruments!$N$2:$N$5037,MATCH(index!$A1821,instruments!$M$2:$M$5037,0),1),\"\")","v":""}]
[1778,{"$f":"+IFERROR(INDEX(instruments!$N$2:$N$5037,MATCH(index!$A1822,instruments!$M$2:$M$5037,0),1),\"\")","v":""}]
[1779,{"$f":"+IFERROR(INDEX(instruments!$N$2:$N$5037,MATCH(index!$A1823,instruments!$M$2:$M$5037,0),1),\"\")","v":""}]
[1780,{"$f":"+IFERROR(INDEX(instruments!$N$2:$N$5037,MATCH(index!$A1824,instruments!$M$2:$M$5037,0),1),\"\")","v":""}]
[1781,{"$f":"+IFERROR(INDEX(instruments!$N$2:$N$5037,MATCH(index!$A1825,instruments!$M$2:$M$5037,0),1),\"\")","v":""}]
[1782,{"$f":"+IFERROR(INDEX(instruments!$N$2:$N$5037,MATCH(index!$A1826,instruments!$M$2:$M$5037,0),1),\"\")","v":""}]
[1783,{"$f":"+IFERROR(INDEX(instruments!$N$2:$N$5037,MATCH(index!$A1827,instruments!$M$2:$M$5037,0),1),\"\")","v":""}]
[1784,{"$f":"+IFERROR(INDEX(instruments!$N$2:$N$5037,MATCH(index!$A1828,instruments!$M$2:$M$5037,0),1),\"\")","v":""}]
[1785,{"$f":"+IFERROR(INDEX(instruments!$N$2:$N$5037,MATCH(index!$A1829,instruments!$M$2:$M$5037,0),1),\"\")","v":""}]
[1786,{"$f":"+IFERROR(INDEX(instruments!$N$2:$N$5037,MATCH(index!$A1830,instruments!$M$2:$M$5037,0),1),\"\")","v":""}]
[1787,{"$f":"+IFERROR(INDEX(instruments!$N$2:$N$5037,MATCH(index!$A1831,instruments!$M$2:$M$5037,0),1),\"\")","v":""}]
[1788,{"$f":"+IFERROR(INDEX(instruments!$N$2:$N$5037,MATCH(index!$A1832,instruments!$M$2:$M$5037,0),1),\"\")","v":""}]
[1789,{"$f":"+IFERROR(INDEX(instruments!$N$2:$N$5037,MATCH(index!$A1833,instruments!$M$2:$M$5037,0),1),\"\")","v":""}]
[1790,{"$f":"+IFERROR(INDEX(instruments!$N$2:$N$5037,MATCH(index!$A1834,instruments!$M$2:$M$5037,0),1),\"\")","v":""}]
[1791,{"$f":"+IFERROR(INDEX(instruments!$N$2:$N$5037,MATCH(index!$A1835,instruments!$M$2:$M$5037,0),1),\"\")","v":""}]
[1792,{"$f":"+IFERROR(INDEX(instruments!$N$2:$N$5037,MATCH(index!$A1836,instruments!$M$2:$M$5037,0),1),\"\")","v":""}]
[1793,{"$f":"+IFERROR(INDEX(instruments!$N$2:$N$5037,MATCH(index!$A1837,instruments!$M$2:$M$5037,0),1),\"\")","v":""}]
[1794,{"$f":"+IFERROR(INDEX(instruments!$N$2:$N$5037,MATCH(index!$A1838,instruments!$M$2:$M$5037,0),1),\"\")","v":""}]
[1795,{"$f":"+IFERROR(INDEX(instruments!$N$2:$N$5037,MATCH(index!$A1839,instruments!$M$2:$M$5037,0),1),\"\")","v":""}]
[1796,{"$f":"+IFERROR(INDEX(instruments!$N$2:$N$5037,MATCH(index!$A1840,instruments!$M$2:$M$5037,0),1),\"\")","v":""}]
[1797,{"$f":"+IFERROR(INDEX(instruments!$N$2:$N$5037,MATCH(index!$A1841,instruments!$M$2:$M$5037,0),1),\"\")","v":""}]
[1798,{"$f":"+IFERROR(INDEX(instruments!$N$2:$N$5037,MATCH(index!$A1842,instruments!$M$2:$M$5037,0),1),\"\")","v":""}]
[1799,{"$f":"+IFERROR(INDEX(instruments!$N$2:$N$5037,MATCH(index!$A1843,instruments!$M$2:$M$5037,0),1),\"\")","v":""}]
[1800,{"$f":"+IFERROR(INDEX(instruments!$N$2:$N$5037,MATCH(index!$A1844,instruments!$M$2:$M$5037,0),1),\"\")","v":""}]
[1801,{"$f":"+IFERROR(INDEX(instruments!$N$2:$N$5037,MATCH(index!$A1845,instruments!$M$2:$M$5037,0),1),\"\")","v":""}]
[1802,{"$f":"+IFERROR(INDEX(instruments!$N$2:$N$5037,MATCH(index!$A1846,instruments!$M$2:$M$5037,0),1),\"\")","v":""}]
[1803,{"$f":"+IFERROR(INDEX(instruments!$N$2:$N$5037,MATCH(index!$A1847,instruments!$M$2:$M$5037,0),1),\"\")","v":""}]
[1804,{"$f":"+IFERROR(INDEX(instruments!$N$2:$N$5037,MATCH(index!$A1848,instruments!$M$2:$M$5037,0),1),\"\")","v":""}]
[1805,{"$f":"+IFERROR(INDEX(instruments!$N$2:$N$5037,MATCH(index!$A1849,instruments!$M$2:$M$5037,0),1),\"\")","v":""}]
[1806,{"$f":"+IFERROR(INDEX(instruments!$N$2:$N$5037,MATCH(index!$A1850,instruments!$M$2:$M$5037,0),1),\"\")","v":""}]
[1807,{"$f":"+IFERROR(INDEX(instruments!$N$2:$N$5037,MATCH(index!$A1851,instruments!$M$2:$M$5037,0),1),\"\")","v":""}]
[1808,{"$f":"+IFERROR(INDEX(instruments!$N$2:$N$5037,MATCH(index!$A1852,instruments!$M$2:$M$5037,0),1),\"\")","v":""}]
[1809,{"$f":"+IFERROR(INDEX(instruments!$N$2:$N$5037,MATCH(index!$A1853,instruments!$M$2:$M$5037,0),1),\"\")","v":""}]
[1810,{"$f":"+IFERROR(INDEX(instruments!$N$2:$N$5037,MATCH(index!$A1854,instruments!$M$2:$M$5037,0),1),\"\")","v":""}]
[1811,{"$f":"+IFERROR(INDEX(instruments!$N$2:$N$5037,MATCH(index!$A1855,instruments!$M$2:$M$5037,0),1),\"\")","v":""}]
[1812,{"$f":"+IFERROR(INDEX(instruments!$N$2:$N$5037,MATCH(index!$A1856,instruments!$M$2:$M$5037,0),1),\"\")","v":""}]
[{"$f":"+A1856+1","v":1813},{"$f":"+IFERROR(INDEX(instruments!$N$2:$N$5037,MATCH(index!$A1857,instruments!$M$2:$M$5037,0),1),\"\")","v":""}]
[1814,{"$f":"+IFERROR(INDEX(instruments!$N$2:$N$5037,MATCH(index!$A1858,instruments!$M$2:$M$5037,0),1),\"\")","v":""}]
[1815,{"$f":"+IFERROR(INDEX(instruments!$N$2:$N$5037,MATCH(index!$A1859,instruments!$M$2:$M$5037,0),1),\"\")","v":""}]
[1816,{"$f":"+IFERROR(INDEX(instruments!$N$2:$N$5037,MATCH(index!$A1860,instruments!$M$2:$M$5037,0),1),\"\")","v":""}]
[1817,{"$f":"+IFERROR(INDEX(instruments!$N$2:$N$5037,MATCH(index!$A1861,instruments!$M$2:$M$5037,0),1),\"\")","v":""}]
[1818,{"$f":"+IFERROR(INDEX(instruments!$N$2:$N$5037,MATCH(index!$A1862,instruments!$M$2:$M$5037,0),1),\"\")","v":""}]
[1819,{"$f":"+IFERROR(INDEX(instruments!$N$2:$N$5037,MATCH(index!$A1863,instruments!$M$2:$M$5037,0),1),\"\")","v":""}]
[1820,{"$f":"+IFERROR(INDEX(instruments!$N$2:$N$5037,MATCH(index!$A1864,instruments!$M$2:$M$5037,0),1),\"\")","v":""}]
[1821,{"$f":"+IFERROR(INDEX(instruments!$N$2:$N$5037,MATCH(index!$A1865,instruments!$M$2:$M$5037,0),1),\"\")","v":""}]
[1822,{"$f":"+IFERROR(INDEX(instruments!$N$2:$N$5037,MATCH(index!$A1866,instruments!$M$2:$M$5037,0),1),\"\")","v":""}]
[1823,{"$f":"+IFERROR(INDEX(instruments!$N$2:$N$5037,MATCH(index!$A1867,instruments!$M$2:$M$5037,0),1),\"\")","v":""}]
[1824,{"$f":"+IFERROR(INDEX(instruments!$N$2:$N$5037,MATCH(index!$A1868,instruments!$M$2:$M$5037,0),1),\"\")","v":""}]
[1825,{"$f":"+IFERROR(INDEX(instruments!$N$2:$N$5037,MATCH(index!$A1869,instruments!$M$2:$M$5037,0),1),\"\")","v":""}]
[1826,{"$f":"+IFERROR(INDEX(instruments!$N$2:$N$5037,MATCH(index!$A1870,instruments!$M$2:$M$5037,0),1),\"\")","v":""}]
[1827,{"$f":"+IFERROR(INDEX(instruments!$N$2:$N$5037,MATCH(index!$A1871,instruments!$M$2:$M$5037,0),1),\"\")","v":""}]
[1828,{"$f":"+IFERROR(INDEX(instruments!$N$2:$N$5037,MATCH(index!$A1872,instruments!$M$2:$M$5037,0),1),\"\")","v":""}]
[1829,{"$f":"+IFERROR(INDEX(instruments!$N$2:$N$5037,MATCH(index!$A1873,instruments!$M$2:$M$5037,0),1),\"\")","v":""}]
[1830,{"$f":"+IFERROR(INDEX(instruments!$N$2:$N$5037,MATCH(index!$A1874,instruments!$M$2:$M$5037,0),1),\"\")","v":""}]
[1831,{"$f":"+IFERROR(INDEX(instruments!$N$2:$N$5037,MATCH(index!$A1875,instruments!$M$2:$M$5037,0),1),\"\")","v":""}]
[1832,{"$f":"+IFERROR(INDEX(instruments!$N$2:$N$5037,MATCH(index!$A1876,instruments!$M$2:$M$5037,0),1),\"\")","v":""}]
[1833,{"$f":"+IFERROR(INDEX(instruments!$N$2:$N$5037,MATCH(index!$A1877,instruments!$M$2:$M$5037,0),1),\"\")","v":""}]
[1834,{"$f":"+IFERROR(INDEX(instruments!$N$2:$N$5037,MATCH(index!$A1878,instruments!$M$2:$M$5037,0),1),\"\")","v":""}]
[1835,{"$f":"+IFERROR(INDEX(instruments!$N$2:$N$5037,MATCH(index!$A1879,instruments!$M$2:$M$5037,0),1),\"\")","v":""}]
[1836,{"$f":"+IFERROR(INDEX(instruments!$N$2:$N$5037,MATCH(index!$A1880,instruments!$M$2:$M$5037,0),1),\"\")","v":""}]
[1837,{"$f":"+IFERROR(INDEX(instruments!$N$2:$N$5037,MATCH(index!$A1881,instruments!$M$2:$M$5037,0),1),\"\")","v":""}]
[1838,{"$f":"+IFERROR(INDEX(instruments!$N$2:$N$5037,MATCH(index!$A1882,instruments!$M$2:$M$5037,0),1),\"\")","v":""}]
[1839,{"$f":"+IFERROR(INDEX(instruments!$N$2:$N$5037,MATCH(index!$A1883,instruments!$M$2:$M$5037,0),1),\"\")","v":""}]
[1840,{"$f":"+IFERROR(INDEX(instruments!$N$2:$N$5037,MATCH(index!$A1884,instruments!$M$2:$M$5037,0),1),\"\")","v":""}]
[1841,{"$f":"+IFERROR(INDEX(instruments!$N$2:$N$5037,MATCH(index!$A1885,instruments!$M$2:$M$5037,0),1),\"\")","v":""}]
[1842,{"$f":"+IFERROR(INDEX(instruments!$N$2:$N$5037,MATCH(index!$A1886,instruments!$M$2:$M$5037,0),1),\"\")","v":""}]
[1843,{"$f":"+IFERROR(INDEX(instruments!$N$2:$N$5037,MATCH(index!$A1887,instruments!$M$2:$M$5037,0),1),\"\")","v":""}]
[1844,{"$f":"+IFERROR(INDEX(instruments!$N$2:$N$5037,MATCH(index!$A1888,instruments!$M$2:$M$5037,0),1),\"\")","v":""}]
[1845,{"$f":"+IFERROR(INDEX(instruments!$N$2:$N$5037,MATCH(index!$A1889,instruments!$M$2:$M$5037,0),1),\"\")","v":""}]
[1846,{"$f":"+IFERROR(INDEX(instruments!$N$2:$N$5037,MATCH(index!$A1890,instruments!$M$2:$M$5037,0),1),\"\")","v":""}]
[1847,{"$f":"+IFERROR(INDEX(instruments!$N$2:$N$5037,MATCH(index!$A1891,instruments!$M$2:$M$5037,0),1),\"\")","v":""}]
[1848,{"$f":"+IFERROR(INDEX(instruments!$N$2:$N$5037,MATCH(index!$A1892,instruments!$M$2:$M$5037,0),1),\"\")","v":""}]
[1849,{"$f":"+IFERROR(INDEX(instruments!$N$2:$N$5037,MATCH(index!$A1893,instruments!$M$2:$M$5037,0),1),\"\")","v":""}]
[1850,{"$f":"+IFERROR(INDEX(instruments!$N$2:$N$5037,MATCH(index!$A1894,instruments!$M$2:$M$5037,0),1),\"\")","v":""}]
[1851,{"$f":"+IFERROR(INDEX(instruments!$N$2:$N$5037,MATCH(index!$A1895,instruments!$M$2:$M$5037,0),1),\"\")","v":""}]
[1852,{"$f":"+IFERROR(INDEX(instruments!$N$2:$N$5037,MATCH(index!$A1896,instruments!$M$2:$M$5037,0),1),\"\")","v":""}]
[1853,{"$f":"+IFERROR(INDEX(instruments!$N$2:$N$5037,MATCH(index!$A1897,instruments!$M$2:$M$5037,0),1),\"\")","v":""}]
[1854,{"$f":"+IFERROR(INDEX(instruments!$N$2:$N$5037,MATCH(index!$A1898,instruments!$M$2:$M$5037,0),1),\"\")","v":""}]
[1855,{"$f":"+IFERROR(INDEX(instruments!$N$2:$N$5037,MATCH(index!$A1899,instruments!$M$2:$M$5037,0),1),\"\")","v":""}]
[1856,{"$f":"+IFERROR(INDEX(instruments!$N$2:$N$5037,MATCH(index!$A1900,instruments!$M$2:$M$5037,0),1),\"\")","v":""}]
[1857,{"$f":"+IFERROR(INDEX(instruments!$N$2:$N$5037,MATCH(index!$A1901,instruments!$M$2:$M$5037,0),1),\"\")","v":""}]
[1858,{"$f":"+IFERROR(INDEX(instruments!$N$2:$N$5037,MATCH(index!$A1902,instruments!$M$2:$M$5037,0),1),\"\")","v":""}]
[1859,{"$f":"+IFERROR(INDEX(instruments!$N$2:$N$5037,MATCH(index!$A1903,instruments!$M$2:$M$5037,0),1),\"\")","v":""}]
[1860,{"$f":"+IFERROR(INDEX(instruments!$N$2:$N$5037,MATCH(index!$A1904,instruments!$M$2:$M$5037,0),1),\"\")","v":""}]
[1861,{"$f":"+IFERROR(INDEX(instruments!$N$2:$N$5037,MATCH(index!$A1905,instruments!$M$2:$M$5037,0),1),\"\")","v":""}]
[1862,{"$f":"+IFERROR(INDEX(instruments!$N$2:$N$5037,MATCH(index!$A1906,instruments!$M$2:$M$5037,0),1),\"\")","v":""}]
[1863,{"$f":"+IFERROR(INDEX(instruments!$N$2:$N$5037,MATCH(index!$A1907,instruments!$M$2:$M$5037,0),1),\"\")","v":""}]
[1864,{"$f":"+IFERROR(INDEX(instruments!$N$2:$N$5037,MATCH(index!$A1908,instruments!$M$2:$M$5037,0),1),\"\")","v":""}]
[1865,{"$f":"+IFERROR(INDEX(instruments!$N$2:$N$5037,MATCH(index!$A1909,instruments!$M$2:$M$5037,0),1),\"\")","v":""}]
[1866,{"$f":"+IFERROR(INDEX(instruments!$N$2:$N$5037,MATCH(index!$A1910,instruments!$M$2:$M$5037,0),1),\"\")","v":""}]
[1867,{"$f":"+IFERROR(INDEX(instruments!$N$2:$N$5037,MATCH(index!$A1911,instruments!$M$2:$M$5037,0),1),\"\")","v":""}]
[1868,{"$f":"+IFERROR(INDEX(instruments!$N$2:$N$5037,MATCH(index!$A1912,instruments!$M$2:$M$5037,0),1),\"\")","v":""}]
[1869,{"$f":"+IFERROR(INDEX(instruments!$N$2:$N$5037,MATCH(index!$A1913,instruments!$M$2:$M$5037,0),1),\"\")","v":""}]
[1870,{"$f":"+IFERROR(INDEX(instruments!$N$2:$N$5037,MATCH(index!$A1914,instruments!$M$2:$M$5037,0),1),\"\")","v":""}]
[1871,{"$f":"+IFERROR(INDEX(instruments!$N$2:$N$5037,MATCH(index!$A1915,instruments!$M$2:$M$5037,0),1),\"\")","v":""}]
[1872,{"$f":"+IFERROR(INDEX(instruments!$N$2:$N$5037,MATCH(index!$A1916,instruments!$M$2:$M$5037,0),1),\"\")","v":""}]
[1873,{"$f":"+IFERROR(INDEX(instruments!$N$2:$N$5037,MATCH(index!$A1917,instruments!$M$2:$M$5037,0),1),\"\")","v":""}]
[1874,{"$f":"+IFERROR(INDEX(instruments!$N$2:$N$5037,MATCH(index!$A1918,instruments!$M$2:$M$5037,0),1),\"\")","v":""}]
[1875,{"$f":"+IFERROR(INDEX(instruments!$N$2:$N$5037,MATCH(index!$A1919,instruments!$M$2:$M$5037,0),1),\"\")","v":""}]
[1876,{"$f":"+IFERROR(INDEX(instruments!$N$2:$N$5037,MATCH(index!$A1920,instruments!$M$2:$M$5037,0),1),\"\")","v":""}]
[{"$f":"+A1920+1","v":1877},{"$f":"+IFERROR(INDEX(instruments!$N$2:$N$5037,MATCH(index!$A1921,instruments!$M$2:$M$5037,0),1),\"\")","v":""}]
[1878,{"$f":"+IFERROR(INDEX(instruments!$N$2:$N$5037,MATCH(index!$A1922,instruments!$M$2:$M$5037,0),1),\"\")","v":""}]
[1879,{"$f":"+IFERROR(INDEX(instruments!$N$2:$N$5037,MATCH(index!$A1923,instruments!$M$2:$M$5037,0),1),\"\")","v":""}]
[1880,{"$f":"+IFERROR(INDEX(instruments!$N$2:$N$5037,MATCH(index!$A1924,instruments!$M$2:$M$5037,0),1),\"\")","v":""}]
[1881,{"$f":"+IFERROR(INDEX(instruments!$N$2:$N$5037,MATCH(index!$A1925,instruments!$M$2:$M$5037,0),1),\"\")","v":""}]
[1882,{"$f":"+IFERROR(INDEX(instruments!$N$2:$N$5037,MATCH(index!$A1926,instruments!$M$2:$M$5037,0),1),\"\")","v":""}]
[1883,{"$f":"+IFERROR(INDEX(instruments!$N$2:$N$5037,MATCH(index!$A1927,instruments!$M$2:$M$5037,0),1),\"\")","v":""}]
[1884,{"$f":"+IFERROR(INDEX(instruments!$N$2:$N$5037,MATCH(index!$A1928,instruments!$M$2:$M$5037,0),1),\"\")","v":""}]
[1885,{"$f":"+IFERROR(INDEX(instruments!$N$2:$N$5037,MATCH(index!$A1929,instruments!$M$2:$M$5037,0),1),\"\")","v":""}]
[1886,{"$f":"+IFERROR(INDEX(instruments!$N$2:$N$5037,MATCH(index!$A1930,instruments!$M$2:$M$5037,0),1),\"\")","v":""}]
[1887,{"$f":"+IFERROR(INDEX(instruments!$N$2:$N$5037,MATCH(index!$A1931,instruments!$M$2:$M$5037,0),1),\"\")","v":""}]
[1888,{"$f":"+IFERROR(INDEX(instruments!$N$2:$N$5037,MATCH(index!$A1932,instruments!$M$2:$M$5037,0),1),\"\")","v":""}]
[1889,{"$f":"+IFERROR(INDEX(instruments!$N$2:$N$5037,MATCH(index!$A1933,instruments!$M$2:$M$5037,0),1),\"\")","v":""}]
[1890,{"$f":"+IFERROR(INDEX(instruments!$N$2:$N$5037,MATCH(index!$A1934,instruments!$M$2:$M$5037,0),1),\"\")","v":""}]
[1891,{"$f":"+IFERROR(INDEX(instruments!$N$2:$N$5037,MATCH(index!$A1935,instruments!$M$2:$M$5037,0),1),\"\")","v":""}]
[1892,{"$f":"+IFERROR(INDEX(instruments!$N$2:$N$5037,MATCH(index!$A1936,instruments!$M$2:$M$5037,0),1),\"\")","v":""}]
[1893,{"$f":"+IFERROR(INDEX(instruments!$N$2:$N$5037,MATCH(index!$A1937,instruments!$M$2:$M$5037,0),1),\"\")","v":""}]
[1894,{"$f":"+IFERROR(INDEX(instruments!$N$2:$N$5037,MATCH(index!$A1938,instruments!$M$2:$M$5037,0),1),\"\")","v":""}]
[1895,{"$f":"+IFERROR(INDEX(instruments!$N$2:$N$5037,MATCH(index!$A1939,instruments!$M$2:$M$5037,0),1),\"\")","v":""}]
[1896,{"$f":"+IFERROR(INDEX(instruments!$N$2:$N$5037,MATCH(index!$A1940,instruments!$M$2:$M$5037,0),1),\"\")","v":""}]
[1897,{"$f":"+IFERROR(INDEX(instruments!$N$2:$N$5037,MATCH(index!$A1941,instruments!$M$2:$M$5037,0),1),\"\")","v":""}]
[1898,{"$f":"+IFERROR(INDEX(instruments!$N$2:$N$5037,MATCH(index!$A1942,instruments!$M$2:$M$5037,0),1),\"\")","v":""}]
[1899,{"$f":"+IFERROR(INDEX(instruments!$N$2:$N$5037,MATCH(index!$A1943,instruments!$M$2:$M$5037,0),1),\"\")","v":""}]
[1900,{"$f":"+IFERROR(INDEX(instruments!$N$2:$N$5037,MATCH(index!$A1944,instruments!$M$2:$M$5037,0),1),\"\")","v":""}]
[1901,{"$f":"+IFERROR(INDEX(instruments!$N$2:$N$5037,MATCH(index!$A1945,instruments!$M$2:$M$5037,0),1),\"\")","v":""}]
[1902,{"$f":"+IFERROR(INDEX(instruments!$N$2:$N$5037,MATCH(index!$A1946,instruments!$M$2:$M$5037,0),1),\"\")","v":""}]
[1903,{"$f":"+IFERROR(INDEX(instruments!$N$2:$N$5037,MATCH(index!$A1947,instruments!$M$2:$M$5037,0),1),\"\")","v":""}]
[1904,{"$f":"+IFERROR(INDEX(instruments!$N$2:$N$5037,MATCH(index!$A1948,instruments!$M$2:$M$5037,0),1),\"\")","v":""}]
[1905,{"$f":"+IFERROR(INDEX(instruments!$N$2:$N$5037,MATCH(index!$A1949,instruments!$M$2:$M$5037,0),1),\"\")","v":""}]
[1906,{"$f":"+IFERROR(INDEX(instruments!$N$2:$N$5037,MATCH(index!$A1950,instruments!$M$2:$M$5037,0),1),\"\")","v":""}]
[1907,{"$f":"+IFERROR(INDEX(instruments!$N$2:$N$5037,MATCH(index!$A1951,instruments!$M$2:$M$5037,0),1),\"\")","v":""}]
[1908,{"$f":"+IFERROR(INDEX(instruments!$N$2:$N$5037,MATCH(index!$A1952,instruments!$M$2:$M$5037,0),1),\"\")","v":""}]
[1909,{"$f":"+IFERROR(INDEX(instruments!$N$2:$N$5037,MATCH(index!$A1953,instruments!$M$2:$M$5037,0),1),\"\")","v":""}]
[1910,{"$f":"+IFERROR(INDEX(instruments!$N$2:$N$5037,MATCH(index!$A1954,instruments!$M$2:$M$5037,0),1),\"\")","v":""}]
[1911,{"$f":"+IFERROR(INDEX(instruments!$N$2:$N$5037,MATCH(index!$A1955,instruments!$M$2:$M$5037,0),1),\"\")","v":""}]
[1912,{"$f":"+IFERROR(INDEX(instruments!$N$2:$N$5037,MATCH(index!$A1956,instruments!$M$2:$M$5037,0),1),\"\")","v":""}]
[1913,{"$f":"+IFERROR(INDEX(instruments!$N$2:$N$5037,MATCH(index!$A1957,instruments!$M$2:$M$5037,0),1),\"\")","v":""}]
[1914,{"$f":"+IFERROR(INDEX(instruments!$N$2:$N$5037,MATCH(index!$A1958,instruments!$M$2:$M$5037,0),1),\"\")","v":""}]
[1915,{"$f":"+IFERROR(INDEX(instruments!$N$2:$N$5037,MATCH(index!$A1959,instruments!$M$2:$M$5037,0),1),\"\")","v":""}]
[1916,{"$f":"+IFERROR(INDEX(instruments!$N$2:$N$5037,MATCH(index!$A1960,instruments!$M$2:$M$5037,0),1),\"\")","v":""}]
[1917,{"$f":"+IFERROR(INDEX(instruments!$N$2:$N$5037,MATCH(index!$A1961,instruments!$M$2:$M$5037,0),1),\"\")","v":""}]
[1918,{"$f":"+IFERROR(INDEX(instruments!$N$2:$N$5037,MATCH(index!$A1962,instruments!$M$2:$M$5037,0),1),\"\")","v":""}]
[1919,{"$f":"+IFERROR(INDEX(instruments!$N$2:$N$5037,MATCH(index!$A1963,instruments!$M$2:$M$5037,0),1),\"\")","v":""}]
[1920,{"$f":"+IFERROR(INDEX(instruments!$N$2:$N$5037,MATCH(index!$A1964,instruments!$M$2:$M$5037,0),1),\"\")","v":""}]
[1921,{"$f":"+IFERROR(INDEX(instruments!$N$2:$N$5037,MATCH(index!$A1965,instruments!$M$2:$M$5037,0),1),\"\")","v":""}]
[1922,{"$f":"+IFERROR(INDEX(instruments!$N$2:$N$5037,MATCH(index!$A1966,instruments!$M$2:$M$5037,0),1),\"\")","v":""}]
[1923,{"$f":"+IFERROR(INDEX(instruments!$N$2:$N$5037,MATCH(index!$A1967,instruments!$M$2:$M$5037,0),1),\"\")","v":""}]
[1924,{"$f":"+IFERROR(INDEX(instruments!$N$2:$N$5037,MATCH(index!$A1968,instruments!$M$2:$M$5037,0),1),\"\")","v":""}]
[1925,{"$f":"+IFERROR(INDEX(instruments!$N$2:$N$5037,MATCH(index!$A1969,instruments!$M$2:$M$5037,0),1),\"\")","v":""}]
[1926,{"$f":"+IFERROR(INDEX(instruments!$N$2:$N$5037,MATCH(index!$A1970,instruments!$M$2:$M$5037,0),1),\"\")","v":""}]
[1927,{"$f":"+IFERROR(INDEX(instruments!$N$2:$N$5037,MATCH(index!$A1971,instruments!$M$2:$M$5037,0),1),\"\")","v":""}]
[1928,{"$f":"+IFERROR(INDEX(instruments!$N$2:$N$5037,MATCH(index!$A1972,instruments!$M$2:$M$5037,0),1),\"\")","v":""}]
[1929,{"$f":"+IFERROR(INDEX(instruments!$N$2:$N$5037,MATCH(index!$A1973,instruments!$M$2:$M$5037,0),1),\"\")","v":""}]
[1930,{"$f":"+IFERROR(INDEX(instruments!$N$2:$N$5037,MATCH(index!$A1974,instruments!$M$2:$M$5037,0),1),\"\")","v":""}]
[1931,{"$f":"+IFERROR(INDEX(instruments!$N$2:$N$5037,MATCH(index!$A1975,instruments!$M$2:$M$5037,0),1),\"\")","v":""}]
[1932,{"$f":"+IFERROR(INDEX(instruments!$N$2:$N$5037,MATCH(index!$A1976,instruments!$M$2:$M$5037,0),1),\"\")","v":""}]
[1933,{"$f":"+IFERROR(INDEX(instruments!$N$2:$N$5037,MATCH(index!$A1977,instruments!$M$2:$M$5037,0),1),\"\")","v":""}]
[1934,{"$f":"+IFERROR(INDEX(instruments!$N$2:$N$5037,MATCH(index!$A1978,instruments!$M$2:$M$5037,0),1),\"\")","v":""}]
[1935,{"$f":"+IFERROR(INDEX(instruments!$N$2:$N$5037,MATCH(index!$A1979,instruments!$M$2:$M$5037,0),1),\"\")","v":""}]
[1936,{"$f":"+IFERROR(INDEX(instruments!$N$2:$N$5037,MATCH(index!$A1980,instruments!$M$2:$M$5037,0),1),\"\")","v":""}]
[1937,{"$f":"+IFERROR(INDEX(instruments!$N$2:$N$5037,MATCH(index!$A1981,instruments!$M$2:$M$5037,0),1),\"\")","v":""}]
[1938,{"$f":"+IFERROR(INDEX(instruments!$N$2:$N$5037,MATCH(index!$A1982,instruments!$M$2:$M$5037,0),1),\"\")","v":""}]
[1939,{"$f":"+IFERROR(INDEX(instruments!$N$2:$N$5037,MATCH(index!$A1983,instruments!$M$2:$M$5037,0),1),\"\")","v":""}]
[1940,{"$f":"+IFERROR(INDEX(instruments!$N$2:$N$5037,MATCH(index!$A1984,instruments!$M$2:$M$5037,0),1),\"\")","v":""}]
[{"$f":"+A1984+1","v":1941},{"$f":"+IFERROR(INDEX(instruments!$N$2:$N$5037,MATCH(index!$A1985,instruments!$M$2:$M$5037,0),1),\"\")","v":""}]
[1942,{"$f":"+IFERROR(INDEX(instruments!$N$2:$N$5037,MATCH(index!$A1986,instruments!$M$2:$M$5037,0),1),\"\")","v":""}]
[1943,{"$f":"+IFERROR(INDEX(instruments!$N$2:$N$5037,MATCH(index!$A1987,instruments!$M$2:$M$5037,0),1),\"\")","v":""}]
[1944,{"$f":"+IFERROR(INDEX(instruments!$N$2:$N$5037,MATCH(index!$A1988,instruments!$M$2:$M$5037,0),1),\"\")","v":""}]
[1945,{"$f":"+IFERROR(INDEX(instruments!$N$2:$N$5037,MATCH(index!$A1989,instruments!$M$2:$M$5037,0),1),\"\")","v":""}]
[1946,{"$f":"+IFERROR(INDEX(instruments!$N$2:$N$5037,MATCH(index!$A1990,instruments!$M$2:$M$5037,0),1),\"\")","v":""}]
[1947,{"$f":"+IFERROR(INDEX(instruments!$N$2:$N$5037,MATCH(index!$A1991,instruments!$M$2:$M$5037,0),1),\"\")","v":""}]
[1948,{"$f":"+IFERROR(INDEX(instruments!$N$2:$N$5037,MATCH(index!$A1992,instruments!$M$2:$M$5037,0),1),\"\")","v":""}]
[1949,{"$f":"+IFERROR(INDEX(instruments!$N$2:$N$5037,MATCH(index!$A1993,instruments!$M$2:$M$5037,0),1),\"\")","v":""}]
[1950,{"$f":"+IFERROR(INDEX(instruments!$N$2:$N$5037,MATCH(index!$A1994,instruments!$M$2:$M$5037,0),1),\"\")","v":""}]
[1951,{"$f":"+IFERROR(INDEX(instruments!$N$2:$N$5037,MATCH(index!$A1995,instruments!$M$2:$M$5037,0),1),\"\")","v":""}]
[1952,{"$f":"+IFERROR(INDEX(instruments!$N$2:$N$5037,MATCH(index!$A1996,instruments!$M$2:$M$5037,0),1),\"\")","v":""}]
[1953,{"$f":"+IFERROR(INDEX(instruments!$N$2:$N$5037,MATCH(index!$A1997,instruments!$M$2:$M$5037,0),1),\"\")","v":""}]
[1954,{"$f":"+IFERROR(INDEX(instruments!$N$2:$N$5037,MATCH(index!$A1998,instruments!$M$2:$M$5037,0),1),\"\")","v":""}]
[1955,{"$f":"+IFERROR(INDEX(instruments!$N$2:$N$5037,MATCH(index!$A1999,instruments!$M$2:$M$5037,0),1),\"\")","v":""}]
[1956,{"$f":"+IFERROR(INDEX(instruments!$N$2:$N$5037,MATCH(index!$A2000,instruments!$M$2:$M$5037,0),1),\"\")","v":""}]
[1957,{"$f":"+IFERROR(INDEX(instruments!$N$2:$N$5037,MATCH(index!$A2001,instruments!$M$2:$M$5037,0),1),\"\")","v":""}]
[1958,{"$f":"+IFERROR(INDEX(instruments!$N$2:$N$5037,MATCH(index!$A2002,instruments!$M$2:$M$5037,0),1),\"\")","v":""}]
[1959,{"$f":"+IFERROR(INDEX(instruments!$N$2:$N$5037,MATCH(index!$A2003,instruments!$M$2:$M$5037,0),1),\"\")","v":""}]
[1960,{"$f":"+IFERROR(INDEX(instruments!$N$2:$N$5037,MATCH(index!$A2004,instruments!$M$2:$M$5037,0),1),\"\")","v":""}]
[1961,{"$f":"+IFERROR(INDEX(instruments!$N$2:$N$5037,MATCH(index!$A2005,instruments!$M$2:$M$5037,0),1),\"\")","v":""}]
[1962,{"$f":"+IFERROR(INDEX(instruments!$N$2:$N$5037,MATCH(index!$A2006,instruments!$M$2:$M$5037,0),1),\"\")","v":""}]
[1963,{"$f":"+IFERROR(INDEX(instruments!$N$2:$N$5037,MATCH(index!$A2007,instruments!$M$2:$M$5037,0),1),\"\")","v":""}]
[1964,{"$f":"+IFERROR(INDEX(instruments!$N$2:$N$5037,MATCH(index!$A2008,instruments!$M$2:$M$5037,0),1),\"\")","v":""}]
[1965,{"$f":"+IFERROR(INDEX(instruments!$N$2:$N$5037,MATCH(index!$A2009,instruments!$M$2:$M$5037,0),1),\"\")","v":""}]
[1966,{"$f":"+IFERROR(INDEX(instruments!$N$2:$N$5037,MATCH(index!$A2010,instruments!$M$2:$M$5037,0),1),\"\")","v":""}]
[1967,{"$f":"+IFERROR(INDEX(instruments!$N$2:$N$5037,MATCH(index!$A2011,instruments!$M$2:$M$5037,0),1),\"\")","v":""}]
[1968,{"$f":"+IFERROR(INDEX(instruments!$N$2:$N$5037,MATCH(index!$A2012,instruments!$M$2:$M$5037,0),1),\"\")","v":""}]
[1969,{"$f":"+IFERROR(INDEX(instruments!$N$2:$N$5037,MATCH(index!$A2013,instruments!$M$2:$M$5037,0),1),\"\")","v":""}]
[1970,{"$f":"+IFERROR(INDEX(instruments!$N$2:$N$5037,MATCH(index!$A2014,instruments!$M$2:$M$5037,0),1),\"\")","v":""}]
[1971,{"$f":"+IFERROR(INDEX(instruments!$N$2:$N$5037,MATCH(index!$A2015,instruments!$M$2:$M$5037,0),1),\"\")","v":""}]
[1972,{"$f":"+IFERROR(INDEX(instruments!$N$2:$N$5037,MATCH(index!$A2016,instruments!$M$2:$M$5037,0),1),\"\")","v":""}]
[1973,{"$f":"+IFERROR(INDEX(instruments!$N$2:$N$5037,MATCH(index!$A2017,instruments!$M$2:$M$5037,0),1),\"\")","v":""}]
[1974,{"$f":"+IFERROR(INDEX(instruments!$N$2:$N$5037,MATCH(index!$A2018,instruments!$M$2:$M$5037,0),1),\"\")","v":""}]
[1975,{"$f":"+IFERROR(INDEX(instruments!$N$2:$N$5037,MATCH(index!$A2019,instruments!$M$2:$M$5037,0),1),\"\")","v":""}]
[1976,{"$f":"+IFERROR(INDEX(instruments!$N$2:$N$5037,MATCH(index!$A2020,instruments!$M$2:$M$5037,0),1),\"\")","v":""}]
[1977,{"$f":"+IFERROR(INDEX(instruments!$N$2:$N$5037,MATCH(index!$A2021,instruments!$M$2:$M$5037,0),1),\"\")","v":""}]
[1978,{"$f":"+IFERROR(INDEX(instruments!$N$2:$N$5037,MATCH(index!$A2022,instruments!$M$2:$M$5037,0),1),\"\")","v":""}]
[1979,{"$f":"+IFERROR(INDEX(instruments!$N$2:$N$5037,MATCH(index!$A2023,instruments!$M$2:$M$5037,0),1),\"\")","v":""}]
[1980,{"$f":"+IFERROR(INDEX(instruments!$N$2:$N$5037,MATCH(index!$A2024,instruments!$M$2:$M$5037,0),1),\"\")","v":""}]
[1981,{"$f":"+IFERROR(INDEX(instruments!$N$2:$N$5037,MATCH(index!$A2025,instruments!$M$2:$M$5037,0),1),\"\")","v":""}]
[1982,{"$f":"+IFERROR(INDEX(instruments!$N$2:$N$5037,MATCH(index!$A2026,instruments!$M$2:$M$5037,0),1),\"\")","v":""}]
[1983,{"$f":"+IFERROR(INDEX(instruments!$N$2:$N$5037,MATCH(index!$A2027,instruments!$M$2:$M$5037,0),1),\"\")","v":""}]
[1984,{"$f":"+IFERROR(INDEX(instruments!$N$2:$N$5037,MATCH(index!$A2028,instruments!$M$2:$M$5037,0),1),\"\")","v":""}]
[1985,{"$f":"+IFERROR(INDEX(instruments!$N$2:$N$5037,MATCH(index!$A2029,instruments!$M$2:$M$5037,0),1),\"\")","v":""}]
[1986,{"$f":"+IFERROR(INDEX(instruments!$N$2:$N$5037,MATCH(index!$A2030,instruments!$M$2:$M$5037,0),1),\"\")","v":""}]
[1987,{"$f":"+IFERROR(INDEX(instruments!$N$2:$N$5037,MATCH(index!$A2031,instruments!$M$2:$M$5037,0),1),\"\")","v":""}]
[1988,{"$f":"+IFERROR(INDEX(instruments!$N$2:$N$5037,MATCH(index!$A2032,instruments!$M$2:$M$5037,0),1),\"\")","v":""}]
[1989,{"$f":"+IFERROR(INDEX(instruments!$N$2:$N$5037,MATCH(index!$A2033,instruments!$M$2:$M$5037,0),1),\"\")","v":""}]
[1990,{"$f":"+IFERROR(INDEX(instruments!$N$2:$N$5037,MATCH(index!$A2034,instruments!$M$2:$M$5037,0),1),\"\")","v":""}]
[1991,{"$f":"+IFERROR(INDEX(instruments!$N$2:$N$5037,MATCH(index!$A2035,instruments!$M$2:$M$5037,0),1),\"\")","v":""}]
[1992,{"$f":"+IFERROR(INDEX(instruments!$N$2:$N$5037,MATCH(index!$A2036,instruments!$M$2:$M$5037,0),1),\"\")","v":""}]
[1993,{"$f":"+IFERROR(INDEX(instruments!$N$2:$N$5037,MATCH(index!$A2037,instruments!$M$2:$M$5037,0),1),\"\")","v":""}]
[1994,{"$f":"+IFERROR(INDEX(instruments!$N$2:$N$5037,MATCH(index!$A2038,instruments!$M$2:$M$5037,0),1),\"\")","v":""}]
[1995,{"$f":"+IFERROR(INDEX(instruments!$N$2:$N$5037,MATCH(index!$A2039,instruments!$M$2:$M$5037,0),1),\"\")","v":""}]
[1996,{"$f":"+IFERROR(INDEX(instruments!$N$2:$N$5037,MATCH(index!$A2040,instruments!$M$2:$M$5037,0),1),\"\")","v":""}]
[1997,{"$f":"+IFERROR(INDEX(instruments!$N$2:$N$5037,MATCH(index!$A2041,instruments!$M$2:$M$5037,0),1),\"\")","v":""}]
[1998,{"$f":"+IFERROR(INDEX(instruments!$N$2:$N$5037,MATCH(index!$A2042,instruments!$M$2:$M$5037,0),1),\"\")","v":""}]

{"sheet":"historical","index":2,"n_rows":1197,"n_cols":4,"rows_kept":1197,"cut":false,"hidden":false,"merged":[]}
[{"$f":"_xll.cmdty.udfs.BCTS(B1:B1,B2:B2,\"Aggregation=Day\",\"AggSize=1\",\"AggSpec=None\",DATE(2016,1,1),,,,,\"Sort=Descending\",\"Orientation=Vertical\",\"HideWeekends=True\",\"Bars=1195\")","v":"Time Series"},"ZCBAIAFA.CM"]
["Date","Close"]
["2020-09-08",-0.30649999999999999,{"$f":"+MONTH(A3)","v":9},{"$f":"+YEAR(A3)","v":2020}]
["2020-09-07",-0.30709999999999998,{"$f":"+MONTH(A4)","v":9},{"$f":"+YEAR(A4)","v":2020}]
["2020-09-04",-0.31019999999999998,9,2020]
["2020-09-03",-0.31019999999999998,9,2020]
["2020-09-02",-0.3241,9,2020]
["2020-09-01",-0.32700000000000001,9,2020]
["2020-08-31",-0.28999999999999998,8,2020]
["2020-08-28",-0.28999999999999998,8,2020]
["2020-08-27",-0.26040000000000002,8,2020]
["2020-08-26",-0.24199999999999999,8,2020]
["2020-08-25",-0.2324,8,2020]
["2020-08-24",-0.24709999999999999,8,2020]
["2020-08-21",-0.2485,8,2020]
["2020-08-20",-0.2492,8,2020]
["2020-08-19",-0.25769999999999998,8,2020]
["2020-08-18",-0.25829999999999997,8,2020]
["2020-08-17",-0.27050000000000002,8,2020]
["2020-08-14",-0.27400000000000002,8,2020]
["2020-08-13",-0.27800000000000002,8,2020]
["2020-08-12",-0.27950000000000003,8,2020]
["2020-08-11",-0.28100000000000003,8,2020]
["2020-08-10",-0.28070000000000001,8,2020]
["2020-08-07",-0.28370000000000001,8,2020]
["2020-08-06",-0.28589999999999999,8,2020]
["2020-08-05",-0.28589999999999999,8,2020]
["2020-08-04",-0.28610000000000002,8,2020]
["2020-08-03",-0.2954,8,2020]
["2020-07-31",-0.2737,7,2020]
["2020-07-30",-0.2737,7,2020]
["2020-07-29",-0.27210000000000001,7,2020]
["2020-07-28",-0.26960000000000001,7,2020]
["2020-07-27",-0.27100000000000002,7,2020]
["2020-07-24",-0.2918,7,2020]
["2020-07-23",-0.2888,7,2020]
["2020-07-22",-0.2888,7,2020]
["2020-07-21",-0.29220000000000002,7,2020]
["2020-07-20",-0.28699999999999998,7,2020]
["2020-07-17",-0.28699999999999998,7,2020]
["2020-07-16",-0.28339999999999999,7,2020]
["2020-07-15",-0.2777,7,2020]
["2020-07-14",-0.27989999999999998,7,2020]
["2020-07-13",-0.28639999999999999,7,2020]
["2020-07-10",-0.29049999999999998,7,2020]
["2020-07-09",-0.29649999999999999,7,2020]
["2020-07-08",-0.3014,7,2020]
["2020-07-07",-0.3034,7,2020]
["2020-07-06",-0.309,7,2020]
["2020-07-03",-0.31040000000000001,7,2020]
["2020-07-02",-0.31590000000000001,7,2020]
["2020-07-01",-0.32319999999999999,7,2020]
["2020-06-30",-0.2712,6,2020]
["2020-06-29",-0.2392,6,2020]
["2020-06-26",-0.245,6,2020]
["2020-06-25",-0.2382,6,2020]
["2020-06-24",-0.2389,6,2020]
["2020-06-23",-0.24590000000000001,6,2020]
["2020-06-22",-0.24979999999999999,6,2020]
["2020-06-19",-0.24979999999999999,6,2020]
["2020-06-18",-0.24979999999999999,6,2020]
["2020-06-17",-0.25679999999999997,6,2020]
["2020-06-16",-0.25069999999999998,6,2020]
["2020-06-15",-0.25040000000000001,6,2020]
["2020-06-12",-0.2437,6,2020]
["2020-06-11",-0.24030000000000001,6,2020]
["2020-06-10",-0.24199999999999999,6,2020]
["2020-06-09",-0.25019999999999998,{"$f":"+MONTH(A68)","v":6},{"$f":"+YEAR(A68)","v":2020}]
["2020-06-08",-0.2535,6,2020]
["2020-06-05",-0.25309999999999999,6,2020]
["2020-06-04",-0.25130000000000002,6,2020]
["2020-06-03",-0.25130000000000002,6,2020]
["2020-06-02",-0.25119999999999998,6,2020]
["2020-06-01",-0.24809999999999999,6,2020]
["2020-05-29",-0.25459999999999999,5,2020]
["2020-05-28",-0.255,5,2020]
["2020-05-27",-0.25919999999999999,5,2020]
["2020-05-26",-0.2651,5,2020]
["2020-05-25",-0.2757,5,2020]
["2020-05-22",-0.2757,5,2020]
["2020-05-21",-0.2792,5,2020]
["2020-05-20",-0.27850000000000003,5,2020]
["2020-05-19",-0.2843,5,2020]
["2020-05-18",-0.28649999999999998,5,2020]
["2020-05-15",-0.28820000000000001,5,2020]
["2020-05-14",-0.28660000000000002,5,2020]
["2020-05-13",-0.28739999999999999,5,2020]
["2020-05-12",-0.34329999999999999,5,2020]
["2020-05-11",-0.34549999999999997,5,2020]
["2020-05-08",-0.34620000000000001,5,2020]
["2020-05-07",-0.34639999999999999,5,2020]
["2020-05-06",-0.35499999999999998,5,2020]
["2020-05-05",-0.378,5,2020]
["2020-05-04",-0.40029999999999999,5,2020]
["2020-05-01",-0.42120000000000002,5,2020]
["2020-04-30",-0.31619999999999998,4,2020]
["2020-04-29",-0.31680000000000003,4,2020]
["2020-04-28",-0.32729999999999998,4,2020]
["2020-04-27",-0.3332,4,2020]
["2020-04-24",-0.33939999999999998,4,2020]
["2020-04-23",-0.34010000000000001,4,2020]
["2020-04-22",-0.34189999999999998,4,2020]
["2020-04-21",-0.34889999999999999,4,2020]
["2020-04-20",-0.35249999999999998,4,2020]
["2020-04-17",-0.37619999999999998,4,2020]
["2020-04-16",-0.37830000000000003,4,2020]
["2020-04-15",-0.374,4,2020]
["2020-04-14",-0.37069999999999997,4,2020]
["2020-04-13",-0.378,4,2020]
["2020-04-10",-0.37330000000000002,4,2020]
["2020-04-09",-0.37330000000000002,4,2020]
["2020-04-08",-0.37119999999999997,4,2020]
["2020-04-07",-0.36880000000000002,4,2020]
["2020-04-06",-0.38529999999999998,4,2020]
["2020-04-03",-0.41749999999999998,4,2020]
["2020-04-02",-0.41749999999999998,4,2020]
["2020-04-01",-0.41749999999999998,4,2020]
["2020-03-31",-0.41549999999999998,3,2020]
["2020-03-30",-0.41549999999999998,3,2020]
["2020-03-27",-0.38090000000000002,3,2020]
["2020-03-26",-0.38069999999999998,3,2020]
["2020-03-25",-0.36449999999999999,3,2020]
["2020-03-24",-0.36159999999999998,3,2020]
["2020-03-23",-0.3291,3,2020]
["2020-03-20",-0.37309999999999999,3,2020]
["2020-03-19",-0.374,3,2020]
["2020-03-18",-0.3987,3,2020]
["2020-03-17",-0.33260000000000001,3,2020]
["2020-03-16",-0.24529999999999999,3,2020]
["2020-03-13",-0.23569999999999999,3,2020]
["2020-03-12",-0.21049999999999999,3,2020]
["2020-03-11",-0.21049999999999999,{"$f":"+MONTH(A132)","v":3},{"$f":"+YEAR(A132)","v":2020}]
["2020-03-10",-0.20849999999999999,3,2020]
["2020-03-09",-0.2036,3,2020]
["2020-03-06",-0.19800000000000001,3,2020]
["2020-03-05",-0.19520000000000001,3,2020]
["2020-03-04",-0.19739999999999999,3,2020]
["2020-03-03",-0.1996,3,2020]
["2020-03-02",-0.20519999999999999,3,2020]
["2020-02-28",-0.17730000000000001,2,2020]
["2020-02-27",-0.1812,2,2020]
["2020-02-26",-0.17780000000000001,2,2020]
["2020-02-25",-0.1757,2,2020]
["2020-02-24",-0.182,2,2020]
["2020-02-21",-0.189,2,2020]
["2020-02-20",-0.18970000000000001,2,2020]
["2020-02-19",-0.20039999999999999,2,2020]
["2020-02-18",-0.2011,2,2020]
["2020-02-17",-0.2011,2,2020]
["2020-02-14",-0.20130000000000001,2,2020]
["2020-02-13",-0.2021,2,2020]
["2020-02-12",-0.20180000000000001,2,2020]
["2020-02-11",-0.20449999999999999,2,2020]
["2020-02-10",-0.20430000000000001,2,2020]
["2020-02-07",-0.19600000000000001,2,2020]
["2020-02-06",-0.19689999999999999,2,2020]
["2020-02-05",-0.19600000000000001,2,2020]
["2020-02-04",-0.19689999999999999,2,2020]
["2020-02-03",-0.2094,2,2020]
["2020-01-31",-0.21709999999999999,1,2020]
["2020-01-30",-0.21709999999999999,1,2020]
["2020-01-29",-0.2177,1,2020]
["2020-01-28",-0.2177,1,2020]
["2020-01-27",-0.217,1,2020]
["2020-01-24",-0.22450000000000001,1,2020]
["2020-01-23",-0.2238,1,2020]
["2020-01-22",-0.22989999999999999,1,2020]
["2020-01-21",-0.23219999999999999,1,2020]
["2020-01-20",-0.2336,1,2020]
["2020-01-17",-0.23960000000000001,1,2020]
["2020-01-16",-0.23960000000000001,1,2020]
["2020-01-15",-0.2389,1,2020]
["2020-01-14",-0.23960000000000001,1,2020]
["2020-01-13",-0.2389,1,2020]
["2020-01-10",-0.24,1,2020]
["2020-01-09",-0.2414,1,2020]
["2020-01-08",-0.24210000000000001,1,2020]
["2020-01-07",-0.24210000000000001,1,2020]
["2020-01-06",-0.24210000000000001,1,2020]
["2020-01-03",-0.24279999999999999,1,2020]
["2020-01-02",-0.24510000000000001,1,2020]
["2019-12-31",-0.29959999999999998,12,2019]
["2019-12-30",-0.30919999999999997,12,2019]
["2019-12-27",-0.31040000000000001,12,2019]
["2019-12-26",-0.309,12,2019]
["2019-12-25",-0.314,12,2019]
["2019-12-24",-0.31419999999999998,12,2019]
["2019-12-23",-0.31819999999999998,12,2019]
["2019-12-20",-0.32050000000000001,12,2019]
["2019-12-19",-0.31909999999999999,12,2019]
["2019-12-18",-0.31630000000000003,12,2019]
["2019-12-17",-0.31630000000000003,12,2019]
["2019-12-16",-0.31630000000000003,12,2019]
["2019-12-13",-0.33110000000000001,12,2019]
["2019-12-12",-0.33800000000000002,12,2019]
["2019-12-11",-0.33800000000000002,{"$f":"+MONTH(A196)","v":12},{"$f":"+YEAR(A196)","v":2019}]
["2019-12-10",-0.34100000000000003,12,2019]
["2019-12-09",-0.34100000000000003,12,2019]
["2019-12-06",-0.34460000000000002,12,2019]
["2019-12-05",-0.34460000000000002,12,2019]
["2019-12-04",-0.34429999999999999,12,2019]
["2019-12-03",-0.3246,12,2019]
["2019-12-02",-0.32140000000000002,12,2019]
["2019-11-29",-0.26140000000000002,11,2019]
["2019-11-28",-0.23780000000000001,11,2019]
["2019-11-27",-0.24610000000000001,11,2019]
["2019-11-26",-0.23980000000000001,11,2019]
["2019-11-25",-0.22800000000000001,11,2019]
["2019-11-22",-0.23760000000000001,11,2019]
["2019-11-21",-0.23630000000000001,11,2019]
["2019-11-20",-0.2397,11,2019]
["2019-11-19",-0.2404,11,2019]
["2019-11-18",-0.2392,11,2019]
["2019-11-15",-0.2399,11,2019]
["2019-11-14",-0.2407,11,2019]
["2019-11-13",-0.24229999999999999,11,2019]
["2019-11-12",-0.24610000000000001,11,2019]
["2019-11-11",-0.24610000000000001,11,2019]
["2019-11-08",-0.26069999999999999,11,2019]
["2019-11-07",-0.26300000000000001,11,2019]
["2019-11-06",-0.26300000000000001,11,2019]
["2019-11-05",-0.26889999999999997,11,2019]
["2019-11-04",-0.27050000000000002,11,2019]
["2019-11-01",-0.27050000000000002,11,2019]
["2019-10-31",-0.26979999999999998,10,2019]
["2019-10-30",-0.26119999999999999,10,2019]
["2019-10-29",-0.24929999999999999,10,2019]
["2019-10-28",-0.2465,10,2019]
["2019-10-25",-0.24640000000000001,10,2019]
["2019-10-24",-0.24279999999999999,10,2019]
["2019-10-23",-0.23449999999999999,10,2019]
["2019-10-22",-0.23449999999999999,10,2019]
["2019-10-21",-0.2364,10,2019]
["2019-10-18",-0.2286,10,2019]
["2019-10-17",-0.2293,10,2019]
["2019-10-16",-0.23269999999999999,10,2019]
["2019-10-15",-0.2296,10,2019]
["2019-10-14",-0.2288,10,2019]
["2019-10-11",-0.23880000000000001,10,2019]
["2019-10-10",-0.23880000000000001,10,2019]
["2019-10-09",-0.2621,10,2019]
["2019-10-08",-0.26519999999999999,10,2019]
["2019-10-07",-0.2858,10,2019]
["2019-10-04",-0.2918,10,2019]
["2019-10-03",-0.29239999999999999,10,2019]
["2019-10-02",-0.29239999999999999,10,2019]
["2019-10-01",-0.29160000000000003,10,2019]
["2019-09-30",-0.21990000000000001,9,2019]
["2019-09-27",-0.21560000000000001,9,2019]
["2019-09-26",-0.215,9,2019]
["2019-09-25",-0.21909999999999999,9,2019]
["2019-09-24",-0.22450000000000001,9,2019]
["2019-09-23",-0.2218,9,2019]
["2019-09-20",-0.2092,9,2019]
["2019-09-19",-0.21149999999999999,9,2019]
["2019-09-18",-0.22539999999999999,9,2019]
["2019-09-17",-0.21940000000000001,9,2019]
["2019-09-16",-0.21729999999999999,9,2019]
["2019-09-13",-0.215,9,2019]
["2019-09-12",-0.2157,{"$f":"+MONTH(A260)","v":9},{"$f":"+YEAR(A260)","v":2019}]
["2019-09-11",-0.2157,9,2019]
["2019-09-10",-0.21579999999999999,9,2019]
["2019-09-09",-0.21659999999999999,9,2019]
["2019-09-06",-0.21659999999999999,9,2019]
["2019-09-05",-0.21679999999999999,9,2019]
["2019-09-04",-0.18099999999999999,9,2019]
["2019-09-03",-0.18870000000000001,9,2019]
["2019-09-02",-0.20699999999999999,9,2019]
["2019-08-30",-0.15,8,2019]
["2019-08-29",-0.16,8,2019]
["2019-08-28",-0.1236,8,2019]
["2019-08-27",-0.1255,8,2019]
["2019-08-26",-0.12970000000000001,8,2019]
["2019-08-23",-0.1323,8,2019]
["2019-08-22",-0.1323,8,2019]
["2019-08-21",-0.1351,8,2019]
["2019-08-20",-0.1396,8,2019]
["2019-08-19",-0.1444,8,2019]
["2019-08-16",-0.1857,8,2019]
["2019-08-15",-0.1847,8,2019]
["2019-08-14",-0.20419999999999999,8,2019]
["2019-08-13",-0.22159999999999999,8,2019]
["2019-08-12",-0.20730000000000001,8,2019]
["2019-08-09",-0.20649999999999999,8,2019]
["2019-08-08",-0.20480000000000001,8,2019]
["2019-08-07",-0.2024,8,2019]
["2019-08-06",-0.2024,8,2019]
["2019-08-05",-0.2031,8,2019]
["2019-08-02",-0.20200000000000001,8,2019]
["2019-08-01",-0.21179999999999999,8,2019]
["2019-07-31",-0.2014,7,2019]
["2019-07-30",-0.19409999999999999,7,2019]
["2019-07-29",-0.19289999999999999,7,2019]
["2019-07-26",-0.193,7,2019]
["2019-07-25",-0.1797,7,2019]
["2019-07-24",-0.1714,7,2019]
["2019-07-23",-0.15720000000000001,7,2019]
["2019-07-22",-0.1573,7,2019]
["2019-07-19",-0.15329999999999999,7,2019]
["2019-07-18",-0.15160000000000001,7,2019]
["2019-07-17",-0.15160000000000001,7,2019]
["2019-07-16",-0.15290000000000001,7,2019]
["2019-07-15",-0.1573,7,2019]
["2019-07-12",-0.1671,7,2019]
["2019-07-11",-0.17150000000000001,7,2019]
["2019-07-10",-0.18210000000000001,7,2019]
["2019-07-09",-0.18759999999999999,7,2019]
["2019-07-08",-0.19189999999999999,7,2019]
["2019-07-05",-0.1963,7,2019]
["2019-07-04",-0.1963,7,2019]
["2019-07-03",-0.19550000000000001,7,2019]
["2019-07-02",-0.2515,7,2019]
["2019-07-01",-0.29620000000000002,7,2019]
["2019-06-28",-0.26279999999999998,6,2019]
["2019-06-27",-0.26479999999999998,6,2019]
["2019-06-26",-0.26550000000000001,6,2019]
["2019-06-25",-0.27379999999999999,6,2019]
["2019-06-24",-0.29330000000000001,6,2019]
["2019-06-21",-0.29459999999999997,6,2019]
["2019-06-20",-0.31909999999999999,6,2019]
["2019-06-19",-0.32229999999999998,6,2019]
["2019-06-18",-0.32229999999999998,6,2019]
["2019-06-17",-0.3216,6,2019]
["2019-06-14",-0.33939999999999998,{"$f":"+MONTH(A324)","v":6},{"$f":"+YEAR(A324)","v":2019}]
["2019-06-13",-0.3402,6,2019]
["2019-06-12",-0.34260000000000002,6,2019]
["2019-06-11",-0.34499999999999997,6,2019]
["2019-06-10",-0.36809999999999998,6,2019]
["2019-06-07",-0.37430000000000002,6,2019]
["2019-06-06",-0.3775,6,2019]
["2019-06-05",-0.38579999999999998,6,2019]
["2019-06-04",-0.38669999999999999,6,2019]
["2019-06-03",-0.38929999999999998,6,2019]
["2019-05-31",-0.39169999999999999,5,2019]
["2019-05-30",-0.38490000000000002,5,2019]
["2019-05-29",-0.38119999999999998,5,2019]
["2019-05-28",-0.38129999999999997,5,2019]
["2019-05-27",-0.36880000000000002,5,2019]
["2019-05-24",-0.36720000000000003,5,2019]
["2019-05-23",-0.35649999999999998,5,2019]
["2019-05-22",-0.35659999999999997,5,2019]
["2019-05-21",-0.38090000000000002,5,2019]
["2019-05-20",-0.36459999999999998,5,2019]
["2019-05-17",-0.3579,5,2019]
["2019-05-16",-0.30680000000000002,5,2019]
["2019-05-15",-0.30420000000000003,5,2019]
["2019-05-14",-0.29899999999999999,5,2019]
["2019-05-13",-0.2898,5,2019]
["2019-05-10",-0.28860000000000002,5,2019]
["2019-05-09",-0.29380000000000001,5,2019]
["2019-05-08",-0.29899999999999999,5,2019]
["2019-05-07",-0.29780000000000001,5,2019]
["2019-05-06",-0.30609999999999998,5,2019]
["2019-05-03",-0.33279999999999998,5,2019]
["2019-05-02",-0.32929999999999998,5,2019]
["2019-05-01",-0.33950000000000002,5,2019]
["2019-04-30",-0.21560000000000001,4,2019]
["2019-04-29",-0.22550000000000001,4,2019]
["2019-04-26",-0.2278,4,2019]
["2019-04-25",-0.22059999999999999,4,2019]
["2019-04-24",-0.22919999999999999,4,2019]
["2019-04-23",-0.24510000000000001,4,2019]
["2019-04-22",-0.24160000000000001,4,2019]
["2019-04-19",-0.2427,4,2019]
["2019-04-18",-0.24410000000000001,4,2019]
["2019-04-17",-0.2505,4,2019]
["2019-04-16",-0.26640000000000003,4,2019]
["2019-04-15",-0.2661,4,2019]
["2019-04-12",-0.26889999999999997,4,2019]
["2019-04-11",-0.27660000000000001,4,2019]
["2019-04-10",-0.2772,4,2019]
["2019-04-09",-0.28010000000000002,4,2019]
["2019-04-08",-0.29149999999999998,4,2019]
["2019-04-05",-0.2908,4,2019]
["2019-04-04",-0.29310000000000003,4,2019]
["2019-04-03",-0.29509999999999997,4,2019]
["2019-04-02",-0.29649999999999999,4,2019]
["2019-04-01",-0.30009999999999998,4,2019]
["2019-03-29",-0.2964,3,2019]
["2019-03-28",-0.2964,3,2019]
["2019-03-27",-0.2964,3,2019]
["2019-03-26",-0.29809999999999998,3,2019]
["2019-03-25",-0.30120000000000002,3,2019]
["2019-03-22",-0.29830000000000001,3,2019]
["2019-03-21",-0.2959,3,2019]
["2019-03-20",-0.30009999999999998,3,2019]
["2019-03-19",-0.2979,3,2019]
["2019-03-18",-0.31090000000000001,{"$f":"+MONTH(A388)","v":3},{"$f":"+YEAR(A388)","v":2019}]
["2019-03-15",-0.3125,3,2019]
["2019-03-14",-0.31569999999999998,3,2019]
["2019-03-13",-0.3291,3,2019]
["2019-03-12",-0.3281,3,2019]
["2019-03-11",-0.33329999999999999,3,2019]
["2019-03-08",-0.3458,3,2019]
["2019-03-07",-0.34449999999999997,3,2019]
["2019-03-06",-0.38479999999999998,3,2019]
["2019-03-05",-0.38290000000000002,3,2019]
["2019-03-04",-0.3906,3,2019]
["2019-03-01",-0.4088,3,2019]
["2019-02-28",-0.3004,2,2019]
["2019-02-27",-0.28510000000000002,2,2019]
["2019-02-26",-0.30599999999999999,2,2019]
["2019-02-25",-0.30590000000000001,2,2019]
["2019-02-22",-0.3201,2,2019]
["2019-02-21",-0.3201,2,2019]
["2019-02-20",-0.3201,2,2019]
["2019-02-19",-0.32069999999999999,2,2019]
["2019-02-18",-0.32850000000000001,2,2019]
["2019-02-15",-0.32850000000000001,2,2019]
["2019-02-14",-0.3372,2,2019]
["2019-02-13",-0.33400000000000002,2,2019]
["2019-02-12",-0.33560000000000001,2,2019]
["2019-02-11",-0.33689999999999998,2,2019]
["2019-02-08",-0.34,2,2019]
["2019-02-07",-0.33929999999999999,2,2019]
["2019-02-06",-0.34129999999999999,2,2019]
["2019-02-05",-0.35160000000000002,2,2019]
["2019-02-04",-0.3458,2,2019]
["2019-02-01",-0.34970000000000001,2,2019]
["2019-01-31",-0.34870000000000001,1,2019]
["2019-01-30",-0.3387,1,2019]
["2019-01-29",-0.33979999999999999,1,2019]
["2019-01-28",-0.34189999999999998,1,2019]
["2019-01-25",-0.34460000000000002,1,2019]
["2019-01-24",-0.3493,1,2019]
["2019-01-23",-0.3493,1,2019]
["2019-01-22",-0.35339999999999999,1,2019]
["2019-01-21",-0.3619,1,2019]
["2019-01-18",-0.36280000000000001,1,2019]
["2019-01-17",-0.36280000000000001,1,2019]
["2019-01-16",-0.36749999999999999,1,2019]
["2019-01-15",-0.373,1,2019]
["2019-01-14",-0.37219999999999998,1,2019]
["2019-01-11",-0.3755,1,2019]
["2019-01-10",-0.37790000000000001,1,2019]
["2019-01-09",-0.38529999999999998,1,2019]
["2019-01-08",-0.39710000000000001,1,2019]
["2019-01-07",-0.4103,1,2019]
["2019-01-04",-0.41099999999999998,1,2019]
["2019-01-03",-0.40739999999999998,1,2019]
["2019-01-02",-0.41299999999999998,1,2019]
["2018-12-31",-0.42370000000000002,12,2018]
["2018-12-28",-0.42509999999999998,12,2018]
["2018-12-27",-0.4244,12,2018]
["2018-12-26",-0.42659999999999998,12,2018]
["2018-12-25",-0.42580000000000001,12,2018]
["2018-12-24",-0.42580000000000001,12,2018]
["2018-12-21",-0.42609999999999998,12,2018]
["2018-12-20",-0.42680000000000001,12,2018]
["2018-12-19",-0.43730000000000002,12,2018]
["2018-12-18",-0.43659999999999999,12,2018]
["2018-12-17",-0.43730000000000002,{"$f":"+MONTH(A452)","v":12},{"$f":"+YEAR(A452)","v":2018}]
["2018-12-14",-0.44890000000000002,12,2018]
["2018-12-13",-0.44890000000000002,12,2018]
["2018-12-12",-0.4496,12,2018]
["2018-12-11",-0.45029999999999998,12,2018]
["2018-12-10",-0.45179999999999998,12,2018]
["2018-12-07",-0.45119999999999999,12,2018]
["2018-12-06",-0.4551,12,2018]
["2018-12-05",-0.4652,12,2018]
["2018-12-04",-0.45929999999999999,12,2018]
["2018-12-03",-0.46679999999999999,12,2018]
["2018-11-30",-0.37680000000000002,11,2018]
["2018-11-29",-0.37680000000000002,11,2018]
["2018-11-28",-0.37140000000000001,11,2018]
["2018-11-27",-0.3725,11,2018]
["2018-11-26",-0.37269999999999998,11,2018]
["2018-11-23",-0.38179999999999997,11,2018]
["2018-11-22",-0.38090000000000002,11,2018]
["2018-11-21",-0.38009999999999999,11,2018]
["2018-11-20",-0.38440000000000002,11,2018]
["2018-11-19",-0.38429999999999997,11,2018]
["2018-11-16",-0.38340000000000002,11,2018]
["2018-11-15",-0.3826,11,2018]
["2018-11-14",-0.40679999999999999,11,2018]
["2018-11-13",-0.40699999999999997,11,2018]
["2018-11-12",-0.41270000000000001,11,2018]
["2018-11-09",-0.4173,11,2018]
["2018-11-08",-0.41980000000000001,11,2018]
["2018-11-07",-0.42,11,2018]
["2018-11-06",-0.4234,11,2018]
["2018-11-05",-0.43049999999999999,11,2018]
["2018-11-02",-0.4415,11,2018]
["2018-11-01",-0.45179999999999998,11,2018]
["2018-10-31",-0.47620000000000001,10,2018]
["2018-10-30",-0.4894,10,2018]
["2018-10-29",-0.49580000000000002,10,2018]
["2018-10-26",-0.49819999999999998,10,2018]
["2018-10-25",-0.50009999999999999,10,2018]
["2018-10-24",-0.50009999999999999,10,2018]
["2018-10-23",-0.51300000000000001,10,2018]
["2018-10-22",-0.51390000000000002,10,2018]
["2018-10-19",-0.51480000000000004,10,2018]
["2018-10-18",-0.51729999999999998,10,2018]
["2018-10-17",-0.51639999999999997,10,2018]
["2018-10-16",-0.51639999999999997,10,2018]
["2018-10-15",-0.51719999999999999,10,2018]
["2018-10-12",-0.51729999999999998,10,2018]
["2018-10-11",-0.51819999999999999,10,2018]
["2018-10-10",-0.52039999999999997,10,2018]
["2018-10-09",-0.52449999999999997,10,2018]
["2018-10-08",-0.52180000000000004,10,2018]
["2018-10-05",-0.52470000000000006,10,2018]
["2018-10-04",-0.52470000000000006,10,2018]
["2018-10-03",-0.53539999999999999,10,2018]
["2018-10-02",-0.53539999999999999,10,2018]
["2018-10-01",-0.53459999999999996,10,2018]
["2018-09-28",-0.52510000000000001,9,2018]
["2018-09-27",-0.5242,9,2018]
["2018-09-26",-0.52600000000000002,9,2018]
["2018-09-25",-0.5292,9,2018]
["2018-09-24",-0.52849999999999997,9,2018]
["2018-09-21",-0.52539999999999998,9,2018]
["2018-09-20",-0.52539999999999998,9,2018]
["2018-09-19",-0.53239999999999998,9,2018]
["2018-09-18",-0.53510000000000002,{"$f":"+MONTH(A516)","v":9},{"$f":"+YEAR(A516)","v":2018}]
["2018-09-17",-0.54100000000000004,9,2018]
["2018-09-14",-0.54100000000000004,9,2018]
["2018-09-13",-0.54549999999999998,9,2018]
["2018-09-12",-0.54769999999999996,9,2018]
["2018-09-11",-0.55179999999999996,9,2018]
["2018-09-10",-0.55179999999999996,9,2018]
["2018-09-07",-0.55300000000000005,9,2018]
["2018-09-06",-0.55300000000000005,9,2018]
["2018-09-05",-0.55230000000000001,9,2018]
["2018-09-04",-0.55710000000000004,9,2018]
["2018-08-31",-0.52649999999999997,8,2018]
["2018-08-30",-0.43769999999999998,8,2018]
["2018-08-29",-0.43769999999999998,8,2018]
["2018-08-28",-0.44059999999999999,8,2018]
["2018-08-27",-0.44190000000000002,8,2018]
["2018-08-24",-0.43959999999999999,8,2018]
["2018-08-23",-0.43959999999999999,8,2018]
["2018-08-22",-0.43430000000000002,8,2018]
["2018-08-21",-0.43430000000000002,8,2018]
["2018-08-20",-0.43430000000000002,8,2018]
["2018-08-17",-0.44729999999999998,8,2018]
["2018-08-16",-0.44819999999999999,8,2018]
["2018-08-15",-0.44729999999999998,8,2018]
["2018-08-14",-0.4486,8,2018]
["2018-08-13",-0.4486,8,2018]
["2018-08-10",-0.44169999999999998,8,2018]
["2018-08-09",-0.43890000000000001,8,2018]
["2018-08-08",-0.43540000000000001,8,2018]
["2018-08-07",-0.436,8,2018]
["2018-08-06",-0.43790000000000001,8,2018]
["2018-08-03",-0.44650000000000001,8,2018]
["2018-08-02",-0.4456,8,2018]
["2018-08-01",-0.4456,8,2018]
["2018-07-31",-0.44140000000000001,7,2018]
["2018-07-30",-0.43980000000000002,7,2018]
["2018-07-27",-0.43890000000000001,7,2018]
["2018-07-26",-0.43590000000000001,7,2018]
["2018-07-25",-0.43330000000000002,7,2018]
["2018-07-24",-0.43330000000000002,7,2018]
["2018-07-23",-0.435,7,2018]
["2018-07-20",-0.43590000000000001,7,2018]
["2018-07-19",-0.43769999999999998,7,2018]
["2018-07-18",-0.43769999999999998,7,2018]
["2018-07-17",-0.45140000000000002,7,2018]
["2018-07-16",-0.45140000000000002,7,2018]
["2018-07-13",-0.45319999999999999,7,2018]
["2018-07-12",-0.4551,7,2018]
["2018-07-11",-0.45600000000000002,7,2018]
["2018-07-10",-0.46189999999999998,7,2018]
["2018-07-09",-0.46679999999999999,7,2018]
["2018-07-06",-0.46899999999999997,7,2018]
["2018-07-05",-0.46889999999999998,7,2018]
["2018-07-03",-0.47160000000000002,7,2018]
["2018-07-02",-0.48780000000000001,7,2018]
["2018-06-29",-0.4128,6,2018]
["2018-06-28",-0.41520000000000001,6,2018]
["2018-06-27",-0.43830000000000002,6,2018]
["2018-06-26",-0.42159999999999997,6,2018]
["2018-06-25",-0.42659999999999998,6,2018]
["2018-06-22",-0.4264,6,2018]
["2018-06-21",-0.43009999999999998,6,2018]
["2018-06-20",-0.43230000000000002,6,2018]
["2018-06-19",-0.43159999999999998,6,2018]
["2018-06-18",-0.43759999999999999,{"$f":"+MONTH(A580)","v":6},{"$f":"+YEAR(A580)","v":2018}]
["2018-06-15",-0.4425,6,2018]
["2018-06-14",-0.4425,6,2018]
["2018-06-13",-0.44319999999999998,6,2018]
["2018-06-12",-0.45390000000000003,6,2018]
["2018-06-11",-0.4597,6,2018]
["2018-06-08",-0.46160000000000001,6,2018]
["2018-06-07",-0.46160000000000001,6,2018]
["2018-06-06",-0.46229999999999999,6,2018]
["2018-06-05",-0.46229999999999999,6,2018]
["2018-06-04",-0.46179999999999999,6,2018]
["2018-06-01",-0.46710000000000002,6,2018]
["2018-05-31",-0.45710000000000001,5,2018]
["2018-05-30",-0.47749999999999998,5,2018]
["2018-05-29",-0.47989999999999999,5,2018]
["2018-05-25",-0.48080000000000001,5,2018]
["2018-05-24",-0.48149999999999998,5,2018]
["2018-05-23",-0.47760000000000002,5,2018]
["2018-05-22",-0.47449999999999998,5,2018]
["2018-05-21",-0.47370000000000001,5,2018]
["2018-05-18",-0.47370000000000001,5,2018]
["2018-05-17",-0.47170000000000001,5,2018]
["2018-05-16",-0.47170000000000001,5,2018]
["2018-05-15",-0.47249999999999998,5,2018]
["2018-05-14",-0.47249999999999998,5,2018]
["2018-05-11",-0.4718,5,2018]
["2018-05-10",-0.4718,5,2018]
["2018-05-09",-0.47260000000000002,5,2018]
["2018-05-08",-0.47149999999999997,5,2018]
["2018-05-07",-0.46850000000000003,5,2018]
["2018-05-04",-0.47,5,2018]
["2018-05-03",-0.46750000000000003,5,2018]
["2018-05-02",-0.4698,5,2018]
["2018-05-01",-0.4572,5,2018]
["2018-04-30",-0.4022,4,2018]
["2018-04-27",-0.43940000000000001,4,2018]
["2018-04-26",-0.44840000000000002,4,2018]
["2018-04-25",-0.41649999999999998,4,2018]
["2018-04-24",-0.38240000000000002,4,2018]
["2018-04-23",-0.38640000000000002,4,2018]
["2018-04-20",-0.38940000000000002,4,2018]
["2018-04-19",-0.38940000000000002,4,2018]
["2018-04-18",-0.39779999999999999,4,2018]
["2018-04-17",-0.3997,4,2018]
["2018-04-16",-0.40150000000000002,4,2018]
["2018-04-13",-0.40229999999999999,4,2018]
["2018-04-12",-0.41010000000000002,4,2018]
["2018-04-11",-0.42849999999999999,4,2018]
["2018-04-10",-0.42930000000000001,4,2018]
["2018-04-09",-0.43180000000000002,4,2018]
["2018-04-06",-0.43180000000000002,4,2018]
["2018-04-05",-0.43359999999999999,4,2018]
["2018-04-04",-0.43730000000000002,4,2018]
["2018-04-03",-0.43809999999999999,4,2018]
["2018-04-02",-0.44340000000000002,4,2018]
["2018-03-29",-0.44800000000000001,3,2018]
["2018-03-28",-0.44779999999999998,3,2018]
["2018-03-27",-0.44929999999999998,3,2018]
["2018-03-26",-0.44929999999999998,3,2018]
["2018-03-23",-0.4486,3,2018]
["2018-03-22",-0.4471,3,2018]
["2018-03-21",-0.4471,3,2018]
["2018-03-20",-0.4471,3,2018]
["2018-03-19",-0.4491,3,2018]
["2018-03-16",-0.46150000000000002,{"$f":"+MONTH(A644)","v":3},{"$f":"+YEAR(A644)","v":2018}]
["2018-03-15",-0.46179999999999999,3,2018]
["2018-03-14",-0.46279999999999999,3,2018]
["2018-03-13",-0.45429999999999998,3,2018]
["2018-03-12",-0.45579999999999998,3,2018]
["2018-03-09",-0.4541,3,2018]
["2018-03-08",-0.4496,3,2018]
["2018-03-07",-0.4244,3,2018]
["2018-03-06",-0.42380000000000001,3,2018]
["2018-03-05",-0.42720000000000002,3,2018]
["2018-03-02",-0.42630000000000001,3,2018]
["2018-03-01",-0.42309999999999998,3,2018]
["2018-02-28",-0.32490000000000002,2,2018]
["2018-02-27",-0.3271,2,2018]
["2018-02-26",-0.32629999999999998,2,2018]
["2018-02-23",-0.32740000000000002,2,2018]
["2018-02-22",-0.32819999999999999,2,2018]
["2018-02-21",-0.3306,2,2018]
["2018-02-20",-0.33160000000000001,2,2018]
["2018-02-16",-0.33069999999999999,2,2018]
["2018-02-15",-0.33069999999999999,2,2018]
["2018-02-14",-0.32969999999999999,2,2018]
["2018-02-13",-0.32929999999999998,2,2018]
["2018-02-12",-0.32500000000000001,2,2018]
["2018-02-09",-0.3327,2,2018]
["2018-02-08",-0.33329999999999999,2,2018]
["2018-02-07",-0.3377,2,2018]
["2018-02-06",-0.33789999999999998,2,2018]
["2018-02-05",-0.33760000000000001,2,2018]
["2018-02-02",-0.3407,2,2018]
["2018-02-01",-0.3377,2,2018]
["2018-01-31",-0.34370000000000001,1,2018]
["2018-01-30",-0.35320000000000001,1,2018]
["2018-01-29",-0.34439999999999998,1,2018]
["2018-01-26",-0.34439999999999998,1,2018]
["2018-01-25",-0.34039999999999998,1,2018]
["2018-01-24",-0.33760000000000001,1,2018]
["2018-01-23",-0.33679999999999999,1,2018]
["2018-01-22",-0.3372,1,2018]
["2018-01-19",-0.33879999999999999,1,2018]
["2018-01-18",-0.33879999999999999,1,2018]
["2018-01-17",-0.33900000000000002,1,2018]
["2018-01-16",-0.34699999999999998,1,2018]
["2018-01-12",-0.35749999999999998,1,2018]
["2018-01-11",-0.35749999999999998,1,2018]
["2018-01-10",-0.35749999999999998,1,2018]
["2018-01-09",-0.35270000000000001,1,2018]
["2018-01-08",-0.36890000000000001,1,2018]
["2018-01-05",-0.371,1,2018]
["2018-01-04",-0.37130000000000002,1,2018]
["2018-01-03",-0.37130000000000002,1,2018]
["2018-01-02",-0.37869999999999998,1,2018]
["2017-12-29",-0.37940000000000002,12,2017]
["2017-12-28",-0.38229999999999997,12,2017]
["2017-12-27",-0.39019999999999999,12,2017]
["2017-12-26",-0.39410000000000001,12,2017]
["2017-12-22",-0.39410000000000001,12,2017]
["2017-12-21",-0.3911,12,2017]
["2017-12-20",-0.3911,12,2017]
["2017-12-19",-0.4088,12,2017]
["2017-12-18",-0.41289999999999999,12,2017]
["2017-12-15",-0.41289999999999999,12,2017]
["2017-12-14",-0.4118,12,2017]
["2017-12-13",-0.41289999999999999,12,2017]
["2017-12-12",-0.42270000000000002,{"$f":"+MONTH(A708)","v":12},{"$f":"+YEAR(A708)","v":2017}]
["2017-12-11",-0.42170000000000002,12,2017]
["2017-12-08",-0.42780000000000001,12,2017]
["2017-12-07",-0.42170000000000002,12,2017]
["2017-12-06",-0.41760000000000003,12,2017]
["2017-12-05",-0.41649999999999998,12,2017]
["2017-12-04",-0.45500000000000002,12,2017]
["2017-12-01",-0.45810000000000001,12,2017]
["2017-11-30",-0.41449999999999998,11,2017]
["2017-11-28",-0.39639999999999997,11,2017]
["2017-11-27",-0.39250000000000002,11,2017]
["2017-11-24",-0.42170000000000002,11,2017]
["2017-11-22",-0.42070000000000002,11,2017]
["2017-11-21",-0.42070000000000002,11,2017]
["2017-11-20",-0.42070000000000002,11,2017]
["2017-11-17",-0.42480000000000001,11,2017]
["2017-11-16",-0.42259999999999998,11,2017]
["2017-11-15",-0.42570000000000002,11,2017]
["2017-11-14",-0.42670000000000002,11,2017]
["2017-11-13",-0.42770000000000002,11,2017]
["2017-11-10",-0.43740000000000001,11,2017]
["2017-11-09",-0.43840000000000001,11,2017]
["2017-11-08",-0.44140000000000001,11,2017]
["2017-11-07",-0.44550000000000001,11,2017]
["2017-11-06",-0.44750000000000001,11,2017]
["2017-11-03",-0.4486,11,2017]
["2017-11-02",-0.45319999999999999,11,2017]
["2017-11-01",-0.4637,11,2017]
["2017-10-31",-0.47889999999999999,10,2017]
["2017-10-30",-0.48699999999999999,10,2017]
["2017-10-27",-0.48849999999999999,10,2017]
["2017-10-26",-0.48909999999999998,10,2017]
["2017-10-25",-0.48909999999999998,10,2017]
["2017-10-24",-0.48620000000000002,10,2017]
["2017-10-23",-0.48010000000000003,10,2017]
["2017-10-20",-0.48010000000000003,10,2017]
["2017-10-19",-0.48010000000000003,10,2017]
["2017-10-18",-0.47710000000000002,10,2017]
["2017-10-17",-0.47710000000000002,10,2017]
["2017-10-16",-0.48599999999999999,10,2017]
["2017-10-13",-0.48530000000000001,10,2017]
["2017-10-12",-0.48459999999999998,10,2017]
["2017-10-11",-0.48380000000000001,10,2017]
["2017-10-10",-0.48530000000000001,10,2017]
["2017-10-09",-0.4839,10,2017]
["2017-10-06",-0.48530000000000001,10,2017]
["2017-10-05",-0.4824,10,2017]
["2017-10-04",-0.4839,10,2017]
["2017-10-03",-0.48089999999999999,10,2017]
["2017-10-02",-0.48010000000000003,10,2017]
["2017-09-29",-0.4763,9,2017]
["2017-09-28",-0.4763,9,2017]
["2017-09-27",-0.47120000000000001,9,2017]
["2017-09-26",-0.47120000000000001,9,2017]
["2017-09-25",-0.47220000000000001,9,2017]
["2017-09-22",-0.46560000000000001,9,2017]
["2017-09-21",-0.4677,9,2017]
["2017-09-20",-0.46560000000000001,9,2017]
["2017-09-19",-0.4894,9,2017]
["2017-09-18",-0.4894,9,2017]
["2017-09-15",-0.49819999999999998,9,2017]
["2017-09-14",-0.52470000000000006,9,2017]
["2017-09-13",-0.63,9,2017]
["2017-09-12",-0.61499999999999999,9,2017]
["2017-09-11",-0.62,{"$f":"+MONTH(A772)","v":9},{"$f":"+YEAR(A772)","v":2017}]
["2017-09-08",-0.625,9,2017]
["2017-09-07",-0.63500000000000001,9,2017]
["2017-09-06",-0.64,9,2017]
["2017-09-05",-0.64249999999999996,9,2017]
["2017-09-01",-0.65249999999999997,9,2017]
["2017-08-31",-0.5,8,2017]
["2017-08-30",-0.5,8,2017]
["2017-08-29",-0.5,8,2017]
["2017-08-28",-0.47889999999999999,8,2017]
["2017-08-25",-0.41249999999999998,8,2017]
["2017-08-24",-0.41239999999999999,8,2017]
["2017-08-23",-0.41239999999999999,8,2017]
["2017-08-22",-0.40620000000000001,8,2017]
["2017-08-21",-0.40620000000000001,8,2017]
["2017-08-18",-0.45419999999999999,8,2017]
["2017-08-17",-0.4577,8,2017]
["2017-08-16",-0.4577,8,2017]
["2017-08-15",-0.44840000000000002,8,2017]
["2017-08-14",-0.45179999999999998,8,2017]
["2017-08-11",-0.45650000000000002,8,2017]
["2017-08-10",-0.4783,8,2017]
["2017-08-09",-0.4783,8,2017]
["2017-08-08",-0.48530000000000001,8,2017]
["2017-08-07",-0.48530000000000001,8,2017]
["2017-08-04",-0.48530000000000001,8,2017]
["2017-08-03",-0.49149999999999999,8,2017]
["2017-08-02",-0.49840000000000001,8,2017]
["2017-08-01",-0.50719999999999998,8,2017]
["2017-07-31",-0.51780000000000004,7,2017]
["2017-07-28",-0.5262,7,2017]
["2017-07-27",-0.53420000000000001,7,2017]
["2017-07-26",-0.55710000000000004,7,2017]
["2017-07-25",-0.55559999999999998,7,2017]
["2017-07-24",-0.56220000000000003,7,2017]
["2017-07-21",-0.56220000000000003,7,2017]
["2017-07-20",-0.56220000000000003,7,2017]
["2017-07-19",-0.56220000000000003,7,2017]
["2017-07-18",-0.56540000000000001,7,2017]
["2017-07-17",-0.52839999999999998,7,2017]
["2017-07-14",-0.52839999999999998,7,2017]
["2017-07-13",-0.52839999999999998,7,2017]
["2017-07-12",-0.52990000000000004,7,2017]
["2017-07-11",-0.5282,7,2017]
["2017-07-10",-0.5282,7,2017]
["2017-07-07",-0.51790000000000003,7,2017]
["2017-07-06",-0.51790000000000003,7,2017]
["2017-07-05",-0.51929999999999998,7,2017]
["2017-07-03",-0.51910000000000001,7,2017]
["2017-06-30",-0.38569999999999999,6,2017]
["2017-06-29",-0.38700000000000001,6,2017]
["2017-06-28",-0.40620000000000001,6,2017]
["2017-06-27",-0.40739999999999998,6,2017]
["2017-06-26",-0.41570000000000001,6,2017]
["2017-06-23",-0.41420000000000001,6,2017]
["2017-06-22",-0.41410000000000002,6,2017]
["2017-06-21",-0.43559999999999999,6,2017]
["2017-06-20",-0.43990000000000001,6,2017]
["2017-06-19",-0.43990000000000001,6,2017]
["2017-06-16",-0.4446,6,2017]
["2017-06-15",-0.44290000000000002,6,2017]
["2017-06-14",-0.44290000000000002,6,2017]
["2017-06-13",-0.4456,6,2017]
["2017-06-12",-0.4456,6,2017]
["2017-06-09",-0.4456,{"$f":"+MONTH(A836)","v":6},{"$f":"+YEAR(A836)","v":2017}]
["2017-06-08",-0.44429999999999997,6,2017]
["2017-06-07",-0.432,6,2017]
["2017-06-06",-0.4199,6,2017]
["2017-06-05",-0.4073,6,2017]
["2017-06-02",-0.4073,6,2017]
["2017-06-01",-0.4078,6,2017]
["2017-05-31",-0.40060000000000001,5,2017]
["2017-05-30",-0.40060000000000001,5,2017]
["2017-05-26",-0.40060000000000001,5,2017]
["2017-05-25",-0.40060000000000001,5,2017]
["2017-05-24",-0.39889999999999998,5,2017]
["2017-05-23",-0.4098,5,2017]
["2017-05-22",-0.4098,5,2017]
["2017-05-19",-0.40360000000000001,5,2017]
["2017-05-18",-0.40189999999999998,5,2017]
["2017-05-17",-0.41820000000000002,5,2017]
["2017-05-16",-0.42,5,2017]
["2017-05-15",-0.42,5,2017]
["2017-05-12",-0.42,5,2017]
["2017-05-11",-0.42,5,2017]
["2017-05-10",-0.42,5,2017]
["2017-05-09",-0.42099999999999999,5,2017]
["2017-05-08",-0.42180000000000001,5,2017]
["2017-05-05",-0.42099999999999999,5,2017]
["2017-05-04",-0.42830000000000001,5,2017]
["2017-05-03",-0.41399999999999998,5,2017]
["2017-05-02",-0.4158,5,2017]
["2017-05-01",-0.4123,5,2017]
["2017-04-28",-0.33050000000000002,4,2017]
["2017-04-27",-0.33910000000000001,4,2017]
["2017-04-26",-0.35289999999999999,4,2017]
["2017-04-25",-0.3533,4,2017]
["2017-04-24",-0.35699999999999998,4,2017]
["2017-04-21",-0.35699999999999998,4,2017]
["2017-04-20",-0.3579,4,2017]
["2017-04-19",-0.3569,4,2017]
["2017-04-18",-0.35610000000000003,4,2017]
["2017-04-17",-0.36209999999999998,4,2017]
["2017-04-13",-0.36309999999999998,4,2017]
["2017-04-12",-0.3614,4,2017]
["2017-04-11",-0.37530000000000002,4,2017]
["2017-04-10",-0.3821,4,2017]
["2017-04-07",-0.38300000000000001,4,2017]
["2017-04-06",-0.38379999999999997,4,2017]
["2017-04-05",-0.38919999999999999,4,2017]
["2017-04-04",-0.39610000000000001,4,2017]
["2017-04-03",-0.39340000000000003,4,2017]
["2017-03-31",-0.3836,3,2017]
["2017-03-30",-0.38969999999999999,3,2017]
["2017-03-29",-0.38969999999999999,3,2017]
["2017-03-28",-0.38790000000000002,3,2017]
["2017-03-27",-0.38790000000000002,3,2017]
["2017-03-24",-0.38779999999999998,3,2017]
["2017-03-23",-0.38969999999999999,3,2017]
["2017-03-22",-0.40250000000000002,3,2017]
["2017-03-21",-0.40250000000000002,3,2017]
["2017-03-20",-0.40250000000000002,3,2017]
["2017-03-17",-0.4027,3,2017]
["2017-03-16",-0.4037,3,2017]
["2017-03-15",-0.4078,3,2017]
["2017-03-14",-0.40600000000000003,3,2017]
["2017-03-13",-0.40570000000000001,3,2017]
["2017-03-10",-0.4047,3,2017]
["2017-03-09",-0.4012,{"$f":"+MONTH(A900)","v":3},{"$f":"+YEAR(A900)","v":2017}]
["2017-03-08",-0.40360000000000001,3,2017]
["2017-03-07",-0.40360000000000001,3,2017]
["2017-03-06",-0.39479999999999998,3,2017]
["2017-03-03",-0.39750000000000002,3,2017]
["2017-03-02",-0.39479999999999998,3,2017]
["2017-03-01",-0.39989999999999998,3,2017]
["2017-02-28",-0.36880000000000002,2,2017]
["2017-02-27",-0.37619999999999998,2,2017]
["2017-02-24",-0.38040000000000002,2,2017]
["2017-02-23",-0.38040000000000002,2,2017]
["2017-02-22",-0.38119999999999998,2,2017]
["2017-02-21",-0.38419999999999999,2,2017]
["2017-02-17",-0.3896,2,2017]
["2017-02-16",-0.39079999999999998,2,2017]
["2017-02-15",-0.38450000000000001,2,2017]
["2017-02-14",-0.36520000000000002,2,2017]
["2017-02-13",-0.36620000000000003,2,2017]
["2017-02-10",-0.36399999999999999,2,2017]
["2017-02-09",-0.34799999999999998,2,2017]
["2017-02-08",-0.36749999999999999,2,2017]
["2017-02-07",-0.36649999999999999,2,2017]
["2017-02-06",-0.3664,2,2017]
["2017-02-03",-0.36009999999999998,2,2017]
["2017-02-02",-0.35520000000000002,2,2017]
["2017-02-01",-0.35210000000000002,2,2017]
["2017-01-31",-0.3322,1,2017]
["2017-01-30",-0.33500000000000002,1,2017]
["2017-01-27",-0.33500000000000002,1,2017]
["2017-01-26",-0.33389999999999997,1,2017]
["2017-01-25",-0.33739999999999998,1,2017]
["2017-01-24",-0.33739999999999998,1,2017]
["2017-01-23",-0.33739999999999998,1,2017]
["2017-01-20",-0.32669999999999999,1,2017]
["2017-01-19",-0.31969999999999998,1,2017]
["2017-01-18",-0.31969999999999998,1,2017]
["2017-01-17",-0.308,1,2017]
["2017-01-13",-0.3009,1,2017]
["2017-01-12",-0.3009,1,2017]
["2017-01-11",-0.3009,1,2017]
["2017-01-10",-0.3009,1,2017]
["2017-01-09",-0.30220000000000002,1,2017]
["2017-01-06",-0.30220000000000002,1,2017]
["2017-01-05",-0.30209999999999998,1,2017]
["2017-01-04",-0.29659999999999997,1,2017]
["2017-01-03",-0.31879999999999997,1,2017]
["2016-12-30",-0.31,12,2016]
["2016-12-29",-0.30809999999999998,12,2016]
["2016-12-28",-0.31169999999999998,12,2016]
["2016-12-27",-0.31890000000000002,12,2016]
["2016-12-23",-0.31879999999999997,12,2016]
["2016-12-22",-0.31879999999999997,12,2016]
["2016-12-21",-0.31659999999999999,12,2016]
["2016-12-20",-0.31859999999999999,12,2016]
["2016-12-19",-0.34599999999999997,12,2016]
["2016-12-16",-0.34699999999999998,12,2016]
["2016-12-15",-0.34599999999999997,12,2016]
["2016-12-14",-0.35709999999999997,12,2016]
["2016-12-13",-0.35809999999999997,12,2016]
["2016-12-12",-0.36220000000000002,12,2016]
["2016-12-09",-0.37069999999999997,12,2016]
["2016-12-08",-0.37080000000000002,12,2016]
["2016-12-07",-0.374,12,2016]
["2016-12-06",-0.36559999999999998,12,2016]
["2016-12-05",-0.36559999999999998,{"$f":"+MONTH(A964)","v":12},{"$f":"+YEAR(A964)","v":2016}]
["2016-12-02",-0.38129999999999997,12,2016]
["2016-12-01",-0.38329999999999997,12,2016]
["2016-11-30",-0.32779999999999998,11,2016]
["2016-11-29",-0.36890000000000001,11,2016]
["2016-11-28",-0.36940000000000001,11,2016]
["2016-11-25",-0.37319999999999998,11,2016]
["2016-11-23",-0.3851,11,2016]
["2016-11-22",-0.38619999999999999,11,2016]
["2016-11-21",-0.39679999999999999,11,2016]
["2016-11-18",-0.41010000000000002,11,2016]
["2016-11-17",-0.42249999999999999,11,2016]
["2016-11-16",-0.42549999999999999,11,2016]
["2016-11-15",-0.4486,11,2016]
["2016-11-14",-0.4516,11,2016]
["2016-11-11",-0.44740000000000002,11,2016]
["2016-11-10",-0.45029999999999998,11,2016]
["2016-11-09",-0.45129999999999998,11,2016]
["2016-11-08",-0.4365,11,2016]
["2016-11-07",-0.43830000000000002,11,2016]
["2016-11-04",-0.42399999999999999,11,2016]
["2016-11-03",-0.42399999999999999,11,2016]
["2016-11-02",-0.4108,11,2016]
["2016-11-01",-0.4093,11,2016]
["2016-10-31",-0.41610000000000003,10,2016]
["2016-10-28",-0.4259,10,2016]
["2016-10-27",-0.4234,10,2016]
["2016-10-26",-0.42659999999999998,10,2016]
["2016-10-25",-0.42670000000000002,10,2016]
["2016-10-24",-0.45269999999999999,10,2016]
["2016-10-21",-0.45860000000000001,10,2016]
["2016-10-20",-0.46550000000000002,10,2016]
["2016-10-19",-0.4627,10,2016]
["2016-10-18",-0.46050000000000002,10,2016]
["2016-10-17",-0.46129999999999999,10,2016]
["2016-10-14",-0.46129999999999999,10,2016]
["2016-10-13",-0.45789999999999997,10,2016]
["2016-10-12",-0.45540000000000003,10,2016]
["2016-10-11",-0.45610000000000001,10,2016]
["2016-10-10",-0.4476,10,2016]
["2016-10-07",-0.41470000000000001,10,2016]
["2016-10-06",-0.41210000000000002,10,2016]
["2016-10-05",-0.4113,10,2016]
["2016-10-04",-0.40960000000000002,10,2016]
["2016-10-03",-0.40060000000000001,10,2016]
["2016-09-30",-0.45950000000000002,9,2016]
["2016-09-29",-0.45290000000000002,9,2016]
["2016-09-28",-0.42220000000000002,9,2016]
["2016-09-27",-0.41830000000000001,9,2016]
["2016-09-26",-0.42620000000000002,9,2016]
["2016-09-23",-0.42620000000000002,9,2016]
["2016-09-22",-0.42430000000000001,9,2016]
["2016-09-21",-0.42030000000000001,9,2016]
["2016-09-20",-0.41599999999999998,9,2016]
["2016-09-19",-0.40039999999999998,9,2016]
["2016-09-16",-0.40229999999999999,9,2016]
["2016-09-15",-0.42630000000000001,9,2016]
["2016-09-14",-0.42630000000000001,9,2016]
["2016-09-13",-0.42830000000000001]
["2016-09-12",-0.42849999999999999]
["2016-09-09",-0.43049999999999999]
["2016-09-08",-0.42649999999999999]
["2016-09-07",-0.42849999999999999]
["2016-09-06",-0.42849999999999999]
["2016-09-02",-0.4501]
["2016-09-01",-0.4577]
["2016-08-31",-0.31590000000000001]
["2016-08-30",-0.33689999999999998]
["2016-08-29",-0.35370000000000001]
["2016-08-26",-0.39050000000000001]
["2016-08-25",-0.3669]
["2016-08-24",-0.36899999999999999]
["2016-08-23",-0.36899999999999999]
["2016-08-22",-0.36899999999999999]
["2016-08-19",-0.36899999999999999]
["2016-08-18",-0.36899999999999999]
["2016-08-17",-0.36499999999999999]
["2016-08-16",-0.35909999999999997]
["2016-08-15",-0.35260000000000002]
["2016-08-12",-0.33979999999999999]
["2016-08-11",-0.33250000000000002]
["2016-08-10",-0.31030000000000002]
["2016-08-09",-0.30759999999999998]
["2016-08-08",-0.29559999999999997]
["2016-08-05",-0.29559999999999997]
["2016-08-04",-0.31509999999999999]
["2016-08-03",-0.33500000000000002]
["2016-08-02",-0.3301]
["2016-08-01",-0.3397]
["2016-07-29",-0.27039999999999997]
["2016-07-28",-0.27400000000000002]
["2016-07-27",-0.26669999999999999]
["2016-07-26",-0.2747]
["2016-07-25",-0.27179999999999999]
["2016-07-22",-0.28349999999999997]
["2016-07-21",-0.2903]
["2016-07-20",-0.29759999999999998]
["2016-07-19",-0.31540000000000001]
["2016-07-18",-0.33210000000000001]
["2016-07-15",-0.3332]
["2016-07-14",-0.33250000000000002]
["2016-07-13",-0.33119999999999999]
["2016-07-12",-0.33500000000000002]
["2016-07-11",-0.33879999999999999]
["2016-07-08",-0.34599999999999997]
["2016-07-07",-0.34899999999999998]
["2016-07-06",-0.36299999999999999]
["2016-07-05",-0.3846]
["2016-07-01",-0.443]
["2016-06-30",-0.36749999999999999]
["2016-06-29",-0.39760000000000001]
["2016-06-28",-0.41139999999999999]
["2016-06-27",-0.4027]
["2016-06-24",-0.42480000000000001]
["2016-06-23",-0.42249999999999999]
["2016-06-22",-0.42320000000000002]
["2016-06-21",-0.43609999999999999]
["2016-06-20",-0.45269999999999999]
["2016-06-17",-0.45340000000000003]
["2016-06-16",-0.4446]
["2016-06-15",-0.4446]
["2016-06-14",-0.45689999999999997]
["2016-06-13",-0.4617]
["2016-06-10",-0.438]
["2016-06-09",-0.438]
["2016-06-08",-0.43890000000000001]
["2016-06-07",-0.44990000000000002]
["2016-06-06",-0.44769999999999999]
["2016-06-03",-0.42770000000000002]
["2016-06-02",-0.4244]
["2016-06-01",-0.4093]
["2016-05-31",-0.41270000000000001]
["2016-05-27",-0.4138]
["2016-05-26",-0.41210000000000002]
["2016-05-25",-0.38379999999999997]
["2016-05-24",-0.38030000000000003]
["2016-05-23",-0.38030000000000003]
["2016-05-20",-0.38030000000000003]
["2016-05-19",-0.38030000000000003]
["2016-05-18",-0.38030000000000003]
["2016-05-17",-0.37919999999999998]
["2016-05-16",-0.3745]
["2016-05-13",-0.37219999999999998]
["2016-05-12",-0.37219999999999998]
["2016-05-11",-0.37109999999999999]
["2016-05-10",-0.36720000000000003]
["2016-05-09",-0.36849999999999999]
["2016-05-06",-0.36969999999999997]
["2016-05-05",-0.36969999999999997]
["2016-05-04",-0.36680000000000001]
["2016-05-03",-0.36680000000000001]
["2016-05-02",-0.36680000000000001]
["2016-04-29",-0.34770000000000001]
["2016-04-28",-0.34549999999999997]
["2016-04-27",-0.36330000000000001]
["2016-04-26",-0.3821]
["2016-04-25",-0.43430000000000002]
["2016-04-22",-0.43309999999999998]
["2016-04-21",-0.43059999999999998]
["2016-04-20",-0.3715]
["2016-04-19",-0.34889999999999999]
["2016-04-18",-0.35110000000000002]
["2016-04-15",-0.318]
["2016-04-14",-0.30480000000000002]
["2016-04-13",-0.2848]
["2016-04-12",-0.2848]
["2016-04-11",-0.2848]
["2016-04-08",-0.2848]
["2016-04-07",-0.2848]
["2016-04-06",-0.2848]
["2016-04-05",-0.2848]
["2016-04-04",-0.29799999999999999]
["2016-04-01",-0.28899999999999998]
["2016-03-31",-0.29820000000000002]
["2016-03-30",-0.29820000000000002]
["2016-03-29",-0.30719999999999997]
["2016-03-28",-0.30719999999999997]
["2016-03-24",-0.29249999999999998]
["2016-03-23",-0.28050000000000003]
["2016-03-22",-0.28050000000000003]
["2016-03-21",-0.27860000000000001]
["2016-03-18",-0.27860000000000001]
["2016-03-17",-0.27860000000000001]
["2016-03-16",-0.27610000000000001]
["2016-03-15",-0.27979999999999999]
["2016-03-14",-0.2651]
["2016-03-11",-0.2651]
["2016-03-10",-0.2651]
["2016-03-09",-0.29210000000000003]
["2016-03-08",-0.28699999999999998]
["2016-03-07",-0.3201]
["2016-03-04",-0.3201]
["2016-03-03",-0.33760000000000001]
["2016-03-02",-0.33760000000000001]
["2016-03-01",-0.34139999999999998]
["2016-02-29",-0.30940000000000001]
["2016-02-26",-0.2944]
["2016-02-25",-0.2944]
["2016-02-24",-0.30020000000000002]
["2016-02-23",-0.30020000000000002]
["2016-02-22",-0.30020000000000002]
["2016-02-19",-0.30020000000000002]
["2016-02-18",-0.30020000000000002]
["2016-02-17",-0.29289999999999999]
["2016-02-16",-0.29289999999999999]
["2016-02-12",-0.29289999999999999]
["2016-02-11",-0.28960000000000002]
["2016-02-10",-0.28960000000000002]
["2016-02-09",-0.28960000000000002]
["2016-02-08",-0.28310000000000002]
["2016-02-05",-0.28310000000000002]
["2016-02-04",-0.28310000000000002]
["2016-02-03",-0.28310000000000002]
["2016-02-02",-0.28199999999999997]
["2016-02-01",-0.28199999999999997]
["2016-01-29",-0.27060000000000001]
["2016-01-28",-0.27439999999999998]
["2016-01-27",-0.27439999999999998]
["2016-01-26",-0.27439999999999998]
["2016-01-25",-0.27189999999999998]
["2016-01-22",-0.25779999999999997]
["2016-01-21",-0.24879999999999999]
["2016-01-20",-0.24879999999999999]
["2016-01-19",-0.2475]
["2016-01-15",-0.2437]
["2016-01-14",-0.2437]
["2016-01-13",-0.24060000000000001]
["2016-01-12",-0.25509999999999999]
["2016-01-11",-0.25509999999999999]
["2016-01-08",-0.25509999999999999]
["2016-01-07",-0.25509999999999999]
["2016-01-06",-0.26079999999999998]
["2016-01-05",-0.26079999999999998]
["2016-01-04",-0.26690000000000003]

{"sheet":"instruments","index":3,"n_rows":1427,"n_cols":14,"rows_kept":1427,"cut":false,"hidden":false,"merged":[]}
["Symbol","Name","Crop","Type","State","Area","Name","Crop Match","Type Check","State Match","Area Match","Total Match","Count","Stripped Name"]
["ZCBAIAAD.CM","cmdty Adair County, IA Corn Basis Idx","Corn","Basis","Iowa","County","Adair County",{"$f":"+IF(LEN(home!$G$7)>0,instruments!C2=home!$G$7,TRUE)","v":true},{"$f":"+D2=\"Basis\"","v":true},{"$f":"+IF(LEN(home!$G$8)>0,instruments!E2=home!$G$8,TRUE)","v":true},{"$f":"+IF(LEN(home!$G$9)>0,instruments!F2=home!$G$9,TRUE)","v":true},{"$f":"+COUNTIF(H2:K2,TRUE)","v":4},{"$f":"+COUNTIF($L$1:L2,\"=\"&4)","v":1},{"$f":"+MID(B2,FIND(\" \",B2,1)+1,LEN(B2)-FIND(\" \",B2,1)-4)","v":"Adair County, IA Corn Basis"}]
["ZSBAIAAD.CM","cmdty Adair County, IA Soybean Basis Idx","Soybean","Basis","Iowa","County","Adair County",{"$f":"+IF(LEN(home!$G$7)>0,instruments!C3=home!$G$7,TRUE)","v":false},{"$f":"+D3=\"Basis\"","v":true},{"$f":"+IF(LEN(home!$G$8)>0,instruments!E3=home!$G$8,TRUE)","v":true},{"$f":"+IF(LEN(home!$G$9)>0,instruments!F3=home!$G$9,TRUE)","v":true},3,{"$f":"+COUNTIF($L$1:L3,\"=\"&4)","v":1},{"$f":"+MID(B3,FIND(\" \",B3,1)+1,LEN(B3)-FIND(\" \",B3,1)-4)","v":"Adair County, IA Soybean Basis"}]
["ZCBAMOAD.CM","cmdty Adair County, MO Corn Basis Idx","Corn","Basis","Missouri","County","Adair County",{"$f":"+IF(LEN(home!$G$7)>0,instruments!C4=home!$G$7,TRUE)","v":true},true,{"$f":"+IF(LEN(home!$G$8)>0,instruments!E4=home!$G$8,TRUE)","v":false},{"$f":"+IF(LEN(home!$G$9)>0,instruments!F4=home!$G$9,TRUE)","v":true},3,{"$f":"+COUNTIF($L$1:L4,\"=\"&4)","v":1},"Adair County, MO Corn Basis"]
["ZSBAMOAD.CM","cmdty Adair County, MO Soybean Basis Idx","Soybean","Basis","Missouri","County","Adair County",{"$f":"+IF(LEN(home!$G$7)>0,instruments!C5=home!$G$7,TRUE)","v":false},true,{"$f":"+IF(LEN(home!$G$8)>0,instruments!E5=home!$G$8,TRUE)","v":false},{"$f":"+IF(LEN(home!$G$9)>0,instruments!F5=home!$G$9,TRUE)","v":true},2,{"$f":"+COUNTIF($L$1:L5,\"=\"&4)","v":1},"Adair County, MO Soybean Basis"]
["ZCBAIAAA.CM","cmdty Adams County, IA Corn Basis Idx","Corn","Basis","Iowa","County","Adams County",{"$f":"+IF(LEN(home!$G$7)>0,instruments!C6=home!$G$7,TRUE)","v":true},true,{"$f":"+IF(LEN(home!$G$8)>0,instruments!E6=home!$G$8,TRUE)","v":true},{"$f":"+IF(LEN(home!$G$9)>0,instruments!F6=home!$G$9,TRUE)","v":true},4,{"$f":"+COUNTIF($L$1:L6,\"=\"&4)","v":2},"Adams County, IA Corn Basis"]
["ZSBAIAAA.CM","cmdty Adams County, IA Soybean Basis Idx","Soybean","Basis","Iowa","County","Adams County",{"$f":"+IF(LEN(home!$G$7)>0,instruments!C7=home!$G$7,TRUE)","v":false},true,{"$f":"+IF(LEN(home!$G$8)>0,instruments!E7=home!$G$8,TRUE)","v":true},{"$f":"+IF(LEN(home!$G$9)>0,instruments!F7=home!$G$9,TRUE)","v":true},3,{"$f":"+COUNTIF($L$1:L7,\"=\"&4)","v":2},"Adams County, IA Soybean Basis"]
["ZCBAILAD.CM","cmdty Adams County, IL Corn Basis Idx","Corn","Basis","Illinois","County","Adams County",{"$f":"+IF(LEN(home!$G$7)>0,instruments!C8=home!$G$7,TRUE)","v":true},true,{"$f":"+IF(LEN(home!$G$8)>0,instruments!E8=home!$G$8,TRUE)","v":false},{"$f":"+IF(LEN(home!$G$9)>0,instruments!F8=home!$G$9,TRUE)","v":true},3,{"$f":"+COUNTIF($L$1:L8,\"=\"&4)","v":2},"Adams County, IL Corn Basis"]
["ZSBAILAD.CM","cmdty Adams County, IL Soybean Basis Idx","Soybean","Basis","Illinois","County","Adams County",{"$f":"+IF(LEN(home!$G$7)>0,instruments!C9=home!$G$7,TRUE)","v":false},true,{"$f":"+IF(LEN(home!$G$8)>0,instruments!E9=home!$G$8,TRUE)","v":false},{"$f":"+IF(LEN(home!$G$9)>0,instruments!F9=home!$G$9,TRUE)","v":true},2,{"$f":"+COUNTIF($L$1:L9,\"=\"&4)","v":2},"Adams County, IL Soybean Basis"]
["ZCBAINAD.CM","cmdty Adams County, IN Corn Basis Idx","Corn","Basis","Indiana","County","Adams County",{"$f":"+IF(LEN(home!$G$7)>0,instruments!C10=home!$G$7,TRUE)","v":true},true,{"$f":"+IF(LEN(home!$G$8)>0,instruments!E10=home!$G$8,TRUE)","v":false},{"$f":"+IF(LEN(home!$G$9)>0,instruments!F10=home!$G$9,TRUE)","v":true},3,{"$f":"+COUNTIF($L$1:L10,\"=\"&4)","v":2},"Adams County, IN Corn Basis"]
["ZSBAINAD.CM","cmdty Adams County, IN Soybean Basis Idx","Soybean","Basis","Indiana","County","Adams County",{"$f":"+IF(LEN(home!$G$7)>0,instruments!C11=home!$G$7,TRUE)","v":false},true,{"$f":"+IF(LEN(home!$G$8)>0,instruments!E11=home!$G$8,TRUE)","v":false},{"$f":"+IF(LEN(home!$G$9)>0,instruments!F11=home!$G$9,TRUE)","v":true},2,{"$f":"+COUNTIF($L$1:L11,\"=\"&4)","v":2},"Adams County, IN Soybean Basis"]
["ZCBANEAD.CM","cmdty Adams County, NE Corn Basis Idx","Corn","Basis","Nebraska","County","Adams County",{"$f":"+IF(LEN(home!$G$7)>0,instruments!C12=home!$G$7,TRUE)","v":true},true,{"$f":"+IF(LEN(home!$G$8)>0,instruments!E12=home!$G$8,TRUE)","v":false},{"$f":"+IF(LEN(home!$G$9)>0,instruments!F12=home!$G$9,TRUE)","v":true},3,{"$f":"+COUNTIF($L$1:L12,\"=\"&4)","v":2},"Adams County, NE Corn Basis"]
["ZSBANEAD.CM","cmdty Adams County, NE Soybean Basis Idx","Soybean","Basis","Nebraska","County","Adams County",{"$f":"+IF(LEN(home!$G$7)>0,instruments!C13=home!$G$7,TRUE)","v":false},true,{"$f":"+IF(LEN(home!$G$8)>0,instruments!E13=home!$G$8,TRUE)","v":false},{"$f":"+IF(LEN(home!$G$9)>0,instruments!F13=home!$G$9,TRUE)","v":true},2,{"$f":"+COUNTIF($L$1:L13,\"=\"&4)","v":2},"Adams County, NE Soybean Basis"]
["ZSBAOHAD.CM","cmdty Adams County, OH Soybean Basis Idx","Soybean","Basis","Ohio","County","Adams County",{"$f":"+IF(LEN(home!$G$7)>0,instruments!C14=home!$G$7,TRUE)","v":false},true,{"$f":"+IF(LEN(home!$G$8)>0,instruments!E14=home!$G$8,TRUE)","v":false},{"$f":"+IF(LEN(home!$G$9)>0,instruments!F14=home!$G$9,TRUE)","v":true},2,{"$f":"+COUNTIF($L$1:L14,\"=\"&4)","v":2},"Adams County, OH Soybean Basis"]
["ZSBAILAL.CM","cmdty Alexander County, IL Soybean Basis Idx","Soybean","Basis","Illinois","County","Alexander County",{"$f":"+IF(LEN(home!$G$7)>0,instruments!C15=home!$G$7,TRUE)","v":false},true,{"$f":"+IF(LEN(home!$G$8)>0,instruments!E15=home!$G$8,TRUE)","v":false},{"$f":"+IF(LEN(home!$G$9)>0,instruments!F15=home!$G$9,TRUE)","v":true},2,{"$f":"+COUNTIF($L$1:L15,\"=\"&4)","v":2},"Alexander County, IL Soybean Basis"]
["ZCBAIAAL.CM","cmdty Allamakee County, IA Corn Basis Idx","Corn","Basis","Iowa","County","Allamakee County",{"$f":"+IF(LEN(home!$G$7)>0,instruments!C16=home!$G$7,TRUE)","v":true},true,{"$f":"+IF(LEN(home!$G$8)>0,instruments!E16=home!$G$8,TRUE)","v":true},{"$f":"+IF(LEN(home!$G$9)>0,instruments!F16=home!$G$9,TRUE)","v":true},4,{"$f":"+COUNTIF($L$1:L16,\"=\"&4)","v":3},"Allamakee County, IA Corn Basis"]
["ZSBAIAAL.CM","cmdty Allamakee County, IA Soybean Basis Idx","Soybean","Basis","Iowa","County","Allamakee County",{"$f":"+IF(LEN(home!$G$7)>0,instruments!C17=home!$G$7,TRUE)","v":false},true,{"$f":"+IF(LEN(home!$G$8)>0,instruments!E17=home!$G$8,TRUE)","v":true},{"$f":"+IF(LEN(home!$G$9)>0,instruments!F17=home!$G$9,TRUE)","v":true},3,{"$f":"+COUNTIF($L$1:L17,\"=\"&4)","v":3},"Allamakee County, IA Soybean Basis"]
["ZCBAINAL.CM","cmdty Allen County, IN Corn Basis Idx","Corn","Basis","Indiana","County","Allen County",{"$f":"+IF(LEN(home!$G$7)>0,instruments!C18=home!$G$7,TRUE)","v":true},true,{"$f":"+IF(LEN(home!$G$8)>0,instruments!E18=home!$G$8,TRUE)","v":false},{"$f":"+IF(LEN(home!$G$9)>0,instruments!F18=home!$G$9,TRUE)","v":true},3,{"$f":"+COUNTIF($L$1:L18,\"=\"&4)","v":3},"Allen County, IN Corn Basis"]
["ZSBAINAL.CM","cmdty Allen County, IN Soybean Basis Idx","Soybean","Basis","Indiana","County","Allen County",{"$f":"+IF(LEN(home!$G$7)>0,instruments!C19=home!$G$7,TRUE)","v":false},true,{"$f":"+IF(LEN(home!$G$8)>0,instruments!E19=home!$G$8,TRUE)","v":false},{"$f":"+IF(LEN(home!$G$9)>0,instruments!F19=home!$G$9,TRUE)","v":true},2,{"$f":"+COUNTIF($L$1:L19,\"=\"&4)","v":3},"Allen County, IN Soybean Basis"]
["ZCBAKSAL.CM","cmdty Allen County, KS Corn Basis Idx","Corn","Basis","Kansas","County","Allen County",{"$f":"+IF(LEN(home!$G$7)>0,instruments!C20=home!$G$7,TRUE)","v":true},true,{"$f":"+IF(LEN(home!$G$8)>0,instruments!E20=home!$G$8,TRUE)","v":false},{"$f":"+IF(LEN(home!$G$9)>0,instruments!F20=home!$G$9,TRUE)","v":true},3,{"$f":"+COUNTIF($L$1:L20,\"=\"&4)","v":3},"Allen County, KS Corn Basis"]
["ZSBAKSAL.CM","cmdty Allen County, KS Soybean Basis Idx","Soybean","Basis","Kansas","County","Allen County",{"$f":"+IF(LEN(home!$G$7)>0,instruments!C21=home!$G$7,TRUE)","v":false},true,{"$f":"+IF(LEN(home!$G$8)>0,instruments!E21=home!$G$8,TRUE)","v":false},{"$f":"+IF(LEN(home!$G$9)>0,instruments!F21=home!$G$9,TRUE)","v":true},2,{"$f":"+COUNTIF($L$1:L21,\"=\"&4)","v":3},"Allen County, KS Soybean Basis"]
["ZSBAOHAL.CM","cmdty Allen County, OH Soybean Basis Idx","Soybean","Basis","Ohio","County","Allen County",{"$f":"+IF(LEN(home!$G$7)>0,instruments!C22=home!$G$7,TRUE)","v":false},true,{"$f":"+IF(LEN(home!$G$8)>0,instruments!E22=home!$G$8,TRUE)","v":false},{"$f":"+IF(LEN(home!$G$9)>0,instruments!F22=home!$G$9,TRUE)","v":true},2,{"$f":"+COUNTIF($L$1:L22,\"=\"&4)","v":3},"Allen County, OH Soybean Basis"]
["ZCBAKSAN.CM","cmdty Anderson County, KS Corn Basis Idx","Corn","Basis","Kansas","County","Anderson County",{"$f":"+IF(LEN(home!$G$7)>0,instruments!C23=home!$G$7,TRUE)","v":true},true,{"$f":"+IF(LEN(home!$G$8)>0,instruments!E23=home!$G$8,TRUE)","v":false},{"$f":"+IF(LEN(home!$G$9)>0,instruments!F23=home!$G$9,TRUE)","v":true},3,{"$f":"+COUNTIF($L$1:L23,\"=\"&4)","v":3},"Anderson County, KS Corn Basis"]
["ZSBAKSAN.CM","cmdty Anderson County, KS Soybean Basis Idx","Soybean","Basis","Kansas","County","Anderson County",{"$f":"+IF(LEN(home!$G$7)>0,instruments!C24=home!$G$7,TRUE)","v":false},true,{"$f":"+IF(LEN(home!$G$8)>0,instruments!E24=home!$G$8,TRUE)","v":false},{"$f":"+IF(LEN(home!$G$9)>0,instruments!F24=home!$G$9,TRUE)","v":true},2,{"$f":"+COUNTIF($L$1:L24,\"=\"&4)","v":3},"Anderson County, KS Soybean Basis"]
["ZCBAMOAN.CM","cmdty Andrew County, MO Corn Basis Idx","Corn","Basis","Missouri","County","Andrew County",{"$f":"+IF(LEN(home!$G$7)>0,instruments!C25=home!$G$7,TRUE)","v":true},true,{"$f":"+IF(LEN(home!$G$8)>0,instruments!E25=home!$G$8,TRUE)","v":false},{"$f":"+IF(LEN(home!$G$9)>0,instruments!F25=home!$G$9,TRUE)","v":true},3,{"$f":"+COUNTIF($L$1:L25,\"=\"&4)","v":3},"Andrew County, MO Corn Basis"]
["ZSBAMOAN.CM","cmdty Andrew County, MO Soybean Basis Idx","Soybean","Basis","Missouri","County","Andrew County",{"$f":"+IF(LEN(home!$G$7)>0,instruments!C26=home!$G$7,TRUE)","v":false},true,{"$f":"+IF(LEN(home!$G$8)>0,instruments!E26=home!$G$8,TRUE)","v":false},{"$f":"+IF(LEN(home!$G$9)>0,instruments!F26=home!$G$9,TRUE)","v":true},2,{"$f":"+COUNTIF($L$1:L26,\"=\"&4)","v":3},"Andrew County, MO Soybean Basis"]
["ZCBANEAN.CM","cmdty Antelope County, NE Corn Basis Idx","Corn","Basis","Nebraska","County","Antelope County",{"$f":"+IF(LEN(home!$G$7)>0,instruments!C27=home!$G$7,TRUE)","v":true},true,{"$f":"+IF(LEN(home!$G$8)>0,instruments!E27=home!$G$8,TRUE)","v":false},{"$f":"+IF(LEN(home!$G$9)>0,instruments!F27=home!$G$9,TRUE)","v":true},3,{"$f":"+COUNTIF($L$1:L27,\"=\"&4)","v":3},"Antelope County, NE Corn Basis"]
["ZSBANEAN.CM","cmdty Antelope County, NE Soybean Basis Idx","Soybean","Basis","Nebraska","County","Antelope County",{"$f":"+IF(LEN(home!$G$7)>0,instruments!C28=home!$G$7,TRUE)","v":false},true,{"$f":"+IF(LEN(home!$G$8)>0,instruments!E28=home!$G$8,TRUE)","v":false},{"$f":"+IF(LEN(home!$G$9)>0,instruments!F28=home!$G$9,TRUE)","v":true},2,{"$f":"+COUNTIF($L$1:L28,\"=\"&4)","v":3},"Antelope County, NE Soybean Basis"]
["ZSBAOHAS.CM","cmdty Ashland County, OH Soybean Basis Idx","Soybean","Basis","Ohio","County","Ashland County",{"$f":"+IF(LEN(home!$G$7)>0,instruments!C29=home!$G$7,TRUE)","v":false},true,{"$f":"+IF(LEN(home!$G$8)>0,instruments!E29=home!$G$8,TRUE)","v":false},{"$f":"+IF(LEN(home!$G$9)>0,instruments!F29=home!$G$9,TRUE)","v":true},2,{"$f":"+COUNTIF($L$1:L29,\"=\"&4)","v":3},"Ashland County, OH Soybean Basis"]
["ZSBAOHAA.CM","cmdty Ashtabula County, OH Soybean Basis Idx","Soybean","Basis","Ohio","County","Ashtabula County",{"$f":"+IF(LEN(home!$G$7)>0,instruments!C30=home!$G$7,TRUE)","v":false},true,{"$f":"+IF(LEN(home!$G$8)>0,instruments!E30=home!$G$8,TRUE)","v":false},{"$f":"+IF(LEN(home!$G$9)>0,instruments!F30=home!$G$9,TRUE)","v":true},2,{"$f":"+COUNTIF($L$1:L30,\"=\"&4)","v":3},"Ashtabula County, OH Soybean Basis"]
["ZCBAKSAT.CM","cmdty Atchison County, KS Corn Basis Idx","Corn","Basis","Kansas","County","Atchison County",{"$f":"+IF(LEN(home!$G$7)>0,instruments!C31=home!$G$7,TRUE)","v":true},true,{"$f":"+IF(LEN(home!$G$8)>0,instruments!E31=home!$G$8,TRUE)","v":false},{"$f":"+IF(LEN(home!$G$9)>0,instruments!F31=home!$G$9,TRUE)","v":true},3,{"$f":"+COUNTIF($L$1:L31,\"=\"&4)","v":3},"Atchison County, KS Corn Basis"]
["ZSBAKSAT.CM","cmdty Atchison County, KS Soybean Basis Idx","Soybean","Basis","Kansas","County","Atchison County",{"$f":"+IF(LEN(home!$G$7)>0,instruments!C32=home!$G$7,TRUE)","v":false},true,{"$f":"+IF(LEN(home!$G$8)>0,instruments!E32=home!$G$8,TRUE)","v":false},{"$f":"+IF(LEN(home!$G$9)>0,instruments!F32=home!$G$9,TRUE)","v":true},2,{"$f":"+COUNTIF($L$1:L32,\"=\"&4)","v":3},"Atchison County, KS Soybean Basis"]
["ZCBAMOAT.CM","cmdty Atchison County, MO Corn Basis Idx","Corn","Basis","Missouri","County","Atchison County",{"$f":"+IF(LEN(home!$G$7)>0,instruments!C33=home!$G$7,TRUE)","v":true},true,{"$f":"+IF(LEN(home!$G$8)>0,instruments!E33=home!$G$8,TRUE)","v":false},{"$f":"+IF(LEN(home!$G$9)>0,instruments!F33=home!$G$9,TRUE)","v":true},3,{"$f":"+COUNTIF($L$1:L33,\"=\"&4)","v":3},"Atchison County, MO Corn Basis"]
["ZSBAMOAT.CM","cmdty Atchison County, MO Soybean Basis Idx","Soybean","Basis","Missouri","County","Atchison County",{"$f":"+IF(LEN(home!$G$7)>0,instruments!C34=home!$G$7,TRUE)","v":false},true,{"$f":"+IF(LEN(home!$G$8)>0,instruments!E34=home!$G$8,TRUE)","v":false},{"$f":"+IF(LEN(home!$G$9)>0,instruments!F34=home!$G$9,TRUE)","v":true},2,{"$f":"+COUNTIF($L$1:L34,\"=\"&4)","v":3},"Atchison County, MO Soybean Basis"]
["ZCBAMOAU.CM","cmdty Audrain County, MO Corn Basis Idx","Corn","Basis","Missouri","County","Audrain County",{"$f":"+IF(LEN(home!$G$7)>0,instruments!C35=home!$G$7,TRUE)","v":true},true,{"$f":"+IF(LEN(home!$G$8)>0,instruments!E35=home!$G$8,TRUE)","v":false},{"$f":"+IF(LEN(home!$G$9)>0,instruments!F35=home!$G$9,TRUE)","v":true},3,{"$f":"+COUNTIF($L$1:L35,\"=\"&4)","v":3},"Audrain County, MO Corn Basis"]
["ZSBAMOAU.CM","cmdty Audrain County, MO Soybean Basis Idx","Soybean","Basis","Missouri","County","Audrain County",{"$f":"+IF(LEN(home!$G$7)>0,instruments!C36=home!$G$7,TRUE)","v":false},true,{"$f":"+IF(LEN(home!$G$8)>0,instruments!E36=home!$G$8,TRUE)","v":false},{"$f":"+IF(LEN(home!$G$9)>0,instruments!F36=home!$G$9,TRUE)","v":true},2,{"$f":"+COUNTIF($L$1:L36,\"=\"&4)","v":3},"Audrain County, MO Soybean Basis"]
["ZCBAIAAU.CM","cmdty Audubon County, IA Corn Basis Idx","Corn","Basis","Iowa","County","Audubon County",{"$f":"+IF(LEN(home!$G$7)>0,instruments!C37=home!$G$7,TRUE)","v":true},true,{"$f":"+IF(LEN(home!$G$8)>0,instruments!E37=home!$G$8,TRUE)","v":true},{"$f":"+IF(LEN(home!$G$9)>0,instruments!F37=home!$G$9,TRUE)","v":true},4,{"$f":"+COUNTIF($L$1:L37,\"=\"&4)","v":4},"Audubon County, IA Corn Basis"]
["ZSBAIAAU.CM","cmdty Audubon County, IA Soybean Basis Idx","Soybean","Basis","Iowa","County","Audubon County",{"$f":"+IF(LEN(home!$G$7)>0,instruments!C38=home!$G$7,TRUE)","v":false},true,{"$f":"+IF(LEN(home!$G$8)>0,instruments!E38=home!$G$8,TRUE)","v":true},{"$f":"+IF(LEN(home!$G$9)>0,instruments!F38=home!$G$9,TRUE)","v":true},3,{"$f":"+COUNTIF($L$1:L38,\"=\"&4)","v":4},"Audubon County, IA Soybean Basis"]
["ZSBAOHAU.CM","cmdty Auglaize County, OH Soybean Basis Idx","Soybean","Basis","Ohio","County","Auglaize County",{"$f":"+IF(LEN(home!$G$7)>0,instruments!C39=home!$G$7,TRUE)","v":false},true,{"$f":"+IF(LEN(home!$G$8)>0,instruments!E39=home!$G$8,TRUE)","v":false},{"$f":"+IF(LEN(home!$G$9)>0,instruments!F39=home!$G$9,TRUE)","v":true},2,{"$f":"+COUNTIF($L$1:L39,\"=\"&4)","v":4},"Auglaize County, OH Soybean Basis"]
["ZCBASDAU.CM","cmdty Aurora County, SD Corn Basis Idx","Corn","Basis","South Dakota","County","Aurora County",{"$f":"+IF(LEN(home!$G$7)>0,instruments!C40=home!$G$7,TRUE)","v":true},true,{"$f":"+IF(LEN(home!$G$8)>0,instruments!E40=home!$G$8,TRUE)","v":false},{"$f":"+IF(LEN(home!$G$9)>0,instruments!F40=home!$G$9,TRUE)","v":true},3,{"$f":"+COUNTIF($L$1:L40,\"=\"&4)","v":4},"Aurora County, SD Corn Basis"]
["ZSBASDAU.CM","cmdty Aurora County, SD Soybean Basis Idx","Soybean","Basis","South Dakota","County","Aurora County",{"$f":"+IF(LEN(home!$G$7)>0,instruments!C41=home!$G$7,TRUE)","v":false},true,{"$f":"+IF(LEN(home!$G$8)>0,instruments!E41=home!$G$8,TRUE)","v":false},{"$f":"+IF(LEN(home!$G$9)>0,instruments!F41=home!$G$9,TRUE)","v":true},2,{"$f":"+COUNTIF($L$1:L41,\"=\"&4)","v":4},"Aurora County, SD Soybean Basis"]
["ZCBAKSBA.CM","cmdty Barber County, KS Corn Basis Idx","Corn","Basis","Kansas","County","Barber County",{"$f":"+IF(LEN(home!$G$7)>0,instruments!C42=home!$G$7,TRUE)","v":true},true,{"$f":"+IF(LEN(home!$G$8)>0,instruments!E42=home!$G$8,TRUE)","v":false},{"$f":"+IF(LEN(home!$G$9)>0,instruments!F42=home!$G$9,TRUE)","v":true},3,{"$f":"+COUNTIF($L$1:L42,\"=\"&4)","v":4},"Barber County, KS Corn Basis"]
["ZSBAKSBA.CM","cmdty Barber County, KS Soybean Basis Idx","Soybean","Basis","Kansas","County","Barber County",{"$f":"+IF(LEN(home!$G$7)>0,instruments!C43=home!$G$7,TRUE)","v":false},true,{"$f":"+IF(LEN(home!$G$8)>0,instruments!E43=home!$G$8,TRUE)","v":false},{"$f":"+IF(LEN(home!$G$9)>0,instruments!F43=home!$G$9,TRUE)","v":true},2,{"$f":"+COUNTIF($L$1:L43,\"=\"&4)","v":4},"Barber County, KS Soybean Basis"]
["ZSBANDBA.CM","cmdty Barnes County, ND Soybean Basis Idx","Soybean","Basis","North Dakota","County","Barnes County",{"$f":"+IF(LEN(home!$G$7)>0,instruments!C44=home!$G$7,TRUE)","v":false},true,{"$f":"+IF(LEN(home!$G$8)>0,instruments!E44=home!$G$8,TRUE)","v":false},{"$f":"+IF(LEN(home!$G$9)>0,instruments!F44=home!$G$9,TRUE)","v":true},2,{"$f":"+COUNTIF($L$1:L44,\"=\"&4)","v":4},"Barnes County, ND Soybean Basis"]
["ZCBAMOBA.CM","cmdty Barry County, MO Corn Basis Idx","Corn","Basis","Missouri","County","Barry County",{"$f":"+IF(LEN(home!$G$7)>0,instruments!C45=home!$G$7,TRUE)","v":true},true,{"$f":"+IF(LEN(home!$G$8)>0,instruments!E45=home!$G$8,TRUE)","v":false},{"$f":"+IF(LEN(home!$G$9)>0,instruments!F45=home!$G$9,TRUE)","v":true},3,{"$f":"+COUNTIF($L$1:L45,\"=\"&4)","v":4},"Barry County, MO Corn Basis"]
["ZSBAMOBA.CM","cmdty Barry County, MO Soybean Basis Idx","Soybean","Basis","Missouri","County","Barry County",{"$f":"+IF(LEN(home!$G$7)>0,instruments!C46=home!$G$7,TRUE)","v":false},true,{"$f":"+IF(LEN(home!$G$8)>0,instruments!E46=home!$G$8,TRUE)","v":false},{"$f":"+IF(LEN(home!$G$9)>0,instruments!F46=home!$G$9,TRUE)","v":true},2,{"$f":"+COUNTIF($L$1:L46,\"=\"&4)","v":4},"Barry County, MO Soybean Basis"]
["ZCBAINBA.CM","cmdty Bartholomew County, IN Corn Basis Idx","Corn","Basis","Indiana","County","Bartholomew County",{"$f":"+IF(LEN(home!$G$7)>0,instruments!C47=home!$G$7,TRUE)","v":true},true,{"$f":"+IF(LEN(home!$G$8)>0,instruments!E47=home!$G$8,TRUE)","v":false},{"$f":"+IF(LEN(home!$G$9)>0,instruments!F47=home!$G$9,TRUE)","v":true},3,{"$f":"+COUNTIF($L$1:L47,\"=\"&4)","v":4},"Bartholomew County, IN Corn Basis"]
["ZSBAINBA.CM","cmdty Bartholomew County, IN Soybean Basis Idx","Soybean","Basis","Indiana","County","Bartholomew County",{"$f":"+IF(LEN(home!$G$7)>0,instruments!C48=home!$G$7,TRUE)","v":false},true,{"$f":"+IF(LEN(home!$G$8)>0,instruments!E48=home!$G$8,TRUE)","v":false},{"$f":"+IF(LEN(home!$G$9)>0,instruments!F48=home!$G$9,TRUE)","v":true},2,{"$f":"+COUNTIF($L$1:L48,\"=\"&4)","v":4},"Bartholomew County, IN Soybean Basis"]
["ZCBAKSBB.CM","cmdty Barton County, KS Corn Basis Idx","Corn","Basis","Kansas","County","Barton County",{"$f":"+IF(LEN(home!$G$7)>0,instruments!C49=home!$G$7,TRUE)","v":true},true,{"$f":"+IF(LEN(home!$G$8)>0,instruments!E49=home!$G$8,TRUE)","v":false},{"$f":"+IF(LEN(home!$G$9)>0,instruments!F49=home!$G$9,TRUE)","v":true},3,{"$f":"+COUNTIF($L$1:L49,\"=\"&4)","v":4},"Barton County, KS Corn Basis"]
["ZSBAKSBB.CM","cmdty Barton County, KS Soybean Basis Idx","Soybean","Basis","Kansas","County","Barton County",{"$f":"+IF(LEN(home!$G$7)>0,instruments!C50=home!$G$7,TRUE)","v":false},true,{"$f":"+IF(LEN(home!$G$8)>0,instruments!E50=home!$G$8,TRUE)","v":false},{"$f":"+IF(LEN(home!$G$9)>0,instruments!F50=home!$G$9,TRUE)","v":true},2,{"$f":"+COUNTIF($L$1:L50,\"=\"&4)","v":4},"Barton County, KS Soybean Basis"]
["ZCBAMOBB.CM","cmdty Barton County, MO Corn Basis Idx","Corn","Basis","Missouri","County","Barton County",{"$f":"+IF(LEN(home!$G$7)>0,instruments!C51=home!$G$7,TRUE)","v":true},true,{"$f":"+IF(LEN(home!$G$8)>0,instruments!E51=home!$G$8,TRUE)","v":false},{"$f":"+IF(LEN(home!$G$9)>0,instruments!F51=home!$G$9,TRUE)","v":true},3,{"$f":"+COUNTIF($L$1:L51,\"=\"&4)","v":4},"Barton County, MO Corn Basis"]
["ZSBAMOBB.CM","cmdty Barton County, MO Soybean Basis Idx","Soybean","Basis","Missouri","County","Barton County",{"$f":"+IF(LEN(home!$G$7)>0,instruments!C52=home!$G$7,TRUE)","v":false},true,{"$f":"+IF(LEN(home!$G$8)>0,instruments!E52=home!$G$8,TRUE)","v":false},{"$f":"+IF(LEN(home!$G$9)>0,instruments!F52=home!$G$9,TRUE)","v":true},2,{"$f":"+COUNTIF($L$1:L52,\"=\"&4)","v":4},"Barton County, MO Soybean Basis"]
["ZCBAMOBC.CM","cmdty Bates County, MO Corn Basis Idx","Corn","Basis","Missouri","County","Bates County",{"$f":"+IF(LEN(home!$G$7)>0,instruments!C53=home!$G$7,TRUE)","v":true},true,{"$f":"+IF(LEN(home!$G$8)>0,instruments!E53=home!$G$8,TRUE)","v":false},{"$f":"+IF(LEN(home!$G$9)>0,instruments!F53=home!$G$9,TRUE)","v":true},3,{"$f":"+COUNTIF($L$1:L53,\"=\"&4)","v":4},"Bates County, MO Corn Basis"]
["ZSBAMOBC.CM","cmdty Bates County, MO Soybean Basis Idx","Soybean","Basis","Missouri","County","Bates County",{"$f":"+IF(LEN(home!$G$7)>0,instruments!C54=home!$G$7,TRUE)","v":false},true,{"$f":"+IF(LEN(home!$G$8)>0,instruments!E54=home!$G$8,TRUE)","v":false},{"$f":"+IF(LEN(home!$G$9)>0,instruments!F54=home!$G$9,TRUE)","v":true},2,{"$f":"+COUNTIF($L$1:L54,\"=\"&4)","v":4},"Bates County, MO Soybean Basis"]
["ZCBASDBE.CM","cmdty Beadle County, SD Corn Basis Idx","Corn","Basis","South Dakota","County","Beadle County",{"$f":"+IF(LEN(home!$G$7)>0,instruments!C55=home!$G$7,TRUE)","v":true},true,{"$f":"+IF(LEN(home!$G$8)>0,instruments!E55=home!$G$8,TRUE)","v":false},{"$f":"+IF(LEN(home!$G$9)>0,instruments!F55=home!$G$9,TRUE)","v":true},3,{"$f":"+COUNTIF($L$1:L55,\"=\"&4)","v":4},"Beadle County, SD Corn Basis"]
["ZSBASDBE.CM","cmdty Beadle County, SD Soybean Basis Idx","Soybean","Basis","South Dakota","County","Beadle County",{"$f":"+IF(LEN(home!$G$7)>0,instruments!C56=home!$G$7,TRUE)","v":false},true,{"$f":"+IF(LEN(home!$G$8)>0,instruments!E56=home!$G$8,TRUE)","v":false},{"$f":"+IF(LEN(home!$G$9)>0,instruments!F56=home!$G$9,TRUE)","v":true},2,{"$f":"+COUNTIF($L$1:L56,\"=\"&4)","v":4},"Beadle County, SD Soybean Basis"]
["ZCBAMNBE.CM","cmdty Becker County, MN Corn Basis Idx","Corn","Basis","Minnesota","County","Becker County",{"$f":"+IF(LEN(home!$G$7)>0,instruments!C57=home!$G$7,TRUE)","v":true},true,{"$f":"+IF(LEN(home!$G$8)>0,instruments!E57=home!$G$8,TRUE)","v":false},{"$f":"+IF(LEN(home!$G$9)>0,instruments!F57=home!$G$9,TRUE)","v":true},3,{"$f":"+COUNTIF($L$1:L57,\"=\"&4)","v":4},"Becker County, MN Corn Basis"]
["ZSBAMNBE.CM","cmdty Becker County, MN Soybean Basis Idx","Soybean","Basis","Minnesota","County","Becker County",{"$f":"+IF(LEN(home!$G$7)>0,instruments!C58=home!$G$7,TRUE)","v":false},true,{"$f":"+IF(LEN(home!$G$8)>0,instruments!E58=home!$G$8,TRUE)","v":false},{"$f":"+IF(LEN(home!$G$9)>0,instruments!F58=home!$G$9,TRUE)","v":true},2,{"$f":"+COUNTIF($L$1:L58,\"=\"&4)","v":4},"Becker County, MN Soybean Basis"]
["ZSBAMNBA.CM","cmdty Beltrami County, MN Soybean Basis Idx","Soybean","Basis","Minnesota","County","Beltrami County",{"$f":"+IF(LEN(home!$G$7)>0,instruments!C59=home!$G$7,TRUE)","v":false},true,{"$f":"+IF(LEN(home!$G$8)>0,instruments!E59=home!$G$8,TRUE)","v":false},{"$f":"+IF(LEN(home!$G$9)>0,instruments!F59=home!$G$9,TRUE)","v":true},2,{"$f":"+COUNTIF($L$1:L59,\"=\"&4)","v":4},"Beltrami County, MN Soybean Basis"]
["ZCBASDBA.CM","cmdty Bennett County, SD Corn Basis Idx","Corn","Basis","South Dakota","County","Bennett County",{"$f":"+IF(LEN(home!$G$7)>0,instruments!C60=home!$G$7,TRUE)","v":true},true,{"$f":"+IF(LEN(home!$G$8)>0,instruments!E60=home!$G$8,TRUE)","v":false},{"$f":"+IF(LEN(home!$G$9)>0,instruments!F60=home!$G$9,TRUE)","v":true},3,{"$f":"+COUNTIF($L$1:L60,\"=\"&4)","v":4},"Bennett County, SD Corn Basis"]
["ZSBANDBE.CM","cmdty Benson County, ND Soybean Basis Idx","Soybean","Basis","North Dakota","County","Benson County",{"$f":"+IF(LEN(home!$G$7)>0,instruments!C61=home!$G$7,TRUE)","v":false},true,{"$f":"+IF(LEN(home!$G$8)>0,instruments!E61=home!$G$8,TRUE)","v":false},{"$f":"+IF(LEN(home!$G$9)>0,instruments!F61=home!$G$9,TRUE)","v":true},2,{"$f":"+COUNTIF($L$1:L61,\"=\"&4)","v":4},"Benson County, ND Soybean Basis"]
["ZCBAIABE.CM","cmdty Benton County, IA Corn Basis Idx","Corn","Basis","Iowa","County","Benton County",{"$f":"+IF(LEN(home!$G$7)>0,instruments!C62=home!$G$7,TRUE)","v":true},true,{"$f":"+IF(LEN(home!$G$8)>0,instruments!E62=home!$G$8,TRUE)","v":true},{"$f":"+IF(LEN(home!$G$9)>0,instruments!F62=home!$G$9,TRUE)","v":true},4,{"$f":"+COUNTIF($L$1:L62,\"=\"&4)","v":5},"Benton County, IA Corn Basis"]
["ZSBAIABE.CM","cmdty Benton County, IA Soybean Basis Idx","Soybean","Basis","Iowa","County","Benton County",{"$f":"+IF(LEN(home!$G$7)>0,instruments!C63=home!$G$7,TRUE)","v":false},true,{"$f":"+IF(LEN(home!$G$8)>0,instruments!E63=home!$G$8,TRUE)","v":true},{"$f":"+IF(LEN(home!$G$9)>0,instruments!F63=home!$G$9,TRUE)","v":true},3,{"$f":"+COUNTIF($L$1:L63,\"=\"&4)","v":5},"Benton County, IA Soybean Basis"]
["ZCBAINBE.CM","cmdty Benton County, IN Corn Basis Idx","Corn","Basis","Indiana","County","Benton County",{"$f":"+IF(LEN(home!$G$7)>0,instruments!C64=home!$G$7,TRUE)","v":true},true,{"$f":"+IF(LEN(home!$G$8)>0,instruments!E64=home!$G$8,TRUE)","v":false},{"$f":"+IF(LEN(home!$G$9)>0,instruments!F64=home!$G$9,TRUE)","v":true},3,{"$f":"+COUNTIF($L$1:L64,\"=\"&4)","v":5},"Benton County, IN Corn Basis"]
["ZSBAINBE.CM","cmdty Benton County, IN Soybean Basis Idx","Soybean","Basis","Indiana","County","Benton County",{"$f":"+IF(LEN(home!$G$7)>0,instruments!C65=home!$G$7,TRUE)","v":false},true,{"$f":"+IF(LEN(home!$G$8)>0,instruments!E65=home!$G$8,TRUE)","v":false},{"$f":"+IF(LEN(home!$G$9)>0,instruments!F65=home!$G$9,TRUE)","v":true},2,{"$f":"+COUNTIF($L$1:L65,\"=\"&4)","v":5},"Benton County, IN Soybean Basis"]
["ZCBAMNBB.CM","cmdty Benton County, MN Corn Basis Idx","Corn","Basis","Minnesota","County","Benton County",{"$f":"+IF(LEN(home!$G$7)>0,instruments!C66=home!$G$7,TRUE)","v":true},true,{"$f":"+IF(LEN(home!$G$8)>0,instruments!E66=home!$G$8,TRUE)","v":false},{"$f":"+IF(LEN(home!$G$9)>0,instruments!F66=home!$G$9,TRUE)","v":true},{"$f":"+COUNTIF(H66:K66,TRUE)","v":3},{"$f":"+COUNTIF($L$1:L66,\"=\"&4)","v":5},"Benton County, MN Corn Basis"]
["ZCBAMNBI.CM","cmdty Big Stone County, MN Corn Basis Idx","Corn","Basis","Minnesota","County","Big Stone County",{"$f":"+IF(LEN(home!$G$7)>0,instruments!C67=home!$G$7,TRUE)","v":true},{"$f":"+D67=\"Basis\"","v":true},{"$f":"+IF(LEN(home!$G$8)>0,instruments!E67=home!$G$8,TRUE)","v":false},{"$f":"+IF(LEN(home!$G$9)>0,instruments!F67=home!$G$9,TRUE)","v":true},3,{"$f":"+COUNTIF($L$1:L67,\"=\"&4)","v":5},{"$f":"+MID(B67,FIND(\" \",B67,1)+1,LEN(B67)-FIND(\" \",B67,1)-4)","v":"Big Stone County, MN Corn Basis"}]
["ZSBAMNBI.CM","cmdty Big Stone County, MN Soybean Basis Idx","Soybean","Basis","Minnesota","County","Big Stone County",{"$f":"+IF(LEN(home!$G$7)>0,instruments!C68=home!$G$7,TRUE)","v":false},true,{"$f":"+IF(LEN(home!$G$8)>0,instruments!E68=home!$G$8,TRUE)","v":false},{"$f":"+IF(LEN(home!$G$9)>0,instruments!F68=home!$G$9,TRUE)","v":true},2,{"$f":"+COUNTIF($L$1:L68,\"=\"&4)","v":5},"Big Stone County, MN Soybean Basis"]
["ZCBAINBL.CM","cmdty Blackford County, IN Corn Basis Idx","Corn","Basis","Indiana","County","Blackford County",{"$f":"+IF(LEN(home!$G$7)>0,instruments!C69=home!$G$7,TRUE)","v":true},true,{"$f":"+IF(LEN(home!$G$8)>0,instruments!E69=home!$G$8,TRUE)","v":false},{"$f":"+IF(LEN(home!$G$9)>0,instruments!F69=home!$G$9,TRUE)","v":true},3,{"$f":"+COUNTIF($L$1:L69,\"=\"&4)","v":5},"Blackford County, IN Corn Basis"]
["ZSBAINBL.CM","cmdty Blackford County, IN Soybean Basis Idx","Soybean","Basis","Indiana","County","Blackford County",{"$f":"+IF(LEN(home!$G$7)>0,instruments!C70=home!$G$7,TRUE)","v":false},true,{"$f":"+IF(LEN(home!$G$8)>0,instruments!E70=home!$G$8,TRUE)","v":false},{"$f":"+IF(LEN(home!$G$9)>0,instruments!F70=home!$G$9,TRUE)","v":true},2,{"$f":"+COUNTIF($L$1:L70,\"=\"&4)","v":5},"Blackford County, IN Soybean Basis"]
["ZCBAIABL.CM","cmdty Black Hawk County, IA Corn Basis Idx","Corn","Basis","Iowa","County","Black Hawk County",{"$f":"+IF(LEN(home!$G$7)>0,instruments!C71=home!$G$7,TRUE)","v":true},true,{"$f":"+IF(LEN(home!$G$8)>0,instruments!E71=home!$G$8,TRUE)","v":true},{"$f":"+IF(LEN(home!$G$9)>0,instruments!F71=home!$G$9,TRUE)","v":true},4,{"$f":"+COUNTIF($L$1:L71,\"=\"&4)","v":6},"Black Hawk County, IA Corn Basis"]
["ZSBAIABL.CM","cmdty Black Hawk County, IA Soybean Basis Idx","Soybean","Basis","Iowa","County","Black Hawk County",{"$f":"+IF(LEN(home!$G$7)>0,instruments!C72=home!$G$7,TRUE)","v":false},true,{"$f":"+IF(LEN(home!$G$8)>0,instruments!E72=home!$G$8,TRUE)","v":true},{"$f":"+IF(LEN(home!$G$9)>0,instruments!F72=home!$G$9,TRUE)","v":true},3,{"$f":"+COUNTIF($L$1:L72,\"=\"&4)","v":6},"Black Hawk County, IA Soybean Basis"]
["ZCBAMNBL.CM","cmdty Blue Earth County, MN Corn Basis Idx","Corn","Basis","Minnesota","County","Blue Earth County",{"$f":"+IF(LEN(home!$G$7)>0,instruments!C73=home!$G$7,TRUE)","v":true},true,{"$f":"+IF(LEN(home!$G$8)>0,instruments!E73=home!$G$8,TRUE)","v":false},{"$f":"+IF(LEN(home!$G$9)>0,instruments!F73=home!$G$9,TRUE)","v":true},3,{"$f":"+COUNTIF($L$1:L73,\"=\"&4)","v":6},"Blue Earth County, MN Corn Basis"]
["ZSBAMNBL.CM","cmdty Blue Earth County, MN Soybean Basis Idx","Soybean","Basis","Minnesota","County","Blue Earth County",{"$f":"+IF(LEN(home!$G$7)>0,instruments!C74=home!$G$7,TRUE)","v":false},true,{"$f":"+IF(LEN(home!$G$8)>0,instruments!E74=home!$G$8,TRUE)","v":false},{"$f":"+IF(LEN(home!$G$9)>0,instruments!F74=home!$G$9,TRUE)","v":true},2,{"$f":"+COUNTIF($L$1:L74,\"=\"&4)","v":6},"Blue Earth County, MN Soybean Basis"]
["ZCBASDBO.CM","cmdty Bon Homme County, SD Corn Basis Idx","Corn","Basis","South Dakota","County","Bon Homme County",{"$f":"+IF(LEN(home!$G$7)>0,instruments!C75=home!$G$7,TRUE)","v":true},true,{"$f":"+IF(LEN(home!$G$8)>0,instruments!E75=home!$G$8,TRUE)","v":false},{"$f":"+IF(LEN(home!$G$9)>0,instruments!F75=home!$G$9,TRUE)","v":true},3,{"$f":"+COUNTIF($L$1:L75,\"=\"&4)","v":6},"Bon Homme County, SD Corn Basis"]
["ZSBASDBO.CM","cmdty Bon Homme County, SD Soybean Basis Idx","Soybean","Basis","South Dakota","County","Bon Homme County",{"$f":"+IF(LEN(home!$G$7)>0,instruments!C76=home!$G$7,TRUE)","v":false},true,{"$f":"+IF(LEN(home!$G$8)>0,instruments!E76=home!$G$8,TRUE)","v":false},{"$f":"+IF(LEN(home!$G$9)>0,instruments!F76=home!$G$9,TRUE)","v":true},2,{"$f":"+COUNTIF($L$1:L76,\"=\"&4)","v":6},"Bon Homme County, SD Soybean Basis"]
["ZCBAIABO.CM","cmdty Boone County, IA Corn Basis Idx","Corn","Basis","Iowa","County","Boone County",{"$f":"+IF(LEN(home!$G$7)>0,instruments!C77=home!$G$7,TRUE)","v":true},true,{"$f":"+IF(LEN(home!$G$8)>0,instruments!E77=home!$G$8,TRUE)","v":true},{"$f":"+IF(LEN(home!$G$9)>0,instruments!F77=home!$G$9,TRUE)","v":true},4,{"$f":"+COUNTIF($L$1:L77,\"=\"&4)","v":7},"Boone County, IA Corn Basis"]
["ZSBAIABO.CM","cmdty Boone County, IA Soybean Basis Idx","Soybean","Basis","Iowa","County","Boone County",{"$f":"+IF(LEN(home!$G$7)>0,instruments!C78=home!$G$7,TRUE)","v":false},true,{"$f":"+IF(LEN(home!$G$8)>0,instruments!E78=home!$G$8,TRUE)","v":true},{"$f":"+IF(LEN(home!$G$9)>0,instruments!F78=home!$G$9,TRUE)","v":true},3,{"$f":"+COUNTIF($L$1:L78,\"=\"&4)","v":7},"Boone County, IA Soybean Basis"]
["ZCBAILBA.CM","cmdty Boone County, IL Corn Basis Idx","Corn","Basis","Illinois","County","Boone County",{"$f":"+IF(LEN(home!$G$7)>0,instruments!C79=home!$G$7,TRUE)","v":true},true,{"$f":"+IF(LEN(home!$G$8)>0,instruments!E79=home!$G$8,TRUE)","v":false},{"$f":"+IF(LEN(home!$G$9)>0,instruments!F79=home!$G$9,TRUE)","v":true},3,{"$f":"+COUNTIF($L$1:L79,\"=\"&4)","v":7},"Boone County, IL Corn Basis"]
["ZSBAILBA.CM","cmdty Boone County, IL Soybean Basis Idx","Soybean","Basis","Illinois","County","Boone County",{"$f":"+IF(LEN(home!$G$7)>0,instruments!C80=home!$G$7,TRUE)","v":false},true,{"$f":"+IF(LEN(home!$G$8)>0,instruments!E80=home!$G$8,TRUE)","v":false},{"$f":"+IF(LEN(home!$G$9)>0,instruments!F80=home!$G$9,TRUE)","v":true},2,{"$f":"+COUNTIF($L$1:L80,\"=\"&4)","v":7},"Boone County, IL Soybean Basis"]
["ZCBAMOBD.CM","cmdty Boone County, MO Corn Basis Idx","Corn","Basis","Missouri","County","Boone County",{"$f":"+IF(LEN(home!$G$7)>0,instruments!C81=home!$G$7,TRUE)","v":true},true,{"$f":"+IF(LEN(home!$G$8)>0,instruments!E81=home!$G$8,TRUE)","v":false},{"$f":"+IF(LEN(home!$G$9)>0,instruments!F81=home!$G$9,TRUE)","v":true},3,{"$f":"+COUNTIF($L$1:L81,\"=\"&4)","v":7},"Boone County, MO Corn Basis"]
["ZSBAMOBD.CM","cmdty Boone County, MO Soybean Basis Idx","Soybean","Basis","Missouri","County","Boone County",{"$f":"+IF(LEN(home!$G$7)>0,instruments!C82=home!$G$7,TRUE)","v":false},true,{"$f":"+IF(LEN(home!$G$8)>0,instruments!E82=home!$G$8,TRUE)","v":false},{"$f":"+IF(LEN(home!$G$9)>0,instruments!F82=home!$G$9,TRUE)","v":true},2,{"$f":"+COUNTIF($L$1:L82,\"=\"&4)","v":7},"Boone County, MO Soybean Basis"]
["ZCBANEBO.CM","cmdty Boone County, NE Corn Basis Idx","Corn","Basis","Nebraska","County","Boone County",{"$f":"+IF(LEN(home!$G$7)>0,instruments!C83=home!$G$7,TRUE)","v":true},true,{"$f":"+IF(LEN(home!$G$8)>0,instruments!E83=home!$G$8,TRUE)","v":false},{"$f":"+IF(LEN(home!$G$9)>0,instruments!F83=home!$G$9,TRUE)","v":true},3,{"$f":"+COUNTIF($L$1:L83,\"=\"&4)","v":7},"Boone County, NE Corn Basis"]
["ZSBANEBO.CM","cmdty Boone County, NE Soybean Basis Idx","Soybean","Basis","Nebraska","County","Boone County",{"$f":"+IF(LEN(home!$G$7)>0,instruments!C84=home!$G$7,TRUE)","v":false},true,{"$f":"+IF(LEN(home!$G$8)>0,instruments!E84=home!$G$8,TRUE)","v":false},{"$f":"+IF(LEN(home!$G$9)>0,instruments!F84=home!$G$9,TRUE)","v":true},2,{"$f":"+COUNTIF($L$1:L84,\"=\"&4)","v":7},"Boone County, NE Soybean Basis"]
["ZSBANDBO.CM","cmdty Bottineau County, ND Soybean Basis Idx","Soybean","Basis","North Dakota","County","Bottineau County",{"$f":"+IF(LEN(home!$G$7)>0,instruments!C85=home!$G$7,TRUE)","v":false},true,{"$f":"+IF(LEN(home!$G$8)>0,instruments!E85=home!$G$8,TRUE)","v":false},{"$f":"+IF(LEN(home!$G$9)>0,instruments!F85=home!$G$9,TRUE)","v":true},2,{"$f":"+COUNTIF($L$1:L85,\"=\"&4)","v":7},"Bottineau County, ND Soybean Basis"]
["ZCBAKSBO.CM","cmdty Bourbon County, KS Corn Basis Idx","Corn","Basis","Kansas","County","Bourbon County",{"$f":"+IF(LEN(home!$G$7)>0,instruments!C86=home!$G$7,TRUE)","v":true},true,{"$f":"+IF(LEN(home!$G$8)>0,instruments!E86=home!$G$8,TRUE)","v":false},{"$f":"+IF(LEN(home!$G$9)>0,instruments!F86=home!$G$9,TRUE)","v":true},3,{"$f":"+COUNTIF($L$1:L86,\"=\"&4)","v":7},"Bourbon County, KS Corn Basis"]
["ZSBAKSBO.CM","cmdty Bourbon County, KS Soybean Basis Idx","Soybean","Basis","Kansas","County","Bourbon County",{"$f":"+IF(LEN(home!$G$7)>0,instruments!C87=home!$G$7,TRUE)","v":false},true,{"$f":"+IF(LEN(home!$G$8)>0,instruments!E87=home!$G$8,TRUE)","v":false},{"$f":"+IF(LEN(home!$G$9)>0,instruments!F87=home!$G$9,TRUE)","v":true},2,{"$f":"+COUNTIF($L$1:L87,\"=\"&4)","v":7},"Bourbon County, KS Soybean Basis"]
["ZCBAIABR.CM","cmdty Bremer County, IA Corn Basis Idx","Corn","Basis","Iowa","County","Bremer County",{"$f":"+IF(LEN(home!$G$7)>0,instruments!C88=home!$G$7,TRUE)","v":true},true,{"$f":"+IF(LEN(home!$G$8)>0,instruments!E88=home!$G$8,TRUE)","v":true},{"$f":"+IF(LEN(home!$G$9)>0,instruments!F88=home!$G$9,TRUE)","v":true},4,{"$f":"+COUNTIF($L$1:L88,\"=\"&4)","v":8},"Bremer County, IA Corn Basis"]
["ZSBAIABR.CM","cmdty Bremer County, IA Soybean Basis Idx","Soybean","Basis","Iowa","County","Bremer County",{"$f":"+IF(LEN(home!$G$7)>0,instruments!C89=home!$G$7,TRUE)","v":false},true,{"$f":"+IF(LEN(home!$G$8)>0,instruments!E89=home!$G$8,TRUE)","v":true},{"$f":"+IF(LEN(home!$G$9)>0,instruments!F89=home!$G$9,TRUE)","v":true},3,{"$f":"+COUNTIF($L$1:L89,\"=\"&4)","v":8},"Bremer County, IA Soybean Basis"]
["ZCBASDBR.CM","cmdty Brookings County, SD Corn Basis Idx","Corn","Basis","South Dakota","County","Brookings County",{"$f":"+IF(LEN(home!$G$7)>0,instruments!C90=home!$G$7,TRUE)","v":true},true,{"$f":"+IF(LEN(home!$G$8)>0,instruments!E90=home!$G$8,TRUE)","v":false},{"$f":"+IF(LEN(home!$G$9)>0,instruments!F90=home!$G$9,TRUE)","v":true},3,{"$f":"+COUNTIF($L$1:L90,\"=\"&4)","v":8},"Brookings County, SD Corn Basis"]
["ZSBASDBR.CM","cmdty Brookings County, SD Soybean Basis Idx","Soybean","Basis","South Dakota","County","Brookings County",{"$f":"+IF(LEN(home!$G$7)>0,instruments!C91=home!$G$7,TRUE)","v":false},true,{"$f":"+IF(LEN(home!$G$8)>0,instruments!E91=home!$G$8,TRUE)","v":false},{"$f":"+IF(LEN(home!$G$9)>0,instruments!F91=home!$G$9,TRUE)","v":true},2,{"$f":"+COUNTIF($L$1:L91,\"=\"&4)","v":8},"Brookings County, SD Soybean Basis"]
["ZCBAILBR.CM","cmdty Brown County, IL Corn Basis Idx","Corn","Basis","Illinois","County","Brown County",{"$f":"+IF(LEN(home!$G$7)>0,instruments!C92=home!$G$7,TRUE)","v":true},true,{"$f":"+IF(LEN(home!$G$8)>0,instruments!E92=home!$G$8,TRUE)","v":false},{"$f":"+IF(LEN(home!$G$9)>0,instruments!F92=home!$G$9,TRUE)","v":true},3,{"$f":"+COUNTIF($L$1:L92,\"=\"&4)","v":8},"Brown County, IL Corn Basis"]
["ZSBAILBR.CM","cmdty Brown County, IL Soybean Basis Idx","Soybean","Basis","Illinois","County","Brown County",{"$f":"+IF(LEN(home!$G$7)>0,instruments!C93=home!$G$7,TRUE)","v":false},true,{"$f":"+IF(LEN(home!$G$8)>0,instruments!E93=home!$G$8,TRUE)","v":false},{"$f":"+IF(LEN(home!$G$9)>0,instruments!F93=home!$G$9,TRUE)","v":true},2,{"$f":"+COUNTIF($L$1:L93,\"=\"&4)","v":8},"Brown County, IL Soybean Basis"]
["ZCBAKSBR.CM","cmdty Brown County, KS Corn Basis Idx","Corn","Basis","Kansas","County","Brown County",{"$f":"+IF(LEN(home!$G$7)>0,instruments!C94=home!$G$7,TRUE)","v":true},true,{"$f":"+IF(LEN(home!$G$8)>0,instruments!E94=home!$G$8,TRUE)","v":false},{"$f":"+IF(LEN(home!$G$9)>0,instruments!F94=home!$G$9,TRUE)","v":true},3,{"$f":"+COUNTIF($L$1:L94,\"=\"&4)","v":8},"Brown County, KS Corn Basis"]
["ZSBAKSBR.CM","cmdty Brown County, KS Soybean Basis Idx","Soybean","Basis","Kansas","County","Brown County",{"$f":"+IF(LEN(home!$G$7)>0,instruments!C95=home!$G$7,TRUE)","v":false},true,{"$f":"+IF(LEN(home!$G$8)>0,instruments!E95=home!$G$8,TRUE)","v":false},{"$f":"+IF(LEN(home!$G$9)>0,instruments!F95=home!$G$9,TRUE)","v":true},2,{"$f":"+COUNTIF($L$1:L95,\"=\"&4)","v":8},"Brown County, KS Soybean Basis"]
["ZCBAMNBR.CM","cmdty Brown County, MN Corn Basis Idx","Corn","Basis","Minnesota","County","Brown County",{"$f":"+IF(LEN(home!$G$7)>0,instruments!C96=home!$G$7,TRUE)","v":true},true,{"$f":"+IF(LEN(home!$G$8)>0,instruments!E96=home!$G$8,TRUE)","v":false},{"$f":"+IF(LEN(home!$G$9)>0,instruments!F96=home!$G$9,TRUE)","v":true},3,{"$f":"+COUNTIF($L$1:L96,\"=\"&4)","v":8},"Brown County, MN Corn Basis"]
["ZSBAMNBR.CM","cmdty Brown County, MN Soybean Basis Idx","Soybean","Basis","Minnesota","County","Brown County",{"$f":"+IF(LEN(home!$G$7)>0,instruments!C97=home!$G$7,TRUE)","v":false},true,{"$f":"+IF(LEN(home!$G$8)>0,instruments!E97=home!$G$8,TRUE)","v":false},{"$f":"+IF(LEN(home!$G$9)>0,instruments!F97=home!$G$9,TRUE)","v":true},2,{"$f":"+COUNTIF($L$1:L97,\"=\"&4)","v":8},"Brown County, MN Soybean Basis"]
["ZCBANEBR.CM","cmdty Brown County, NE Corn Basis Idx","Corn","Basis","Nebraska","County","Brown County",{"$f":"+IF(LEN(home!$G$7)>0,instruments!C98=home!$G$7,TRUE)","v":true},true,{"$f":"+IF(LEN(home!$G$8)>0,instruments!E98=home!$G$8,TRUE)","v":false},{"$f":"+IF(LEN(home!$G$9)>0,instruments!F98=home!$G$9,TRUE)","v":true},3,{"$f":"+COUNTIF($L$1:L98,\"=\"&4)","v":8},"Brown County, NE Corn Basis"]
["ZSBANEBR.CM","cmdty Brown County, NE Soybean Basis Idx","Soybean","Basis","Nebraska","County","Brown County",{"$f":"+IF(LEN(home!$G$7)>0,instruments!C99=home!$G$7,TRUE)","v":false},true,{"$f":"+IF(LEN(home!$G$8)>0,instruments!E99=home!$G$8,TRUE)","v":false},{"$f":"+IF(LEN(home!$G$9)>0,instruments!F99=home!$G$9,TRUE)","v":true},2,{"$f":"+COUNTIF($L$1:L99,\"=\"&4)","v":8},"Brown County, NE Soybean Basis"]
["ZCBASDBB.CM","cmdty Brown County, SD Corn Basis Idx","Corn","Basis","South Dakota","County","Brown County",{"$f":"+IF(LEN(home!$G$7)>0,instruments!C100=home!$G$7,TRUE)","v":true},true,{"$f":"+IF(LEN(home!$G$8)>0,instruments!E100=home!$G$8,TRUE)","v":false},{"$f":"+IF(LEN(home!$G$9)>0,instruments!F100=home!$G$9,TRUE)","v":true},3,{"$f":"+COUNTIF($L$1:L100,\"=\"&4)","v":8},"Brown County, SD Corn Basis"]
["ZSBASDBB.CM","cmdty Brown County, SD Soybean Basis Idx","Soybean","Basis","South Dakota","County","Brown County",{"$f":"+IF(LEN(home!$G$7)>0,instruments!C101=home!$G$7,TRUE)","v":false},true,{"$f":"+IF(LEN(home!$G$8)>0,instruments!E101=home!$G$8,TRUE)","v":false},{"$f":"+IF(LEN(home!$G$9)>0,instruments!F101=home!$G$9,TRUE)","v":true},2,{"$f":"+COUNTIF($L$1:L101,\"=\"&4)","v":8},"Brown County, SD Soybean Basis"]
["ZCBASDBC.CM","cmdty Brule County, SD Corn Basis Idx","Corn","Basis","South Dakota","County","Brule County",{"$f":"+IF(LEN(home!$G$7)>0,instruments!C102=home!$G$7,TRUE)","v":true},true,{"$f":"+IF(LEN(home!$G$8)>0,instruments!E102=home!$G$8,TRUE)","v":false},{"$f":"+IF(LEN(home!$G$9)>0,instruments!F102=home!$G$9,TRUE)","v":true},3,{"$f":"+COUNTIF($L$1:L102,\"=\"&4)","v":8},"Brule County, SD Corn Basis"]
["ZSBASDBC.CM","cmdty Brule County, SD Soybean Basis Idx","Soybean","Basis","South Dakota","County","Brule County",{"$f":"+IF(LEN(home!$G$7)>0,instruments!C103=home!$G$7,TRUE)","v":false},true,{"$f":"+IF(LEN(home!$G$8)>0,instruments!E103=home!$G$8,TRUE)","v":false},{"$f":"+IF(LEN(home!$G$9)>0,instruments!F103=home!$G$9,TRUE)","v":true},2,{"$f":"+COUNTIF($L$1:L103,\"=\"&4)","v":8},"Brule County, SD Soybean Basis"]
["ZCBAIABU.CM","cmdty Buchanan County, IA Corn Basis Idx","Corn","Basis","Iowa","County","Buchanan County",{"$f":"+IF(LEN(home!$G$7)>0,instruments!C104=home!$G$7,TRUE)","v":true},true,{"$f":"+IF(LEN(home!$G$8)>0,instruments!E104=home!$G$8,TRUE)","v":true},{"$f":"+IF(LEN(home!$G$9)>0,instruments!F104=home!$G$9,TRUE)","v":true},4,{"$f":"+COUNTIF($L$1:L104,\"=\"&4)","v":9},"Buchanan County, IA Corn Basis"]
["ZSBAIABU.CM","cmdty Buchanan County, IA Soybean Basis Idx","Soybean","Basis","Iowa","County","Buchanan County",{"$f":"+IF(LEN(home!$G$7)>0,instruments!C105=home!$G$7,TRUE)","v":false},true,{"$f":"+IF(LEN(home!$G$8)>0,instruments!E105=home!$G$8,TRUE)","v":true},{"$f":"+IF(LEN(home!$G$9)>0,instruments!F105=home!$G$9,TRUE)","v":true},3,{"$f":"+COUNTIF($L$1:L105,\"=\"&4)","v":9},"Buchanan County, IA Soybean Basis"]
["ZCBAMOBU.CM","cmdty Buchanan County, MO Corn Basis Idx","Corn","Basis","Missouri","County","Buchanan County",{"$f":"+IF(LEN(home!$G$7)>0,instruments!C106=home!$G$7,TRUE)","v":true},true,{"$f":"+IF(LEN(home!$G$8)>0,instruments!E106=home!$G$8,TRUE)","v":false},{"$f":"+IF(LEN(home!$G$9)>0,instruments!F106=home!$G$9,TRUE)","v":true},3,{"$f":"+COUNTIF($L$1:L106,\"=\"&4)","v":9},"Buchanan County, MO Corn Basis"]
["ZSBAMOBU.CM","cmdty Buchanan County, MO Soybean Basis Idx","Soybean","Basis","Missouri","County","Buchanan County",{"$f":"+IF(LEN(home!$G$7)>0,instruments!C107=home!$G$7,TRUE)","v":false},true,{"$f":"+IF(LEN(home!$G$8)>0,instruments!E107=home!$G$8,TRUE)","v":false},{"$f":"+IF(LEN(home!$G$9)>0,instruments!F107=home!$G$9,TRUE)","v":true},2,{"$f":"+COUNTIF($L$1:L107,\"=\"&4)","v":9},"Buchanan County, MO Soybean Basis"]
["ZCBAIABA.CM","cmdty Buena Vista County, IA Corn Basis Idx","Corn","Basis","Iowa","County","Buena Vista County",{"$f":"+IF(LEN(home!$G$7)>0,instruments!C108=home!$G$7,TRUE)","v":true},true,{"$f":"+IF(LEN(home!$G$8)>0,instruments!E108=home!$G$8,TRUE)","v":true},{"$f":"+IF(LEN(home!$G$9)>0,instruments!F108=home!$G$9,TRUE)","v":true},4,{"$f":"+COUNTIF($L$1:L108,\"=\"&4)","v":10},"Buena Vista County, IA Corn Basis"]
["ZSBAIABA.CM","cmdty Buena Vista County, IA Soybean Basis Idx","Soybean","Basis","Iowa","County","Buena Vista County",{"$f":"+IF(LEN(home!$G$7)>0,instruments!C109=home!$G$7,TRUE)","v":false},true,{"$f":"+IF(LEN(home!$G$8)>0,instruments!E109=home!$G$8,TRUE)","v":true},{"$f":"+IF(LEN(home!$G$9)>0,instruments!F109=home!$G$9,TRUE)","v":true},3,{"$f":"+COUNTIF($L$1:L109,\"=\"&4)","v":10},"Buena Vista County, IA Soybean Basis"]
["ZCBANEBU.CM","cmdty Buffalo County, NE Corn Basis Idx","Corn","Basis","Nebraska","County","Buffalo County",{"$f":"+IF(LEN(home!$G$7)>0,instruments!C110=home!$G$7,TRUE)","v":true},true,{"$f":"+IF(LEN(home!$G$8)>0,instruments!E110=home!$G$8,TRUE)","v":false},{"$f":"+IF(LEN(home!$G$9)>0,instruments!F110=home!$G$9,TRUE)","v":true},3,{"$f":"+COUNTIF($L$1:L110,\"=\"&4)","v":10},"Buffalo County, NE Corn Basis"]
["ZSBANEBU.CM","cmdty Buffalo County, NE Soybean Basis Idx","Soybean","Basis","Nebraska","County","Buffalo County",{"$f":"+IF(LEN(home!$G$7)>0,instruments!C111=home!$G$7,TRUE)","v":false},true,{"$f":"+IF(LEN(home!$G$8)>0,instruments!E111=home!$G$8,TRUE)","v":false},{"$f":"+IF(LEN(home!$G$9)>0,instruments!F111=home!$G$9,TRUE)","v":true},2,{"$f":"+COUNTIF($L$1:L111,\"=\"&4)","v":10},"Buffalo County, NE Soybean Basis"]
["ZCBAILBU.CM","cmdty Bureau County, IL Corn Basis Idx","Corn","Basis","Illinois","County","Bureau County",{"$f":"+IF(LEN(home!$G$7)>0,instruments!C112=home!$G$7,TRUE)","v":true},true,{"$f":"+IF(LEN(home!$G$8)>0,instruments!E112=home!$G$8,TRUE)","v":false},{"$f":"+IF(LEN(home!$G$9)>0,instruments!F112=home!$G$9,TRUE)","v":true},3,{"$f":"+COUNTIF($L$1:L112,\"=\"&4)","v":10},"Bureau County, IL Corn Basis"]
["ZSBAILBU.CM","cmdty Bureau County, IL Soybean Basis Idx","Soybean","Basis","Illinois","County","Bureau County",{"$f":"+IF(LEN(home!$G$7)>0,instruments!C113=home!$G$7,TRUE)","v":false},true,{"$f":"+IF(LEN(home!$G$8)>0,instruments!E113=home!$G$8,TRUE)","v":false},{"$f":"+IF(LEN(home!$G$9)>0,instruments!F113=home!$G$9,TRUE)","v":true},2,{"$f":"+COUNTIF($L$1:L113,\"=\"&4)","v":10},"Bureau County, IL Soybean Basis"]
["ZSBANDBU.CM","cmdty Burke County, ND Soybean Basis Idx","Soybean","Basis","North Dakota","County","Burke County",{"$f":"+IF(LEN(home!$G$7)>0,instruments!C114=home!$G$7,TRUE)","v":false},true,{"$f":"+IF(LEN(home!$G$8)>0,instruments!E114=home!$G$8,TRUE)","v":false},{"$f":"+IF(LEN(home!$G$9)>0,instruments!F114=home!$G$9,TRUE)","v":true},2,{"$f":"+COUNTIF($L$1:L114,\"=\"&4)","v":10},"Burke County, ND Soybean Basis"]
["ZSBANDBC.CM","cmdty Burleigh County, ND Soybean Basis Idx","Soybean","Basis","North Dakota","County","Burleigh County",{"$f":"+IF(LEN(home!$G$7)>0,instruments!C115=home!$G$7,TRUE)","v":false},true,{"$f":"+IF(LEN(home!$G$8)>0,instruments!E115=home!$G$8,TRUE)","v":false},{"$f":"+IF(LEN(home!$G$9)>0,instruments!F115=home!$G$9,TRUE)","v":true},2,{"$f":"+COUNTIF($L$1:L115,\"=\"&4)","v":10},"Burleigh County, ND Soybean Basis"]
["ZCBANEBD.CM","cmdty Burt County, NE Corn Basis Idx","Corn","Basis","Nebraska","County","Burt County",{"$f":"+IF(LEN(home!$G$7)>0,instruments!C116=home!$G$7,TRUE)","v":true},true,{"$f":"+IF(LEN(home!$G$8)>0,instruments!E116=home!$G$8,TRUE)","v":false},{"$f":"+IF(LEN(home!$G$9)>0,instruments!F116=home!$G$9,TRUE)","v":true},3,{"$f":"+COUNTIF($L$1:L116,\"=\"&4)","v":10},"Burt County, NE Corn Basis"]
["ZSBANEBD.CM","cmdty Burt County, NE Soybean Basis Idx","Soybean","Basis","Nebraska","County","Burt County",{"$f":"+IF(LEN(home!$G$7)>0,instruments!C117=home!$G$7,TRUE)","v":false},true,{"$f":"+IF(LEN(home!$G$8)>0,instruments!E117=home!$G$8,TRUE)","v":false},{"$f":"+IF(LEN(home!$G$9)>0,instruments!F117=home!$G$9,TRUE)","v":true},2,{"$f":"+COUNTIF($L$1:L117,\"=\"&4)","v":10},"Burt County, NE Soybean Basis"]
["ZCBAIABB.CM","cmdty Butler County, IA Corn Basis Idx","Corn","Basis","Iowa","County","Butler County",{"$f":"+IF(LEN(home!$G$7)>0,instruments!C118=home!$G$7,TRUE)","v":true},true,{"$f":"+IF(LEN(home!$G$8)>0,instruments!E118=home!$G$8,TRUE)","v":true},{"$f":"+IF(LEN(home!$G$9)>0,instruments!F118=home!$G$9,TRUE)","v":true},4,{"$f":"+COUNTIF($L$1:L118,\"=\"&4)","v":11},"Butler County, IA Corn Basis"]
["ZSBAIABB.CM","cmdty Butler County, IA Soybean Basis Idx","Soybean","Basis","Iowa","County","Butler County",{"$f":"+IF(LEN(home!$G$7)>0,instruments!C119=home!$G$7,TRUE)","v":false},true,{"$f":"+IF(LEN(home!$G$8)>0,instruments!E119=home!$G$8,TRUE)","v":true},{"$f":"+IF(LEN(home!$G$9)>0,instruments!F119=home!$G$9,TRUE)","v":true},3,{"$f":"+COUNTIF($L$1:L119,\"=\"&4)","v":11},"Butler County, IA Soybean Basis"]
["ZCBAKSBU.CM","cmdty Butler County, KS Corn Basis Idx","Corn","Basis","Kansas","County","Butler County",{"$f":"+IF(LEN(home!$G$7)>0,instruments!C120=home!$G$7,TRUE)","v":true},true,{"$f":"+IF(LEN(home!$G$8)>0,instruments!E120=home!$G$8,TRUE)","v":false},{"$f":"+IF(LEN(home!$G$9)>0,instruments!F120=home!$G$9,TRUE)","v":true},3,{"$f":"+COUNTIF($L$1:L120,\"=\"&4)","v":11},"Butler County, KS Corn Basis"]
["ZSBAKSBU.CM","cmdty Butler County, KS Soybean Basis Idx","Soybean","Basis","Kansas","County","Butler County",{"$f":"+IF(LEN(home!$G$7)>0,instruments!C121=home!$G$7,TRUE)","v":false},true,{"$f":"+IF(LEN(home!$G$8)>0,instruments!E121=home!$G$8,TRUE)","v":false},{"$f":"+IF(LEN(home!$G$9)>0,instruments!F121=home!$G$9,TRUE)","v":true},2,{"$f":"+COUNTIF($L$1:L121,\"=\"&4)","v":11},"Butler County, KS Soybean Basis"]
["ZCBAMOBF.CM","cmdty Butler County, MO Corn Basis Idx","Corn","Basis","Missouri","County","Butler County",{"$f":"+IF(LEN(home!$G$7)>0,instruments!C122=home!$G$7,TRUE)","v":true},true,{"$f":"+IF(LEN(home!$G$8)>0,instruments!E122=home!$G$8,TRUE)","v":false},{"$f":"+IF(LEN(home!$G$9)>0,instruments!F122=home!$G$9,TRUE)","v":true},3,{"$f":"+COUNTIF($L$1:L122,\"=\"&4)","v":11},"Butler County, MO Corn Basis"]
["ZSBAMOBF.CM","cmdty Butler County, MO Soybean Basis Idx","Soybean","Basis","Missouri","County","Butler County",{"$f":"+IF(LEN(home!$G$7)>0,instruments!C123=home!$G$7,TRUE)","v":false},true,{"$f":"+IF(LEN(home!$G$8)>0,instruments!E123=home!$G$8,TRUE)","v":false},{"$f":"+IF(LEN(home!$G$9)>0,instruments!F123=home!$G$9,TRUE)","v":true},2,{"$f":"+COUNTIF($L$1:L123,\"=\"&4)","v":11},"Butler County, MO Soybean Basis"]
["ZCBANEBE.CM","cmdty Butler County, NE Corn Basis Idx","Corn","Basis","Nebraska","County","Butler County",{"$f":"+IF(LEN(home!$G$7)>0,instruments!C124=home!$G$7,TRUE)","v":true},true,{"$f":"+IF(LEN(home!$G$8)>0,instruments!E124=home!$G$8,TRUE)","v":false},{"$f":"+IF(LEN(home!$G$9)>0,instruments!F124=home!$G$9,TRUE)","v":true},3,{"$f":"+COUNTIF($L$1:L124,\"=\"&4)","v":11},"Butler County, NE Corn Basis"]
["ZSBANEBE.CM","cmdty Butler County, NE Soybean Basis Idx","Soybean","Basis","Nebraska","County","Butler County",{"$f":"+IF(LEN(home!$G$7)>0,instruments!C125=home!$G$7,TRUE)","v":false},true,{"$f":"+IF(LEN(home!$G$8)>0,instruments!E125=home!$G$8,TRUE)","v":false},{"$f":"+IF(LEN(home!$G$9)>0,instruments!F125=home!$G$9,TRUE)","v":true},2,{"$f":"+COUNTIF($L$1:L125,\"=\"&4)","v":11},"Butler County, NE Soybean Basis"]
["ZSBAOHBU.CM","cmdty Butler County, OH Soybean Basis Idx","Soybean","Basis","Ohio","County","Butler County",{"$f":"+IF(LEN(home!$G$7)>0,instruments!C126=home!$G$7,TRUE)","v":false},true,{"$f":"+IF(LEN(home!$G$8)>0,instruments!E126=home!$G$8,TRUE)","v":false},{"$f":"+IF(LEN(home!$G$9)>0,instruments!F126=home!$G$9,TRUE)","v":true},2,{"$f":"+COUNTIF($L$1:L126,\"=\"&4)","v":11},"Butler County, OH Soybean Basis"]
["ZCBASDBD.CM","cmdty Butte County, SD Corn Basis Idx","Corn","Basis","South Dakota","County","Butte County",{"$f":"+IF(LEN(home!$G$7)>0,instruments!C127=home!$G$7,TRUE)","v":true},true,{"$f":"+IF(LEN(home!$G$8)>0,instruments!E127=home!$G$8,TRUE)","v":false},{"$f":"+IF(LEN(home!$G$9)>0,instruments!F127=home!$G$9,TRUE)","v":true},3,{"$f":"+COUNTIF($L$1:L127,\"=\"&4)","v":11},"Butte County, SD Corn Basis"]
["ZCBAMOCA.CM","cmdty Caldwell County, MO Corn Basis Idx","Corn","Basis","Missouri","County","Caldwell County",{"$f":"+IF(LEN(home!$G$7)>0,instruments!C128=home!$G$7,TRUE)","v":true},true,{"$f":"+IF(LEN(home!$G$8)>0,instruments!E128=home!$G$8,TRUE)","v":false},{"$f":"+IF(LEN(home!$G$9)>0,instruments!F128=home!$G$9,TRUE)","v":true},3,{"$f":"+COUNTIF($L$1:L128,\"=\"&4)","v":11},"Caldwell County, MO Corn Basis"]
["ZSBAMOCA.CM","cmdty Caldwell County, MO Soybean Basis Idx","Soybean","Basis","Missouri","County","Caldwell County",{"$f":"+IF(LEN(home!$G$7)>0,instruments!C129=home!$G$7,TRUE)","v":false},true,{"$f":"+IF(LEN(home!$G$8)>0,instruments!E129=home!$G$8,TRUE)","v":false},{"$f":"+IF(LEN(home!$G$9)>0,instruments!F129=home!$G$9,TRUE)","v":true},2,{"$f":"+COUNTIF($L$1:L129,\"=\"&4)","v":11},"Caldwell County, MO Soybean Basis"]
["ZCBAIACA.CM","cmdty Calhoun County, IA Corn Basis Idx","Corn","Basis","Iowa","County","Calhoun County",{"$f":"+IF(LEN(home!$G$7)>0,instruments!C130=home!$G$7,TRUE)","v":true},true,{"$f":"+IF(LEN(home!$G$8)>0,instruments!E130=home!$G$8,TRUE)","v":true},{"$f":"+IF(LEN(home!$G$9)>0,instruments!F130=home!$G$9,TRUE)","v":true},{"$f":"+COUNTIF(H130:K130,TRUE)","v":4},{"$f":"+COUNTIF($L$1:L130,\"=\"&4)","v":12},"Calhoun County, IA Corn Basis"]
["ZSBAIACA.CM","cmdty Calhoun County, IA Soybean Basis Idx","Soybean","Basis","Iowa","County","Calhoun County",{"$f":"+IF(LEN(home!$G$7)>0,instruments!C131=home!$G$7,TRUE)","v":false},{"$f":"+D131=\"Basis\"","v":true},{"$f":"+IF(LEN(home!$G$8)>0,instruments!E131=home!$G$8,TRUE)","v":true},{"$f":"+IF(LEN(home!$G$9)>0,instruments!F131=home!$G$9,TRUE)","v":true},3,{"$f":"+COUNTIF($L$1:L131,\"=\"&4)","v":12},{"$f":"+MID(B131,FIND(\" \",B131,1)+1,LEN(B131)-FIND(\" \",B131,1)-4)","v":"Calhoun County, IA Soybean Basis"}]
["ZCBAILCA.CM","cmdty Calhoun County, IL Corn Basis Idx","Corn","Basis","Illinois","County","Calhoun County",{"$f":"+IF(LEN(home!$G$7)>0,instruments!C132=home!$G$7,TRUE)","v":true},true,{"$f":"+IF(LEN(home!$G$8)>0,instruments!E132=home!$G$8,TRUE)","v":false},{"$f":"+IF(LEN(home!$G$9)>0,instruments!F132=home!$G$9,TRUE)","v":true},3,{"$f":"+COUNTIF($L$1:L132,\"=\"&4)","v":12},"Calhoun County, IL Corn Basis"]
["ZSBAILCA.CM","cmdty Calhoun County, IL Soybean Basis Idx","Soybean","Basis","Illinois","County","Calhoun County",{"$f":"+IF(LEN(home!$G$7)>0,instruments!C133=home!$G$7,TRUE)","v":false},true,{"$f":"+IF(LEN(home!$G$8)>0,instruments!E133=home!$G$8,TRUE)","v":false},{"$f":"+IF(LEN(home!$G$9)>0,instruments!F133=home!$G$9,TRUE)","v":true},2,{"$f":"+COUNTIF($L$1:L133,\"=\"&4)","v":12},"Calhoun County, IL Soybean Basis"]
["ZCBAMOCD.CM","cmdty Cape Girardeau County, MO Corn Basis Idx","Corn","Basis","Missouri","County","Cape Girardeau County",{"$f":"+IF(LEN(home!$G$7)>0,instruments!C134=home!$G$7,TRUE)","v":true},true,{"$f":"+IF(LEN(home!$G$8)>0,instruments!E134=home!$G$8,TRUE)","v":false},{"$f":"+IF(LEN(home!$G$9)>0,instruments!F134=home!$G$9,TRUE)","v":true},3,{"$f":"+COUNTIF($L$1:L134,\"=\"&4)","v":12},"Cape Girardeau County, MO Corn Basis"]
["ZSBAMOCD.CM","cmdty Cape Girardeau County, MO Soybean Basis Idx","Soybean","Basis","Missouri","County","Cape Girardeau County",{"$f":"+IF(LEN(home!$G$7)>0,instruments!C135=home!$G$7,TRUE)","v":false},true,{"$f":"+IF(LEN(home!$G$8)>0,instruments!E135=home!$G$8,TRUE)","v":false},{"$f":"+IF(LEN(home!$G$9)>0,instruments!F135=home!$G$9,TRUE)","v":true},2,{"$f":"+COUNTIF($L$1:L135,\"=\"&4)","v":12},"Cape Girardeau County, MO Soybean Basis"]
["ZCBAIACB.CM","cmdty Carroll County, IA Corn Basis Idx","Corn","Basis","Iowa","County","Carroll County",{"$f":"+IF(LEN(home!$G$7)>0,instruments!C136=home!$G$7,TRUE)","v":true},true,{"$f":"+IF(LEN(home!$G$8)>0,instruments!E136=home!$G$8,TRUE)","v":true},{"$f":"+IF(LEN(home!$G$9)>0,instruments!F136=home!$G$9,TRUE)","v":true},4,{"$f":"+COUNTIF($L$1:L136,\"=\"&4)","v":13},"Carroll County, IA Corn Basis"]
["ZSBAIACB.CM","cmdty Carroll County, IA Soybean Basis Idx","Soybean","Basis","Iowa","County","Carroll County",{"$f":"+IF(LEN(home!$G$7)>0,instruments!C137=home!$G$7,TRUE)","v":false},true,{"$f":"+IF(LEN(home!$G$8)>0,instruments!E137=home!$G$8,TRUE)","v":true},{"$f":"+IF(LEN(home!$G$9)>0,instruments!F137=home!$G$9,TRUE)","v":true},3,{"$f":"+COUNTIF($L$1:L137,\"=\"&4)","v":13},"Carroll County, IA Soybean Basis"]
["ZCBAILCB.CM","cmdty Carroll County, IL Corn Basis Idx","Corn","Basis","Illinois","County","Carroll County",{"$f":"+IF(LEN(home!$G$7)>0,instruments!C138=home!$G$7,TRUE)","v":true},true,{"$f":"+IF(LEN(home!$G$8)>0,instruments!E138=home!$G$8,TRUE)","v":false},{"$f":"+IF(LEN(home!$G$9)>0,instruments!F138=home!$G$9,TRUE)","v":true},3,{"$f":"+COUNTIF($L$1:L138,\"=\"&4)","v":13},"Carroll County, IL Corn Basis"]
["ZSBAILCB.CM","cmdty Carroll County, IL Soybean Basis Idx","Soybean","Basis","Illinois","County","Carroll County",{"$f":"+IF(LEN(home!$G$7)>0,instruments!C139=home!$G$7,TRUE)","v":false},true,{"$f":"+IF(LEN(home!$G$8)>0,instruments!E139=home!$G$8,TRUE)","v":false},{"$f":"+IF(LEN(home!$G$9)>0,instruments!F139=home!$G$9,TRUE)","v":true},2,{"$f":"+COUNTIF($L$1:L139,\"=\"&4)","v":13},"Carroll County, IL Soybean Basis"]
["ZCBAINCA.CM","cmdty Carroll County, IN Corn Basis Idx","Corn","Basis","Indiana","County","Carroll County",{"$f":"+IF(LEN(home!$G$7)>0,instruments!C140=home!$G$7,TRUE)","v":true},true,{"$f":"+IF(LEN(home!$G$8)>0,instruments!E140=home!$G$8,TRUE)","v":false},{"$f":"+IF(LEN(home!$G$9)>0,instruments!F140=home!$G$9,TRUE)","v":true},3,{"$f":"+COUNTIF($L$1:L140,\"=\"&4)","v":13},"Carroll County, IN Corn Basis"]
["ZSBAINCA.CM","cmdty Carroll County, IN Soybean Basis Idx","Soybean","Basis","Indiana","County","Carroll County",{"$f":"+IF(LEN(home!$G$7)>0,instruments!C141=home!$G$7,TRUE)","v":false},true,{"$f":"+IF(LEN(home!$G$8)>0,instruments!E141=home!$G$8,TRUE)","v":false},{"$f":"+IF(LEN(home!$G$9)>0,instruments!F141=home!$G$9,TRUE)","v":true},2,{"$f":"+COUNTIF($L$1:L141,\"=\"&4)","v":13},"Carroll County, IN Soybean Basis"]
["ZCBAMOCF.CM","cmdty Carroll County, MO Corn Basis Idx","Corn","Basis","Missouri","County","Carroll County",{"$f":"+IF(LEN(home!$G$7)>0,instruments!C142=home!$G$7,TRUE)","v":true},true,{"$f":"+IF(LEN(home!$G$8)>0,instruments!E142=home!$G$8,TRUE)","v":false},{"$f":"+IF(LEN(home!$G$9)>0,instruments!F142=home!$G$9,TRUE)","v":true},3,{"$f":"+COUNTIF($L$1:L142,\"=\"&4)","v":13},"Carroll County, MO Corn Basis"]
["ZSBAMOCF.CM","cmdty Carroll County, MO Soybean Basis Idx","Soybean","Basis","Missouri","County","Carroll County",{"$f":"+IF(LEN(home!$G$7)>0,instruments!C143=home!$G$7,TRUE)","v":false},true,{"$f":"+IF(LEN(home!$G$8)>0,instruments!E143=home!$G$8,TRUE)","v":false},{"$f":"+IF(LEN(home!$G$9)>0,instruments!F143=home!$G$9,TRUE)","v":true},2,{"$f":"+COUNTIF($L$1:L143,\"=\"&4)","v":13},"Carroll County, MO Soybean Basis"]
["ZCBAMNCB.CM","cmdty Carver County, MN Corn Basis Idx","Corn","Basis","Minnesota","County","Carver County",{"$f":"+IF(LEN(home!$G$7)>0,instruments!C144=home!$G$7,TRUE)","v":true},true,{"$f":"+IF(LEN(home!$G$8)>0,instruments!E144=home!$G$8,TRUE)","v":false},{"$f":"+IF(LEN(home!$G$9)>0,instruments!F144=home!$G$9,TRUE)","v":true},3,{"$f":"+COUNTIF($L$1:L144,\"=\"&4)","v":13},"Carver County, MN Corn Basis"]
["ZSBAMNCB.CM","cmdty Carver County, MN Soybean Basis Idx","Soybean","Basis","Minnesota","County","Carver County",{"$f":"+IF(LEN(home!$G$7)>0,instruments!C145=home!$G$7,TRUE)","v":false},true,{"$f":"+IF(LEN(home!$G$8)>0,instruments!E145=home!$G$8,TRUE)","v":false},{"$f":"+IF(LEN(home!$G$9)>0,instruments!F145=home!$G$9,TRUE)","v":true},2,{"$f":"+COUNTIF($L$1:L145,\"=\"&4)","v":13},"Carver County, MN Soybean Basis"]
["ZCBAIACC.CM","cmdty Cass County, IA Corn Basis Idx","Corn","Basis","Iowa","County","Cass County",{"$f":"+IF(LEN(home!$G$7)>0,instruments!C146=home!$G$7,TRUE)","v":true},true,{"$f":"+IF(LEN(home!$G$8)>0,instruments!E146=home!$G$8,TRUE)","v":true},{"$f":"+IF(LEN(home!$G$9)>0,instruments!F146=home!$G$9,TRUE)","v":true},4,{"$f":"+COUNTIF($L$1:L146,\"=\"&4)","v":14},"Cass County, IA Corn Basis"]
["ZSBAIACC.CM","cmdty Cass County, IA Soybean Basis Idx","Soybean","Basis","Iowa","County","Cass County",{"$f":"+IF(LEN(home!$G$7)>0,instruments!C147=home!$G$7,TRUE)","v":false},true,{"$f":"+IF(LEN(home!$G$8)>0,instruments!E147=home!$G$8,TRUE)","v":true},{"$f":"+IF(LEN(home!$G$9)>0,instruments!F147=home!$G$9,TRUE)","v":true},3,{"$f":"+COUNTIF($L$1:L147,\"=\"&4)","v":14},"Cass County, IA Soybean Basis"]
["ZCBAILCC.CM","cmdty Cass County, IL Corn Basis Idx","Corn","Basis","Illinois","County","Cass County",{"$f":"+IF(LEN(home!$G$7)>0,instruments!C148=home!$G$7,TRUE)","v":true},true,{"$f":"+IF(LEN(home!$G$8)>0,instruments!E148=home!$G$8,TRUE)","v":false},{"$f":"+IF(LEN(home!$G$9)>0,instruments!F148=home!$G$9,TRUE)","v":true},3,{"$f":"+COUNTIF($L$1:L148,\"=\"&4)","v":14},"Cass County, IL Corn Basis"]
["ZSBAILCC.CM","cmdty Cass County, IL Soybean Basis Idx","Soybean","Basis","Illinois","County","Cass County",{"$f":"+IF(LEN(home!$G$7)>0,instruments!C149=home!$G$7,TRUE)","v":false},true,{"$f":"+IF(LEN(home!$G$8)>0,instruments!E149=home!$G$8,TRUE)","v":false},{"$f":"+IF(LEN(home!$G$9)>0,instruments!F149=home!$G$9,TRUE)","v":true},2,{"$f":"+COUNTIF($L$1:L149,\"=\"&4)","v":14},"Cass County, IL Soybean Basis"]
["ZCBAINCB.CM","cmdty Cass County, IN Corn Basis Idx","Corn","Basis","Indiana","County","Cass County",{"$f":"+IF(LEN(home!$G$7)>0,instruments!C150=home!$G$7,TRUE)","v":true},true,{"$f":"+IF(LEN(home!$G$8)>0,instruments!E150=home!$G$8,TRUE)","v":false},{"$f":"+IF(LEN(home!$G$9)>0,instruments!F150=home!$G$9,TRUE)","v":true},3,{"$f":"+COUNTIF($L$1:L150,\"=\"&4)","v":14},"Cass County, IN Corn Basis"]
["ZSBAINCB.CM","cmdty Cass County, IN Soybean Basis Idx","Soybean","Basis","Indiana","County","Cass County",{"$f":"+IF(LEN(home!$G$7)>0,instruments!C151=home!$G$7,TRUE)","v":false},true,{"$f":"+IF(LEN(home!$G$8)>0,instruments!E151=home!$G$8,TRUE)","v":false},{"$f":"+IF(LEN(home!$G$9)>0,instruments!F151=home!$G$9,TRUE)","v":true},2,{"$f":"+COUNTIF($L$1:L151,\"=\"&4)","v":14},"Cass County, IN Soybean Basis"]
["ZCBAMOCI.CM","cmdty Cass County, MO Corn Basis Idx","Corn","Basis","Missouri","County","Cass County",{"$f":"+IF(LEN(home!$G$7)>0,instruments!C152=home!$G$7,TRUE)","v":true},true,{"$f":"+IF(LEN(home!$G$8)>0,instruments!E152=home!$G$8,TRUE)","v":false},{"$f":"+IF(LEN(home!$G$9)>0,instruments!F152=home!$G$9,TRUE)","v":true},3,{"$f":"+COUNTIF($L$1:L152,\"=\"&4)","v":14},"Cass County, MO Corn Basis"]
["ZSBAMOCI.CM","cmdty Cass County, MO Soybean Basis Idx","Soybean","Basis","Missouri","County","Cass County",{"$f":"+IF(LEN(home!$G$7)>0,instruments!C153=home!$G$7,TRUE)","v":false},true,{"$f":"+IF(LEN(home!$G$8)>0,instruments!E153=home!$G$8,TRUE)","v":false},{"$f":"+IF(LEN(home!$G$9)>0,instruments!F153=home!$G$9,TRUE)","v":true},2,{"$f":"+COUNTIF($L$1:L153,\"=\"&4)","v":14},"Cass County, MO Soybean Basis"]
["ZSBANDCA.CM","cmdty Cass County, ND Soybean Basis Idx","Soybean","Basis","North Dakota","County","Cass County",{"$f":"+IF(LEN(home!$G$7)>0,instruments!C154=home!$G$7,TRUE)","v":false},true,{"$f":"+IF(LEN(home!$G$8)>0,instruments!E154=home!$G$8,TRUE)","v":false},{"$f":"+IF(LEN(home!$G$9)>0,instruments!F154=home!$G$9,TRUE)","v":true},2,{"$f":"+COUNTIF($L$1:L154,\"=\"&4)","v":14},"Cass County, ND Soybean Basis"]
["ZCBANECA.CM","cmdty Cass County, NE Corn Basis Idx","Corn","Basis","Nebraska","County","Cass County",{"$f":"+IF(LEN(home!$G$7)>0,instruments!C155=home!$G$7,TRUE)","v":true},true,{"$f":"+IF(LEN(home!$G$8)>0,instruments!E155=home!$G$8,TRUE)","v":false},{"$f":"+IF(LEN(home!$G$9)>0,instruments!F155=home!$G$9,TRUE)","v":true},3,{"$f":"+COUNTIF($L$1:L155,\"=\"&4)","v":14},"Cass County, NE Corn Basis"]
["ZSBANECA.CM","cmdty Cass County, NE Soybean Basis Idx","Soybean","Basis","Nebraska","County","Cass County",{"$f":"+IF(LEN(home!$G$7)>0,instruments!C156=home!$G$7,TRUE)","v":false},true,{"$f":"+IF(LEN(home!$G$8)>0,instruments!E156=home!$G$8,TRUE)","v":false},{"$f":"+IF(LEN(home!$G$9)>0,instruments!F156=home!$G$9,TRUE)","v":true},2,{"$f":"+COUNTIF($L$1:L156,\"=\"&4)","v":14},"Cass County, NE Soybean Basis"]
["ZSBANDCB.CM","cmdty Cavalier County, ND Soybean Basis Idx","Soybean","Basis","North Dakota","County","Cavalier County",{"$f":"+IF(LEN(home!$G$7)>0,instruments!C157=home!$G$7,TRUE)","v":false},true,{"$f":"+IF(LEN(home!$G$8)>0,instruments!E157=home!$G$8,TRUE)","v":false},{"$f":"+IF(LEN(home!$G$9)>0,instruments!F157=home!$G$9,TRUE)","v":true},2,{"$f":"+COUNTIF($L$1:L157,\"=\"&4)","v":14},"Cavalier County, ND Soybean Basis"]
["ZCBAIACE.CM","cmdty Cedar County, IA Corn Basis Idx","Corn","Basis","Iowa","County","Cedar County",{"$f":"+IF(LEN(home!$G$7)>0,instruments!C158=home!$G$7,TRUE)","v":true},true,{"$f":"+IF(LEN(home!$G$8)>0,instruments!E158=home!$G$8,TRUE)","v":true},{"$f":"+IF(LEN(home!$G$9)>0,instruments!F158=home!$G$9,TRUE)","v":true},4,{"$f":"+COUNTIF($L$1:L158,\"=\"&4)","v":15},"Cedar County, IA Corn Basis"]
["ZSBAIACE.CM","cmdty Cedar County, IA Soybean Basis Idx","Soybean","Basis","Iowa","County","Cedar County",{"$f":"+IF(LEN(home!$G$7)>0,instruments!C159=home!$G$7,TRUE)","v":false},true,{"$f":"+IF(LEN(home!$G$8)>0,instruments!E159=home!$G$8,TRUE)","v":true},{"$f":"+IF(LEN(home!$G$9)>0,instruments!F159=home!$G$9,TRUE)","v":true},3,{"$f":"+COUNTIF($L$1:L159,\"=\"&4)","v":15},"Cedar County, IA Soybean Basis"]
["ZCBANECE.CM","cmdty Cedar County, NE Corn Basis Idx","Corn","Basis","Nebraska","County","Cedar County",{"$f":"+IF(LEN(home!$G$7)>0,instruments!C160=home!$G$7,TRUE)","v":true},true,{"$f":"+IF(LEN(home!$G$8)>0,instruments!E160=home!$G$8,TRUE)","v":false},{"$f":"+IF(LEN(home!$G$9)>0,instruments!F160=home!$G$9,TRUE)","v":true},3,{"$f":"+COUNTIF($L$1:L160,\"=\"&4)","v":15},"Cedar County, NE Corn Basis"]
["ZSBANECE.CM","cmdty Cedar County, NE Soybean Basis Idx","Soybean","Basis","Nebraska","County","Cedar County",{"$f":"+IF(LEN(home!$G$7)>0,instruments!C161=home!$G$7,TRUE)","v":false},true,{"$f":"+IF(LEN(home!$G$8)>0,instruments!E161=home!$G$8,TRUE)","v":false},{"$f":"+IF(LEN(home!$G$9)>0,instruments!F161=home!$G$9,TRUE)","v":true},2,{"$f":"+COUNTIF($L$1:L161,\"=\"&4)","v":15},"Cedar County, NE Soybean Basis"]
["ZCBAIACD.CM","cmdty Cerro Gordo County, IA Corn Basis Idx","Corn","Basis","Iowa","County","Cerro Gordo County",{"$f":"+IF(LEN(home!$G$7)>0,instruments!C162=home!$G$7,TRUE)","v":true},true,{"$f":"+IF(LEN(home!$G$8)>0,instruments!E162=home!$G$8,TRUE)","v":true},{"$f":"+IF(LEN(home!$G$9)>0,instruments!F162=home!$G$9,TRUE)","v":true},4,{"$f":"+COUNTIF($L$1:L162,\"=\"&4)","v":16},"Cerro Gordo County, IA Corn Basis"]
["ZSBAIACD.CM","cmdty Cerro Gordo County, IA Soybean Basis Idx","Soybean","Basis","Iowa","County","Cerro Gordo County",{"$f":"+IF(LEN(home!$G$7)>0,instruments!C163=home!$G$7,TRUE)","v":false},true,{"$f":"+IF(LEN(home!$G$8)>0,instruments!E163=home!$G$8,TRUE)","v":true},{"$f":"+IF(LEN(home!$G$9)>0,instruments!F163=home!$G$9,TRUE)","v":true},3,{"$f":"+COUNTIF($L$1:L163,\"=\"&4)","v":16},"Cerro Gordo County, IA Soybean Basis"]
["ZCBAILCH.CM","cmdty Champaign County, IL Corn Basis Idx","Corn","Basis","Illinois","County","Champaign County",{"$f":"+IF(LEN(home!$G$7)>0,instruments!C164=home!$G$7,TRUE)","v":true},true,{"$f":"+IF(LEN(home!$G$8)>0,instruments!E164=home!$G$8,TRUE)","v":false},{"$f":"+IF(LEN(home!$G$9)>0,instruments!F164=home!$G$9,TRUE)","v":true},3,{"$f":"+COUNTIF($L$1:L164,\"=\"&4)","v":16},"Champaign County, IL Corn Basis"]
["ZSBAILCH.CM","cmdty Champaign County, IL Soybean Basis Idx","Soybean","Basis","Illinois","County","Champaign County",{"$f":"+IF(LEN(home!$G$7)>0,instruments!C165=home!$G$7,TRUE)","v":false},true,{"$f":"+IF(LEN(home!$G$8)>0,instruments!E165=home!$G$8,TRUE)","v":false},{"$f":"+IF(LEN(home!$G$9)>0,instruments!F165=home!$G$9,TRUE)","v":true},2,{"$f":"+COUNTIF($L$1:L165,\"=\"&4)","v":16},"Champaign County, IL Soybean Basis"]
["ZSBAOHCH.CM","cmdty Champaign County, OH Soybean Basis Idx","Soybean","Basis","Ohio","County","Champaign County",{"$f":"+IF(LEN(home!$G$7)>0,instruments!C166=home!$G$7,TRUE)","v":false},true,{"$f":"+IF(LEN(home!$G$8)>0,instruments!E166=home!$G$8,TRUE)","v":false},{"$f":"+IF(LEN(home!$G$9)>0,instruments!F166=home!$G$9,TRUE)","v":true},2,{"$f":"+COUNTIF($L$1:L166,\"=\"&4)","v":16},"Champaign County, OH Soybean Basis"]
["ZCBAMOCH.CM","cmdty Chariton County, MO Corn Basis Idx","Corn","Basis","Missouri","County","Chariton County",{"$f":"+IF(LEN(home!$G$7)>0,instruments!C167=home!$G$7,TRUE)","v":true},true,{"$f":"+IF(LEN(home!$G$8)>0,instruments!E167=home!$G$8,TRUE)","v":false},{"$f":"+IF(LEN(home!$G$9)>0,instruments!F167=home!$G$9,TRUE)","v":true},3,{"$f":"+COUNTIF($L$1:L167,\"=\"&4)","v":16},"Chariton County, MO Corn Basis"]
["ZSBAMOCH.CM","cmdty Chariton County, MO Soybean Basis Idx","Soybean","Basis","Missouri","County","Chariton County",{"$f":"+IF(LEN(home!$G$7)>0,instruments!C168=home!$G$7,TRUE)","v":false},true,{"$f":"+IF(LEN(home!$G$8)>0,instruments!E168=home!$G$8,TRUE)","v":false},{"$f":"+IF(LEN(home!$G$9)>0,instruments!F168=home!$G$9,TRUE)","v":true},2,{"$f":"+COUNTIF($L$1:L168,\"=\"&4)","v":16},"Chariton County, MO Soybean Basis"]
["ZCBASDCH.CM","cmdty Charles Mix County, SD Corn Basis Idx","Corn","Basis","South Dakota","County","Charles Mix County",{"$f":"+IF(LEN(home!$G$7)>0,instruments!C169=home!$G$7,TRUE)","v":true},true,{"$f":"+IF(LEN(home!$G$8)>0,instruments!E169=home!$G$8,TRUE)","v":false},{"$f":"+IF(LEN(home!$G$9)>0,instruments!F169=home!$G$9,TRUE)","v":true},3,{"$f":"+COUNTIF($L$1:L169,\"=\"&4)","v":16},"Charles Mix County, SD Corn Basis"]
["ZSBASDCH.CM","cmdty Charles Mix County, SD Soybean Basis Idx","Soybean","Basis","South Dakota","County","Charles Mix County",{"$f":"+IF(LEN(home!$G$7)>0,instruments!C170=home!$G$7,TRUE)","v":false},true,{"$f":"+IF(LEN(home!$G$8)>0,instruments!E170=home!$G$8,TRUE)","v":false},{"$f":"+IF(LEN(home!$G$9)>0,instruments!F170=home!$G$9,TRUE)","v":true},2,{"$f":"+COUNTIF($L$1:L170,\"=\"&4)","v":16},"Charles Mix County, SD Soybean Basis"]
["ZCBANECH.CM","cmdty Chase County, NE Corn Basis Idx","Corn","Basis","Nebraska","County","Chase County",{"$f":"+IF(LEN(home!$G$7)>0,instruments!C171=home!$G$7,TRUE)","v":true},true,{"$f":"+IF(LEN(home!$G$8)>0,instruments!E171=home!$G$8,TRUE)","v":false},{"$f":"+IF(LEN(home!$G$9)>0,instruments!F171=home!$G$9,TRUE)","v":true},3,{"$f":"+COUNTIF($L$1:L171,\"=\"&4)","v":16},"Chase County, NE Corn Basis"]
["ZSBANECH.CM","cmdty Chase County, NE Soybean Basis Idx","Soybean","Basis","Nebraska","County","Chase County",{"$f":"+IF(LEN(home!$G$7)>0,instruments!C172=home!$G$7,TRUE)","v":false},true,{"$f":"+IF(LEN(home!$G$8)>0,instruments!E172=home!$G$8,TRUE)","v":false},{"$f":"+IF(LEN(home!$G$9)>0,instruments!F172=home!$G$9,TRUE)","v":true},2,{"$f":"+COUNTIF($L$1:L172,\"=\"&4)","v":16},"Chase County, NE Soybean Basis"]
["ZCBAIACH.CM","cmdty Cherokee County, IA Corn Basis Idx","Corn","Basis","Iowa","County","Cherokee County",{"$f":"+IF(LEN(home!$G$7)>0,instruments!C173=home!$G$7,TRUE)","v":true},true,{"$f":"+IF(LEN(home!$G$8)>0,instruments!E173=home!$G$8,TRUE)","v":true},{"$f":"+IF(LEN(home!$G$9)>0,instruments!F173=home!$G$9,TRUE)","v":true},4,{"$f":"+COUNTIF($L$1:L173,\"=\"&4)","v":17},"Cherokee County, IA Corn Basis"]
["ZSBAIACH.CM","cmdty Cherokee County, IA Soybean Basis Idx","Soybean","Basis","Iowa","County","Cherokee County",{"$f":"+IF(LEN(home!$G$7)>0,instruments!C174=home!$G$7,TRUE)","v":false},true,{"$f":"+IF(LEN(home!$G$8)>0,instruments!E174=home!$G$8,TRUE)","v":true},{"$f":"+IF(LEN(home!$G$9)>0,instruments!F174=home!$G$9,TRUE)","v":true},3,{"$f":"+COUNTIF($L$1:L174,\"=\"&4)","v":17},"Cherokee County, IA Soybean Basis"]
["ZCBAKSCB.CM","cmdty Cherokee County, KS Corn Basis Idx","Corn","Basis","Kansas","County","Cherokee County",{"$f":"+IF(LEN(home!$G$7)>0,instruments!C175=home!$G$7,TRUE)","v":true},true,{"$f":"+IF(LEN(home!$G$8)>0,instruments!E175=home!$G$8,TRUE)","v":false},{"$f":"+IF(LEN(home!$G$9)>0,instruments!F175=home!$G$9,TRUE)","v":true},3,{"$f":"+COUNTIF($L$1:L175,\"=\"&4)","v":17},"Cherokee County, KS Corn Basis"]
["ZSBAKSCB.CM","cmdty Cherokee County, KS Soybean Basis Idx","Soybean","Basis","Kansas","County","Cherokee County",{"$f":"+IF(LEN(home!$G$7)>0,instruments!C176=home!$G$7,TRUE)","v":false},true,{"$f":"+IF(LEN(home!$G$8)>0,instruments!E176=home!$G$8,TRUE)","v":false},{"$f":"+IF(LEN(home!$G$9)>0,instruments!F176=home!$G$9,TRUE)","v":true},2,{"$f":"+COUNTIF($L$1:L176,\"=\"&4)","v":17},"Cherokee County, KS Soybean Basis"]
["ZCBAKSCC.CM","cmdty Cheyenne County, KS Corn Basis Idx","Corn","Basis","Kansas","County","Cheyenne County",{"$f":"+IF(LEN(home!$G$7)>0,instruments!C177=home!$G$7,TRUE)","v":true},true,{"$f":"+IF(LEN(home!$G$8)>0,instruments!E177=home!$G$8,TRUE)","v":false},{"$f":"+IF(LEN(home!$G$9)>0,instruments!F177=home!$G$9,TRUE)","v":true},3,{"$f":"+COUNTIF($L$1:L177,\"=\"&4)","v":17},"Cheyenne County, KS Corn Basis"]
["ZSBAKSCC.CM","cmdty Cheyenne County, KS Soybean Basis Idx","Soybean","Basis","Kansas","County","Cheyenne County",{"$f":"+IF(LEN(home!$G$7)>0,instruments!C178=home!$G$7,TRUE)","v":false},true,{"$f":"+IF(LEN(home!$G$8)>0,instruments!E178=home!$G$8,TRUE)","v":false},{"$f":"+IF(LEN(home!$G$9)>0,instruments!F178=home!$G$9,TRUE)","v":true},2,{"$f":"+COUNTIF($L$1:L178,\"=\"&4)","v":17},"Cheyenne County, KS Soybean Basis"]
["ZCBANECC.CM","cmdty Cheyenne County, NE Corn Basis Idx","Corn","Basis","Nebraska","County","Cheyenne County",{"$f":"+IF(LEN(home!$G$7)>0,instruments!C179=home!$G$7,TRUE)","v":true},true,{"$f":"+IF(LEN(home!$G$8)>0,instruments!E179=home!$G$8,TRUE)","v":false},{"$f":"+IF(LEN(home!$G$9)>0,instruments!F179=home!$G$9,TRUE)","v":true},3,{"$f":"+COUNTIF($L$1:L179,\"=\"&4)","v":17},"Cheyenne County, NE Corn Basis"]
["ZSBANECC.CM","cmdty Cheyenne County, NE Soybean Basis Idx","Soybean","Basis","Nebraska","County","Cheyenne County",{"$f":"+IF(LEN(home!$G$7)>0,instruments!C180=home!$G$7,TRUE)","v":false},true,{"$f":"+IF(LEN(home!$G$8)>0,instruments!E180=home!$G$8,TRUE)","v":false},{"$f":"+IF(LEN(home!$G$9)>0,instruments!F180=home!$G$9,TRUE)","v":true},2,{"$f":"+COUNTIF($L$1:L180,\"=\"&4)","v":17},"Cheyenne County, NE Soybean Basis"]
["ZCBAIACF.CM","cmdty Chickasaw County, IA Corn Basis Idx","Corn","Basis","Iowa","County","Chickasaw County",{"$f":"+IF(LEN(home!$G$7)>0,instruments!C181=home!$G$7,TRUE)","v":true},true,{"$f":"+IF(LEN(home!$G$8)>0,instruments!E181=home!$G$8,TRUE)","v":true},{"$f":"+IF(LEN(home!$G$9)>0,instruments!F181=home!$G$9,TRUE)","v":true},4,{"$f":"+COUNTIF($L$1:L181,\"=\"&4)","v":18},"Chickasaw County, IA Corn Basis"]
["ZSBAIACF.CM","cmdty Chickasaw County, IA Soybean Basis Idx","Soybean","Basis","Iowa","County","Chickasaw County",{"$f":"+IF(LEN(home!$G$7)>0,instruments!C182=home!$G$7,TRUE)","v":false},true,{"$f":"+IF(LEN(home!$G$8)>0,instruments!E182=home!$G$8,TRUE)","v":true},{"$f":"+IF(LEN(home!$G$9)>0,instruments!F182=home!$G$9,TRUE)","v":true},3,{"$f":"+COUNTIF($L$1:L182,\"=\"&4)","v":18},"Chickasaw County, IA Soybean Basis"]
["ZCBAMNCH.CM","cmdty Chippewa County, MN Corn Basis Idx","Corn","Basis","Minnesota","County","Chippewa County",{"$f":"+IF(LEN(home!$G$7)>0,instruments!C183=home!$G$7,TRUE)","v":true},true,{"$f":"+IF(LEN(home!$G$8)>0,instruments!E183=home!$G$8,TRUE)","v":false},{"$f":"+IF(LEN(home!$G$9)>0,instruments!F183=home!$G$9,TRUE)","v":true},3,{"$f":"+COUNTIF($L$1:L183,\"=\"&4)","v":18},"Chippewa County, MN Corn Basis"]
["ZSBAMNCH.CM","cmdty Chippewa County, MN Soybean Basis Idx","Soybean","Basis","Minnesota","County","Chippewa County",{"$f":"+IF(LEN(home!$G$7)>0,instruments!C184=home!$G$7,TRUE)","v":false},true,{"$f":"+IF(LEN(home!$G$8)>0,instruments!E184=home!$G$8,TRUE)","v":false},{"$f":"+IF(LEN(home!$G$9)>0,instruments!F184=home!$G$9,TRUE)","v":true},2,{"$f":"+COUNTIF($L$1:L184,\"=\"&4)","v":18},"Chippewa County, MN Soybean Basis"]
["ZCBAMNCD.CM","cmdty Chisago County, MN Corn Basis Idx","Corn","Basis","Minnesota","County","Chisago County",{"$f":"+IF(LEN(home!$G$7)>0,instruments!C185=home!$G$7,TRUE)","v":true},true,{"$f":"+IF(LEN(home!$G$8)>0,instruments!E185=home!$G$8,TRUE)","v":false},{"$f":"+IF(LEN(home!$G$9)>0,instruments!F185=home!$G$9,TRUE)","v":true},3,{"$f":"+COUNTIF($L$1:L185,\"=\"&4)","v":18},"Chisago County, MN Corn Basis"]
["ZSBAMNCD.CM","cmdty Chisago County, MN Soybean Basis Idx","Soybean","Basis","Minnesota","County","Chisago County",{"$f":"+IF(LEN(home!$G$7)>0,instruments!C186=home!$G$7,TRUE)","v":false},true,{"$f":"+IF(LEN(home!$G$8)>0,instruments!E186=home!$G$8,TRUE)","v":false},{"$f":"+IF(LEN(home!$G$9)>0,instruments!F186=home!$G$9,TRUE)","v":true},2,{"$f":"+COUNTIF($L$1:L186,\"=\"&4)","v":18},"Chisago County, MN Soybean Basis"]
["ZCBAILCD.CM","cmdty Christian County, IL Corn Basis Idx","Corn","Basis","Illinois","County","Christian County",{"$f":"+IF(LEN(home!$G$7)>0,instruments!C187=home!$G$7,TRUE)","v":true},true,{"$f":"+IF(LEN(home!$G$8)>0,instruments!E187=home!$G$8,TRUE)","v":false},{"$f":"+IF(LEN(home!$G$9)>0,instruments!F187=home!$G$9,TRUE)","v":true},3,{"$f":"+COUNTIF($L$1:L187,\"=\"&4)","v":18},"Christian County, IL Corn Basis"]
["ZSBAILCD.CM","cmdty Christian County, IL Soybean Basis Idx","Soybean","Basis","Illinois","County","Christian County",{"$f":"+IF(LEN(home!$G$7)>0,instruments!C188=home!$G$7,TRUE)","v":false},true,{"$f":"+IF(LEN(home!$G$8)>0,instruments!E188=home!$G$8,TRUE)","v":false},{"$f":"+IF(LEN(home!$G$9)>0,instruments!F188=home!$G$9,TRUE)","v":true},2,{"$f":"+COUNTIF($L$1:L188,\"=\"&4)","v":18},"Christian County, IL Soybean Basis"]
["ZCBAILCL.CM","cmdty Clark County, IL Corn Basis Idx","Corn","Basis","Illinois","County","Clark County",{"$f":"+IF(LEN(home!$G$7)>0,instruments!C189=home!$G$7,TRUE)","v":true},true,{"$f":"+IF(LEN(home!$G$8)>0,instruments!E189=home!$G$8,TRUE)","v":false},{"$f":"+IF(LEN(home!$G$9)>0,instruments!F189=home!$G$9,TRUE)","v":true},3,{"$f":"+COUNTIF($L$1:L189,\"=\"&4)","v":18},"Clark County, IL Corn Basis"]
["ZSBAILCL.CM","cmdty Clark County, IL Soybean Basis Idx","Soybean","Basis","Illinois","County","Clark County",{"$f":"+IF(LEN(home!$G$7)>0,instruments!C190=home!$G$7,TRUE)","v":false},true,{"$f":"+IF(LEN(home!$G$8)>0,instruments!E190=home!$G$8,TRUE)","v":false},{"$f":"+IF(LEN(home!$G$9)>0,instruments!F190=home!$G$9,TRUE)","v":true},2,{"$f":"+COUNTIF($L$1:L190,\"=\"&4)","v":18},"Clark County, IL Soybean Basis"]
["ZCBAINCL.CM","cmdty Clark County, IN Corn Basis Idx","Corn","Basis","Indiana","County","Clark County",{"$f":"+IF(LEN(home!$G$7)>0,instruments!C191=home!$G$7,TRUE)","v":true},true,{"$f":"+IF(LEN(home!$G$8)>0,instruments!E191=home!$G$8,TRUE)","v":false},{"$f":"+IF(LEN(home!$G$9)>0,instruments!F191=home!$G$9,TRUE)","v":true},3,{"$f":"+COUNTIF($L$1:L191,\"=\"&4)","v":18},"Clark County, IN Corn Basis"]
["ZSBAINCL.CM","cmdty Clark County, IN Soybean Basis Idx","Soybean","Basis","Indiana","County","Clark County",{"$f":"+IF(LEN(home!$G$7)>0,instruments!C192=home!$G$7,TRUE)","v":false},true,{"$f":"+IF(LEN(home!$G$8)>0,instruments!E192=home!$G$8,TRUE)","v":false},{"$f":"+IF(LEN(home!$G$9)>0,instruments!F192=home!$G$9,TRUE)","v":true},2,{"$f":"+COUNTIF($L$1:L192,\"=\"&4)","v":18},"Clark County, IN Soybean Basis"]
["ZCBAKSCL.CM","cmdty Clark County, KS Corn Basis Idx","Corn","Basis","Kansas","County","Clark County",{"$f":"+IF(LEN(home!$G$7)>0,instruments!C193=home!$G$7,TRUE)","v":true},true,{"$f":"+IF(LEN(home!$G$8)>0,instruments!E193=home!$G$8,TRUE)","v":false},{"$f":"+IF(LEN(home!$G$9)>0,instruments!F193=home!$G$9,TRUE)","v":true},3,{"$f":"+COUNTIF($L$1:L193,\"=\"&4)","v":18},"Clark County, KS Corn Basis"]
["ZSBAKSCL.CM","cmdty Clark County, KS Soybean Basis Idx","Soybean","Basis","Kansas","County","Clark County",{"$f":"+IF(LEN(home!$G$7)>0,instruments!C194=home!$G$7,TRUE)","v":false},true,{"$f":"+IF(LEN(home!$G$8)>0,instruments!E194=home!$G$8,TRUE)","v":false},{"$f":"+IF(LEN(home!$G$9)>0,instruments!F194=home!$G$9,TRUE)","v":true},{"$f":"+COUNTIF(H194:K194,TRUE)","v":2},{"$f":"+COUNTIF($L$1:L194,\"=\"&4)","v":18},"Clark County, KS Soybean Basis"]
["ZCBAMOCL.CM","cmdty Clark County, MO Corn Basis Idx","Corn","Basis","Missouri","County","Clark County",{"$f":"+IF(LEN(home!$G$7)>0,instruments!C195=home!$G$7,TRUE)","v":true},{"$f":"+D195=\"Basis\"","v":true},{"$f":"+IF(LEN(home!$G$8)>0,instruments!E195=home!$G$8,TRUE)","v":false},{"$f":"+IF(LEN(home!$G$9)>0,instruments!F195=home!$G$9,TRUE)","v":true},3,{"$f":"+COUNTIF($L$1:L195,\"=\"&4)","v":18},{"$f":"+MID(B195,FIND(\" \",B195,1)+1,LEN(B195)-FIND(\" \",B195,1)-4)","v":"Clark County, MO Corn Basis"}]
["ZSBAMOCL.CM","cmdty Clark County, MO Soybean Basis Idx","Soybean","Basis","Missouri","County","Clark County",{"$f":"+IF(LEN(home!$G$7)>0,instruments!C196=home!$G$7,TRUE)","v":false},true,{"$f":"+IF(LEN(home!$G$8)>0,instruments!E196=home!$G$8,TRUE)","v":false},{"$f":"+IF(LEN(home!$G$9)>0,instruments!F196=home!$G$9,TRUE)","v":true},2,{"$f":"+COUNTIF($L$1:L196,\"=\"&4)","v":18},"Clark County, MO Soybean Basis"]
["ZSBAOHCL.CM","cmdty Clark County, OH Soybean Basis Idx","Soybean","Basis","Ohio","County","Clark County",{"$f":"+IF(LEN(home!$G$7)>0,instruments!C197=home!$G$7,TRUE)","v":false},true,{"$f":"+IF(LEN(home!$G$8)>0,instruments!E197=home!$G$8,TRUE)","v":false},{"$f":"+IF(LEN(home!$G$9)>0,instruments!F197=home!$G$9,TRUE)","v":true},2,{"$f":"+COUNTIF($L$1:L197,\"=\"&4)","v":18},"Clark County, OH Soybean Basis"]
["ZCBASDCL.CM","cmdty Clark County, SD Corn Basis Idx","Corn","Basis","South Dakota","County","Clark County",{"$f":"+IF(LEN(home!$G$7)>0,instruments!C198=home!$G$7,TRUE)","v":true},true,{"$f":"+IF(LEN(home!$G$8)>0,instruments!E198=home!$G$8,TRUE)","v":false},{"$f":"+IF(LEN(home!$G$9)>0,instruments!F198=home!$G$9,TRUE)","v":true},3,{"$f":"+COUNTIF($L$1:L198,\"=\"&4)","v":18},"Clark County, SD Corn Basis"]
["ZSBASDCL.CM","cmdty Clark County, SD Soybean Basis Idx","Soybean","Basis","South Dakota","County","Clark County",{"$f":"+IF(LEN(home!$G$7)>0,instruments!C199=home!$G$7,TRUE)","v":false},true,{"$f":"+IF(LEN(home!$G$8)>0,instruments!E199=home!$G$8,TRUE)","v":false},{"$f":"+IF(LEN(home!$G$9)>0,instruments!F199=home!$G$9,TRUE)","v":true},2,{"$f":"+COUNTIF($L$1:L199,\"=\"&4)","v":18},"Clark County, SD Soybean Basis"]
["ZCBAIACL.CM","cmdty Clarke County, IA Corn Basis Idx","Corn","Basis","Iowa","County","Clarke County",{"$f":"+IF(LEN(home!$G$7)>0,instruments!C200=home!$G$7,TRUE)","v":true},true,{"$f":"+IF(LEN(home!$G$8)>0,instruments!E200=home!$G$8,TRUE)","v":true},{"$f":"+IF(LEN(home!$G$9)>0,instruments!F200=home!$G$9,TRUE)","v":true},4,{"$f":"+COUNTIF($L$1:L200,\"=\"&4)","v":19},"Clarke County, IA Corn Basis"]
["ZSBAIACL.CM","cmdty Clarke County, IA Soybean Basis Idx","Soybean","Basis","Iowa","County","Clarke County",{"$f":"+IF(LEN(home!$G$7)>0,instruments!C201=home!$G$7,TRUE)","v":false},true,{"$f":"+IF(LEN(home!$G$8)>0,instruments!E201=home!$G$8,TRUE)","v":true},{"$f":"+IF(LEN(home!$G$9)>0,instruments!F201=home!$G$9,TRUE)","v":true},3,{"$f":"+COUNTIF($L$1:L201,\"=\"&4)","v":19},"Clarke County, IA Soybean Basis"]
["ZCBAIACG.CM","cmdty Clay County, IA Corn Basis Idx","Corn","Basis","Iowa","County","Clay County",{"$f":"+IF(LEN(home!$G$7)>0,instruments!C202=home!$G$7,TRUE)","v":true},true,{"$f":"+IF(LEN(home!$G$8)>0,instruments!E202=home!$G$8,TRUE)","v":true},{"$f":"+IF(LEN(home!$G$9)>0,instruments!F202=home!$G$9,TRUE)","v":true},4,{"$f":"+COUNTIF($L$1:L202,\"=\"&4)","v":20},"Clay County, IA Corn Basis"]
["ZSBAIACG.CM","cmdty Clay County, IA Soybean Basis Idx","Soybean","Basis","Iowa","County","Clay County",{"$f":"+IF(LEN(home!$G$7)>0,instruments!C203=home!$G$7,TRUE)","v":false},true,{"$f":"+IF(LEN(home!$G$8)>0,instruments!E203=home!$G$8,TRUE)","v":true},{"$f":"+IF(LEN(home!$G$9)>0,instruments!F203=home!$G$9,TRUE)","v":true},3,{"$f":"+COUNTIF($L$1:L203,\"=\"&4)","v":20},"Clay County, IA Soybean Basis"]
["ZCBAILCE.CM","cmdty Clay County, IL Corn Basis Idx","Corn","Basis","Illinois","County","Clay County",{"$f":"+IF(LEN(home!$G$7)>0,instruments!C204=home!$G$7,TRUE)","v":true},true,{"$f":"+IF(LEN(home!$G$8)>0,instruments!E204=home!$G$8,TRUE)","v":false},{"$f":"+IF(LEN(home!$G$9)>0,instruments!F204=home!$G$9,TRUE)","v":true},3,{"$f":"+COUNTIF($L$1:L204,\"=\"&4)","v":20},"Clay County, IL Corn Basis"]
["ZSBAILCE.CM","cmdty Clay County, IL Soybean Basis Idx","Soybean","Basis","Illinois","County","Clay County",{"$f":"+IF(LEN(home!$G$7)>0,instruments!C205=home!$G$7,TRUE)","v":false},true,{"$f":"+IF(LEN(home!$G$8)>0,instruments!E205=home!$G$8,TRUE)","v":false},{"$f":"+IF(LEN(home!$G$9)>0,instruments!F205=home!$G$9,TRUE)","v":true},2,{"$f":"+COUNTIF($L$1:L205,\"=\"&4)","v":20},"Clay County, IL Soybean Basis"]
["ZCBAINCC.CM","cmdty Clay County, IN Corn Basis Idx","Corn","Basis","Indiana","County","Clay County",{"$f":"+IF(LEN(home!$G$7)>0,instruments!C206=home!$G$7,TRUE)","v":true},true,{"$f":"+IF(LEN(home!$G$8)>0,instruments!E206=home!$G$8,TRUE)","v":false},{"$f":"+IF(LEN(home!$G$9)>0,instruments!F206=home!$G$9,TRUE)","v":true},3,{"$f":"+COUNTIF($L$1:L206,\"=\"&4)","v":20},"Clay County, IN Corn Basis"]
["ZSBAINCC.CM","cmdty Clay County, IN Soybean Basis Idx","Soybean","Basis","Indiana","County","Clay County",{"$f":"+IF(LEN(home!$G$7)>0,instruments!C207=home!$G$7,TRUE)","v":false},true,{"$f":"+IF(LEN(home!$G$8)>0,instruments!E207=home!$G$8,TRUE)","v":false},{"$f":"+IF(LEN(home!$G$9)>0,instruments!F207=home!$G$9,TRUE)","v":true},2,{"$f":"+COUNTIF($L$1:L207,\"=\"&4)","v":20},"Clay County, IN Soybean Basis"]
["ZCBAKSCD.CM","cmdty Clay County, KS Corn Basis Idx","Corn","Basis","Kansas","County","Clay County",{"$f":"+IF(LEN(home!$G$7)>0,instruments!C208=home!$G$7,TRUE)","v":true},true,{"$f":"+IF(LEN(home!$G$8)>0,instruments!E208=home!$G$8,TRUE)","v":false},{"$f":"+IF(LEN(home!$G$9)>0,instruments!F208=home!$G$9,TRUE)","v":true},3,{"$f":"+COUNTIF($L$1:L208,\"=\"&4)","v":20},"Clay County, KS Corn Basis"]
["ZSBAKSCD.CM","cmdty Clay County, KS Soybean Basis Idx","Soybean","Basis","Kansas","County","Clay County",{"$f":"+IF(LEN(home!$G$7)>0,instruments!C209=home!$G$7,TRUE)","v":false},true,{"$f":"+IF(LEN(home!$G$8)>0,instruments!E209=home!$G$8,TRUE)","v":false},{"$f":"+IF(LEN(home!$G$9)>0,instruments!F209=home!$G$9,TRUE)","v":true},2,{"$f":"+COUNTIF($L$1:L209,\"=\"&4)","v":20},"Clay County, KS Soybean Basis"]
["ZCBAMNCL.CM","cmdty Clay County, MN Corn Basis Idx","Corn","Basis","Minnesota","County","Clay County",{"$f":"+IF(LEN(home!$G$7)>0,instruments!C210=home!$G$7,TRUE)","v":true},true,{"$f":"+IF(LEN(home!$G$8)>0,instruments!E210=home!$G$8,TRUE)","v":false},{"$f":"+IF(LEN(home!$G$9)>0,instruments!F210=home!$G$9,TRUE)","v":true},3,{"$f":"+COUNTIF($L$1:L210,\"=\"&4)","v":20},"Clay County, MN Corn Basis"]
["ZSBAMNCL.CM","cmdty Clay County, MN Soybean Basis Idx","Soybean","Basis","Minnesota","County","Clay County",{"$f":"+IF(LEN(home!$G$7)>0,instruments!C211=home!$G$7,TRUE)","v":false},true,{"$f":"+IF(LEN(home!$G$8)>0,instruments!E211=home!$G$8,TRUE)","v":false},{"$f":"+IF(LEN(home!$G$9)>0,instruments!F211=home!$G$9,TRUE)","v":true},2,{"$f":"+COUNTIF($L$1:L211,\"=\"&4)","v":20},"Clay County, MN Soybean Basis"]
["ZSBAMOCM.CM","cmdty Clay County, MO Soybean Basis Idx","Soybean","Basis","Missouri","County","Clay County",{"$f":"+IF(LEN(home!$G$7)>0,instruments!C212=home!$G$7,TRUE)","v":false},true,{"$f":"+IF(LEN(home!$G$8)>0,instruments!E212=home!$G$8,TRUE)","v":false},{"$f":"+IF(LEN(home!$G$9)>0,instruments!F212=home!$G$9,TRUE)","v":true},2,{"$f":"+COUNTIF($L$1:L212,\"=\"&4)","v":20},"Clay County, MO Soybean Basis"]
["ZCBANECL.CM","cmdty Clay County, NE Corn Basis Idx","Corn","Basis","Nebraska","County","Clay County",{"$f":"+IF(LEN(home!$G$7)>0,instruments!C213=home!$G$7,TRUE)","v":true},true,{"$f":"+IF(LEN(home!$G$8)>0,instruments!E213=home!$G$8,TRUE)","v":false},{"$f":"+IF(LEN(home!$G$9)>0,instruments!F213=home!$G$9,TRUE)","v":true},3,{"$f":"+COUNTIF($L$1:L213,\"=\"&4)","v":20},"Clay County, NE Corn Basis"]
["ZSBANECL.CM","cmdty Clay County, NE Soybean Basis Idx","Soybean","Basis","Nebraska","County","Clay County",{"$f":"+IF(LEN(home!$G$7)>0,instruments!C214=home!$G$7,TRUE)","v":false},true,{"$f":"+IF(LEN(home!$G$8)>0,instruments!E214=home!$G$8,TRUE)","v":false},{"$f":"+IF(LEN(home!$G$9)>0,instruments!F214=home!$G$9,TRUE)","v":true},2,{"$f":"+COUNTIF($L$1:L214,\"=\"&4)","v":20},"Clay County, NE Soybean Basis"]
["ZCBASDCB.CM","cmdty Clay County, SD Corn Basis Idx","Corn","Basis","South Dakota","County","Clay County",{"$f":"+IF(LEN(home!$G$7)>0,instruments!C215=home!$G$7,TRUE)","v":true},true,{"$f":"+IF(LEN(home!$G$8)>0,instruments!E215=home!$G$8,TRUE)","v":false},{"$f":"+IF(LEN(home!$G$9)>0,instruments!F215=home!$G$9,TRUE)","v":true},3,{"$f":"+COUNTIF($L$1:L215,\"=\"&4)","v":20},"Clay County, SD Corn Basis"]
["ZSBASDCB.CM","cmdty Clay County, SD Soybean Basis Idx","Soybean","Basis","South Dakota","County","Clay County",{"$f":"+IF(LEN(home!$G$7)>0,instruments!C216=home!$G$7,TRUE)","v":false},true,{"$f":"+IF(LEN(home!$G$8)>0,instruments!E216=home!$G$8,TRUE)","v":false},{"$f":"+IF(LEN(home!$G$9)>0,instruments!F216=home!$G$9,TRUE)","v":true},2,{"$f":"+COUNTIF($L$1:L216,\"=\"&4)","v":20},"Clay County, SD Soybean Basis"]
["ZCBAIACI.CM","cmdty Clayton County, IA Corn Basis Idx","Corn","Basis","Iowa","County","Clayton County",{"$f":"+IF(LEN(home!$G$7)>0,instruments!C217=home!$G$7,TRUE)","v":true},true,{"$f":"+IF(LEN(home!$G$8)>0,instruments!E217=home!$G$8,TRUE)","v":true},{"$f":"+IF(LEN(home!$G$9)>0,instruments!F217=home!$G$9,TRUE)","v":true},4,{"$f":"+COUNTIF($L$1:L217,\"=\"&4)","v":21},"Clayton County, IA Corn Basis"]
["ZSBAIACI.CM","cmdty Clayton County, IA Soybean Basis Idx","Soybean","Basis","Iowa","County","Clayton County",{"$f":"+IF(LEN(home!$G$7)>0,instruments!C218=home!$G$7,TRUE)","v":false},true,{"$f":"+IF(LEN(home!$G$8)>0,instruments!E218=home!$G$8,TRUE)","v":true},{"$f":"+IF(LEN(home!$G$9)>0,instruments!F218=home!$G$9,TRUE)","v":true},3,{"$f":"+COUNTIF($L$1:L218,\"=\"&4)","v":21},"Clayton County, IA Soybean Basis"]
["ZCBAIACK.CM","cmdty Clinton County, IA Corn Basis Idx","Corn","Basis","Iowa","County","Clinton County",{"$f":"+IF(LEN(home!$G$7)>0,instruments!C219=home!$G$7,TRUE)","v":true},true,{"$f":"+IF(LEN(home!$G$8)>0,instruments!E219=home!$G$8,TRUE)","v":true},{"$f":"+IF(LEN(home!$G$9)>0,instruments!F219=home!$G$9,TRUE)","v":true},4,{"$f":"+COUNTIF($L$1:L219,\"=\"&4)","v":22},"Clinton County, IA Corn Basis"]
["ZSBAIACK.CM","cmdty Clinton County, IA Soybean Basis Idx","Soybean","Basis","Iowa","County","Clinton County",{"$f":"+IF(LEN(home!$G$7)>0,instruments!C220=home!$G$7,TRUE)","v":false},true,{"$f":"+IF(LEN(home!$G$8)>0,instruments!E220=home!$G$8,TRUE)","v":true},{"$f":"+IF(LEN(home!$G$9)>0,instruments!F220=home!$G$9,TRUE)","v":true},3,{"$f":"+COUNTIF($L$1:L220,\"=\"&4)","v":22},"Clinton County, IA Soybean Basis"]
["ZCBAILCF.CM","cmdty Clinton County, IL Corn Basis Idx","Corn","Basis","Illinois","County","Clinton County",{"$f":"+IF(LEN(home!$G$7)>0,instruments!C221=home!$G$7,TRUE)","v":true},true,{"$f":"+IF(LEN(home!$G$8)>0,instruments!E221=home!$G$8,TRUE)","v":false},{"$f":"+IF(LEN(home!$G$9)>0,instruments!F221=home!$G$9,TRUE)","v":true},3,{"$f":"+COUNTIF($L$1:L221,\"=\"&4)","v":22},"Clinton County, IL Corn Basis"]
["ZCBAINCD.CM","cmdty Clinton County, IN Corn Basis Idx","Corn","Basis","Indiana","County","Clinton County",{"$f":"+IF(LEN(home!$G$7)>0,instruments!C222=home!$G$7,TRUE)","v":true},true,{"$f":"+IF(LEN(home!$G$8)>0,instruments!E222=home!$G$8,TRUE)","v":false},{"$f":"+IF(LEN(home!$G$9)>0,instruments!F222=home!$G$9,TRUE)","v":true},3,{"$f":"+COUNTIF($L$1:L222,\"=\"&4)","v":22},"Clinton County, IN Corn Basis"]
["ZSBAINCD.CM","cmdty Clinton County, IN Soybean Basis Idx","Soybean","Basis","Indiana","County","Clinton County",{"$f":"+IF(LEN(home!$G$7)>0,instruments!C223=home!$G$7,TRUE)","v":false},true,{"$f":"+IF(LEN(home!$G$8)>0,instruments!E223=home!$G$8,TRUE)","v":false},{"$f":"+IF(LEN(home!$G$9)>0,instruments!F223=home!$G$9,TRUE)","v":true},2,{"$f":"+COUNTIF($L$1:L223,\"=\"&4)","v":22},"Clinton County, IN Soybean Basis"]
["ZCBAMOCN.CM","cmdty Clinton County, MO Corn Basis Idx","Corn","Basis","Missouri","County","Clinton County",{"$f":"+IF(LEN(home!$G$7)>0,instruments!C224=home!$G$7,TRUE)","v":true},true,{"$f":"+IF(LEN(home!$G$8)>0,instruments!E224=home!$G$8,TRUE)","v":false},{"$f":"+IF(LEN(home!$G$9)>0,instruments!F224=home!$G$9,TRUE)","v":true},3,{"$f":"+COUNTIF($L$1:L224,\"=\"&4)","v":22},"Clinton County, MO Corn Basis"]
["ZSBAMOCN.CM","cmdty Clinton County, MO Soybean Basis Idx","Soybean","Basis","Missouri","County","Clinton County",{"$f":"+IF(LEN(home!$G$7)>0,instruments!C225=home!$G$7,TRUE)","v":false},true,{"$f":"+IF(LEN(home!$G$8)>0,instruments!E225=home!$G$8,TRUE)","v":false},{"$f":"+IF(LEN(home!$G$9)>0,instruments!F225=home!$G$9,TRUE)","v":true},2,{"$f":"+COUNTIF($L$1:L225,\"=\"&4)","v":22},"Clinton County, MO Soybean Basis"]
["ZSBAOHCC.CM","cmdty Clinton County, OH Soybean Basis Idx","Soybean","Basis","Ohio","County","Clinton County",{"$f":"+IF(LEN(home!$G$7)>0,instruments!C226=home!$G$7,TRUE)","v":false},true,{"$f":"+IF(LEN(home!$G$8)>0,instruments!E226=home!$G$8,TRUE)","v":false},{"$f":"+IF(LEN(home!$G$9)>0,instruments!F226=home!$G$9,TRUE)","v":true},2,{"$f":"+COUNTIF($L$1:L226,\"=\"&4)","v":22},"Clinton County, OH Soybean Basis"]
["ZCBAKSCE.CM","cmdty Cloud County, KS Corn Basis Idx","Corn","Basis","Kansas","County","Cloud County",{"$f":"+IF(LEN(home!$G$7)>0,instruments!C227=home!$G$7,TRUE)","v":true},true,{"$f":"+IF(LEN(home!$G$8)>0,instruments!E227=home!$G$8,TRUE)","v":false},{"$f":"+IF(LEN(home!$G$9)>0,instruments!F227=home!$G$9,TRUE)","v":true},3,{"$f":"+COUNTIF($L$1:L227,\"=\"&4)","v":22},"Cloud County, KS Corn Basis"]
["ZSBAKSCE.CM","cmdty Cloud County, KS Soybean Basis Idx","Soybean","Basis","Kansas","County","Cloud County",{"$f":"+IF(LEN(home!$G$7)>0,instruments!C228=home!$G$7,TRUE)","v":false},true,{"$f":"+IF(LEN(home!$G$8)>0,instruments!E228=home!$G$8,TRUE)","v":false},{"$f":"+IF(LEN(home!$G$9)>0,instruments!F228=home!$G$9,TRUE)","v":true},2,{"$f":"+COUNTIF($L$1:L228,\"=\"&4)","v":22},"Cloud County, KS Soybean Basis"]
["ZCBASDCO.CM","cmdty Codington County, SD Corn Basis Idx","Corn","Basis","South Dakota","County","Codington County",{"$f":"+IF(LEN(home!$G$7)>0,instruments!C229=home!$G$7,TRUE)","v":true},true,{"$f":"+IF(LEN(home!$G$8)>0,instruments!E229=home!$G$8,TRUE)","v":false},{"$f":"+IF(LEN(home!$G$9)>0,instruments!F229=home!$G$9,TRUE)","v":true},3,{"$f":"+COUNTIF($L$1:L229,\"=\"&4)","v":22},"Codington County, SD Corn Basis"]
["ZSBASDCO.CM","cmdty Codington County, SD Soybean Basis Idx","Soybean","Basis","South Dakota","County","Codington County",{"$f":"+IF(LEN(home!$G$7)>0,instruments!C230=home!$G$7,TRUE)","v":false},true,{"$f":"+IF(LEN(home!$G$8)>0,instruments!E230=home!$G$8,TRUE)","v":false},{"$f":"+IF(LEN(home!$G$9)>0,instruments!F230=home!$G$9,TRUE)","v":true},2,{"$f":"+COUNTIF($L$1:L230,\"=\"&4)","v":22},"Codington County, SD Soybean Basis"]
["ZCBAKSCO.CM","cmdty Coffey County, KS Corn Basis Idx","Corn","Basis","Kansas","County","Coffey County",{"$f":"+IF(LEN(home!$G$7)>0,instruments!C231=home!$G$7,TRUE)","v":true},true,{"$f":"+IF(LEN(home!$G$8)>0,instruments!E231=home!$G$8,TRUE)","v":false},{"$f":"+IF(LEN(home!$G$9)>0,instruments!F231=home!$G$9,TRUE)","v":true},3,{"$f":"+COUNTIF($L$1:L231,\"=\"&4)","v":22},"Coffey County, KS Corn Basis"]
["ZSBAKSCO.CM","cmdty Coffey County, KS Soybean Basis Idx","Soybean","Basis","Kansas","County","Coffey County",{"$f":"+IF(LEN(home!$G$7)>0,instruments!C232=home!$G$7,TRUE)","v":false},true,{"$f":"+IF(LEN(home!$G$8)>0,instruments!E232=home!$G$8,TRUE)","v":false},{"$f":"+IF(LEN(home!$G$9)>0,instruments!F232=home!$G$9,TRUE)","v":true},2,{"$f":"+COUNTIF($L$1:L232,\"=\"&4)","v":22},"Coffey County, KS Soybean Basis"]
["ZCBAILCO.CM","cmdty Coles County, IL Corn Basis Idx","Corn","Basis","Illinois","County","Coles County",{"$f":"+IF(LEN(home!$G$7)>0,instruments!C233=home!$G$7,TRUE)","v":true},true,{"$f":"+IF(LEN(home!$G$8)>0,instruments!E233=home!$G$8,TRUE)","v":false},{"$f":"+IF(LEN(home!$G$9)>0,instruments!F233=home!$G$9,TRUE)","v":true},3,{"$f":"+COUNTIF($L$1:L233,\"=\"&4)","v":22},"Coles County, IL Corn Basis"]
["ZSBAILCO.CM","cmdty Coles County, IL Soybean Basis Idx","Soybean","Basis","Illinois","County","Coles County",{"$f":"+IF(LEN(home!$G$7)>0,instruments!C234=home!$G$7,TRUE)","v":false},true,{"$f":"+IF(LEN(home!$G$8)>0,instruments!E234=home!$G$8,TRUE)","v":false},{"$f":"+IF(LEN(home!$G$9)>0,instruments!F234=home!$G$9,TRUE)","v":true},2,{"$f":"+COUNTIF($L$1:L234,\"=\"&4)","v":22},"Coles County, IL Soybean Basis"]
["ZCBANECO.CM","cmdty Colfax County, NE Corn Basis Idx","Corn","Basis","Nebraska","County","Colfax County",{"$f":"+IF(LEN(home!$G$7)>0,instruments!C235=home!$G$7,TRUE)","v":true},true,{"$f":"+IF(LEN(home!$G$8)>0,instruments!E235=home!$G$8,TRUE)","v":false},{"$f":"+IF(LEN(home!$G$9)>0,instruments!F235=home!$G$9,TRUE)","v":true},3,{"$f":"+COUNTIF($L$1:L235,\"=\"&4)","v":22},"Colfax County, NE Corn Basis"]
["ZSBANECO.CM","cmdty Colfax County, NE Soybean Basis Idx","Soybean","Basis","Nebraska","County","Colfax County",{"$f":"+IF(LEN(home!$G$7)>0,instruments!C236=home!$G$7,TRUE)","v":false},true,{"$f":"+IF(LEN(home!$G$8)>0,instruments!E236=home!$G$8,TRUE)","v":false},{"$f":"+IF(LEN(home!$G$9)>0,instruments!F236=home!$G$9,TRUE)","v":true},2,{"$f":"+COUNTIF($L$1:L236,\"=\"&4)","v":22},"Colfax County, NE Soybean Basis"]
["ZSBAOHCO.CM","cmdty Columbiana County, OH Soybean Basis Idx","Soybean","Basis","Ohio","County","Columbiana County",{"$f":"+IF(LEN(home!$G$7)>0,instruments!C237=home!$G$7,TRUE)","v":false},true,{"$f":"+IF(LEN(home!$G$8)>0,instruments!E237=home!$G$8,TRUE)","v":false},{"$f":"+IF(LEN(home!$G$9)>0,instruments!F237=home!$G$9,TRUE)","v":true},2,{"$f":"+COUNTIF($L$1:L237,\"=\"&4)","v":22},"Columbiana County, OH Soybean Basis"]
["ZCBAKSCF.CM","cmdty Comanche County, KS Corn Basis Idx","Corn","Basis","Kansas","County","Comanche County",{"$f":"+IF(LEN(home!$G$7)>0,instruments!C238=home!$G$7,TRUE)","v":true},true,{"$f":"+IF(LEN(home!$G$8)>0,instruments!E238=home!$G$8,TRUE)","v":false},{"$f":"+IF(LEN(home!$G$9)>0,instruments!F238=home!$G$9,TRUE)","v":true},3,{"$f":"+COUNTIF($L$1:L238,\"=\"&4)","v":22},"Comanche County, KS Corn Basis"]
["ZSBAKSCF.CM","cmdty Comanche County, KS Soybean Basis Idx","Soybean","Basis","Kansas","County","Comanche County",{"$f":"+IF(LEN(home!$G$7)>0,instruments!C239=home!$G$7,TRUE)","v":false},true,{"$f":"+IF(LEN(home!$G$8)>0,instruments!E239=home!$G$8,TRUE)","v":false},{"$f":"+IF(LEN(home!$G$9)>0,instruments!F239=home!$G$9,TRUE)","v":true},2,{"$f":"+COUNTIF($L$1:L239,\"=\"&4)","v":22},"Comanche County, KS Soybean Basis"]
["ZCBAILCG.CM","cmdty Cook County, IL Corn Basis Idx","Corn","Basis","Illinois","County","Cook County",{"$f":"+IF(LEN(home!$G$7)>0,instruments!C240=home!$G$7,TRUE)","v":true},true,{"$f":"+IF(LEN(home!$G$8)>0,instruments!E240=home!$G$8,TRUE)","v":false},{"$f":"+IF(LEN(home!$G$9)>0,instruments!F240=home!$G$9,TRUE)","v":true},3,{"$f":"+COUNTIF($L$1:L240,\"=\"&4)","v":22},"Cook County, IL Corn Basis"]
["ZSBAILCG.CM","cmdty Cook County, IL Soybean Basis Idx","Soybean","Basis","Illinois","County","Cook County",{"$f":"+IF(LEN(home!$G$7)>0,instruments!C241=home!$G$7,TRUE)","v":false},true,{"$f":"+IF(LEN(home!$G$8)>0,instruments!E241=home!$G$8,TRUE)","v":false},{"$f":"+IF(LEN(home!$G$9)>0,instruments!F241=home!$G$9,TRUE)","v":true},2,{"$f":"+COUNTIF($L$1:L241,\"=\"&4)","v":22},"Cook County, IL Soybean Basis"]
["ZCBAMOCP.CM","cmdty Cooper County, MO Corn Basis Idx","Corn","Basis","Missouri","County","Cooper County",{"$f":"+IF(LEN(home!$G$7)>0,instruments!C242=home!$G$7,TRUE)","v":true},true,{"$f":"+IF(LEN(home!$G$8)>0,instruments!E242=home!$G$8,TRUE)","v":false},{"$f":"+IF(LEN(home!$G$9)>0,instruments!F242=home!$G$9,TRUE)","v":true},3,{"$f":"+COUNTIF($L$1:L242,\"=\"&4)","v":22},"Cooper County, MO Corn Basis"]
["ZSBAMOCP.CM","cmdty Cooper County, MO Soybean Basis Idx","Soybean","Basis","Missouri","County","Cooper County",{"$f":"+IF(LEN(home!$G$7)>0,instruments!C243=home!$G$7,TRUE)","v":false},true,{"$f":"+IF(LEN(home!$G$8)>0,instruments!E243=home!$G$8,TRUE)","v":false},{"$f":"+IF(LEN(home!$G$9)>0,instruments!F243=home!$G$9,TRUE)","v":true},2,{"$f":"+COUNTIF($L$1:L243,\"=\"&4)","v":22},"Cooper County, MO Soybean Basis"]
["ZCBASDCC.CM","cmdty Corson County, SD Corn Basis Idx","Corn","Basis","South Dakota","County","Corson County",{"$f":"+IF(LEN(home!$G$7)>0,instruments!C244=home!$G$7,TRUE)","v":true},true,{"$f":"+IF(LEN(home!$G$8)>0,instruments!E244=home!$G$8,TRUE)","v":false},{"$f":"+IF(LEN(home!$G$9)>0,instruments!F244=home!$G$9,TRUE)","v":true},3,{"$f":"+COUNTIF($L$1:L244,\"=\"&4)","v":22},"Corson County, SD Corn Basis"]
["ZSBASDCC.CM","cmdty Corson County, SD Soybean Basis Idx","Soybean","Basis","South Dakota","County","Corson County",{"$f":"+IF(LEN(home!$G$7)>0,instruments!C245=home!$G$7,TRUE)","v":false},true,{"$f":"+IF(LEN(home!$G$8)>0,instruments!E245=home!$G$8,TRUE)","v":false},{"$f":"+IF(LEN(home!$G$9)>0,instruments!F245=home!$G$9,TRUE)","v":true},2,{"$f":"+COUNTIF($L$1:L245,\"=\"&4)","v":22},"Corson County, SD Soybean Basis"]
["ZSBAOHCD.CM","cmdty Coshocton County, OH Soybean Basis Idx","Soybean","Basis","Ohio","County","Coshocton County",{"$f":"+IF(LEN(home!$G$7)>0,instruments!C246=home!$G$7,TRUE)","v":false},true,{"$f":"+IF(LEN(home!$G$8)>0,instruments!E246=home!$G$8,TRUE)","v":false},{"$f":"+IF(LEN(home!$G$9)>0,instruments!F246=home!$G$9,TRUE)","v":true},2,{"$f":"+COUNTIF($L$1:L246,\"=\"&4)","v":22},"Coshocton County, OH Soybean Basis"]
["ZCBAMNCF.CM","cmdty Cottonwood County, MN Corn Basis Idx","Corn","Basis","Minnesota","County","Cottonwood County",{"$f":"+IF(LEN(home!$G$7)>0,instruments!C247=home!$G$7,TRUE)","v":true},true,{"$f":"+IF(LEN(home!$G$8)>0,instruments!E247=home!$G$8,TRUE)","v":false},{"$f":"+IF(LEN(home!$G$9)>0,instruments!F247=home!$G$9,TRUE)","v":true},3,{"$f":"+COUNTIF($L$1:L247,\"=\"&4)","v":22},"Cottonwood County, MN Corn Basis"]
["ZSBAMNCF.CM","cmdty Cottonwood County, MN Soybean Basis Idx","Soybean","Basis","Minnesota","County","Cottonwood County",{"$f":"+IF(LEN(home!$G$7)>0,instruments!C248=home!$G$7,TRUE)","v":false},true,{"$f":"+IF(LEN(home!$G$8)>0,instruments!E248=home!$G$8,TRUE)","v":false},{"$f":"+IF(LEN(home!$G$9)>0,instruments!F248=home!$G$9,TRUE)","v":true},2,{"$f":"+COUNTIF($L$1:L248,\"=\"&4)","v":22},"Cottonwood County, MN Soybean Basis"]
["ZCBAKSCG.CM","cmdty Cowley County, KS Corn Basis Idx","Corn","Basis","Kansas","County","Cowley County",{"$f":"+IF(LEN(home!$G$7)>0,instruments!C249=home!$G$7,TRUE)","v":true},true,{"$f":"+IF(LEN(home!$G$8)>0,instruments!E249=home!$G$8,TRUE)","v":false},{"$f":"+IF(LEN(home!$G$9)>0,instruments!F249=home!$G$9,TRUE)","v":true},3,{"$f":"+COUNTIF($L$1:L249,\"=\"&4)","v":22},"Cowley County, KS Corn Basis"]
["ZSBAKSCG.CM","cmdty Cowley County, KS Soybean Basis Idx","Soybean","Basis","Kansas","County","Cowley County",{"$f":"+IF(LEN(home!$G$7)>0,instruments!C250=home!$G$7,TRUE)","v":false},true,{"$f":"+IF(LEN(home!$G$8)>0,instruments!E250=home!$G$8,TRUE)","v":false},{"$f":"+IF(LEN(home!$G$9)>0,instruments!F250=home!$G$9,TRUE)","v":true},2,{"$f":"+COUNTIF($L$1:L250,\"=\"&4)","v":22},"Cowley County, KS Soybean Basis"]
["ZCBAIACR.CM","cmdty Crawford County, IA Corn Basis Idx","Corn","Basis","Iowa","County","Crawford County",{"$f":"+IF(LEN(home!$G$7)>0,instruments!C251=home!$G$7,TRUE)","v":true},true,{"$f":"+IF(LEN(home!$G$8)>0,instruments!E251=home!$G$8,TRUE)","v":true},{"$f":"+IF(LEN(home!$G$9)>0,instruments!F251=home!$G$9,TRUE)","v":true},4,{"$f":"+COUNTIF($L$1:L251,\"=\"&4)","v":23},"Crawford County, IA Corn Basis"]
["ZSBAIACR.CM","cmdty Crawford County, IA Soybean Basis Idx","Soybean","Basis","Iowa","County","Crawford County",{"$f":"+IF(LEN(home!$G$7)>0,instruments!C252=home!$G$7,TRUE)","v":false},true,{"$f":"+IF(LEN(home!$G$8)>0,instruments!E252=home!$G$8,TRUE)","v":true},{"$f":"+IF(LEN(home!$G$9)>0,instruments!F252=home!$G$9,TRUE)","v":true},3,{"$f":"+COUNTIF($L$1:L252,\"=\"&4)","v":23},"Crawford County, IA Soybean Basis"]
["ZCBAILCR.CM","cmdty Crawford County, IL Corn Basis Idx","Corn","Basis","Illinois","County","Crawford County",{"$f":"+IF(LEN(home!$G$7)>0,instruments!C253=home!$G$7,TRUE)","v":true},true,{"$f":"+IF(LEN(home!$G$8)>0,instruments!E253=home!$G$8,TRUE)","v":false},{"$f":"+IF(LEN(home!$G$9)>0,instruments!F253=home!$G$9,TRUE)","v":true},3,{"$f":"+COUNTIF($L$1:L253,\"=\"&4)","v":23},"Crawford County, IL Corn Basis"]
["ZSBAILCR.CM","cmdty Crawford County, IL Soybean Basis Idx","Soybean","Basis","Illinois","County","Crawford County",{"$f":"+IF(LEN(home!$G$7)>0,instruments!C254=home!$G$7,TRUE)","v":false},true,{"$f":"+IF(LEN(home!$G$8)>0,instruments!E254=home!$G$8,TRUE)","v":false},{"$f":"+IF(LEN(home!$G$9)>0,instruments!F254=home!$G$9,TRUE)","v":true},2,{"$f":"+COUNTIF($L$1:L254,\"=\"&4)","v":23},"Crawford County, IL Soybean Basis"]
["ZCBAKSCR.CM","cmdty Crawford County, KS Corn Basis Idx","Corn","Basis","Kansas","County","Crawford County",{"$f":"+IF(LEN(home!$G$7)>0,instruments!C255=home!$G$7,TRUE)","v":true},true,{"$f":"+IF(LEN(home!$G$8)>0,instruments!E255=home!$G$8,TRUE)","v":false},{"$f":"+IF(LEN(home!$G$9)>0,instruments!F255=home!$G$9,TRUE)","v":true},3,{"$f":"+COUNTIF($L$1:L255,\"=\"&4)","v":23},"Crawford County, KS Corn Basis"]
["ZSBAKSCR.CM","cmdty Crawford County, KS Soybean Basis Idx","Soybean","Basis","Kansas","County","Crawford County",{"$f":"+IF(LEN(home!$G$7)>0,instruments!C256=home!$G$7,TRUE)","v":false},true,{"$f":"+IF(LEN(home!$G$8)>0,instruments!E256=home!$G$8,TRUE)","v":false},{"$f":"+IF(LEN(home!$G$9)>0,instruments!F256=home!$G$9,TRUE)","v":true},2,{"$f":"+COUNTIF($L$1:L256,\"=\"&4)","v":23},"Crawford County, KS Soybean Basis"]
["ZSBAOHCR.CM","cmdty Crawford County, OH Soybean Basis Idx","Soybean","Basis","Ohio","County","Crawford County",{"$f":"+IF(LEN(home!$G$7)>0,instruments!C257=home!$G$7,TRUE)","v":false},true,{"$f":"+IF(LEN(home!$G$8)>0,instruments!E257=home!$G$8,TRUE)","v":false},{"$f":"+IF(LEN(home!$G$9)>0,instruments!F257=home!$G$9,TRUE)","v":true},2,{"$f":"+COUNTIF($L$1:L257,\"=\"&4)","v":23},"Crawford County, OH Soybean Basis"]
["ZCBANECU.CM","cmdty Cuming County, NE Corn Basis Idx","Corn","Basis","Nebraska","County","Cuming County",{"$f":"+IF(LEN(home!$G$7)>0,instruments!C258=home!$G$7,TRUE)","v":true},true,{"$f":"+IF(LEN(home!$G$8)>0,instruments!E258=home!$G$8,TRUE)","v":false},{"$f":"+IF(LEN(home!$G$9)>0,instruments!F258=home!$G$9,TRUE)","v":true},{"$f":"+COUNTIF(H258:K258,TRUE)","v":3},{"$f":"+COUNTIF($L$1:L258,\"=\"&4)","v":23},"Cuming County, NE Corn Basis"]
["ZSBANECU.CM","cmdty Cuming County, NE Soybean Basis Idx","Soybean","Basis","Nebraska","County","Cuming County",{"$f":"+IF(LEN(home!$G$7)>0,instruments!C259=home!$G$7,TRUE)","v":false},{"$f":"+D259=\"Basis\"","v":true},{"$f":"+IF(LEN(home!$G$8)>0,instruments!E259=home!$G$8,TRUE)","v":false},{"$f":"+IF(LEN(home!$G$9)>0,instruments!F259=home!$G$9,TRUE)","v":true},2,{"$f":"+COUNTIF($L$1:L259,\"=\"&4)","v":23},{"$f":"+MID(B259,FIND(\" \",B259,1)+1,LEN(B259)-FIND(\" \",B259,1)-4)","v":"Cuming County, NE Soybean Basis"}]
["ZCBANECD.CM","cmdty Custer County, NE Corn Basis Idx","Corn","Basis","Nebraska","County","Custer County",{"$f":"+IF(LEN(home!$G$7)>0,instruments!C260=home!$G$7,TRUE)","v":true},true,{"$f":"+IF(LEN(home!$G$8)>0,instruments!E260=home!$G$8,TRUE)","v":false},{"$f":"+IF(LEN(home!$G$9)>0,instruments!F260=home!$G$9,TRUE)","v":true},3,{"$f":"+COUNTIF($L$1:L260,\"=\"&4)","v":23},"Custer County, NE Corn Basis"]
["ZSBANECD.CM","cmdty Custer County, NE Soybean Basis Idx","Soybean","Basis","Nebraska","County","Custer County",{"$f":"+IF(LEN(home!$G$7)>0,instruments!C261=home!$G$7,TRUE)","v":false},true,{"$f":"+IF(LEN(home!$G$8)>0,instruments!E261=home!$G$8,TRUE)","v":false},{"$f":"+IF(LEN(home!$G$9)>0,instruments!F261=home!$G$9,TRUE)","v":true},2,{"$f":"+COUNTIF($L$1:L261,\"=\"&4)","v":23},"Custer County, NE Soybean Basis"]
["ZCBAMNDA.CM","cmdty Dakota County, MN Corn Basis Idx","Corn","Basis","Minnesota","County","Dakota County",{"$f":"+IF(LEN(home!$G$7)>0,instruments!C262=home!$G$7,TRUE)","v":true},true,{"$f":"+IF(LEN(home!$G$8)>0,instruments!E262=home!$G$8,TRUE)","v":false},{"$f":"+IF(LEN(home!$G$9)>0,instruments!F262=home!$G$9,TRUE)","v":true},3,{"$f":"+COUNTIF($L$1:L262,\"=\"&4)","v":23},"Dakota County, MN Corn Basis"]
["ZSBAMNDA.CM","cmdty Dakota County, MN Soybean Basis Idx","Soybean","Basis","Minnesota","County","Dakota County",{"$f":"+IF(LEN(home!$G$7)>0,instruments!C263=home!$G$7,TRUE)","v":false},true,{"$f":"+IF(LEN(home!$G$8)>0,instruments!E263=home!$G$8,TRUE)","v":false},{"$f":"+IF(LEN(home!$G$9)>0,instruments!F263=home!$G$9,TRUE)","v":true},2,{"$f":"+COUNTIF($L$1:L263,\"=\"&4)","v":23},"Dakota County, MN Soybean Basis"]
["ZCBANEDA.CM","cmdty Dakota County, NE Corn Basis Idx","Corn","Basis","Nebraska","County","Dakota County",{"$f":"+IF(LEN(home!$G$7)>0,instruments!C264=home!$G$7,TRUE)","v":true},true,{"$f":"+IF(LEN(home!$G$8)>0,instruments!E264=home!$G$8,TRUE)","v":false},{"$f":"+IF(LEN(home!$G$9)>0,instruments!F264=home!$G$9,TRUE)","v":true},3,{"$f":"+COUNTIF($L$1:L264,\"=\"&4)","v":23},"Dakota County, NE Corn Basis"]
["ZSBANEDA.CM","cmdty Dakota County, NE Soybean Basis Idx","Soybean","Basis","Nebraska","County","Dakota County",{"$f":"+IF(LEN(home!$G$7)>0,instruments!C265=home!$G$7,TRUE)","v":false},true,{"$f":"+IF(LEN(home!$G$8)>0,instruments!E265=home!$G$8,TRUE)","v":false},{"$f":"+IF(LEN(home!$G$9)>0,instruments!F265=home!$G$9,TRUE)","v":true},2,{"$f":"+COUNTIF($L$1:L265,\"=\"&4)","v":23},"Dakota County, NE Soybean Basis"]
["ZCBAIADA.CM","cmdty Dallas County, IA Corn Basis Idx","Corn","Basis","Iowa","County","Dallas County",{"$f":"+IF(LEN(home!$G$7)>0,instruments!C266=home!$G$7,TRUE)","v":true},true,{"$f":"+IF(LEN(home!$G$8)>0,instruments!E266=home!$G$8,TRUE)","v":true},{"$f":"+IF(LEN(home!$G$9)>0,instruments!F266=home!$G$9,TRUE)","v":true},4,{"$f":"+COUNTIF($L$1:L266,\"=\"&4)","v":24},"Dallas County, IA Corn Basis"]
["ZSBAIADA.CM","cmdty Dallas County, IA Soybean Basis Idx","Soybean","Basis","Iowa","County","Dallas County",{"$f":"+IF(LEN(home!$G$7)>0,instruments!C267=home!$G$7,TRUE)","v":false},true,{"$f":"+IF(LEN(home!$G$8)>0,instruments!E267=home!$G$8,TRUE)","v":true},{"$f":"+IF(LEN(home!$G$9)>0,instruments!F267=home!$G$9,TRUE)","v":true},3,{"$f":"+COUNTIF($L$1:L267,\"=\"&4)","v":24},"Dallas County, IA Soybean Basis"]
["ZSBAOHDA.CM","cmdty Darke County, OH Soybean Basis Idx","Soybean","Basis","Ohio","County","Darke County",{"$f":"+IF(LEN(home!$G$7)>0,instruments!C268=home!$G$7,TRUE)","v":false},true,{"$f":"+IF(LEN(home!$G$8)>0,instruments!E268=home!$G$8,TRUE)","v":false},{"$f":"+IF(LEN(home!$G$9)>0,instruments!F268=home!$G$9,TRUE)","v":true},2,{"$f":"+COUNTIF($L$1:L268,\"=\"&4)","v":24},"Darke County, OH Soybean Basis"]
["ZCBAMODC.CM","cmdty Daviess County, MO Corn Basis Idx","Corn","Basis","Missouri","County","Daviess County",{"$f":"+IF(LEN(home!$G$7)>0,instruments!C269=home!$G$7,TRUE)","v":true},true,{"$f":"+IF(LEN(home!$G$8)>0,instruments!E269=home!$G$8,TRUE)","v":false},{"$f":"+IF(LEN(home!$G$9)>0,instruments!F269=home!$G$9,TRUE)","v":true},3,{"$f":"+COUNTIF($L$1:L269,\"=\"&4)","v":24},"Daviess County, MO Corn Basis"]
["ZSBAMODC.CM","cmdty Daviess County, MO Soybean Basis Idx","Soybean","Basis","Missouri","County","Daviess County",{"$f":"+IF(LEN(home!$G$7)>0,instruments!C270=home!$G$7,TRUE)","v":false},true,{"$f":"+IF(LEN(home!$G$8)>0,instruments!E270=home!$G$8,TRUE)","v":false},{"$f":"+IF(LEN(home!$G$9)>0,instruments!F270=home!$G$9,TRUE)","v":true},2,{"$f":"+COUNTIF($L$1:L270,\"=\"&4)","v":24},"Daviess County, MO Soybean Basis"]
["ZCBASDDA.CM","cmdty Davison County, SD Corn Basis Idx","Corn","Basis","South Dakota","County","Davison County",{"$f":"+IF(LEN(home!$G$7)>0,instruments!C271=home!$G$7,TRUE)","v":true},true,{"$f":"+IF(LEN(home!$G$8)>0,instruments!E271=home!$G$8,TRUE)","v":false},{"$f":"+IF(LEN(home!$G$9)>0,instruments!F271=home!$G$9,TRUE)","v":true},3,{"$f":"+COUNTIF($L$1:L271,\"=\"&4)","v":24},"Davison County, SD Corn Basis"]
["ZSBASDDA.CM","cmdty Davison County, SD Soybean Basis Idx","Soybean","Basis","South Dakota","County","Davison County",{"$f":"+IF(LEN(home!$G$7)>0,instruments!C272=home!$G$7,TRUE)","v":false},true,{"$f":"+IF(LEN(home!$G$8)>0,instruments!E272=home!$G$8,TRUE)","v":false},{"$f":"+IF(LEN(home!$G$9)>0,instruments!F272=home!$G$9,TRUE)","v":true},2,{"$f":"+COUNTIF($L$1:L272,\"=\"&4)","v":24},"Davison County, SD Soybean Basis"]
["ZCBANEDC.CM","cmdty Dawson County, NE Corn Basis Idx","Corn","Basis","Nebraska","County","Dawson County",{"$f":"+IF(LEN(home!$G$7)>0,instruments!C273=home!$G$7,TRUE)","v":true},true,{"$f":"+IF(LEN(home!$G$8)>0,instruments!E273=home!$G$8,TRUE)","v":false},{"$f":"+IF(LEN(home!$G$9)>0,instruments!F273=home!$G$9,TRUE)","v":true},3,{"$f":"+COUNTIF($L$1:L273,\"=\"&4)","v":24},"Dawson County, NE Corn Basis"]
["ZSBANEDC.CM","cmdty Dawson County, NE Soybean Basis Idx","Soybean","Basis","Nebraska","County","Dawson County",{"$f":"+IF(LEN(home!$G$7)>0,instruments!C274=home!$G$7,TRUE)","v":false},true,{"$f":"+IF(LEN(home!$G$8)>0,instruments!E274=home!$G$8,TRUE)","v":false},{"$f":"+IF(LEN(home!$G$9)>0,instruments!F274=home!$G$9,TRUE)","v":true},2,{"$f":"+COUNTIF($L$1:L274,\"=\"&4)","v":24},"Dawson County, NE Soybean Basis"]
["ZCBASDDB.CM","cmdty Day County, SD Corn Basis Idx","Corn","Basis","South Dakota","County","Day County",{"$f":"+IF(LEN(home!$G$7)>0,instruments!C275=home!$G$7,TRUE)","v":true},true,{"$f":"+IF(LEN(home!$G$8)>0,instruments!E275=home!$G$8,TRUE)","v":false},{"$f":"+IF(LEN(home!$G$9)>0,instruments!F275=home!$G$9,TRUE)","v":true},3,{"$f":"+COUNTIF($L$1:L275,\"=\"&4)","v":24},"Day County, SD Corn Basis"]
["ZSBASDDB.CM","cmdty Day County, SD Soybean Basis Idx","Soybean","Basis","South Dakota","County","Day County",{"$f":"+IF(LEN(home!$G$7)>0,instruments!C276=home!$G$7,TRUE)","v":false},true,{"$f":"+IF(LEN(home!$G$8)>0,instruments!E276=home!$G$8,TRUE)","v":false},{"$f":"+IF(LEN(home!$G$9)>0,instruments!F276=home!$G$9,TRUE)","v":true},2,{"$f":"+COUNTIF($L$1:L276,\"=\"&4)","v":24},"Day County, SD Soybean Basis"]
["ZCBAINDE.CM","cmdty Dearborn County, IN Corn Basis Idx","Corn","Basis","Indiana","County","Dearborn County",{"$f":"+IF(LEN(home!$G$7)>0,instruments!C277=home!$G$7,TRUE)","v":true},true,{"$f":"+IF(LEN(home!$G$8)>0,instruments!E277=home!$G$8,TRUE)","v":false},{"$f":"+IF(LEN(home!$G$9)>0,instruments!F277=home!$G$9,TRUE)","v":true},3,{"$f":"+COUNTIF($L$1:L277,\"=\"&4)","v":24},"Dearborn County, IN Corn Basis"]
["ZSBAINDE.CM","cmdty Dearborn County, IN Soybean Basis Idx","Soybean","Basis","Indiana","County","Dearborn County",{"$f":"+IF(LEN(home!$G$7)>0,instruments!C278=home!$G$7,TRUE)","v":false},true,{"$f":"+IF(LEN(home!$G$8)>0,instruments!E278=home!$G$8,TRUE)","v":false},{"$f":"+IF(LEN(home!$G$9)>0,instruments!F278=home!$G$9,TRUE)","v":true},2,{"$f":"+COUNTIF($L$1:L278,\"=\"&4)","v":24},"Dearborn County, IN Soybean Basis"]
["ZCBAIADE.CM","cmdty Decatur County, IA Corn Basis Idx","Corn","Basis","Iowa","County","Decatur County",{"$f":"+IF(LEN(home!$G$7)>0,instruments!C279=home!$G$7,TRUE)","v":true},true,{"$f":"+IF(LEN(home!$G$8)>0,instruments!E279=home!$G$8,TRUE)","v":true},{"$f":"+IF(LEN(home!$G$9)>0,instruments!F279=home!$G$9,TRUE)","v":true},4,{"$f":"+COUNTIF($L$1:L279,\"=\"&4)","v":25},"Decatur County, IA Corn Basis"]
["ZSBAIADE.CM","cmdty Decatur County, IA Soybean Basis Idx","Soybean","Basis","Iowa","County","Decatur County",{"$f":"+IF(LEN(home!$G$7)>0,instruments!C280=home!$G$7,TRUE)","v":false},true,{"$f":"+IF(LEN(home!$G$8)>0,instruments!E280=home!$G$8,TRUE)","v":true},{"$f":"+IF(LEN(home!$G$9)>0,instruments!F280=home!$G$9,TRUE)","v":true},3,{"$f":"+COUNTIF($L$1:L280,\"=\"&4)","v":25},"Decatur County, IA Soybean Basis"]
["ZCBAINDB.CM","cmdty Decatur County, IN Corn Basis Idx","Corn","Basis","Indiana","County","Decatur County",{"$f":"+IF(LEN(home!$G$7)>0,instruments!C281=home!$G$7,TRUE)","v":true},true,{"$f":"+IF(LEN(home!$G$8)>0,instruments!E281=home!$G$8,TRUE)","v":false},{"$f":"+IF(LEN(home!$G$9)>0,instruments!F281=home!$G$9,TRUE)","v":true},3,{"$f":"+COUNTIF($L$1:L281,\"=\"&4)","v":25},"Decatur County, IN Corn Basis"]
["ZSBAINDB.CM","cmdty Decatur County, IN Soybean Basis Idx","Soybean","Basis","Indiana","County","Decatur County",{"$f":"+IF(LEN(home!$G$7)>0,instruments!C282=home!$G$7,TRUE)","v":false},true,{"$f":"+IF(LEN(home!$G$8)>0,instruments!E282=home!$G$8,TRUE)","v":false},{"$f":"+IF(LEN(home!$G$9)>0,instruments!F282=home!$G$9,TRUE)","v":true},2,{"$f":"+COUNTIF($L$1:L282,\"=\"&4)","v":25},"Decatur County, IN Soybean Basis"]
["ZCBAKSDE.CM","cmdty Decatur County, KS Corn Basis Idx","Corn","Basis","Kansas","County","Decatur County",{"$f":"+IF(LEN(home!$G$7)>0,instruments!C283=home!$G$7,TRUE)","v":true},true,{"$f":"+IF(LEN(home!$G$8)>0,instruments!E283=home!$G$8,TRUE)","v":false},{"$f":"+IF(LEN(home!$G$9)>0,instruments!F283=home!$G$9,TRUE)","v":true},3,{"$f":"+COUNTIF($L$1:L283,\"=\"&4)","v":25},"Decatur County, KS Corn Basis"]
["ZSBAKSDE.CM","cmdty Decatur County, KS Soybean Basis Idx","Soybean","Basis","Kansas","County","Decatur County",{"$f":"+IF(LEN(home!$G$7)>0,instruments!C284=home!$G$7,TRUE)","v":false},true,{"$f":"+IF(LEN(home!$G$8)>0,instruments!E284=home!$G$8,TRUE)","v":false},{"$f":"+IF(LEN(home!$G$9)>0,instruments!F284=home!$G$9,TRUE)","v":true},2,{"$f":"+COUNTIF($L$1:L284,\"=\"&4)","v":25},"Decatur County, KS Soybean Basis"]
["ZSBAOHDE.CM","cmdty Defiance County, OH Soybean Basis Idx","Soybean","Basis","Ohio","County","Defiance County",{"$f":"+IF(LEN(home!$G$7)>0,instruments!C285=home!$G$7,TRUE)","v":false},true,{"$f":"+IF(LEN(home!$G$8)>0,instruments!E285=home!$G$8,TRUE)","v":false},{"$f":"+IF(LEN(home!$G$9)>0,instruments!F285=home!$G$9,TRUE)","v":true},2,{"$f":"+COUNTIF($L$1:L285,\"=\"&4)","v":25},"Defiance County, OH Soybean Basis"]
["ZCBAILDE.CM","cmdty DeKalb County, IL Corn Basis Idx","Corn","Basis","Illinois","County","DeKalb County",{"$f":"+IF(LEN(home!$G$7)>0,instruments!C286=home!$G$7,TRUE)","v":true},true,{"$f":"+IF(LEN(home!$G$8)>0,instruments!E286=home!$G$8,TRUE)","v":false},{"$f":"+IF(LEN(home!$G$9)>0,instruments!F286=home!$G$9,TRUE)","v":true},3,{"$f":"+COUNTIF($L$1:L286,\"=\"&4)","v":25},"DeKalb County, IL Corn Basis"]
["ZSBAILDE.CM","cmdty DeKalb County, IL Soybean Basis Idx","Soybean","Basis","Illinois","County","DeKalb County",{"$f":"+IF(LEN(home!$G$7)>0,instruments!C287=home!$G$7,TRUE)","v":false},true,{"$f":"+IF(LEN(home!$G$8)>0,instruments!E287=home!$G$8,TRUE)","v":false},{"$f":"+IF(LEN(home!$G$9)>0,instruments!F287=home!$G$9,TRUE)","v":true},2,{"$f":"+COUNTIF($L$1:L287,\"=\"&4)","v":25},"DeKalb County, IL Soybean Basis"]
["ZCBAINDC.CM","cmdty DeKalb County, IN Corn Basis Idx","Corn","Basis","Indiana","County","DeKalb County",{"$f":"+IF(LEN(home!$G$7)>0,instruments!C288=home!$G$7,TRUE)","v":true},true,{"$f":"+IF(LEN(home!$G$8)>0,instruments!E288=home!$G$8,TRUE)","v":false},{"$f":"+IF(LEN(home!$G$9)>0,instruments!F288=home!$G$9,TRUE)","v":true},3,{"$f":"+COUNTIF($L$1:L288,\"=\"&4)","v":25},"DeKalb County, IN Corn Basis"]
["ZSBAINDC.CM","cmdty DeKalb County, IN Soybean Basis Idx","Soybean","Basis","Indiana","County","DeKalb County",{"$f":"+IF(LEN(home!$G$7)>0,instruments!C289=home!$G$7,TRUE)","v":false},true,{"$f":"+IF(LEN(home!$G$8)>0,instruments!E289=home!$G$8,TRUE)","v":false},{"$f":"+IF(LEN(home!$G$9)>0,instruments!F289=home!$G$9,TRUE)","v":true},2,{"$f":"+COUNTIF($L$1:L289,\"=\"&4)","v":25},"DeKalb County, IN Soybean Basis"]
["ZCBAMODE.CM","cmdty DeKalb County, MO Corn Basis Idx","Corn","Basis","Missouri","County","DeKalb County",{"$f":"+IF(LEN(home!$G$7)>0,instruments!C290=home!$G$7,TRUE)","v":true},true,{"$f":"+IF(LEN(home!$G$8)>0,instruments!E290=home!$G$8,TRUE)","v":false},{"$f":"+IF(LEN(home!$G$9)>0,instruments!F290=home!$G$9,TRUE)","v":true},3,{"$f":"+COUNTIF($L$1:L290,\"=\"&4)","v":25},"DeKalb County, MO Corn Basis"]
["ZSBAMODE.CM","cmdty DeKalb County, MO Soybean Basis Idx","Soybean","Basis","Missouri","County","DeKalb County",{"$f":"+IF(LEN(home!$G$7)>0,instruments!C291=home!$G$7,TRUE)","v":false},true,{"$f":"+IF(LEN(home!$G$8)>0,instruments!E291=home!$G$8,TRUE)","v":false},{"$f":"+IF(LEN(home!$G$9)>0,instruments!F291=home!$G$9,TRUE)","v":true},2,{"$f":"+COUNTIF($L$1:L291,\"=\"&4)","v":25},"DeKalb County, MO Soybean Basis"]
["ZCBAIADC.CM","cmdty Delaware County, IA Corn Basis Idx","Corn","Basis","Iowa","County","Delaware County",{"$f":"+IF(LEN(home!$G$7)>0,instruments!C292=home!$G$7,TRUE)","v":true},true,{"$f":"+IF(LEN(home!$G$8)>0,instruments!E292=home!$G$8,TRUE)","v":true},{"$f":"+IF(LEN(home!$G$9)>0,instruments!F292=home!$G$9,TRUE)","v":true},4,{"$f":"+COUNTIF($L$1:L292,\"=\"&4)","v":26},"Delaware County, IA Corn Basis"]
["ZSBAIADC.CM","cmdty Delaware County, IA Soybean Basis Idx","Soybean","Basis","Iowa","County","Delaware County",{"$f":"+IF(LEN(home!$G$7)>0,instruments!C293=home!$G$7,TRUE)","v":false},true,{"$f":"+IF(LEN(home!$G$8)>0,instruments!E293=home!$G$8,TRUE)","v":true},{"$f":"+IF(LEN(home!$G$9)>0,instruments!F293=home!$G$9,TRUE)","v":true},3,{"$f":"+COUNTIF($L$1:L293,\"=\"&4)","v":26},"Delaware County, IA Soybean Basis"]
["ZCBAINDD.CM","cmdty Delaware County, IN Corn Basis Idx","Corn","Basis","Indiana","County","Delaware County",{"$f":"+IF(LEN(home!$G$7)>0,instruments!C294=home!$G$7,TRUE)","v":true},true,{"$f":"+IF(LEN(home!$G$8)>0,instruments!E294=home!$G$8,TRUE)","v":false},{"$f":"+IF(LEN(home!$G$9)>0,instruments!F294=home!$G$9,TRUE)","v":true},3,{"$f":"+COUNTIF($L$1:L294,\"=\"&4)","v":26},"Delaware County, IN Corn Basis"]
["ZSBAINDD.CM","cmdty Delaware County, IN Soybean Basis Idx","Soybean","Basis","Indiana","County","Delaware County",{"$f":"+IF(LEN(home!$G$7)>0,instruments!C295=home!$G$7,TRUE)","v":false},true,{"$f":"+IF(LEN(home!$G$8)>0,instruments!E295=home!$G$8,TRUE)","v":false},{"$f":"+IF(LEN(home!$G$9)>0,instruments!F295=home!$G$9,TRUE)","v":true},2,{"$f":"+COUNTIF($L$1:L295,\"=\"&4)","v":26},"Delaware County, IN Soybean Basis"]
["ZSBAOHDB.CM","cmdty Delaware County, OH Soybean Basis Idx","Soybean","Basis","Ohio","County","Delaware County",{"$f":"+IF(LEN(home!$G$7)>0,instruments!C296=home!$G$7,TRUE)","v":false},true,{"$f":"+IF(LEN(home!$G$8)>0,instruments!E296=home!$G$8,TRUE)","v":false},{"$f":"+IF(LEN(home!$G$9)>0,instruments!F296=home!$G$9,TRUE)","v":true},2,{"$f":"+COUNTIF($L$1:L296,\"=\"&4)","v":26},"Delaware County, OH Soybean Basis"]
["ZCBAIADD.CM","cmdty Des Moines County, IA Corn Basis Idx","Corn","Basis","Iowa","County","Des Moines County",{"$f":"+IF(LEN(home!$G$7)>0,instruments!C297=home!$G$7,TRUE)","v":true},true,{"$f":"+IF(LEN(home!$G$8)>0,instruments!E297=home!$G$8,TRUE)","v":true},{"$f":"+IF(LEN(home!$G$9)>0,instruments!F297=home!$G$9,TRUE)","v":true},4,{"$f":"+COUNTIF($L$1:L297,\"=\"&4)","v":27},"Des Moines County, IA Corn Basis"]
["ZSBAIADD.CM","cmdty Des Moines County, IA Soybean Basis Idx","Soybean","Basis","Iowa","County","Des Moines County",{"$f":"+IF(LEN(home!$G$7)>0,instruments!C298=home!$G$7,TRUE)","v":false},true,{"$f":"+IF(LEN(home!$G$8)>0,instruments!E298=home!$G$8,TRUE)","v":true},{"$f":"+IF(LEN(home!$G$9)>0,instruments!F298=home!$G$9,TRUE)","v":true},3,{"$f":"+COUNTIF($L$1:L298,\"=\"&4)","v":27},"Des Moines County, IA Soybean Basis"]
["ZCBANEDE.CM","cmdty Deuel County, NE Corn Basis Idx","Corn","Basis","Nebraska","County","Deuel County",{"$f":"+IF(LEN(home!$G$7)>0,instruments!C299=home!$G$7,TRUE)","v":true},true,{"$f":"+IF(LEN(home!$G$8)>0,instruments!E299=home!$G$8,TRUE)","v":false},{"$f":"+IF(LEN(home!$G$9)>0,instruments!F299=home!$G$9,TRUE)","v":true},3,{"$f":"+COUNTIF($L$1:L299,\"=\"&4)","v":27},"Deuel County, NE Corn Basis"]
["ZSBANEDE.CM","cmdty Deuel County, NE Soybean Basis Idx","Soybean","Basis","Nebraska","County","Deuel County",{"$f":"+IF(LEN(home!$G$7)>0,instruments!C300=home!$G$7,TRUE)","v":false},true,{"$f":"+IF(LEN(home!$G$8)>0,instruments!E300=home!$G$8,TRUE)","v":false},{"$f":"+IF(LEN(home!$G$9)>0,instruments!F300=home!$G$9,TRUE)","v":true},2,{"$f":"+COUNTIF($L$1:L300,\"=\"&4)","v":27},"Deuel County, NE Soybean Basis"]
["ZCBASDDE.CM","cmdty Deuel County, SD Corn Basis Idx","Corn","Basis","South Dakota","County","Deuel County",{"$f":"+IF(LEN(home!$G$7)>0,instruments!C301=home!$G$7,TRUE)","v":true},true,{"$f":"+IF(LEN(home!$G$8)>0,instruments!E301=home!$G$8,TRUE)","v":false},{"$f":"+IF(LEN(home!$G$9)>0,instruments!F301=home!$G$9,TRUE)","v":true},3,{"$f":"+COUNTIF($L$1:L301,\"=\"&4)","v":27},"Deuel County, SD Corn Basis"]
["ZSBASDDE.CM","cmdty Deuel County, SD Soybean Basis Idx","Soybean","Basis","South Dakota","County","Deuel County",{"$f":"+IF(LEN(home!$G$7)>0,instruments!C302=home!$G$7,TRUE)","v":false},true,{"$f":"+IF(LEN(home!$G$8)>0,instruments!E302=home!$G$8,TRUE)","v":false},{"$f":"+IF(LEN(home!$G$9)>0,instruments!F302=home!$G$9,TRUE)","v":true},2,{"$f":"+COUNTIF($L$1:L302,\"=\"&4)","v":27},"Deuel County, SD Soybean Basis"]
["ZCBASDDC.CM","cmdty Dewey County, SD Corn Basis Idx","Corn","Basis","South Dakota","County","Dewey County",{"$f":"+IF(LEN(home!$G$7)>0,instruments!C303=home!$G$7,TRUE)","v":true},true,{"$f":"+IF(LEN(home!$G$8)>0,instruments!E303=home!$G$8,TRUE)","v":false},{"$f":"+IF(LEN(home!$G$9)>0,instruments!F303=home!$G$9,TRUE)","v":true},3,{"$f":"+COUNTIF($L$1:L303,\"=\"&4)","v":27},"Dewey County, SD Corn Basis"]
["ZSBASDDC.CM","cmdty Dewey County, SD Soybean Basis Idx","Soybean","Basis","South Dakota","County","Dewey County",{"$f":"+IF(LEN(home!$G$7)>0,instruments!C304=home!$G$7,TRUE)","v":false},true,{"$f":"+IF(LEN(home!$G$8)>0,instruments!E304=home!$G$8,TRUE)","v":false},{"$f":"+IF(LEN(home!$G$9)>0,instruments!F304=home!$G$9,TRUE)","v":true},2,{"$f":"+COUNTIF($L$1:L304,\"=\"&4)","v":27},"Dewey County, SD Soybean Basis"]
["ZCBAILDA.CM","cmdty De Witt County, IL Corn Basis Idx","Corn","Basis","Illinois","County","De Witt County",{"$f":"+IF(LEN(home!$G$7)>0,instruments!C305=home!$G$7,TRUE)","v":true},true,{"$f":"+IF(LEN(home!$G$8)>0,instruments!E305=home!$G$8,TRUE)","v":false},{"$f":"+IF(LEN(home!$G$9)>0,instruments!F305=home!$G$9,TRUE)","v":true},3,{"$f":"+COUNTIF($L$1:L305,\"=\"&4)","v":27},"De Witt County, IL Corn Basis"]
["ZSBAILDA.CM","cmdty De Witt County, IL Soybean Basis Idx","Soybean","Basis","Illinois","County","De Witt County",{"$f":"+IF(LEN(home!$G$7)>0,instruments!C306=home!$G$7,TRUE)","v":false},true,{"$f":"+IF(LEN(home!$G$8)>0,instruments!E306=home!$G$8,TRUE)","v":false},{"$f":"+IF(LEN(home!$G$9)>0,instruments!F306=home!$G$9,TRUE)","v":true},2,{"$f":"+COUNTIF($L$1:L306,\"=\"&4)","v":27},"De Witt County, IL Soybean Basis"]
["ZSBANDDI.CM","cmdty Dickey County, ND Soybean Basis Idx","Soybean","Basis","North Dakota","County","Dickey County",{"$f":"+IF(LEN(home!$G$7)>0,instruments!C307=home!$G$7,TRUE)","v":false},true,{"$f":"+IF(LEN(home!$G$8)>0,instruments!E307=home!$G$8,TRUE)","v":false},{"$f":"+IF(LEN(home!$G$9)>0,instruments!F307=home!$G$9,TRUE)","v":true},2,{"$f":"+COUNTIF($L$1:L307,\"=\"&4)","v":27},"Dickey County, ND Soybean Basis"]
["ZCBAIADI.CM","cmdty Dickinson County, IA Corn Basis Idx","Corn","Basis","Iowa","County","Dickinson County",{"$f":"+IF(LEN(home!$G$7)>0,instruments!C308=home!$G$7,TRUE)","v":true},true,{"$f":"+IF(LEN(home!$G$8)>0,instruments!E308=home!$G$8,TRUE)","v":true},{"$f":"+IF(LEN(home!$G$9)>0,instruments!F308=home!$G$9,TRUE)","v":true},4,{"$f":"+COUNTIF($L$1:L308,\"=\"&4)","v":28},"Dickinson County, IA Corn Basis"]
["ZSBAIADI.CM","cmdty Dickinson County, IA Soybean Basis Idx","Soybean","Basis","Iowa","County","Dickinson County",{"$f":"+IF(LEN(home!$G$7)>0,instruments!C309=home!$G$7,TRUE)","v":false},true,{"$f":"+IF(LEN(home!$G$8)>0,instruments!E309=home!$G$8,TRUE)","v":true},{"$f":"+IF(LEN(home!$G$9)>0,instruments!F309=home!$G$9,TRUE)","v":true},3,{"$f":"+COUNTIF($L$1:L309,\"=\"&4)","v":28},"Dickinson County, IA Soybean Basis"]
["ZCBAKSDI.CM","cmdty Dickinson County, KS Corn Basis Idx","Corn","Basis","Kansas","County","Dickinson County",{"$f":"+IF(LEN(home!$G$7)>0,instruments!C310=home!$G$7,TRUE)","v":true},true,{"$f":"+IF(LEN(home!$G$8)>0,instruments!E310=home!$G$8,TRUE)","v":false},{"$f":"+IF(LEN(home!$G$9)>0,instruments!F310=home!$G$9,TRUE)","v":true},3,{"$f":"+COUNTIF($L$1:L310,\"=\"&4)","v":28},"Dickinson County, KS Corn Basis"]
["ZSBAKSDI.CM","cmdty Dickinson County, KS Soybean Basis Idx","Soybean","Basis","Kansas","County","Dickinson County",{"$f":"+IF(LEN(home!$G$7)>0,instruments!C311=home!$G$7,TRUE)","v":false},true,{"$f":"+IF(LEN(home!$G$8)>0,instruments!E311=home!$G$8,TRUE)","v":false},{"$f":"+IF(LEN(home!$G$9)>0,instruments!F311=home!$G$9,TRUE)","v":true},2,{"$f":"+COUNTIF($L$1:L311,\"=\"&4)","v":28},"Dickinson County, KS Soybean Basis"]
["ZCBANEDI.CM","cmdty Dixon County, NE Corn Basis Idx","Corn","Basis","Nebraska","County","Dixon County",{"$f":"+IF(LEN(home!$G$7)>0,instruments!C312=home!$G$7,TRUE)","v":true},true,{"$f":"+IF(LEN(home!$G$8)>0,instruments!E312=home!$G$8,TRUE)","v":false},{"$f":"+IF(LEN(home!$G$9)>0,instruments!F312=home!$G$9,TRUE)","v":true},3,{"$f":"+COUNTIF($L$1:L312,\"=\"&4)","v":28},"Dixon County, NE Corn Basis"]
["ZSBANEDI.CM","cmdty Dixon County, NE Soybean Basis Idx","Soybean","Basis","Nebraska","County","Dixon County",{"$f":"+IF(LEN(home!$G$7)>0,instruments!C313=home!$G$7,TRUE)","v":false},true,{"$f":"+IF(LEN(home!$G$8)>0,instruments!E313=home!$G$8,TRUE)","v":false},{"$f":"+IF(LEN(home!$G$9)>0,instruments!F313=home!$G$9,TRUE)","v":true},2,{"$f":"+COUNTIF($L$1:L313,\"=\"&4)","v":28},"Dixon County, NE Soybean Basis"]
["ZCBAMNDO.CM","cmdty Dodge County, MN Corn Basis Idx","Corn","Basis","Minnesota","County","Dodge County",{"$f":"+IF(LEN(home!$G$7)>0,instruments!C314=home!$G$7,TRUE)","v":true},true,{"$f":"+IF(LEN(home!$G$8)>0,instruments!E314=home!$G$8,TRUE)","v":false},{"$f":"+IF(LEN(home!$G$9)>0,instruments!F314=home!$G$9,TRUE)","v":true},3,{"$f":"+COUNTIF($L$1:L314,\"=\"&4)","v":28},"Dodge County, MN Corn Basis"]
["ZSBAMNDO.CM","cmdty Dodge County, MN Soybean Basis Idx","Soybean","Basis","Minnesota","County","Dodge County",{"$f":"+IF(LEN(home!$G$7)>0,instruments!C315=home!$G$7,TRUE)","v":false},true,{"$f":"+IF(LEN(home!$G$8)>0,instruments!E315=home!$G$8,TRUE)","v":false},{"$f":"+IF(LEN(home!$G$9)>0,instruments!F315=home!$G$9,TRUE)","v":true},2,{"$f":"+COUNTIF($L$1:L315,\"=\"&4)","v":28},"Dodge County, MN Soybean Basis"]
["ZCBANEDO.CM","cmdty Dodge County, NE Corn Basis Idx","Corn","Basis","Nebraska","County","Dodge County",{"$f":"+IF(LEN(home!$G$7)>0,instruments!C316=home!$G$7,TRUE)","v":true},true,{"$f":"+IF(LEN(home!$G$8)>0,instruments!E316=home!$G$8,TRUE)","v":false},{"$f":"+IF(LEN(home!$G$9)>0,instruments!F316=home!$G$9,TRUE)","v":true},3,{"$f":"+COUNTIF($L$1:L316,\"=\"&4)","v":28},"Dodge County, NE Corn Basis"]
["ZSBANEDO.CM","cmdty Dodge County, NE Soybean Basis Idx","Soybean","Basis","Nebraska","County","Dodge County",{"$f":"+IF(LEN(home!$G$7)>0,instruments!C317=home!$G$7,TRUE)","v":false},true,{"$f":"+IF(LEN(home!$G$8)>0,instruments!E317=home!$G$8,TRUE)","v":false},{"$f":"+IF(LEN(home!$G$9)>0,instruments!F317=home!$G$9,TRUE)","v":true},2,{"$f":"+COUNTIF($L$1:L317,\"=\"&4)","v":28},"Dodge County, NE Soybean Basis"]
["ZCBAKSDO.CM","cmdty Doniphan County, KS Corn Basis Idx","Corn","Basis","Kansas","County","Doniphan County",{"$f":"+IF(LEN(home!$G$7)>0,instruments!C318=home!$G$7,TRUE)","v":true},true,{"$f":"+IF(LEN(home!$G$8)>0,instruments!E318=home!$G$8,TRUE)","v":false},{"$f":"+IF(LEN(home!$G$9)>0,instruments!F318=home!$G$9,TRUE)","v":true},3,{"$f":"+COUNTIF($L$1:L318,\"=\"&4)","v":28},"Doniphan County, KS Corn Basis"]
["ZSBAKSDO.CM","cmdty Doniphan County, KS Soybean Basis Idx","Soybean","Basis","Kansas","County","Doniphan County",{"$f":"+IF(LEN(home!$G$7)>0,instruments!C319=home!$G$7,TRUE)","v":false},true,{"$f":"+IF(LEN(home!$G$8)>0,instruments!E319=home!$G$8,TRUE)","v":false},{"$f":"+IF(LEN(home!$G$9)>0,instruments!F319=home!$G$9,TRUE)","v":true},2,{"$f":"+COUNTIF($L$1:L319,\"=\"&4)","v":28},"Doniphan County, KS Soybean Basis"]
["ZCBAILDO.CM","cmdty Douglas County, IL Corn Basis Idx","Corn","Basis","Illinois","County","Douglas County",{"$f":"+IF(LEN(home!$G$7)>0,instruments!C320=home!$G$7,TRUE)","v":true},true,{"$f":"+IF(LEN(home!$G$8)>0,instruments!E320=home!$G$8,TRUE)","v":false},{"$f":"+IF(LEN(home!$G$9)>0,instruments!F320=home!$G$9,TRUE)","v":true},3,{"$f":"+COUNTIF($L$1:L320,\"=\"&4)","v":28},"Douglas County, IL Corn Basis"]
["ZSBAILDO.CM","cmdty Douglas County, IL Soybean Basis Idx","Soybean","Basis","Illinois","County","Douglas County",{"$f":"+IF(LEN(home!$G$7)>0,instruments!C321=home!$G$7,TRUE)","v":false},true,{"$f":"+IF(LEN(home!$G$8)>0,instruments!E321=home!$G$8,TRUE)","v":false},{"$f":"+IF(LEN(home!$G$9)>0,instruments!F321=home!$G$9,TRUE)","v":true},2,{"$f":"+COUNTIF($L$1:L321,\"=\"&4)","v":28},"Douglas County, IL Soybean Basis"]
["ZCBAKSDA.CM","cmdty Douglas County, KS Corn Basis Idx","Corn","Basis","Kansas","County","Douglas County",{"$f":"+IF(LEN(home!$G$7)>0,instruments!C322=home!$G$7,TRUE)","v":true},true,{"$f":"+IF(LEN(home!$G$8)>0,instruments!E322=home!$G$8,TRUE)","v":false},{"$f":"+IF(LEN(home!$G$9)>0,instruments!F322=home!$G$9,TRUE)","v":true},{"$f":"+COUNTIF(H322:K322,TRUE)","v":3},{"$f":"+COUNTIF($L$1:L322,\"=\"&4)","v":28},"Douglas County, KS Corn Basis"]
["ZSBAKSDA.CM","cmdty Douglas County, KS Soybean Basis Idx","Soybean","Basis","Kansas","County","Douglas County",{"$f":"+IF(LEN(home!$G$7)>0,instruments!C323=home!$G$7,TRUE)","v":false},{"$f":"+D323=\"Basis\"","v":true},{"$f":"+IF(LEN(home!$G$8)>0,instruments!E323=home!$G$8,TRUE)","v":false},{"$f":"+IF(LEN(home!$G$9)>0,instruments!F323=home!$G$9,TRUE)","v":true},2,{"$f":"+COUNTIF($L$1:L323,\"=\"&4)","v":28},{"$f":"+MID(B323,FIND(\" \",B323,1)+1,LEN(B323)-FIND(\" \",B323,1)-4)","v":"Douglas County, KS Soybean Basis"}]
["ZCBAMNDB.CM","cmdty Douglas County, MN Corn Basis Idx","Corn","Basis","Minnesota","County","Douglas County",{"$f":"+IF(LEN(home!$G$7)>0,instruments!C324=home!$G$7,TRUE)","v":true},true,{"$f":"+IF(LEN(home!$G$8)>0,instruments!E324=home!$G$8,TRUE)","v":false},{"$f":"+IF(LEN(home!$G$9)>0,instruments!F324=home!$G$9,TRUE)","v":true},3,{"$f":"+COUNTIF($L$1:L324,\"=\"&4)","v":28},"Douglas County, MN Corn Basis"]
["ZSBAMNDB.CM","cmdty Douglas County, MN Soybean Basis Idx","Soybean","Basis","Minnesota","County","Douglas County",{"$f":"+IF(LEN(home!$G$7)>0,instruments!C325=home!$G$7,TRUE)","v":false},true,{"$f":"+IF(LEN(home!$G$8)>0,instruments!E325=home!$G$8,TRUE)","v":false},{"$f":"+IF(LEN(home!$G$9)>0,instruments!F325=home!$G$9,TRUE)","v":true},2,{"$f":"+COUNTIF($L$1:L325,\"=\"&4)","v":28},"Douglas County, MN Soybean Basis"]
["ZCBASDDO.CM","cmdty Douglas County, SD Corn Basis Idx","Corn","Basis","South Dakota","County","Douglas County",{"$f":"+IF(LEN(home!$G$7)>0,instruments!C326=home!$G$7,TRUE)","v":true},true,{"$f":"+IF(LEN(home!$G$8)>0,instruments!E326=home!$G$8,TRUE)","v":false},{"$f":"+IF(LEN(home!$G$9)>0,instruments!F326=home!$G$9,TRUE)","v":true},3,{"$f":"+COUNTIF($L$1:L326,\"=\"&4)","v":28},"Douglas County, SD Corn Basis"]
["ZSBASDDO.CM","cmdty Douglas County, SD Soybean Basis Idx","Soybean","Basis","South Dakota","County","Douglas County",{"$f":"+IF(LEN(home!$G$7)>0,instruments!C327=home!$G$7,TRUE)","v":false},true,{"$f":"+IF(LEN(home!$G$8)>0,instruments!E327=home!$G$8,TRUE)","v":false},{"$f":"+IF(LEN(home!$G$9)>0,instruments!F327=home!$G$9,TRUE)","v":true},2,{"$f":"+COUNTIF($L$1:L327,\"=\"&4)","v":28},"Douglas County, SD Soybean Basis"]
["ZCBAINDU.CM","cmdty Dubois County, IN Corn Basis Idx","Corn","Basis","Indiana","County","Dubois County",{"$f":"+IF(LEN(home!$G$7)>0,instruments!C328=home!$G$7,TRUE)","v":true},true,{"$f":"+IF(LEN(home!$G$8)>0,instruments!E328=home!$G$8,TRUE)","v":false},{"$f":"+IF(LEN(home!$G$9)>0,instruments!F328=home!$G$9,TRUE)","v":true},3,{"$f":"+COUNTIF($L$1:L328,\"=\"&4)","v":28},"Dubois County, IN Corn Basis"]
["ZSBAINDU.CM","cmdty Dubois County, IN Soybean Basis Idx","Soybean","Basis","Indiana","County","Dubois County",{"$f":"+IF(LEN(home!$G$7)>0,instruments!C329=home!$G$7,TRUE)","v":false},true,{"$f":"+IF(LEN(home!$G$8)>0,instruments!E329=home!$G$8,TRUE)","v":false},{"$f":"+IF(LEN(home!$G$9)>0,instruments!F329=home!$G$9,TRUE)","v":true},2,{"$f":"+COUNTIF($L$1:L329,\"=\"&4)","v":28},"Dubois County, IN Soybean Basis"]
["ZCBAIADU.CM","cmdty Dubuque County, IA Corn Basis Idx","Corn","Basis","Iowa","County","Dubuque County",{"$f":"+IF(LEN(home!$G$7)>0,instruments!C330=home!$G$7,TRUE)","v":true},true,{"$f":"+IF(LEN(home!$G$8)>0,instruments!E330=home!$G$8,TRUE)","v":true},{"$f":"+IF(LEN(home!$G$9)>0,instruments!F330=home!$G$9,TRUE)","v":true},4,{"$f":"+COUNTIF($L$1:L330,\"=\"&4)","v":29},"Dubuque County, IA Corn Basis"]
["ZSBAIADU.CM","cmdty Dubuque County, IA Soybean Basis Idx","Soybean","Basis","Iowa","County","Dubuque County",{"$f":"+IF(LEN(home!$G$7)>0,instruments!C331=home!$G$7,TRUE)","v":false},true,{"$f":"+IF(LEN(home!$G$8)>0,instruments!E331=home!$G$8,TRUE)","v":true},{"$f":"+IF(LEN(home!$G$9)>0,instruments!F331=home!$G$9,TRUE)","v":true},3,{"$f":"+COUNTIF($L$1:L331,\"=\"&4)","v":29},"Dubuque County, IA Soybean Basis"]
["ZCBANEDU.CM","cmdty Dundy County, NE Corn Basis Idx","Corn","Basis","Nebraska","County","Dundy County",{"$f":"+IF(LEN(home!$G$7)>0,instruments!C332=home!$G$7,TRUE)","v":true},true,{"$f":"+IF(LEN(home!$G$8)>0,instruments!E332=home!$G$8,TRUE)","v":false},{"$f":"+IF(LEN(home!$G$9)>0,instruments!F332=home!$G$9,TRUE)","v":true},3,{"$f":"+COUNTIF($L$1:L332,\"=\"&4)","v":29},"Dundy County, NE Corn Basis"]
["ZCBAILDU.CM","cmdty DuPage County, IL Corn Basis Idx","Corn","Basis","Illinois","County","DuPage County",{"$f":"+IF(LEN(home!$G$7)>0,instruments!C333=home!$G$7,TRUE)","v":true},true,{"$f":"+IF(LEN(home!$G$8)>0,instruments!E333=home!$G$8,TRUE)","v":false},{"$f":"+IF(LEN(home!$G$9)>0,instruments!F333=home!$G$9,TRUE)","v":true},3,{"$f":"+COUNTIF($L$1:L333,\"=\"&4)","v":29},"DuPage County, IL Corn Basis"]
["ZSBAILDU.CM","cmdty DuPage County, IL Soybean Basis Idx","Soybean","Basis","Illinois","County","DuPage County",{"$f":"+IF(LEN(home!$G$7)>0,instruments!C334=home!$G$7,TRUE)","v":false},true,{"$f":"+IF(LEN(home!$G$8)>0,instruments!E334=home!$G$8,TRUE)","v":false},{"$f":"+IF(LEN(home!$G$9)>0,instruments!F334=home!$G$9,TRUE)","v":true},2,{"$f":"+COUNTIF($L$1:L334,\"=\"&4)","v":29},"DuPage County, IL Soybean Basis"]
["ZSBANDED.CM","cmdty Eddy County, ND Soybean Basis Idx","Soybean","Basis","North Dakota","County","Eddy County",{"$f":"+IF(LEN(home!$G$7)>0,instruments!C335=home!$G$7,TRUE)","v":false},true,{"$f":"+IF(LEN(home!$G$8)>0,instruments!E335=home!$G$8,TRUE)","v":false},{"$f":"+IF(LEN(home!$G$9)>0,instruments!F335=home!$G$9,TRUE)","v":true},2,{"$f":"+COUNTIF($L$1:L335,\"=\"&4)","v":29},"Eddy County, ND Soybean Basis"]
["ZCBAILED.CM","cmdty Edgar County, IL Corn Basis Idx","Corn","Basis","Illinois","County","Edgar County",{"$f":"+IF(LEN(home!$G$7)>0,instruments!C336=home!$G$7,TRUE)","v":true},true,{"$f":"+IF(LEN(home!$G$8)>0,instruments!E336=home!$G$8,TRUE)","v":false},{"$f":"+IF(LEN(home!$G$9)>0,instruments!F336=home!$G$9,TRUE)","v":true},3,{"$f":"+COUNTIF($L$1:L336,\"=\"&4)","v":29},"Edgar County, IL Corn Basis"]
["ZSBAILED.CM","cmdty Edgar County, IL Soybean Basis Idx","Soybean","Basis","Illinois","County","Edgar County",{"$f":"+IF(LEN(home!$G$7)>0,instruments!C337=home!$G$7,TRUE)","v":false},true,{"$f":"+IF(LEN(home!$G$8)>0,instruments!E337=home!$G$8,TRUE)","v":false},{"$f":"+IF(LEN(home!$G$9)>0,instruments!F337=home!$G$9,TRUE)","v":true},2,{"$f":"+COUNTIF($L$1:L337,\"=\"&4)","v":29},"Edgar County, IL Soybean Basis"]
["ZCBASDED.CM","cmdty Edmunds County, SD Corn Basis Idx","Corn","Basis","South Dakota","County","Edmunds County",{"$f":"+IF(LEN(home!$G$7)>0,instruments!C338=home!$G$7,TRUE)","v":true},true,{"$f":"+IF(LEN(home!$G$8)>0,instruments!E338=home!$G$8,TRUE)","v":false},{"$f":"+IF(LEN(home!$G$9)>0,instruments!F338=home!$G$9,TRUE)","v":true},3,{"$f":"+COUNTIF($L$1:L338,\"=\"&4)","v":29},"Edmunds County, SD Corn Basis"]
["ZSBASDED.CM","cmdty Edmunds County, SD Soybean Basis Idx","Soybean","Basis","South Dakota","County","Edmunds County",{"$f":"+IF(LEN(home!$G$7)>0,instruments!C339=home!$G$7,TRUE)","v":false},true,{"$f":"+IF(LEN(home!$G$8)>0,instruments!E339=home!$G$8,TRUE)","v":false},{"$f":"+IF(LEN(home!$G$9)>0,instruments!F339=home!$G$9,TRUE)","v":true},2,{"$f":"+COUNTIF($L$1:L339,\"=\"&4)","v":29},"Edmunds County, SD Soybean Basis"]
["ZCBAILEA.CM","cmdty Edwards County, IL Corn Basis Idx","Corn","Basis","Illinois","County","Edwards County",{"$f":"+IF(LEN(home!$G$7)>0,instruments!C340=home!$G$7,TRUE)","v":true},true,{"$f":"+IF(LEN(home!$G$8)>0,instruments!E340=home!$G$8,TRUE)","v":false},{"$f":"+IF(LEN(home!$G$9)>0,instruments!F340=home!$G$9,TRUE)","v":true},3,{"$f":"+COUNTIF($L$1:L340,\"=\"&4)","v":29},"Edwards County, IL Corn Basis"]
["ZSBAILEA.CM","cmdty Edwards County, IL Soybean Basis Idx","Soybean","Basis","Illinois","County","Edwards County",{"$f":"+IF(LEN(home!$G$7)>0,instruments!C341=home!$G$7,TRUE)","v":false},true,{"$f":"+IF(LEN(home!$G$8)>0,instruments!E341=home!$G$8,TRUE)","v":false},{"$f":"+IF(LEN(home!$G$9)>0,instruments!F341=home!$G$9,TRUE)","v":true},2,{"$f":"+COUNTIF($L$1:L341,\"=\"&4)","v":29},"Edwards County, IL Soybean Basis"]
["ZCBAKSED.CM","cmdty Edwards County, KS Corn Basis Idx","Corn","Basis","Kansas","County","Edwards County",{"$f":"+IF(LEN(home!$G$7)>0,instruments!C342=home!$G$7,TRUE)","v":true},true,{"$f":"+IF(LEN(home!$G$8)>0,instruments!E342=home!$G$8,TRUE)","v":false},{"$f":"+IF(LEN(home!$G$9)>0,instruments!F342=home!$G$9,TRUE)","v":true},3,{"$f":"+COUNTIF($L$1:L342,\"=\"&4)","v":29},"Edwards County, KS Corn Basis"]
["ZSBAKSED.CM","cmdty Edwards County, KS Soybean Basis Idx","Soybean","Basis","Kansas","County","Edwards County",{"$f":"+IF(LEN(home!$G$7)>0,instruments!C343=home!$G$7,TRUE)","v":false},true,{"$f":"+IF(LEN(home!$G$8)>0,instruments!E343=home!$G$8,TRUE)","v":false},{"$f":"+IF(LEN(home!$G$9)>0,instruments!F343=home!$G$9,TRUE)","v":true},2,{"$f":"+COUNTIF($L$1:L343,\"=\"&4)","v":29},"Edwards County, KS Soybean Basis"]
["ZCBAILEF.CM","cmdty Effingham County, IL Corn Basis Idx","Corn","Basis","Illinois","County","Effingham County",{"$f":"+IF(LEN(home!$G$7)>0,instruments!C344=home!$G$7,TRUE)","v":true},true,{"$f":"+IF(LEN(home!$G$8)>0,instruments!E344=home!$G$8,TRUE)","v":false},{"$f":"+IF(LEN(home!$G$9)>0,instruments!F344=home!$G$9,TRUE)","v":true},3,{"$f":"+COUNTIF($L$1:L344,\"=\"&4)","v":29},"Effingham County, IL Corn Basis"]
["ZSBAILEF.CM","cmdty Effingham County, IL Soybean Basis Idx","Soybean","Basis","Illinois","County","Effingham County",{"$f":"+IF(LEN(home!$G$7)>0,instruments!C345=home!$G$7,TRUE)","v":false},true,{"$f":"+IF(LEN(home!$G$8)>0,instruments!E345=home!$G$8,TRUE)","v":false},{"$f":"+IF(LEN(home!$G$9)>0,instruments!F345=home!$G$9,TRUE)","v":true},2,{"$f":"+COUNTIF($L$1:L345,\"=\"&4)","v":29},"Effingham County, IL Soybean Basis"]
["ZCBAINEL.CM","cmdty Elkhart County, IN Corn Basis Idx","Corn","Basis","Indiana","County","Elkhart County",{"$f":"+IF(LEN(home!$G$7)>0,instruments!C346=home!$G$7,TRUE)","v":true},true,{"$f":"+IF(LEN(home!$G$8)>0,instruments!E346=home!$G$8,TRUE)","v":false},{"$f":"+IF(LEN(home!$G$9)>0,instruments!F346=home!$G$9,TRUE)","v":true},3,{"$f":"+COUNTIF($L$1:L346,\"=\"&4)","v":29},"Elkhart County, IN Corn Basis"]
["ZSBAINEL.CM","cmdty Elkhart County, IN Soybean Basis Idx","Soybean","Basis","Indiana","County","Elkhart County",{"$f":"+IF(LEN(home!$G$7)>0,instruments!C347=home!$G$7,TRUE)","v":false},true,{"$f":"+IF(LEN(home!$G$8)>0,instruments!E347=home!$G$8,TRUE)","v":false},{"$f":"+IF(LEN(home!$G$9)>0,instruments!F347=home!$G$9,TRUE)","v":true},2,{"$f":"+COUNTIF($L$1:L347,\"=\"&4)","v":29},"Elkhart County, IN Soybean Basis"]
["ZCBAKSEA.CM","cmdty Ellis County, KS Corn Basis Idx","Corn","Basis","Kansas","County","Ellis County",{"$f":"+IF(LEN(home!$G$7)>0,instruments!C348=home!$G$7,TRUE)","v":true},true,{"$f":"+IF(LEN(home!$G$8)>0,instruments!E348=home!$G$8,TRUE)","v":false},{"$f":"+IF(LEN(home!$G$9)>0,instruments!F348=home!$G$9,TRUE)","v":true},3,{"$f":"+COUNTIF($L$1:L348,\"=\"&4)","v":29},"Ellis County, KS Corn Basis"]
["ZSBAKSEA.CM","cmdty Ellis County, KS Soybean Basis Idx","Soybean","Basis","Kansas","County","Ellis County",{"$f":"+IF(LEN(home!$G$7)>0,instruments!C349=home!$G$7,TRUE)","v":false},true,{"$f":"+IF(LEN(home!$G$8)>0,instruments!E349=home!$G$8,TRUE)","v":false},{"$f":"+IF(LEN(home!$G$9)>0,instruments!F349=home!$G$9,TRUE)","v":true},2,{"$f":"+COUNTIF($L$1:L349,\"=\"&4)","v":29},"Ellis County, KS Soybean Basis"]
["ZCBAKSEB.CM","cmdty Ellsworth County, KS Corn Basis Idx","Corn","Basis","Kansas","County","Ellsworth County",{"$f":"+IF(LEN(home!$G$7)>0,instruments!C350=home!$G$7,TRUE)","v":true},true,{"$f":"+IF(LEN(home!$G$8)>0,instruments!E350=home!$G$8,TRUE)","v":false},{"$f":"+IF(LEN(home!$G$9)>0,instruments!F350=home!$G$9,TRUE)","v":true},3,{"$f":"+COUNTIF($L$1:L350,\"=\"&4)","v":29},"Ellsworth County, KS Corn Basis"]
["ZSBAKSEB.CM","cmdty Ellsworth County, KS Soybean Basis Idx","Soybean","Basis","Kansas","County","Ellsworth County",{"$f":"+IF(LEN(home!$G$7)>0,instruments!C351=home!$G$7,TRUE)","v":false},true,{"$f":"+IF(LEN(home!$G$8)>0,instruments!E351=home!$G$8,TRUE)","v":false},{"$f":"+IF(LEN(home!$G$9)>0,instruments!F351=home!$G$9,TRUE)","v":true},2,{"$f":"+COUNTIF($L$1:L351,\"=\"&4)","v":29},"Ellsworth County, KS Soybean Basis"]
["ZCBAIAEM.CM","cmdty Emmet County, IA Corn Basis Idx","Corn","Basis","Iowa","County","Emmet County",{"$f":"+IF(LEN(home!$G$7)>0,instruments!C352=home!$G$7,TRUE)","v":true},true,{"$f":"+IF(LEN(home!$G$8)>0,instruments!E352=home!$G$8,TRUE)","v":true},{"$f":"+IF(LEN(home!$G$9)>0,instruments!F352=home!$G$9,TRUE)","v":true},4,{"$f":"+COUNTIF($L$1:L352,\"=\"&4)","v":30},"Emmet County, IA Corn Basis"]
["ZSBAIAEM.CM","cmdty Emmet County, IA Soybean Basis Idx","Soybean","Basis","Iowa","County","Emmet County",{"$f":"+IF(LEN(home!$G$7)>0,instruments!C353=home!$G$7,TRUE)","v":false},true,{"$f":"+IF(LEN(home!$G$8)>0,instruments!E353=home!$G$8,TRUE)","v":true},{"$f":"+IF(LEN(home!$G$9)>0,instruments!F353=home!$G$9,TRUE)","v":true},3,{"$f":"+COUNTIF($L$1:L353,\"=\"&4)","v":30},"Emmet County, IA Soybean Basis"]
["ZSBANDEM.CM","cmdty Emmons County, ND Soybean Basis Idx","Soybean","Basis","North Dakota","County","Emmons County",{"$f":"+IF(LEN(home!$G$7)>0,instruments!C354=home!$G$7,TRUE)","v":false},true,{"$f":"+IF(LEN(home!$G$8)>0,instruments!E354=home!$G$8,TRUE)","v":false},{"$f":"+IF(LEN(home!$G$9)>0,instruments!F354=home!$G$9,TRUE)","v":true},2,{"$f":"+COUNTIF($L$1:L354,\"=\"&4)","v":30},"Emmons County, ND Soybean Basis"]
["ZCBAMNFA.CM","cmdty Faribault County, MN Corn Basis Idx","Corn","Basis","Minnesota","County","Faribault County",{"$f":"+IF(LEN(home!$G$7)>0,instruments!C355=home!$G$7,TRUE)","v":true},true,{"$f":"+IF(LEN(home!$G$8)>0,instruments!E355=home!$G$8,TRUE)","v":false},{"$f":"+IF(LEN(home!$G$9)>0,instruments!F355=home!$G$9,TRUE)","v":true},3,{"$f":"+COUNTIF($L$1:L355,\"=\"&4)","v":30},"Faribault County, MN Corn Basis"]
["ZSBAMNFA.CM","cmdty Faribault County, MN Soybean Basis Idx","Soybean","Basis","Minnesota","County","Faribault County",{"$f":"+IF(LEN(home!$G$7)>0,instruments!C356=home!$G$7,TRUE)","v":false},true,{"$f":"+IF(LEN(home!$G$8)>0,instruments!E356=home!$G$8,TRUE)","v":false},{"$f":"+IF(LEN(home!$G$9)>0,instruments!F356=home!$G$9,TRUE)","v":true},2,{"$f":"+COUNTIF($L$1:L356,\"=\"&4)","v":30},"Faribault County, MN Soybean Basis"]
["ZCBASDFB.CM","cmdty Faulk County, SD Corn Basis Idx","Corn","Basis","South Dakota","County","Faulk County",{"$f":"+IF(LEN(home!$G$7)>0,instruments!C357=home!$G$7,TRUE)","v":true},true,{"$f":"+IF(LEN(home!$G$8)>0,instruments!E357=home!$G$8,TRUE)","v":false},{"$f":"+IF(LEN(home!$G$9)>0,instruments!F357=home!$G$9,TRUE)","v":true},3,{"$f":"+COUNTIF($L$1:L357,\"=\"&4)","v":30},"Faulk County, SD Corn Basis"]
["ZSBASDFB.CM","cmdty Faulk County, SD Soybean Basis Idx","Soybean","Basis","South Dakota","County","Faulk County",{"$f":"+IF(LEN(home!$G$7)>0,instruments!C358=home!$G$7,TRUE)","v":false},true,{"$f":"+IF(LEN(home!$G$8)>0,instruments!E358=home!$G$8,TRUE)","v":false},{"$f":"+IF(LEN(home!$G$9)>0,instruments!F358=home!$G$9,TRUE)","v":true},2,{"$f":"+COUNTIF($L$1:L358,\"=\"&4)","v":30},"Faulk County, SD Soybean Basis"]
["ZCBAIAFA.CM","cmdty Fayette County, IA Corn Basis Idx","Corn","Basis","Iowa","County","Fayette County",{"$f":"+IF(LEN(home!$G$7)>0,instruments!C359=home!$G$7,TRUE)","v":true},true,{"$f":"+IF(LEN(home!$G$8)>0,instruments!E359=home!$G$8,TRUE)","v":true},{"$f":"+IF(LEN(home!$G$9)>0,instruments!F359=home!$G$9,TRUE)","v":true},4,{"$f":"+COUNTIF($L$1:L359,\"=\"&4)","v":31},"Fayette County, IA Corn Basis"]
["ZSBAIAFA.CM","cmdty Fayette County, IA Soybean Basis Idx","Soybean","Basis","Iowa","County","Fayette County",{"$f":"+IF(LEN(home!$G$7)>0,instruments!C360=home!$G$7,TRUE)","v":false},true,{"$f":"+IF(LEN(home!$G$8)>0,instruments!E360=home!$G$8,TRUE)","v":true},{"$f":"+IF(LEN(home!$G$9)>0,instruments!F360=home!$G$9,TRUE)","v":true},3,{"$f":"+COUNTIF($L$1:L360,\"=\"&4)","v":31},"Fayette County, IA Soybean Basis"]
["ZCBAILFA.CM","cmdty Fayette County, IL Corn Basis Idx","Corn","Basis","Illinois","County","Fayette County",{"$f":"+IF(LEN(home!$G$7)>0,instruments!C361=home!$G$7,TRUE)","v":true},true,{"$f":"+IF(LEN(home!$G$8)>0,instruments!E361=home!$G$8,TRUE)","v":false},{"$f":"+IF(LEN(home!$G$9)>0,instruments!F361=home!$G$9,TRUE)","v":true},3,{"$f":"+COUNTIF($L$1:L361,\"=\"&4)","v":31},"Fayette County, IL Corn Basis"]
["ZSBAILFA.CM","cmdty Fayette County, IL Soybean Basis Idx","Soybean","Basis","Illinois","County","Fayette County",{"$f":"+IF(LEN(home!$G$7)>0,instruments!C362=home!$G$7,TRUE)","v":false},true,{"$f":"+IF(LEN(home!$G$8)>0,instruments!E362=home!$G$8,TRUE)","v":false},{"$f":"+IF(LEN(home!$G$9)>0,instruments!F362=home!$G$9,TRUE)","v":true},2,{"$f":"+COUNTIF($L$1:L362,\"=\"&4)","v":31},"Fayette County, IL Soybean Basis"]
["ZCBAINFA.CM","cmdty Fayette County, IN Corn Basis Idx","Corn","Basis","Indiana","County","Fayette County",{"$f":"+IF(LEN(home!$G$7)>0,instruments!C363=home!$G$7,TRUE)","v":true},true,{"$f":"+IF(LEN(home!$G$8)>0,instruments!E363=home!$G$8,TRUE)","v":false},{"$f":"+IF(LEN(home!$G$9)>0,instruments!F363=home!$G$9,TRUE)","v":true},3,{"$f":"+COUNTIF($L$1:L363,\"=\"&4)","v":31},"Fayette County, IN Corn Basis"]
["ZSBAINFA.CM","cmdty Fayette County, IN Soybean Basis Idx","Soybean","Basis","Indiana","County","Fayette County",{"$f":"+IF(LEN(home!$G$7)>0,instruments!C364=home!$G$7,TRUE)","v":false},true,{"$f":"+IF(LEN(home!$G$8)>0,instruments!E364=home!$G$8,TRUE)","v":false},{"$f":"+IF(LEN(home!$G$9)>0,instruments!F364=home!$G$9,TRUE)","v":true},2,{"$f":"+COUNTIF($L$1:L364,\"=\"&4)","v":31},"Fayette County, IN Soybean Basis"]
["ZSBAOHFB.CM","cmdty Fayette County, OH Soybean Basis Idx","Soybean","Basis","Ohio","County","Fayette County",{"$f":"+IF(LEN(home!$G$7)>0,instruments!C365=home!$G$7,TRUE)","v":false},true,{"$f":"+IF(LEN(home!$G$8)>0,instruments!E365=home!$G$8,TRUE)","v":false},{"$f":"+IF(LEN(home!$G$9)>0,instruments!F365=home!$G$9,TRUE)","v":true},2,{"$f":"+COUNTIF($L$1:L365,\"=\"&4)","v":31},"Fayette County, OH Soybean Basis"]
["ZCBAMNFI.CM","cmdty Fillmore County, MN Corn Basis Idx","Corn","Basis","Minnesota","County","Fillmore County",{"$f":"+IF(LEN(home!$G$7)>0,instruments!C366=home!$G$7,TRUE)","v":true},true,{"$f":"+IF(LEN(home!$G$8)>0,instruments!E366=home!$G$8,TRUE)","v":false},{"$f":"+IF(LEN(home!$G$9)>0,instruments!F366=home!$G$9,TRUE)","v":true},3,{"$f":"+COUNTIF($L$1:L366,\"=\"&4)","v":31},"Fillmore County, MN Corn Basis"]
["ZSBAMNFI.CM","cmdty Fillmore County, MN Soybean Basis Idx","Soybean","Basis","Minnesota","County","Fillmore County",{"$f":"+IF(LEN(home!$G$7)>0,instruments!C367=home!$G$7,TRUE)","v":false},true,{"$f":"+IF(LEN(home!$G$8)>0,instruments!E367=home!$G$8,TRUE)","v":false},{"$f":"+IF(LEN(home!$G$9)>0,instruments!F367=home!$G$9,TRUE)","v":true},2,{"$f":"+COUNTIF($L$1:L367,\"=\"&4)","v":31},"Fillmore County, MN Soybean Basis"]
["ZCBANEFI.CM","cmdty Fillmore County, NE Corn Basis Idx","Corn","Basis","Nebraska","County","Fillmore County",{"$f":"+IF(LEN(home!$G$7)>0,instruments!C368=home!$G$7,TRUE)","v":true},true,{"$f":"+IF(LEN(home!$G$8)>0,instruments!E368=home!$G$8,TRUE)","v":false},{"$f":"+IF(LEN(home!$G$9)>0,instruments!F368=home!$G$9,TRUE)","v":true},3,{"$f":"+COUNTIF($L$1:L368,\"=\"&4)","v":31},"Fillmore County, NE Corn Basis"]
["ZSBANEFI.CM","cmdty Fillmore County, NE Soybean Basis Idx","Soybean","Basis","Nebraska","County","Fillmore County",{"$f":"+IF(LEN(home!$G$7)>0,instruments!C369=home!$G$7,TRUE)","v":false},true,{"$f":"+IF(LEN(home!$G$8)>0,instruments!E369=home!$G$8,TRUE)","v":false},{"$f":"+IF(LEN(home!$G$9)>0,instruments!F369=home!$G$9,TRUE)","v":true},2,{"$f":"+COUNTIF($L$1:L369,\"=\"&4)","v":31},"Fillmore County, NE Soybean Basis"]
["ZCBAKSFI.CM","cmdty Finney County, KS Corn Basis Idx","Corn","Basis","Kansas","County","Finney County",{"$f":"+IF(LEN(home!$G$7)>0,instruments!C370=home!$G$7,TRUE)","v":true},true,{"$f":"+IF(LEN(home!$G$8)>0,instruments!E370=home!$G$8,TRUE)","v":false},{"$f":"+IF(LEN(home!$G$9)>0,instruments!F370=home!$G$9,TRUE)","v":true},3,{"$f":"+COUNTIF($L$1:L370,\"=\"&4)","v":31},"Finney County, KS Corn Basis"]
["ZSBAKSFI.CM","cmdty Finney County, KS Soybean Basis Idx","Soybean","Basis","Kansas","County","Finney County",{"$f":"+IF(LEN(home!$G$7)>0,instruments!C371=home!$G$7,TRUE)","v":false},true,{"$f":"+IF(LEN(home!$G$8)>0,instruments!E371=home!$G$8,TRUE)","v":false},{"$f":"+IF(LEN(home!$G$9)>0,instruments!F371=home!$G$9,TRUE)","v":true},2,{"$f":"+COUNTIF($L$1:L371,\"=\"&4)","v":31},"Finney County, KS Soybean Basis"]
["ZCBAIAFL.CM","cmdty Floyd County, IA Corn Basis Idx","Corn","Basis","Iowa","County","Floyd County",{"$f":"+IF(LEN(home!$G$7)>0,instruments!C372=home!$G$7,TRUE)","v":true},true,{"$f":"+IF(LEN(home!$G$8)>0,instruments!E372=home!$G$8,TRUE)","v":true},{"$f":"+IF(LEN(home!$G$9)>0,instruments!F372=home!$G$9,TRUE)","v":true},4,{"$f":"+COUNTIF($L$1:L372,\"=\"&4)","v":32},"Floyd County, IA Corn Basis"]
["ZSBAIAFL.CM","cmdty Floyd County, IA Soybean Basis Idx","Soybean","Basis","Iowa","County","Floyd County",{"$f":"+IF(LEN(home!$G$7)>0,instruments!C373=home!$G$7,TRUE)","v":false},true,{"$f":"+IF(LEN(home!$G$8)>0,instruments!E373=home!$G$8,TRUE)","v":true},{"$f":"+IF(LEN(home!$G$9)>0,instruments!F373=home!$G$9,TRUE)","v":true},3,{"$f":"+COUNTIF($L$1:L373,\"=\"&4)","v":32},"Floyd County, IA Soybean Basis"]
["ZCBAILFO.CM","cmdty Ford County, IL Corn Basis Idx","Corn","Basis","Illinois","County","Ford County",{"$f":"+IF(LEN(home!$G$7)>0,instruments!C374=home!$G$7,TRUE)","v":true},true,{"$f":"+IF(LEN(home!$G$8)>0,instruments!E374=home!$G$8,TRUE)","v":false},{"$f":"+IF(LEN(home!$G$9)>0,instruments!F374=home!$G$9,TRUE)","v":true},3,{"$f":"+COUNTIF($L$1:L374,\"=\"&4)","v":32},"Ford County, IL Corn Basis"]
["ZSBAILFO.CM","cmdty Ford County, IL Soybean Basis Idx","Soybean","Basis","Illinois","County","Ford County",{"$f":"+IF(LEN(home!$G$7)>0,instruments!C375=home!$G$7,TRUE)","v":false},true,{"$f":"+IF(LEN(home!$G$8)>0,instruments!E375=home!$G$8,TRUE)","v":false},{"$f":"+IF(LEN(home!$G$9)>0,instruments!F375=home!$G$9,TRUE)","v":true},2,{"$f":"+COUNTIF($L$1:L375,\"=\"&4)","v":32},"Ford County, IL Soybean Basis"]
["ZCBAKSFO.CM","cmdty Ford County, KS Corn Basis Idx","Corn","Basis","Kansas","County","Ford County",{"$f":"+IF(LEN(home!$G$7)>0,instruments!C376=home!$G$7,TRUE)","v":true},true,{"$f":"+IF(LEN(home!$G$8)>0,instruments!E376=home!$G$8,TRUE)","v":false},{"$f":"+IF(LEN(home!$G$9)>0,instruments!F376=home!$G$9,TRUE)","v":true},3,{"$f":"+COUNTIF($L$1:L376,\"=\"&4)","v":32},"Ford County, KS Corn Basis"]
["ZSBAKSFO.CM","cmdty Ford County, KS Soybean Basis Idx","Soybean","Basis","Kansas","County","Ford County",{"$f":"+IF(LEN(home!$G$7)>0,instruments!C377=home!$G$7,TRUE)","v":false},true,{"$f":"+IF(LEN(home!$G$8)>0,instruments!E377=home!$G$8,TRUE)","v":false},{"$f":"+IF(LEN(home!$G$9)>0,instruments!F377=home!$G$9,TRUE)","v":true},2,{"$f":"+COUNTIF($L$1:L377,\"=\"&4)","v":32},"Ford County, KS Soybean Basis"]
["ZSBANDFO.CM","cmdty Foster County, ND Soybean Basis Idx","Soybean","Basis","North Dakota","County","Foster County",{"$f":"+IF(LEN(home!$G$7)>0,instruments!C378=home!$G$7,TRUE)","v":false},true,{"$f":"+IF(LEN(home!$G$8)>0,instruments!E378=home!$G$8,TRUE)","v":false},{"$f":"+IF(LEN(home!$G$9)>0,instruments!F378=home!$G$9,TRUE)","v":true},2,{"$f":"+COUNTIF($L$1:L378,\"=\"&4)","v":32},"Foster County, ND Soybean Basis"]
["ZCBAINFO.CM","cmdty Fountain County, IN Corn Basis Idx","Corn","Basis","Indiana","County","Fountain County",{"$f":"+IF(LEN(home!$G$7)>0,instruments!C379=home!$G$7,TRUE)","v":true},true,{"$f":"+IF(LEN(home!$G$8)>0,instruments!E379=home!$G$8,TRUE)","v":false},{"$f":"+IF(LEN(home!$G$9)>0,instruments!F379=home!$G$9,TRUE)","v":true},3,{"$f":"+COUNTIF($L$1:L379,\"=\"&4)","v":32},"Fountain County, IN Corn Basis"]
["ZSBAINFO.CM","cmdty Fountain County, IN Soybean Basis Idx","Soybean","Basis","Indiana","County","Fountain County",{"$f":"+IF(LEN(home!$G$7)>0,instruments!C380=home!$G$7,TRUE)","v":false},true,{"$f":"+IF(LEN(home!$G$8)>0,instruments!E380=home!$G$8,TRUE)","v":false},{"$f":"+IF(LEN(home!$G$9)>0,instruments!F380=home!$G$9,TRUE)","v":true},2,{"$f":"+COUNTIF($L$1:L380,\"=\"&4)","v":32},"Fountain County, IN Soybean Basis"]
["ZCBAIAFR.CM","cmdty Franklin County, IA Corn Basis Idx","Corn","Basis","Iowa","County","Franklin County",{"$f":"+IF(LEN(home!$G$7)>0,instruments!C381=home!$G$7,TRUE)","v":true},true,{"$f":"+IF(LEN(home!$G$8)>0,instruments!E381=home!$G$8,TRUE)","v":true},{"$f":"+IF(LEN(home!$G$9)>0,instruments!F381=home!$G$9,TRUE)","v":true},4,{"$f":"+COUNTIF($L$1:L381,\"=\"&4)","v":33},"Franklin County, IA Corn Basis"]
["ZSBAIAFR.CM","cmdty Franklin County, IA Soybean Basis Idx","Soybean","Basis","Iowa","County","Franklin County",{"$f":"+IF(LEN(home!$G$7)>0,instruments!C382=home!$G$7,TRUE)","v":false},true,{"$f":"+IF(LEN(home!$G$8)>0,instruments!E382=home!$G$8,TRUE)","v":true},{"$f":"+IF(LEN(home!$G$9)>0,instruments!F382=home!$G$9,TRUE)","v":true},3,{"$f":"+COUNTIF($L$1:L382,\"=\"&4)","v":33},"Franklin County, IA Soybean Basis"]
["ZCBAILFR.CM","cmdty Franklin County, IL Corn Basis Idx","Corn","Basis","Illinois","County","Franklin County",{"$f":"+IF(LEN(home!$G$7)>0,instruments!C383=home!$G$7,TRUE)","v":true},true,{"$f":"+IF(LEN(home!$G$8)>0,instruments!E383=home!$G$8,TRUE)","v":false},{"$f":"+IF(LEN(home!$G$9)>0,instruments!F383=home!$G$9,TRUE)","v":true},3,{"$f":"+COUNTIF($L$1:L383,\"=\"&4)","v":33},"Franklin County, IL Corn Basis"]
["ZSBAILFR.CM","cmdty Franklin County, IL Soybean Basis Idx","Soybean","Basis","Illinois","County","Franklin County",{"$f":"+IF(LEN(home!$G$7)>0,instruments!C384=home!$G$7,TRUE)","v":false},true,{"$f":"+IF(LEN(home!$G$8)>0,instruments!E384=home!$G$8,TRUE)","v":false},{"$f":"+IF(LEN(home!$G$9)>0,instruments!F384=home!$G$9,TRUE)","v":true},2,{"$f":"+COUNTIF($L$1:L384,\"=\"&4)","v":33},"Franklin County, IL Soybean Basis"]
["ZCBAKSFR.CM","cmdty Franklin County, KS Corn Basis Idx","Corn","Basis","Kansas","County","Franklin County",{"$f":"+IF(LEN(home!$G$7)>0,instruments!C385=home!$G$7,TRUE)","v":true},true,{"$f":"+IF(LEN(home!$G$8)>0,instruments!E385=home!$G$8,TRUE)","v":false},{"$f":"+IF(LEN(home!$G$9)>0,instruments!F385=home!$G$9,TRUE)","v":true},3,{"$f":"+COUNTIF($L$1:L385,\"=\"&4)","v":33},"Franklin County, KS Corn Basis"]
["ZSBAKSFR.CM","cmdty Franklin County, KS Soybean Basis Idx","Soybean","Basis","Kansas","County","Franklin County",{"$f":"+IF(LEN(home!$G$7)>0,instruments!C386=home!$G$7,TRUE)","v":false},true,{"$f":"+IF(LEN(home!$G$8)>0,instruments!E386=home!$G$8,TRUE)","v":false},{"$f":"+IF(LEN(home!$G$9)>0,instruments!F386=home!$G$9,TRUE)","v":true},{"$f":"+COUNTIF(H386:K386,TRUE)","v":2},{"$f":"+COUNTIF($L$1:L386,\"=\"&4)","v":33},"Franklin County, KS Soybean Basis"]
["ZCBANEFR.CM","cmdty Franklin County, NE Corn Basis Idx","Corn","Basis","Nebraska","County","Franklin County",{"$f":"+IF(LEN(home!$G$7)>0,instruments!C387=home!$G$7,TRUE)","v":true},{"$f":"+D387=\"Basis\"","v":true},{"$f":"+IF(LEN(home!$G$8)>0,instruments!E387=home!$G$8,TRUE)","v":false},{"$f":"+IF(LEN(home!$G$9)>0,instruments!F387=home!$G$9,TRUE)","v":true},3,{"$f":"+COUNTIF($L$1:L387,\"=\"&4)","v":33},{"$f":"+MID(B387,FIND(\" \",B387,1)+1,LEN(B387)-FIND(\" \",B387,1)-4)","v":"Franklin County, NE Corn Basis"}]
["ZSBANEFR.CM","cmdty Franklin County, NE Soybean Basis Idx","Soybean","Basis","Nebraska","County","Franklin County",{"$f":"+IF(LEN(home!$G$7)>0,instruments!C388=home!$G$7,TRUE)","v":false},true,{"$f":"+IF(LEN(home!$G$8)>0,instruments!E388=home!$G$8,TRUE)","v":false},{"$f":"+IF(LEN(home!$G$9)>0,instruments!F388=home!$G$9,TRUE)","v":true},2,{"$f":"+COUNTIF($L$1:L388,\"=\"&4)","v":33},"Franklin County, NE Soybean Basis"]
["ZSBAOHFR.CM","cmdty Franklin County, OH Soybean Basis Idx","Soybean","Basis","Ohio","County","Franklin County",{"$f":"+IF(LEN(home!$G$7)>0,instruments!C389=home!$G$7,TRUE)","v":false},true,{"$f":"+IF(LEN(home!$G$8)>0,instruments!E389=home!$G$8,TRUE)","v":false},{"$f":"+IF(LEN(home!$G$9)>0,instruments!F389=home!$G$9,TRUE)","v":true},2,{"$f":"+COUNTIF($L$1:L389,\"=\"&4)","v":33},"Franklin County, OH Soybean Basis"]
["ZCBAMNFR.CM","cmdty Freeborn County, MN Corn Basis Idx","Corn","Basis","Minnesota","County","Freeborn County",{"$f":"+IF(LEN(home!$G$7)>0,instruments!C390=home!$G$7,TRUE)","v":true},true,{"$f":"+IF(LEN(home!$G$8)>0,instruments!E390=home!$G$8,TRUE)","v":false},{"$f":"+IF(LEN(home!$G$9)>0,instruments!F390=home!$G$9,TRUE)","v":true},3,{"$f":"+COUNTIF($L$1:L390,\"=\"&4)","v":33},"Freeborn County, MN Corn Basis"]
["ZSBAMNFR.CM","cmdty Freeborn County, MN Soybean Basis Idx","Soybean","Basis","Minnesota","County","Freeborn County",{"$f":"+IF(LEN(home!$G$7)>0,instruments!C391=home!$G$7,TRUE)","v":false},true,{"$f":"+IF(LEN(home!$G$8)>0,instruments!E391=home!$G$8,TRUE)","v":false},{"$f":"+IF(LEN(home!$G$9)>0,instruments!F391=home!$G$9,TRUE)","v":true},2,{"$f":"+COUNTIF($L$1:L391,\"=\"&4)","v":33},"Freeborn County, MN Soybean Basis"]
["ZCBAIAFB.CM","cmdty Fremont County, IA Corn Basis Idx","Corn","Basis","Iowa","County","Fremont County",{"$f":"+IF(LEN(home!$G$7)>0,instruments!C392=home!$G$7,TRUE)","v":true},true,{"$f":"+IF(LEN(home!$G$8)>0,instruments!E392=home!$G$8,TRUE)","v":true},{"$f":"+IF(LEN(home!$G$9)>0,instruments!F392=home!$G$9,TRUE)","v":true},4,{"$f":"+COUNTIF($L$1:L392,\"=\"&4)","v":34},"Fremont County, IA Corn Basis"]
["ZSBAIAFB.CM","cmdty Fremont County, IA Soybean Basis Idx","Soybean","Basis","Iowa","County","Fremont County",{"$f":"+IF(LEN(home!$G$7)>0,instruments!C393=home!$G$7,TRUE)","v":false},true,{"$f":"+IF(LEN(home!$G$8)>0,instruments!E393=home!$G$8,TRUE)","v":true},{"$f":"+IF(LEN(home!$G$9)>0,instruments!F393=home!$G$9,TRUE)","v":true},3,{"$f":"+COUNTIF($L$1:L393,\"=\"&4)","v":34},"Fremont County, IA Soybean Basis"]
["ZCBANEFA.CM","cmdty Frontier County, NE Corn Basis Idx","Corn","Basis","Nebraska","County","Frontier County",{"$f":"+IF(LEN(home!$G$7)>0,instruments!C394=home!$G$7,TRUE)","v":true},true,{"$f":"+IF(LEN(home!$G$8)>0,instruments!E394=home!$G$8,TRUE)","v":false},{"$f":"+IF(LEN(home!$G$9)>0,instruments!F394=home!$G$9,TRUE)","v":true},3,{"$f":"+COUNTIF($L$1:L394,\"=\"&4)","v":34},"Frontier County, NE Corn Basis"]
["ZSBANEFA.CM","cmdty Frontier County, NE Soybean Basis Idx","Soybean","Basis","Nebraska","County","Frontier County",{"$f":"+IF(LEN(home!$G$7)>0,instruments!C395=home!$G$7,TRUE)","v":false},true,{"$f":"+IF(LEN(home!$G$8)>0,instruments!E395=home!$G$8,TRUE)","v":false},{"$f":"+IF(LEN(home!$G$9)>0,instruments!F395=home!$G$9,TRUE)","v":true},2,{"$f":"+COUNTIF($L$1:L395,\"=\"&4)","v":34},"Frontier County, NE Soybean Basis"]
["ZCBAILFU.CM","cmdty Fulton County, IL Corn Basis Idx","Corn","Basis","Illinois","County","Fulton County",{"$f":"+IF(LEN(home!$G$7)>0,instruments!C396=home!$G$7,TRUE)","v":true},true,{"$f":"+IF(LEN(home!$G$8)>0,instruments!E396=home!$G$8,TRUE)","v":false},{"$f":"+IF(LEN(home!$G$9)>0,instruments!F396=home!$G$9,TRUE)","v":true},3,{"$f":"+COUNTIF($L$1:L396,\"=\"&4)","v":34},"Fulton County, IL Corn Basis"]
["ZSBAILFU.CM","cmdty Fulton County, IL Soybean Basis Idx","Soybean","Basis","Illinois","County","Fulton County",{"$f":"+IF(LEN(home!$G$7)>0,instruments!C397=home!$G$7,TRUE)","v":false},true,{"$f":"+IF(LEN(home!$G$8)>0,instruments!E397=home!$G$8,TRUE)","v":false},{"$f":"+IF(LEN(home!$G$9)>0,instruments!F397=home!$G$9,TRUE)","v":true},2,{"$f":"+COUNTIF($L$1:L397,\"=\"&4)","v":34},"Fulton County, IL Soybean Basis"]
["ZCBAINFU.CM","cmdty Fulton County, IN Corn Basis Idx","Corn","Basis","Indiana","County","Fulton County",{"$f":"+IF(LEN(home!$G$7)>0,instruments!C398=home!$G$7,TRUE)","v":true},true,{"$f":"+IF(LEN(home!$G$8)>0,instruments!E398=home!$G$8,TRUE)","v":false},{"$f":"+IF(LEN(home!$G$9)>0,instruments!F398=home!$G$9,TRUE)","v":true},3,{"$f":"+COUNTIF($L$1:L398,\"=\"&4)","v":34},"Fulton County, IN Corn Basis"]
["ZSBAINFU.CM","cmdty Fulton County, IN Soybean Basis Idx","Soybean","Basis","Indiana","County","Fulton County",{"$f":"+IF(LEN(home!$G$7)>0,instruments!C399=home!$G$7,TRUE)","v":false},true,{"$f":"+IF(LEN(home!$G$8)>0,instruments!E399=home!$G$8,TRUE)","v":false},{"$f":"+IF(LEN(home!$G$9)>0,instruments!F399=home!$G$9,TRUE)","v":true},2,{"$f":"+COUNTIF($L$1:L399,\"=\"&4)","v":34},"Fulton County, IN Soybean Basis"]
["ZSBAOHFU.CM","cmdty Fulton County, OH Soybean Basis Idx","Soybean","Basis","Ohio","County","Fulton County",{"$f":"+IF(LEN(home!$G$7)>0,instruments!C400=home!$G$7,TRUE)","v":false},true,{"$f":"+IF(LEN(home!$G$8)>0,instruments!E400=home!$G$8,TRUE)","v":false},{"$f":"+IF(LEN(home!$G$9)>0,instruments!F400=home!$G$9,TRUE)","v":true},2,{"$f":"+COUNTIF($L$1:L400,\"=\"&4)","v":34},"Fulton County, OH Soybean Basis"]
["ZCBANEFU.CM","cmdty Furnas County, NE Corn Basis Idx","Corn","Basis","Nebraska","County","Furnas County",{"$f":"+IF(LEN(home!$G$7)>0,instruments!C401=home!$G$7,TRUE)","v":true},true,{"$f":"+IF(LEN(home!$G$8)>0,instruments!E401=home!$G$8,TRUE)","v":false},{"$f":"+IF(LEN(home!$G$9)>0,instruments!F401=home!$G$9,TRUE)","v":true},3,{"$f":"+COUNTIF($L$1:L401,\"=\"&4)","v":34},"Furnas County, NE Corn Basis"]
["ZSBANEFU.CM","cmdty Furnas County, NE Soybean Basis Idx","Soybean","Basis","Nebraska","County","Furnas County",{"$f":"+IF(LEN(home!$G$7)>0,instruments!C402=home!$G$7,TRUE)","v":false},true,{"$f":"+IF(LEN(home!$G$8)>0,instruments!E402=home!$G$8,TRUE)","v":false},{"$f":"+IF(LEN(home!$G$9)>0,instruments!F402=home!$G$9,TRUE)","v":true},2,{"$f":"+COUNTIF($L$1:L402,\"=\"&4)","v":34},"Furnas County, NE Soybean Basis"]
["ZCBANEGA.CM","cmdty Gage County, NE Corn Basis Idx","Corn","Basis","Nebraska","County","Gage County",{"$f":"+IF(LEN(home!$G$7)>0,instruments!C403=home!$G$7,TRUE)","v":true},true,{"$f":"+IF(LEN(home!$G$8)>0,instruments!E403=home!$G$8,TRUE)","v":false},{"$f":"+IF(LEN(home!$G$9)>0,instruments!F403=home!$G$9,TRUE)","v":true},3,{"$f":"+COUNTIF($L$1:L403,\"=\"&4)","v":34},"Gage County, NE Corn Basis"]
["ZSBANEGA.CM","cmdty Gage County, NE Soybean Basis Idx","Soybean","Basis","Nebraska","County","Gage County",{"$f":"+IF(LEN(home!$G$7)>0,instruments!C404=home!$G$7,TRUE)","v":false},true,{"$f":"+IF(LEN(home!$G$8)>0,instruments!E404=home!$G$8,TRUE)","v":false},{"$f":"+IF(LEN(home!$G$9)>0,instruments!F404=home!$G$9,TRUE)","v":true},2,{"$f":"+COUNTIF($L$1:L404,\"=\"&4)","v":34},"Gage County, NE Soybean Basis"]
["ZCBAILGA.CM","cmdty Gallatin County, IL Corn Basis Idx","Corn","Basis","Illinois","County","Gallatin County",{"$f":"+IF(LEN(home!$G$7)>0,instruments!C405=home!$G$7,TRUE)","v":true},true,{"$f":"+IF(LEN(home!$G$8)>0,instruments!E405=home!$G$8,TRUE)","v":false},{"$f":"+IF(LEN(home!$G$9)>0,instruments!F405=home!$G$9,TRUE)","v":true},3,{"$f":"+COUNTIF($L$1:L405,\"=\"&4)","v":34},"Gallatin County, IL Corn Basis"]
["ZSBAILGA.CM","cmdty Gallatin County, IL Soybean Basis Idx","Soybean","Basis","Illinois","County","Gallatin County",{"$f":"+IF(LEN(home!$G$7)>0,instruments!C406=home!$G$7,TRUE)","v":false},true,{"$f":"+IF(LEN(home!$G$8)>0,instruments!E406=home!$G$8,TRUE)","v":false},{"$f":"+IF(LEN(home!$G$9)>0,instruments!F406=home!$G$9,TRUE)","v":true},2,{"$f":"+COUNTIF($L$1:L406,\"=\"&4)","v":34},"Gallatin County, IL Soybean Basis"]
["ZCBAKSGE.CM","cmdty Geary County, KS Corn Basis Idx","Corn","Basis","Kansas","County","Geary County",{"$f":"+IF(LEN(home!$G$7)>0,instruments!C407=home!$G$7,TRUE)","v":true},true,{"$f":"+IF(LEN(home!$G$8)>0,instruments!E407=home!$G$8,TRUE)","v":false},{"$f":"+IF(LEN(home!$G$9)>0,instruments!F407=home!$G$9,TRUE)","v":true},3,{"$f":"+COUNTIF($L$1:L407,\"=\"&4)","v":34},"Geary County, KS Corn Basis"]
["ZSBAKSGE.CM","cmdty Geary County, KS Soybean Basis Idx","Soybean","Basis","Kansas","County","Geary County",{"$f":"+IF(LEN(home!$G$7)>0,instruments!C408=home!$G$7,TRUE)","v":false},true,{"$f":"+IF(LEN(home!$G$8)>0,instruments!E408=home!$G$8,TRUE)","v":false},{"$f":"+IF(LEN(home!$G$9)>0,instruments!F408=home!$G$9,TRUE)","v":true},2,{"$f":"+COUNTIF($L$1:L408,\"=\"&4)","v":34},"Geary County, KS Soybean Basis"]
["ZSBAOHGE.CM","cmdty Geauga County, OH Soybean Basis Idx","Soybean","Basis","Ohio","County","Geauga County",{"$f":"+IF(LEN(home!$G$7)>0,instruments!C409=home!$G$7,TRUE)","v":false},true,{"$f":"+IF(LEN(home!$G$8)>0,instruments!E409=home!$G$8,TRUE)","v":false},{"$f":"+IF(LEN(home!$G$9)>0,instruments!F409=home!$G$9,TRUE)","v":true},2,{"$f":"+COUNTIF($L$1:L409,\"=\"&4)","v":34},"Geauga County, OH Soybean Basis"]
["ZCBAMOGE.CM","cmdty Gentry County, MO Corn Basis Idx","Corn","Basis","Missouri","County","Gentry County",{"$f":"+IF(LEN(home!$G$7)>0,instruments!C410=home!$G$7,TRUE)","v":true},true,{"$f":"+IF(LEN(home!$G$8)>0,instruments!E410=home!$G$8,TRUE)","v":false},{"$f":"+IF(LEN(home!$G$9)>0,instruments!F410=home!$G$9,TRUE)","v":true},3,{"$f":"+COUNTIF($L$1:L410,\"=\"&4)","v":34},"Gentry County, MO Corn Basis"]
["ZSBAMOGE.CM","cmdty Gentry County, MO Soybean Basis Idx","Soybean","Basis","Missouri","County","Gentry County",{"$f":"+IF(LEN(home!$G$7)>0,instruments!C411=home!$G$7,TRUE)","v":false},true,{"$f":"+IF(LEN(home!$G$8)>0,instruments!E411=home!$G$8,TRUE)","v":false},{"$f":"+IF(LEN(home!$G$9)>0,instruments!F411=home!$G$9,TRUE)","v":true},2,{"$f":"+COUNTIF($L$1:L411,\"=\"&4)","v":34},"Gentry County, MO Soybean Basis"]
["ZCBAINGI.CM","cmdty Gibson County, IN Corn Basis Idx","Corn","Basis","Indiana","County","Gibson County",{"$f":"+IF(LEN(home!$G$7)>0,instruments!C412=home!$G$7,TRUE)","v":true},true,{"$f":"+IF(LEN(home!$G$8)>0,instruments!E412=home!$G$8,TRUE)","v":false},{"$f":"+IF(LEN(home!$G$9)>0,instruments!F412=home!$G$9,TRUE)","v":true},3,{"$f":"+COUNTIF($L$1:L412,\"=\"&4)","v":34},"Gibson County, IN Corn Basis"]
["ZSBAINGI.CM","cmdty Gibson County, IN Soybean Basis Idx","Soybean","Basis","Indiana","County","Gibson County",{"$f":"+IF(LEN(home!$G$7)>0,instruments!C413=home!$G$7,TRUE)","v":false},true,{"$f":"+IF(LEN(home!$G$8)>0,instruments!E413=home!$G$8,TRUE)","v":false},{"$f":"+IF(LEN(home!$G$9)>0,instruments!F413=home!$G$9,TRUE)","v":true},2,{"$f":"+COUNTIF($L$1:L413,\"=\"&4)","v":34},"Gibson County, IN Soybean Basis"]
["ZSBANDGO.CM","cmdty Golden Valley County, ND Soybean Basis Idx","Soybean","Basis","North Dakota","County","Golden Valley County",{"$f":"+IF(LEN(home!$G$7)>0,instruments!C414=home!$G$7,TRUE)","v":false},true,{"$f":"+IF(LEN(home!$G$8)>0,instruments!E414=home!$G$8,TRUE)","v":false},{"$f":"+IF(LEN(home!$G$9)>0,instruments!F414=home!$G$9,TRUE)","v":true},2,{"$f":"+COUNTIF($L$1:L414,\"=\"&4)","v":34},"Golden Valley County, ND Soybean Basis"]
["ZCBAMNGO.CM","cmdty Goodhue County, MN Corn Basis Idx","Corn","Basis","Minnesota","County","Goodhue County",{"$f":"+IF(LEN(home!$G$7)>0,instruments!C415=home!$G$7,TRUE)","v":true},true,{"$f":"+IF(LEN(home!$G$8)>0,instruments!E415=home!$G$8,TRUE)","v":false},{"$f":"+IF(LEN(home!$G$9)>0,instruments!F415=home!$G$9,TRUE)","v":true},3,{"$f":"+COUNTIF($L$1:L415,\"=\"&4)","v":34},"Goodhue County, MN Corn Basis"]
["ZSBAMNGO.CM","cmdty Goodhue County, MN Soybean Basis Idx","Soybean","Basis","Minnesota","County","Goodhue County",{"$f":"+IF(LEN(home!$G$7)>0,instruments!C416=home!$G$7,TRUE)","v":false},true,{"$f":"+IF(LEN(home!$G$8)>0,instruments!E416=home!$G$8,TRUE)","v":false},{"$f":"+IF(LEN(home!$G$9)>0,instruments!F416=home!$G$9,TRUE)","v":true},2,{"$f":"+COUNTIF($L$1:L416,\"=\"&4)","v":34},"Goodhue County, MN Soybean Basis"]
["ZCBANEGO.CM","cmdty Gosper County, NE Corn Basis Idx","Corn","Basis","Nebraska","County","Gosper County",{"$f":"+IF(LEN(home!$G$7)>0,instruments!C417=home!$G$7,TRUE)","v":true},true,{"$f":"+IF(LEN(home!$G$8)>0,instruments!E417=home!$G$8,TRUE)","v":false},{"$f":"+IF(LEN(home!$G$9)>0,instruments!F417=home!$G$9,TRUE)","v":true},3,{"$f":"+COUNTIF($L$1:L417,\"=\"&4)","v":34},"Gosper County, NE Corn Basis"]
["ZSBANEGO.CM","cmdty Gosper County, NE Soybean Basis Idx","Soybean","Basis","Nebraska","County","Gosper County",{"$f":"+IF(LEN(home!$G$7)>0,instruments!C418=home!$G$7,TRUE)","v":false},true,{"$f":"+IF(LEN(home!$G$8)>0,instruments!E418=home!$G$8,TRUE)","v":false},{"$f":"+IF(LEN(home!$G$9)>0,instruments!F418=home!$G$9,TRUE)","v":true},2,{"$f":"+COUNTIF($L$1:L418,\"=\"&4)","v":34},"Gosper County, NE Soybean Basis"]
["ZCBAKSGO.CM","cmdty Gove County, KS Corn Basis Idx","Corn","Basis","Kansas","County","Gove County",{"$f":"+IF(LEN(home!$G$7)>0,instruments!C419=home!$G$7,TRUE)","v":true},true,{"$f":"+IF(LEN(home!$G$8)>0,instruments!E419=home!$G$8,TRUE)","v":false},{"$f":"+IF(LEN(home!$G$9)>0,instruments!F419=home!$G$9,TRUE)","v":true},3,{"$f":"+COUNTIF($L$1:L419,\"=\"&4)","v":34},"Gove County, KS Corn Basis"]
["ZSBAKSGO.CM","cmdty Gove County, KS Soybean Basis Idx","Soybean","Basis","Kansas","County","Gove County",{"$f":"+IF(LEN(home!$G$7)>0,instruments!C420=home!$G$7,TRUE)","v":false},true,{"$f":"+IF(LEN(home!$G$8)>0,instruments!E420=home!$G$8,TRUE)","v":false},{"$f":"+IF(LEN(home!$G$9)>0,instruments!F420=home!$G$9,TRUE)","v":true},2,{"$f":"+COUNTIF($L$1:L420,\"=\"&4)","v":34},"Gove County, KS Soybean Basis"]
["ZCBAKSGR.CM","cmdty Graham County, KS Corn Basis Idx","Corn","Basis","Kansas","County","Graham County",{"$f":"+IF(LEN(home!$G$7)>0,instruments!C421=home!$G$7,TRUE)","v":true},true,{"$f":"+IF(LEN(home!$G$8)>0,instruments!E421=home!$G$8,TRUE)","v":false},{"$f":"+IF(LEN(home!$G$9)>0,instruments!F421=home!$G$9,TRUE)","v":true},3,{"$f":"+COUNTIF($L$1:L421,\"=\"&4)","v":34},"Graham County, KS Corn Basis"]
["ZSBAKSGR.CM","cmdty Graham County, KS Soybean Basis Idx","Soybean","Basis","Kansas","County","Graham County",{"$f":"+IF(LEN(home!$G$7)>0,instruments!C422=home!$G$7,TRUE)","v":false},true,{"$f":"+IF(LEN(home!$G$8)>0,instruments!E422=home!$G$8,TRUE)","v":false},{"$f":"+IF(LEN(home!$G$9)>0,instruments!F422=home!$G$9,TRUE)","v":true},2,{"$f":"+COUNTIF($L$1:L422,\"=\"&4)","v":34},"Graham County, KS Soybean Basis"]
["ZSBANDGR.CM","cmdty Grand Forks County, ND Soybean Basis Idx","Soybean","Basis","North Dakota","County","Grand Forks County",{"$f":"+IF(LEN(home!$G$7)>0,instruments!C423=home!$G$7,TRUE)","v":false},true,{"$f":"+IF(LEN(home!$G$8)>0,instruments!E423=home!$G$8,TRUE)","v":false},{"$f":"+IF(LEN(home!$G$9)>0,instruments!F423=home!$G$9,TRUE)","v":true},2,{"$f":"+COUNTIF($L$1:L423,\"=\"&4)","v":34},"Grand Forks County, ND Soybean Basis"]
["ZCBAINGR.CM","cmdty Grant County, IN Corn Basis Idx","Corn","Basis","Indiana","County","Grant County",{"$f":"+IF(LEN(home!$G$7)>0,instruments!C424=home!$G$7,TRUE)","v":true},true,{"$f":"+IF(LEN(home!$G$8)>0,instruments!E424=home!$G$8,TRUE)","v":false},{"$f":"+IF(LEN(home!$G$9)>0,instruments!F424=home!$G$9,TRUE)","v":true},3,{"$f":"+COUNTIF($L$1:L424,\"=\"&4)","v":34},"Grant County, IN Corn Basis"]
["ZSBAINGR.CM","cmdty Grant County, IN Soybean Basis Idx","Soybean","Basis","Indiana","County","Grant County",{"$f":"+IF(LEN(home!$G$7)>0,instruments!C425=home!$G$7,TRUE)","v":false},true,{"$f":"+IF(LEN(home!$G$8)>0,instruments!E425=home!$G$8,TRUE)","v":false},{"$f":"+IF(LEN(home!$G$9)>0,instruments!F425=home!$G$9,TRUE)","v":true},2,{"$f":"+COUNTIF($L$1:L425,\"=\"&4)","v":34},"Grant County, IN Soybean Basis"]
["ZCBAKSGA.CM","cmdty Grant County, KS Corn Basis Idx","Corn","Basis","Kansas","County","Grant County",{"$f":"+IF(LEN(home!$G$7)>0,instruments!C426=home!$G$7,TRUE)","v":true},true,{"$f":"+IF(LEN(home!$G$8)>0,instruments!E426=home!$G$8,TRUE)","v":false},{"$f":"+IF(LEN(home!$G$9)>0,instruments!F426=home!$G$9,TRUE)","v":true},3,{"$f":"+COUNTIF($L$1:L426,\"=\"&4)","v":34},"Grant County, KS Corn Basis"]
["ZSBAKSGA.CM","cmdty Grant County, KS Soybean Basis Idx","Soybean","Basis","Kansas","County","Grant County",{"$f":"+IF(LEN(home!$G$7)>0,instruments!C427=home!$G$7,TRUE)","v":false},true,{"$f":"+IF(LEN(home!$G$8)>0,instruments!E427=home!$G$8,TRUE)","v":false},{"$f":"+IF(LEN(home!$G$9)>0,instruments!F427=home!$G$9,TRUE)","v":true},2,{"$f":"+COUNTIF($L$1:L427,\"=\"&4)","v":34},"Grant County, KS Soybean Basis"]
["ZCBAMNGR.CM","cmdty Grant County, MN Corn Basis Idx","Corn","Basis","Minnesota","County","Grant County",{"$f":"+IF(LEN(home!$G$7)>0,instruments!C428=home!$G$7,TRUE)","v":true},true,{"$f":"+IF(LEN(home!$G$8)>0,instruments!E428=home!$G$8,TRUE)","v":false},{"$f":"+IF(LEN(home!$G$9)>0,instruments!F428=home!$G$9,TRUE)","v":true},3,{"$f":"+COUNTIF($L$1:L428,\"=\"&4)","v":34},"Grant County, MN Corn Basis"]
["ZSBAMNGR.CM","cmdty Grant County, MN Soybean Basis Idx","Soybean","Basis","Minnesota","County","Grant County",{"$f":"+IF(LEN(home!$G$7)>0,instruments!C429=home!$G$7,TRUE)","v":false},true,{"$f":"+IF(LEN(home!$G$8)>0,instruments!E429=home!$G$8,TRUE)","v":false},{"$f":"+IF(LEN(home!$G$9)>0,instruments!F429=home!$G$9,TRUE)","v":true},2,{"$f":"+COUNTIF($L$1:L429,\"=\"&4)","v":34},"Grant County, MN Soybean Basis"]
["ZCBASDGR.CM","cmdty Grant County, SD Corn Basis Idx","Corn","Basis","South Dakota","County","Grant County",{"$f":"+IF(LEN(home!$G$7)>0,instruments!C430=home!$G$7,TRUE)","v":true},true,{"$f":"+IF(LEN(home!$G$8)>0,instruments!E430=home!$G$8,TRUE)","v":false},{"$f":"+IF(LEN(home!$G$9)>0,instruments!F430=home!$G$9,TRUE)","v":true},3,{"$f":"+COUNTIF($L$1:L430,\"=\"&4)","v":34},"Grant County, SD Corn Basis"]
["ZSBASDGR.CM","cmdty Grant County, SD Soybean Basis Idx","Soybean","Basis","South Dakota","County","Grant County",{"$f":"+IF(LEN(home!$G$7)>0,instruments!C431=home!$G$7,TRUE)","v":false},true,{"$f":"+IF(LEN(home!$G$8)>0,instruments!E431=home!$G$8,TRUE)","v":false},{"$f":"+IF(LEN(home!$G$9)>0,instruments!F431=home!$G$9,TRUE)","v":true},2,{"$f":"+COUNTIF($L$1:L431,\"=\"&4)","v":34},"Grant County, SD Soybean Basis"]
["ZCBAKSGB.CM","cmdty Gray County, KS Corn Basis Idx","Corn","Basis","Kansas","County","Gray County",{"$f":"+IF(LEN(home!$G$7)>0,instruments!C432=home!$G$7,TRUE)","v":true},true,{"$f":"+IF(LEN(home!$G$8)>0,instruments!E432=home!$G$8,TRUE)","v":false},{"$f":"+IF(LEN(home!$G$9)>0,instruments!F432=home!$G$9,TRUE)","v":true},3,{"$f":"+COUNTIF($L$1:L432,\"=\"&4)","v":34},"Gray County, KS Corn Basis"]
["ZSBAKSGB.CM","cmdty Gray County, KS Soybean Basis Idx","Soybean","Basis","Kansas","County","Gray County",{"$f":"+IF(LEN(home!$G$7)>0,instruments!C433=home!$G$7,TRUE)","v":false},true,{"$f":"+IF(LEN(home!$G$8)>0,instruments!E433=home!$G$8,TRUE)","v":false},{"$f":"+IF(LEN(home!$G$9)>0,instruments!F433=home!$G$9,TRUE)","v":true},2,{"$f":"+COUNTIF($L$1:L433,\"=\"&4)","v":34},"Gray County, KS Soybean Basis"]
["ZCBAKSGC.CM","cmdty Greeley County, KS Corn Basis Idx","Corn","Basis","Kansas","County","Greeley County",{"$f":"+IF(LEN(home!$G$7)>0,instruments!C434=home!$G$7,TRUE)","v":true},true,{"$f":"+IF(LEN(home!$G$8)>0,instruments!E434=home!$G$8,TRUE)","v":false},{"$f":"+IF(LEN(home!$G$9)>0,instruments!F434=home!$G$9,TRUE)","v":true},3,{"$f":"+COUNTIF($L$1:L434,\"=\"&4)","v":34},"Greeley County, KS Corn Basis"]
["ZCBANEGD.CM","cmdty Greeley County, NE Corn Basis Idx","Corn","Basis","Nebraska","County","Greeley County",{"$f":"+IF(LEN(home!$G$7)>0,instruments!C435=home!$G$7,TRUE)","v":true},true,{"$f":"+IF(LEN(home!$G$8)>0,instruments!E435=home!$G$8,TRUE)","v":false},{"$f":"+IF(LEN(home!$G$9)>0,instruments!F435=home!$G$9,TRUE)","v":true},3,{"$f":"+COUNTIF($L$1:L435,\"=\"&4)","v":34},"Greeley County, NE Corn Basis"]
["ZSBANEGD.CM","cmdty Greeley County, NE Soybean Basis Idx","Soybean","Basis","Nebraska","County","Greeley County",{"$f":"+IF(LEN(home!$G$7)>0,instruments!C436=home!$G$7,TRUE)","v":false},true,{"$f":"+IF(LEN(home!$G$8)>0,instruments!E436=home!$G$8,TRUE)","v":false},{"$f":"+IF(LEN(home!$G$9)>0,instruments!F436=home!$G$9,TRUE)","v":true},2,{"$f":"+COUNTIF($L$1:L436,\"=\"&4)","v":34},"Greeley County, NE Soybean Basis"]
["ZCBAIAGR.CM","cmdty Greene County, IA Corn Basis Idx","Corn","Basis","Iowa","County","Greene County",{"$f":"+IF(LEN(home!$G$7)>0,instruments!C437=home!$G$7,TRUE)","v":true},true,{"$f":"+IF(LEN(home!$G$8)>0,instruments!E437=home!$G$8,TRUE)","v":true},{"$f":"+IF(LEN(home!$G$9)>0,instruments!F437=home!$G$9,TRUE)","v":true},4,{"$f":"+COUNTIF($L$1:L437,\"=\"&4)","v":35},"Greene County, IA Corn Basis"]
["ZSBAIAGR.CM","cmdty Greene County, IA Soybean Basis Idx","Soybean","Basis","Iowa","County","Greene County",{"$f":"+IF(LEN(home!$G$7)>0,instruments!C438=home!$G$7,TRUE)","v":false},true,{"$f":"+IF(LEN(home!$G$8)>0,instruments!E438=home!$G$8,TRUE)","v":true},{"$f":"+IF(LEN(home!$G$9)>0,instruments!F438=home!$G$9,TRUE)","v":true},3,{"$f":"+COUNTIF($L$1:L438,\"=\"&4)","v":35},"Greene County, IA Soybean Basis"]
["ZCBAILGR.CM","cmdty Greene County, IL Corn Basis Idx","Corn","Basis","Illinois","County","Greene County",{"$f":"+IF(LEN(home!$G$7)>0,instruments!C439=home!$G$7,TRUE)","v":true},true,{"$f":"+IF(LEN(home!$G$8)>0,instruments!E439=home!$G$8,TRUE)","v":false},{"$f":"+IF(LEN(home!$G$9)>0,instruments!F439=home!$G$9,TRUE)","v":true},3,{"$f":"+COUNTIF($L$1:L439,\"=\"&4)","v":35},"Greene County, IL Corn Basis"]
["ZSBAILGR.CM","cmdty Greene County, IL Soybean Basis Idx","Soybean","Basis","Illinois","County","Greene County",{"$f":"+IF(LEN(home!$G$7)>0,instruments!C440=home!$G$7,TRUE)","v":false},true,{"$f":"+IF(LEN(home!$G$8)>0,instruments!E440=home!$G$8,TRUE)","v":false},{"$f":"+IF(LEN(home!$G$9)>0,instruments!F440=home!$G$9,TRUE)","v":true},2,{"$f":"+COUNTIF($L$1:L440,\"=\"&4)","v":35},"Greene County, IL Soybean Basis"]
["ZCBAINGA.CM","cmdty Greene County, IN Corn Basis Idx","Corn","Basis","Indiana","County","Greene County",{"$f":"+IF(LEN(home!$G$7)>0,instruments!C441=home!$G$7,TRUE)","v":true},true,{"$f":"+IF(LEN(home!$G$8)>0,instruments!E441=home!$G$8,TRUE)","v":false},{"$f":"+IF(LEN(home!$G$9)>0,instruments!F441=home!$G$9,TRUE)","v":true},3,{"$f":"+COUNTIF($L$1:L441,\"=\"&4)","v":35},"Greene County, IN Corn Basis"]
["ZSBAOHGR.CM","cmdty Greene County, OH Soybean Basis Idx","Soybean","Basis","Ohio","County","Greene County",{"$f":"+IF(LEN(home!$G$7)>0,instruments!C442=home!$G$7,TRUE)","v":false},true,{"$f":"+IF(LEN(home!$G$8)>0,instruments!E442=home!$G$8,TRUE)","v":false},{"$f":"+IF(LEN(home!$G$9)>0,instruments!F442=home!$G$9,TRUE)","v":true},2,{"$f":"+COUNTIF($L$1:L442,\"=\"&4)","v":35},"Greene County, OH Soybean Basis"]
["ZCBAKSGD.CM","cmdty Greenwood County, KS Corn Basis Idx","Corn","Basis","Kansas","County","Greenwood County",{"$f":"+IF(LEN(home!$G$7)>0,instruments!C443=home!$G$7,TRUE)","v":true},true,{"$f":"+IF(LEN(home!$G$8)>0,instruments!E443=home!$G$8,TRUE)","v":false},{"$f":"+IF(LEN(home!$G$9)>0,instruments!F443=home!$G$9,TRUE)","v":true},3,{"$f":"+COUNTIF($L$1:L443,\"=\"&4)","v":35},"Greenwood County, KS Corn Basis"]
["ZSBAKSGD.CM","cmdty Greenwood County, KS Soybean Basis Idx","Soybean","Basis","Kansas","County","Greenwood County",{"$f":"+IF(LEN(home!$G$7)>0,instruments!C444=home!$G$7,TRUE)","v":false},true,{"$f":"+IF(LEN(home!$G$8)>0,instruments!E444=home!$G$8,TRUE)","v":false},{"$f":"+IF(LEN(home!$G$9)>0,instruments!F444=home!$G$9,TRUE)","v":true},2,{"$f":"+COUNTIF($L$1:L444,\"=\"&4)","v":35},"Greenwood County, KS Soybean Basis"]
["ZCBASDGA.CM","cmdty Gregory County, SD Corn Basis Idx","Corn","Basis","South Dakota","County","Gregory County",{"$f":"+IF(LEN(home!$G$7)>0,instruments!C445=home!$G$7,TRUE)","v":true},true,{"$f":"+IF(LEN(home!$G$8)>0,instruments!E445=home!$G$8,TRUE)","v":false},{"$f":"+IF(LEN(home!$G$9)>0,instruments!F445=home!$G$9,TRUE)","v":true},3,{"$f":"+COUNTIF($L$1:L445,\"=\"&4)","v":35},"Gregory County, SD Corn Basis"]
["ZSBASDGA.CM","cmdty Gregory County, SD Soybean Basis Idx","Soybean","Basis","South Dakota","County","Gregory County",{"$f":"+IF(LEN(home!$G$7)>0,instruments!C446=home!$G$7,TRUE)","v":false},true,{"$f":"+IF(LEN(home!$G$8)>0,instruments!E446=home!$G$8,TRUE)","v":false},{"$f":"+IF(LEN(home!$G$9)>0,instruments!F446=home!$G$9,TRUE)","v":true},2,{"$f":"+COUNTIF($L$1:L446,\"=\"&4)","v":35},"Gregory County, SD Soybean Basis"]
["ZSBANDGB.CM","cmdty Griggs County, ND Soybean Basis Idx","Soybean","Basis","North Dakota","County","Griggs County",{"$f":"+IF(LEN(home!$G$7)>0,instruments!C447=home!$G$7,TRUE)","v":false},true,{"$f":"+IF(LEN(home!$G$8)>0,instruments!E447=home!$G$8,TRUE)","v":false},{"$f":"+IF(LEN(home!$G$9)>0,instruments!F447=home!$G$9,TRUE)","v":true},2,{"$f":"+COUNTIF($L$1:L447,\"=\"&4)","v":35},"Griggs County, ND Soybean Basis"]
["ZCBAIAGA.CM","cmdty Grundy County, IA Corn Basis Idx","Corn","Basis","Iowa","County","Grundy County",{"$f":"+IF(LEN(home!$G$7)>0,instruments!C448=home!$G$7,TRUE)","v":true},true,{"$f":"+IF(LEN(home!$G$8)>0,instruments!E448=home!$G$8,TRUE)","v":true},{"$f":"+IF(LEN(home!$G$9)>0,instruments!F448=home!$G$9,TRUE)","v":true},4,{"$f":"+COUNTIF($L$1:L448,\"=\"&4)","v":36},"Grundy County, IA Corn Basis"]
["ZSBAIAGA.CM","cmdty Grundy County, IA Soybean Basis Idx","Soybean","Basis","Iowa","County","Grundy County",{"$f":"+IF(LEN(home!$G$7)>0,instruments!C449=home!$G$7,TRUE)","v":false},true,{"$f":"+IF(LEN(home!$G$8)>0,instruments!E449=home!$G$8,TRUE)","v":true},{"$f":"+IF(LEN(home!$G$9)>0,instruments!F449=home!$G$9,TRUE)","v":true},3,{"$f":"+COUNTIF($L$1:L449,\"=\"&4)","v":36},"Grundy County, IA Soybean Basis"]
["ZCBAILGB.CM","cmdty Grundy County, IL Corn Basis Idx","Corn","Basis","Illinois","County","Grundy County",{"$f":"+IF(LEN(home!$G$7)>0,instruments!C450=home!$G$7,TRUE)","v":true},true,{"$f":"+IF(LEN(home!$G$8)>0,instruments!E450=home!$G$8,TRUE)","v":false},{"$f":"+IF(LEN(home!$G$9)>0,instruments!F450=home!$G$9,TRUE)","v":true},{"$f":"+COUNTIF(H450:K450,TRUE)","v":3},{"$f":"+COUNTIF($L$1:L450,\"=\"&4)","v":36},"Grundy County, IL Corn Basis"]
["ZSBAILGB.CM","cmdty Grundy County, IL Soybean Basis Idx","Soybean","Basis","Illinois","County","Grundy County",{"$f":"+IF(LEN(home!$G$7)>0,instruments!C451=home!$G$7,TRUE)","v":false},{"$f":"+D451=\"Basis\"","v":true},{"$f":"+IF(LEN(home!$G$8)>0,instruments!E451=home!$G$8,TRUE)","v":false},{"$f":"+IF(LEN(home!$G$9)>0,instruments!F451=home!$G$9,TRUE)","v":true},2,{"$f":"+COUNTIF($L$1:L451,\"=\"&4)","v":36},{"$f":"+MID(B451,FIND(\" \",B451,1)+1,LEN(B451)-FIND(\" \",B451,1)-4)","v":"Grundy County, IL Soybean Basis"}]
["ZCBAMOGB.CM","cmdty Grundy County, MO Corn Basis Idx","Corn","Basis","Missouri","County","Grundy County",{"$f":"+IF(LEN(home!$G$7)>0,instruments!C452=home!$G$7,TRUE)","v":true},true,{"$f":"+IF(LEN(home!$G$8)>0,instruments!E452=home!$G$8,TRUE)","v":false},{"$f":"+IF(LEN(home!$G$9)>0,instruments!F452=home!$G$9,TRUE)","v":true},3,{"$f":"+COUNTIF($L$1:L452,\"=\"&4)","v":36},"Grundy County, MO Corn Basis"]
["ZSBAMOGB.CM","cmdty Grundy County, MO Soybean Basis Idx","Soybean","Basis","Missouri","County","Grundy County",{"$f":"+IF(LEN(home!$G$7)>0,instruments!C453=home!$G$7,TRUE)","v":false},true,{"$f":"+IF(LEN(home!$G$8)>0,instruments!E453=home!$G$8,TRUE)","v":false},{"$f":"+IF(LEN(home!$G$9)>0,instruments!F453=home!$G$9,TRUE)","v":true},2,{"$f":"+COUNTIF($L$1:L453,\"=\"&4)","v":36},"Grundy County, MO Soybean Basis"]
["ZCBAIAGU.CM","cmdty Guthrie County, IA Corn Basis Idx","Corn","Basis","Iowa","County","Guthrie County",{"$f":"+IF(LEN(home!$G$7)>0,instruments!C454=home!$G$7,TRUE)","v":true},true,{"$f":"+IF(LEN(home!$G$8)>0,instruments!E454=home!$G$8,TRUE)","v":true},{"$f":"+IF(LEN(home!$G$9)>0,instruments!F454=home!$G$9,TRUE)","v":true},4,{"$f":"+COUNTIF($L$1:L454,\"=\"&4)","v":37},"Guthrie County, IA Corn Basis"]
["ZSBAIAGU.CM","cmdty Guthrie County, IA Soybean Basis Idx","Soybean","Basis","Iowa","County","Guthrie County",{"$f":"+IF(LEN(home!$G$7)>0,instruments!C455=home!$G$7,TRUE)","v":false},true,{"$f":"+IF(LEN(home!$G$8)>0,instruments!E455=home!$G$8,TRUE)","v":true},{"$f":"+IF(LEN(home!$G$9)>0,instruments!F455=home!$G$9,TRUE)","v":true},3,{"$f":"+COUNTIF($L$1:L455,\"=\"&4)","v":37},"Guthrie County, IA Soybean Basis"]
["ZCBASDHA.CM","cmdty Haakon County, SD Corn Basis Idx","Corn","Basis","South Dakota","County","Haakon County",{"$f":"+IF(LEN(home!$G$7)>0,instruments!C456=home!$G$7,TRUE)","v":true},true,{"$f":"+IF(LEN(home!$G$8)>0,instruments!E456=home!$G$8,TRUE)","v":false},{"$f":"+IF(LEN(home!$G$9)>0,instruments!F456=home!$G$9,TRUE)","v":true},3,{"$f":"+COUNTIF($L$1:L456,\"=\"&4)","v":37},"Haakon County, SD Corn Basis"]
["ZCBANEHA.CM","cmdty Hall County, NE Corn Basis Idx","Corn","Basis","Nebraska","County","Hall County",{"$f":"+IF(LEN(home!$G$7)>0,instruments!C457=home!$G$7,TRUE)","v":true},true,{"$f":"+IF(LEN(home!$G$8)>0,instruments!E457=home!$G$8,TRUE)","v":false},{"$f":"+IF(LEN(home!$G$9)>0,instruments!F457=home!$G$9,TRUE)","v":true},3,{"$f":"+COUNTIF($L$1:L457,\"=\"&4)","v":37},"Hall County, NE Corn Basis"]
["ZSBANEHA.CM","cmdty Hall County, NE Soybean Basis Idx","Soybean","Basis","Nebraska","County","Hall County",{"$f":"+IF(LEN(home!$G$7)>0,instruments!C458=home!$G$7,TRUE)","v":false},true,{"$f":"+IF(LEN(home!$G$8)>0,instruments!E458=home!$G$8,TRUE)","v":false},{"$f":"+IF(LEN(home!$G$9)>0,instruments!F458=home!$G$9,TRUE)","v":true},2,{"$f":"+COUNTIF($L$1:L458,\"=\"&4)","v":37},"Hall County, NE Soybean Basis"]
["ZCBAIAHA.CM","cmdty Hamilton County, IA Corn Basis Idx","Corn","Basis","Iowa","County","Hamilton County",{"$f":"+IF(LEN(home!$G$7)>0,instruments!C459=home!$G$7,TRUE)","v":true},true,{"$f":"+IF(LEN(home!$G$8)>0,instruments!E459=home!$G$8,TRUE)","v":true},{"$f":"+IF(LEN(home!$G$9)>0,instruments!F459=home!$G$9,TRUE)","v":true},4,{"$f":"+COUNTIF($L$1:L459,\"=\"&4)","v":38},"Hamilton County, IA Corn Basis"]
["ZSBAIAHA.CM","cmdty Hamilton County, IA Soybean Basis Idx","Soybean","Basis","Iowa","County","Hamilton County",{"$f":"+IF(LEN(home!$G$7)>0,instruments!C460=home!$G$7,TRUE)","v":false},true,{"$f":"+IF(LEN(home!$G$8)>0,instruments!E460=home!$G$8,TRUE)","v":true},{"$f":"+IF(LEN(home!$G$9)>0,instruments!F460=home!$G$9,TRUE)","v":true},3,{"$f":"+COUNTIF($L$1:L460,\"=\"&4)","v":38},"Hamilton County, IA Soybean Basis"]
["ZCBAILHA.CM","cmdty Hamilton County, IL Corn Basis Idx","Corn","Basis","Illinois","County","Hamilton County",{"$f":"+IF(LEN(home!$G$7)>0,instruments!C461=home!$G$7,TRUE)","v":true},true,{"$f":"+IF(LEN(home!$G$8)>0,instruments!E461=home!$G$8,TRUE)","v":false},{"$f":"+IF(LEN(home!$G$9)>0,instruments!F461=home!$G$9,TRUE)","v":true},3,{"$f":"+COUNTIF($L$1:L461,\"=\"&4)","v":38},"Hamilton County, IL Corn Basis"]
["ZSBAILHA.CM","cmdty Hamilton County, IL Soybean Basis Idx","Soybean","Basis","Illinois","County","Hamilton County",{"$f":"+IF(LEN(home!$G$7)>0,instruments!C462=home!$G$7,TRUE)","v":false},true,{"$f":"+IF(LEN(home!$G$8)>0,instruments!E462=home!$G$8,TRUE)","v":false},{"$f":"+IF(LEN(home!$G$9)>0,instruments!F462=home!$G$9,TRUE)","v":true},2,{"$f":"+COUNTIF($L$1:L462,\"=\"&4)","v":38},"Hamilton County, IL Soybean Basis"]
["ZCBAINHA.CM","cmdty Hamilton County, IN Corn Basis Idx","Corn","Basis","Indiana","County","Hamilton County",{"$f":"+IF(LEN(home!$G$7)>0,instruments!C463=home!$G$7,TRUE)","v":true},true,{"$f":"+IF(LEN(home!$G$8)>0,instruments!E463=home!$G$8,TRUE)","v":false},{"$f":"+IF(LEN(home!$G$9)>0,instruments!F463=home!$G$9,TRUE)","v":true},3,{"$f":"+COUNTIF($L$1:L463,\"=\"&4)","v":38},"Hamilton County, IN Corn Basis"]
["ZSBAINHA.CM","cmdty Hamilton County, IN Soybean Basis Idx","Soybean","Basis","Indiana","County","Hamilton County",{"$f":"+IF(LEN(home!$G$7)>0,instruments!C464=home!$G$7,TRUE)","v":false},true,{"$f":"+IF(LEN(home!$G$8)>0,instruments!E464=home!$G$8,TRUE)","v":false},{"$f":"+IF(LEN(home!$G$9)>0,instruments!F464=home!$G$9,TRUE)","v":true},2,{"$f":"+COUNTIF($L$1:L464,\"=\"&4)","v":38},"Hamilton County, IN Soybean Basis"]
["ZCBAKSHA.CM","cmdty Hamilton County, KS Corn Basis Idx","Corn","Basis","Kansas","County","Hamilton County",{"$f":"+IF(LEN(home!$G$7)>0,instruments!C465=home!$G$7,TRUE)","v":true},true,{"$f":"+IF(LEN(home!$G$8)>0,instruments!E465=home!$G$8,TRUE)","v":false},{"$f":"+IF(LEN(home!$G$9)>0,instruments!F465=home!$G$9,TRUE)","v":true},3,{"$f":"+COUNTIF($L$1:L465,\"=\"&4)","v":38},"Hamilton County, KS Corn Basis"]
["ZCBANEHB.CM","cmdty Hamilton County, NE Corn Basis Idx","Corn","Basis","Nebraska","County","Hamilton County",{"$f":"+IF(LEN(home!$G$7)>0,instruments!C466=home!$G$7,TRUE)","v":true},true,{"$f":"+IF(LEN(home!$G$8)>0,instruments!E466=home!$G$8,TRUE)","v":false},{"$f":"+IF(LEN(home!$G$9)>0,instruments!F466=home!$G$9,TRUE)","v":true},3,{"$f":"+COUNTIF($L$1:L466,\"=\"&4)","v":38},"Hamilton County, NE Corn Basis"]
["ZSBANEHB.CM","cmdty Hamilton County, NE Soybean Basis Idx","Soybean","Basis","Nebraska","County","Hamilton County",{"$f":"+IF(LEN(home!$G$7)>0,instruments!C467=home!$G$7,TRUE)","v":false},true,{"$f":"+IF(LEN(home!$G$8)>0,instruments!E467=home!$G$8,TRUE)","v":false},{"$f":"+IF(LEN(home!$G$9)>0,instruments!F467=home!$G$9,TRUE)","v":true},2,{"$f":"+COUNTIF($L$1:L467,\"=\"&4)","v":38},"Hamilton County, NE Soybean Basis"]
["ZSBAOHHA.CM","cmdty Hamilton County, OH Soybean Basis Idx","Soybean","Basis","Ohio","County","Hamilton County",{"$f":"+IF(LEN(home!$G$7)>0,instruments!C468=home!$G$7,TRUE)","v":false},true,{"$f":"+IF(LEN(home!$G$8)>0,instruments!E468=home!$G$8,TRUE)","v":false},{"$f":"+IF(LEN(home!$G$9)>0,instruments!F468=home!$G$9,TRUE)","v":true},2,{"$f":"+COUNTIF($L$1:L468,\"=\"&4)","v":38},"Hamilton County, OH Soybean Basis"]
["ZCBASDHB.CM","cmdty Hamlin County, SD Corn Basis Idx","Corn","Basis","South Dakota","County","Hamlin County",{"$f":"+IF(LEN(home!$G$7)>0,instruments!C469=home!$G$7,TRUE)","v":true},true,{"$f":"+IF(LEN(home!$G$8)>0,instruments!E469=home!$G$8,TRUE)","v":false},{"$f":"+IF(LEN(home!$G$9)>0,instruments!F469=home!$G$9,TRUE)","v":true},3,{"$f":"+COUNTIF($L$1:L469,\"=\"&4)","v":38},"Hamlin County, SD Corn Basis"]
["ZSBASDHB.CM","cmdty Hamlin County, SD Soybean Basis Idx","Soybean","Basis","South Dakota","County","Hamlin County",{"$f":"+IF(LEN(home!$G$7)>0,instruments!C470=home!$G$7,TRUE)","v":false},true,{"$f":"+IF(LEN(home!$G$8)>0,instruments!E470=home!$G$8,TRUE)","v":false},{"$f":"+IF(LEN(home!$G$9)>0,instruments!F470=home!$G$9,TRUE)","v":true},2,{"$f":"+COUNTIF($L$1:L470,\"=\"&4)","v":38},"Hamlin County, SD Soybean Basis"]
["ZCBAIAHB.CM","cmdty Hancock County, IA Corn Basis Idx","Corn","Basis","Iowa","County","Hancock County",{"$f":"+IF(LEN(home!$G$7)>0,instruments!C471=home!$G$7,TRUE)","v":true},true,{"$f":"+IF(LEN(home!$G$8)>0,instruments!E471=home!$G$8,TRUE)","v":true},{"$f":"+IF(LEN(home!$G$9)>0,instruments!F471=home!$G$9,TRUE)","v":true},4,{"$f":"+COUNTIF($L$1:L471,\"=\"&4)","v":39},"Hancock County, IA Corn Basis"]
["ZSBAIAHB.CM","cmdty Hancock County, IA Soybean Basis Idx","Soybean","Basis","Iowa","County","Hancock County",{"$f":"+IF(LEN(home!$G$7)>0,instruments!C472=home!$G$7,TRUE)","v":false},true,{"$f":"+IF(LEN(home!$G$8)>0,instruments!E472=home!$G$8,TRUE)","v":true},{"$f":"+IF(LEN(home!$G$9)>0,instruments!F472=home!$G$9,TRUE)","v":true},3,{"$f":"+COUNTIF($L$1:L472,\"=\"&4)","v":39},"Hancock County, IA Soybean Basis"]
["ZCBAILHB.CM","cmdty Hancock County, IL Corn Basis Idx","Corn","Basis","Illinois","County","Hancock County",{"$f":"+IF(LEN(home!$G$7)>0,instruments!C473=home!$G$7,TRUE)","v":true},true,{"$f":"+IF(LEN(home!$G$8)>0,instruments!E473=home!$G$8,TRUE)","v":false},{"$f":"+IF(LEN(home!$G$9)>0,instruments!F473=home!$G$9,TRUE)","v":true},3,{"$f":"+COUNTIF($L$1:L473,\"=\"&4)","v":39},"Hancock County, IL Corn Basis"]
["ZSBAILHB.CM","cmdty Hancock County, IL Soybean Basis Idx","Soybean","Basis","Illinois","County","Hancock County",{"$f":"+IF(LEN(home!$G$7)>0,instruments!C474=home!$G$7,TRUE)","v":false},true,{"$f":"+IF(LEN(home!$G$8)>0,instruments!E474=home!$G$8,TRUE)","v":false},{"$f":"+IF(LEN(home!$G$9)>0,instruments!F474=home!$G$9,TRUE)","v":true},2,{"$f":"+COUNTIF($L$1:L474,\"=\"&4)","v":39},"Hancock County, IL Soybean Basis"]
["ZSBAOHHB.CM","cmdty Hancock County, OH Soybean Basis Idx","Soybean","Basis","Ohio","County","Hancock County",{"$f":"+IF(LEN(home!$G$7)>0,instruments!C475=home!$G$7,TRUE)","v":false},true,{"$f":"+IF(LEN(home!$G$8)>0,instruments!E475=home!$G$8,TRUE)","v":false},{"$f":"+IF(LEN(home!$G$9)>0,instruments!F475=home!$G$9,TRUE)","v":true},2,{"$f":"+COUNTIF($L$1:L475,\"=\"&4)","v":39},"Hancock County, OH Soybean Basis"]
["ZCBASDHC.CM","cmdty Hand County, SD Corn Basis Idx","Corn","Basis","South Dakota","County","Hand County",{"$f":"+IF(LEN(home!$G$7)>0,instruments!C476=home!$G$7,TRUE)","v":true},true,{"$f":"+IF(LEN(home!$G$8)>0,instruments!E476=home!$G$8,TRUE)","v":false},{"$f":"+IF(LEN(home!$G$9)>0,instruments!F476=home!$G$9,TRUE)","v":true},3,{"$f":"+COUNTIF($L$1:L476,\"=\"&4)","v":39},"Hand County, SD Corn Basis"]
["ZSBASDHC.CM","cmdty Hand County, SD Soybean Basis Idx","Soybean","Basis","South Dakota","County","Hand County",{"$f":"+IF(LEN(home!$G$7)>0,instruments!C477=home!$G$7,TRUE)","v":false},true,{"$f":"+IF(LEN(home!$G$8)>0,instruments!E477=home!$G$8,TRUE)","v":false},{"$f":"+IF(LEN(home!$G$9)>0,instruments!F477=home!$G$9,TRUE)","v":true},2,{"$f":"+COUNTIF($L$1:L477,\"=\"&4)","v":39},"Hand County, SD Soybean Basis"]
["ZCBASDHD.CM","cmdty Hanson County, SD Corn Basis Idx","Corn","Basis","South Dakota","County","Hanson County",{"$f":"+IF(LEN(home!$G$7)>0,instruments!C478=home!$G$7,TRUE)","v":true},true,{"$f":"+IF(LEN(home!$G$8)>0,instruments!E478=home!$G$8,TRUE)","v":false},{"$f":"+IF(LEN(home!$G$9)>0,instruments!F478=home!$G$9,TRUE)","v":true},3,{"$f":"+COUNTIF($L$1:L478,\"=\"&4)","v":39},"Hanson County, SD Corn Basis"]
["ZSBASDHD.CM","cmdty Hanson County, SD Soybean Basis Idx","Soybean","Basis","South Dakota","County","Hanson County",{"$f":"+IF(LEN(home!$G$7)>0,instruments!C479=home!$G$7,TRUE)","v":false},true,{"$f":"+IF(LEN(home!$G$8)>0,instruments!E479=home!$G$8,TRUE)","v":false},{"$f":"+IF(LEN(home!$G$9)>0,instruments!F479=home!$G$9,TRUE)","v":true},2,{"$f":"+COUNTIF($L$1:L479,\"=\"&4)","v":39},"Hanson County, SD Soybean Basis"]
["ZCBAIAHC.CM","cmdty Hardin County, IA Corn Basis Idx","Corn","Basis","Iowa","County","Hardin County",{"$f":"+IF(LEN(home!$G$7)>0,instruments!C480=home!$G$7,TRUE)","v":true},true,{"$f":"+IF(LEN(home!$G$8)>0,instruments!E480=home!$G$8,TRUE)","v":true},{"$f":"+IF(LEN(home!$G$9)>0,instruments!F480=home!$G$9,TRUE)","v":true},4,{"$f":"+COUNTIF($L$1:L480,\"=\"&4)","v":40},"Hardin County, IA Corn Basis"]
["ZSBAIAHC.CM","cmdty Hardin County, IA Soybean Basis Idx","Soybean","Basis","Iowa","County","Hardin County",{"$f":"+IF(LEN(home!$G$7)>0,instruments!C481=home!$G$7,TRUE)","v":false},true,{"$f":"+IF(LEN(home!$G$8)>0,instruments!E481=home!$G$8,TRUE)","v":true},{"$f":"+IF(LEN(home!$G$9)>0,instruments!F481=home!$G$9,TRUE)","v":true},3,{"$f":"+COUNTIF($L$1:L481,\"=\"&4)","v":40},"Hardin County, IA Soybean Basis"]
["ZSBAOHHC.CM","cmdty Hardin County, OH Soybean Basis Idx","Soybean","Basis","Ohio","County","Hardin County",{"$f":"+IF(LEN(home!$G$7)>0,instruments!C482=home!$G$7,TRUE)","v":false},true,{"$f":"+IF(LEN(home!$G$8)>0,instruments!E482=home!$G$8,TRUE)","v":false},{"$f":"+IF(LEN(home!$G$9)>0,instruments!F482=home!$G$9,TRUE)","v":true},2,{"$f":"+COUNTIF($L$1:L482,\"=\"&4)","v":40},"Hardin County, OH Soybean Basis"]
["ZCBANEHC.CM","cmdty Harlan County, NE Corn Basis Idx","Corn","Basis","Nebraska","County","Harlan County",{"$f":"+IF(LEN(home!$G$7)>0,instruments!C483=home!$G$7,TRUE)","v":true},true,{"$f":"+IF(LEN(home!$G$8)>0,instruments!E483=home!$G$8,TRUE)","v":false},{"$f":"+IF(LEN(home!$G$9)>0,instruments!F483=home!$G$9,TRUE)","v":true},3,{"$f":"+COUNTIF($L$1:L483,\"=\"&4)","v":40},"Harlan County, NE Corn Basis"]
["ZSBANEHC.CM","cmdty Harlan County, NE Soybean Basis Idx","Soybean","Basis","Nebraska","County","Harlan County",{"$f":"+IF(LEN(home!$G$7)>0,instruments!C484=home!$G$7,TRUE)","v":false},true,{"$f":"+IF(LEN(home!$G$8)>0,instruments!E484=home!$G$8,TRUE)","v":false},{"$f":"+IF(LEN(home!$G$9)>0,instruments!F484=home!$G$9,TRUE)","v":true},2,{"$f":"+COUNTIF($L$1:L484,\"=\"&4)","v":40},"Harlan County, NE Soybean Basis"]
["ZCBAKSHB.CM","cmdty Harper County, KS Corn Basis Idx","Corn","Basis","Kansas","County","Harper County",{"$f":"+IF(LEN(home!$G$7)>0,instruments!C485=home!$G$7,TRUE)","v":true},true,{"$f":"+IF(LEN(home!$G$8)>0,instruments!E485=home!$G$8,TRUE)","v":false},{"$f":"+IF(LEN(home!$G$9)>0,instruments!F485=home!$G$9,TRUE)","v":true},3,{"$f":"+COUNTIF($L$1:L485,\"=\"&4)","v":40},"Harper County, KS Corn Basis"]
["ZSBAKSHB.CM","cmdty Harper County, KS Soybean Basis Idx","Soybean","Basis","Kansas","County","Harper County",{"$f":"+IF(LEN(home!$G$7)>0,instruments!C486=home!$G$7,TRUE)","v":false},true,{"$f":"+IF(LEN(home!$G$8)>0,instruments!E486=home!$G$8,TRUE)","v":false},{"$f":"+IF(LEN(home!$G$9)>0,instruments!F486=home!$G$9,TRUE)","v":true},2,{"$f":"+COUNTIF($L$1:L486,\"=\"&4)","v":40},"Harper County, KS Soybean Basis"]
["ZCBAIAHD.CM","cmdty Harrison County, IA Corn Basis Idx","Corn","Basis","Iowa","County","Harrison County",{"$f":"+IF(LEN(home!$G$7)>0,instruments!C487=home!$G$7,TRUE)","v":true},true,{"$f":"+IF(LEN(home!$G$8)>0,instruments!E487=home!$G$8,TRUE)","v":true},{"$f":"+IF(LEN(home!$G$9)>0,instruments!F487=home!$G$9,TRUE)","v":true},4,{"$f":"+COUNTIF($L$1:L487,\"=\"&4)","v":41},"Harrison County, IA Corn Basis"]
["ZSBAIAHD.CM","cmdty Harrison County, IA Soybean Basis Idx","Soybean","Basis","Iowa","County","Harrison County",{"$f":"+IF(LEN(home!$G$7)>0,instruments!C488=home!$G$7,TRUE)","v":false},true,{"$f":"+IF(LEN(home!$G$8)>0,instruments!E488=home!$G$8,TRUE)","v":true},{"$f":"+IF(LEN(home!$G$9)>0,instruments!F488=home!$G$9,TRUE)","v":true},3,{"$f":"+COUNTIF($L$1:L488,\"=\"&4)","v":41},"Harrison County, IA Soybean Basis"]
["ZCBAMOHA.CM","cmdty Harrison County, MO Corn Basis Idx","Corn","Basis","Missouri","County","Harrison County",{"$f":"+IF(LEN(home!$G$7)>0,instruments!C489=home!$G$7,TRUE)","v":true},true,{"$f":"+IF(LEN(home!$G$8)>0,instruments!E489=home!$G$8,TRUE)","v":false},{"$f":"+IF(LEN(home!$G$9)>0,instruments!F489=home!$G$9,TRUE)","v":true},3,{"$f":"+COUNTIF($L$1:L489,\"=\"&4)","v":41},"Harrison County, MO Corn Basis"]
["ZSBAMOHA.CM","cmdty Harrison County, MO Soybean Basis Idx","Soybean","Basis","Missouri","County","Harrison County",{"$f":"+IF(LEN(home!$G$7)>0,instruments!C490=home!$G$7,TRUE)","v":false},true,{"$f":"+IF(LEN(home!$G$8)>0,instruments!E490=home!$G$8,TRUE)","v":false},{"$f":"+IF(LEN(home!$G$9)>0,instruments!F490=home!$G$9,TRUE)","v":true},2,{"$f":"+COUNTIF($L$1:L490,\"=\"&4)","v":41},"Harrison County, MO Soybean Basis"]
["ZCBAKSHC.CM","cmdty Harvey County, KS Corn Basis Idx","Corn","Basis","Kansas","County","Harvey County",{"$f":"+IF(LEN(home!$G$7)>0,instruments!C491=home!$G$7,TRUE)","v":true},true,{"$f":"+IF(LEN(home!$G$8)>0,instruments!E491=home!$G$8,TRUE)","v":false},{"$f":"+IF(LEN(home!$G$9)>0,instruments!F491=home!$G$9,TRUE)","v":true},3,{"$f":"+COUNTIF($L$1:L491,\"=\"&4)","v":41},"Harvey County, KS Corn Basis"]
["ZSBAKSHC.CM","cmdty Harvey County, KS Soybean Basis Idx","Soybean","Basis","Kansas","County","Harvey County",{"$f":"+IF(LEN(home!$G$7)>0,instruments!C492=home!$G$7,TRUE)","v":false},true,{"$f":"+IF(LEN(home!$G$8)>0,instruments!E492=home!$G$8,TRUE)","v":false},{"$f":"+IF(LEN(home!$G$9)>0,instruments!F492=home!$G$9,TRUE)","v":true},2,{"$f":"+COUNTIF($L$1:L492,\"=\"&4)","v":41},"Harvey County, KS Soybean Basis"]
["ZCBAKSHD.CM","cmdty Haskell County, KS Corn Basis Idx","Corn","Basis","Kansas","County","Haskell County",{"$f":"+IF(LEN(home!$G$7)>0,instruments!C493=home!$G$7,TRUE)","v":true},true,{"$f":"+IF(LEN(home!$G$8)>0,instruments!E493=home!$G$8,TRUE)","v":false},{"$f":"+IF(LEN(home!$G$9)>0,instruments!F493=home!$G$9,TRUE)","v":true},3,{"$f":"+COUNTIF($L$1:L493,\"=\"&4)","v":41},"Haskell County, KS Corn Basis"]
["ZSBAKSHD.CM","cmdty Haskell County, KS Soybean Basis Idx","Soybean","Basis","Kansas","County","Haskell County",{"$f":"+IF(LEN(home!$G$7)>0,instruments!C494=home!$G$7,TRUE)","v":false},true,{"$f":"+IF(LEN(home!$G$8)>0,instruments!E494=home!$G$8,TRUE)","v":false},{"$f":"+IF(LEN(home!$G$9)>0,instruments!F494=home!$G$9,TRUE)","v":true},2,{"$f":"+COUNTIF($L$1:L494,\"=\"&4)","v":41},"Haskell County, KS Soybean Basis"]
["ZCBAILHE.CM","cmdty Henderson County, IL Corn Basis Idx","Corn","Basis","Illinois","County","Henderson County",{"$f":"+IF(LEN(home!$G$7)>0,instruments!C495=home!$G$7,TRUE)","v":true},true,{"$f":"+IF(LEN(home!$G$8)>0,instruments!E495=home!$G$8,TRUE)","v":false},{"$f":"+IF(LEN(home!$G$9)>0,instruments!F495=home!$G$9,TRUE)","v":true},3,{"$f":"+COUNTIF($L$1:L495,\"=\"&4)","v":41},"Henderson County, IL Corn Basis"]
["ZSBAILHE.CM","cmdty Henderson County, IL Soybean Basis Idx","Soybean","Basis","Illinois","County","Henderson County",{"$f":"+IF(LEN(home!$G$7)>0,instruments!C496=home!$G$7,TRUE)","v":false},true,{"$f":"+IF(LEN(home!$G$8)>0,instruments!E496=home!$G$8,TRUE)","v":false},{"$f":"+IF(LEN(home!$G$9)>0,instruments!F496=home!$G$9,TRUE)","v":true},2,{"$f":"+COUNTIF($L$1:L496,\"=\"&4)","v":41},"Henderson County, IL Soybean Basis"]
["ZCBAINHE.CM","cmdty Hendricks County, IN Corn Basis Idx","Corn","Basis","Indiana","County","Hendricks County",{"$f":"+IF(LEN(home!$G$7)>0,instruments!C497=home!$G$7,TRUE)","v":true},true,{"$f":"+IF(LEN(home!$G$8)>0,instruments!E497=home!$G$8,TRUE)","v":false},{"$f":"+IF(LEN(home!$G$9)>0,instruments!F497=home!$G$9,TRUE)","v":true},3,{"$f":"+COUNTIF($L$1:L497,\"=\"&4)","v":41},"Hendricks County, IN Corn Basis"]
["ZSBAINHE.CM","cmdty Hendricks County, IN Soybean Basis Idx","Soybean","Basis","Indiana","County","Hendricks County",{"$f":"+IF(LEN(home!$G$7)>0,instruments!C498=home!$G$7,TRUE)","v":false},true,{"$f":"+IF(LEN(home!$G$8)>0,instruments!E498=home!$G$8,TRUE)","v":false},{"$f":"+IF(LEN(home!$G$9)>0,instruments!F498=home!$G$9,TRUE)","v":true},2,{"$f":"+COUNTIF($L$1:L498,\"=\"&4)","v":41},"Hendricks County, IN Soybean Basis"]
["ZCBAIAHE.CM","cmdty Henry County, IA Corn Basis Idx","Corn","Basis","Iowa","County","Henry County",{"$f":"+IF(LEN(home!$G$7)>0,instruments!C499=home!$G$7,TRUE)","v":true},true,{"$f":"+IF(LEN(home!$G$8)>0,instruments!E499=home!$G$8,TRUE)","v":true},{"$f":"+IF(LEN(home!$G$9)>0,instruments!F499=home!$G$9,TRUE)","v":true},4,{"$f":"+COUNTIF($L$1:L499,\"=\"&4)","v":42},"Henry County, IA Corn Basis"]
["ZSBAIAHE.CM","cmdty Henry County, IA Soybean Basis Idx","Soybean","Basis","Iowa","County","Henry County",{"$f":"+IF(LEN(home!$G$7)>0,instruments!C500=home!$G$7,TRUE)","v":false},true,{"$f":"+IF(LEN(home!$G$8)>0,instruments!E500=home!$G$8,TRUE)","v":true},{"$f":"+IF(LEN(home!$G$9)>0,instruments!F500=home!$G$9,TRUE)","v":true},3,{"$f":"+COUNTIF($L$1:L500,\"=\"&4)","v":42},"Henry County, IA Soybean Basis"]
["ZCBAILHD.CM","cmdty Henry County, IL Corn Basis Idx","Corn","Basis","Illinois","County","Henry County",{"$f":"+IF(LEN(home!$G$7)>0,instruments!C501=home!$G$7,TRUE)","v":true},true,{"$f":"+IF(LEN(home!$G$8)>0,instruments!E501=home!$G$8,TRUE)","v":false},{"$f":"+IF(LEN(home!$G$9)>0,instruments!F501=home!$G$9,TRUE)","v":true},3,{"$f":"+COUNTIF($L$1:L501,\"=\"&4)","v":42},"Henry County, IL Corn Basis"]
["ZSBAILHD.CM","cmdty Henry County, IL Soybean Basis Idx","Soybean","Basis","Illinois","County","Henry County",{"$f":"+IF(LEN(home!$G$7)>0,instruments!C502=home!$G$7,TRUE)","v":false},true,{"$f":"+IF(LEN(home!$G$8)>0,instruments!E502=home!$G$8,TRUE)","v":false},{"$f":"+IF(LEN(home!$G$9)>0,instruments!F502=home!$G$9,TRUE)","v":true},2,{"$f":"+COUNTIF($L$1:L502,\"=\"&4)","v":42},"Henry County, IL Soybean Basis"]
["ZCBAINHD.CM","cmdty Henry County, IN Corn Basis Idx","Corn","Basis","Indiana","County","Henry County",{"$f":"+IF(LEN(home!$G$7)>0,instruments!C503=home!$G$7,TRUE)","v":true},true,{"$f":"+IF(LEN(home!$G$8)>0,instruments!E503=home!$G$8,TRUE)","v":false},{"$f":"+IF(LEN(home!$G$9)>0,instruments!F503=home!$G$9,TRUE)","v":true},3,{"$f":"+COUNTIF($L$1:L503,\"=\"&4)","v":42},"Henry County, IN Corn Basis"]
["ZSBAINHD.CM","cmdty Henry County, IN Soybean Basis Idx","Soybean","Basis","Indiana","County","Henry County",{"$f":"+IF(LEN(home!$G$7)>0,instruments!C504=home!$G$7,TRUE)","v":false},true,{"$f":"+IF(LEN(home!$G$8)>0,instruments!E504=home!$G$8,TRUE)","v":false},{"$f":"+IF(LEN(home!$G$9)>0,instruments!F504=home!$G$9,TRUE)","v":true},2,{"$f":"+COUNTIF($L$1:L504,\"=\"&4)","v":42},"Henry County, IN Soybean Basis"]
["ZCBAMOHE.CM","cmdty Henry County, MO Corn Basis Idx","Corn","Basis","Missouri","County","Henry County",{"$f":"+IF(LEN(home!$G$7)>0,instruments!C505=home!$G$7,TRUE)","v":true},true,{"$f":"+IF(LEN(home!$G$8)>0,instruments!E505=home!$G$8,TRUE)","v":false},{"$f":"+IF(LEN(home!$G$9)>0,instruments!F505=home!$G$9,TRUE)","v":true},3,{"$f":"+COUNTIF($L$1:L505,\"=\"&4)","v":42},"Henry County, MO Corn Basis"]
["ZSBAMOHE.CM","cmdty Henry County, MO Soybean Basis Idx","Soybean","Basis","Missouri","County","Henry County",{"$f":"+IF(LEN(home!$G$7)>0,instruments!C506=home!$G$7,TRUE)","v":false},true,{"$f":"+IF(LEN(home!$G$8)>0,instruments!E506=home!$G$8,TRUE)","v":false},{"$f":"+IF(LEN(home!$G$9)>0,instruments!F506=home!$G$9,TRUE)","v":true},2,{"$f":"+COUNTIF($L$1:L506,\"=\"&4)","v":42},"Henry County, MO Soybean Basis"]
["ZSBAOHHE.CM","cmdty Henry County, OH Soybean Basis Idx","Soybean","Basis","Ohio","County","Henry County",{"$f":"+IF(LEN(home!$G$7)>0,instruments!C507=home!$G$7,TRUE)","v":false},true,{"$f":"+IF(LEN(home!$G$8)>0,instruments!E507=home!$G$8,TRUE)","v":false},{"$f":"+IF(LEN(home!$G$9)>0,instruments!F507=home!$G$9,TRUE)","v":true},2,{"$f":"+COUNTIF($L$1:L507,\"=\"&4)","v":42},"Henry County, OH Soybean Basis"]
["ZSBAOHHI.CM","cmdty Highland County, OH Soybean Basis Idx","Soybean","Basis","Ohio","County","Highland County",{"$f":"+IF(LEN(home!$G$7)>0,instruments!C508=home!$G$7,TRUE)","v":false},true,{"$f":"+IF(LEN(home!$G$8)>0,instruments!E508=home!$G$8,TRUE)","v":false},{"$f":"+IF(LEN(home!$G$9)>0,instruments!F508=home!$G$9,TRUE)","v":true},2,{"$f":"+COUNTIF($L$1:L508,\"=\"&4)","v":42},"Highland County, OH Soybean Basis"]
["ZCBANEHI.CM","cmdty Hitchcock County, NE Corn Basis Idx","Corn","Basis","Nebraska","County","Hitchcock County",{"$f":"+IF(LEN(home!$G$7)>0,instruments!C509=home!$G$7,TRUE)","v":true},true,{"$f":"+IF(LEN(home!$G$8)>0,instruments!E509=home!$G$8,TRUE)","v":false},{"$f":"+IF(LEN(home!$G$9)>0,instruments!F509=home!$G$9,TRUE)","v":true},3,{"$f":"+COUNTIF($L$1:L509,\"=\"&4)","v":42},"Hitchcock County, NE Corn Basis"]
["ZSBANEHI.CM","cmdty Hitchcock County, NE Soybean Basis Idx","Soybean","Basis","Nebraska","County","Hitchcock County",{"$f":"+IF(LEN(home!$G$7)>0,instruments!C510=home!$G$7,TRUE)","v":false},true,{"$f":"+IF(LEN(home!$G$8)>0,instruments!E510=home!$G$8,TRUE)","v":false},{"$f":"+IF(LEN(home!$G$9)>0,instruments!F510=home!$G$9,TRUE)","v":true},2,{"$f":"+COUNTIF($L$1:L510,\"=\"&4)","v":42},"Hitchcock County, NE Soybean Basis"]
["ZCBAKSHO.CM","cmdty Hodgeman County, KS Corn Basis Idx","Corn","Basis","Kansas","County","Hodgeman County",{"$f":"+IF(LEN(home!$G$7)>0,instruments!C511=home!$G$7,TRUE)","v":true},true,{"$f":"+IF(LEN(home!$G$8)>0,instruments!E511=home!$G$8,TRUE)","v":false},{"$f":"+IF(LEN(home!$G$9)>0,instruments!F511=home!$G$9,TRUE)","v":true},3,{"$f":"+COUNTIF($L$1:L511,\"=\"&4)","v":42},"Hodgeman County, KS Corn Basis"]
["ZSBAKSHO.CM","cmdty Hodgeman County, KS Soybean Basis Idx","Soybean","Basis","Kansas","County","Hodgeman County",{"$f":"+IF(LEN(home!$G$7)>0,instruments!C512=home!$G$7,TRUE)","v":false},true,{"$f":"+IF(LEN(home!$G$8)>0,instruments!E512=home!$G$8,TRUE)","v":false},{"$f":"+IF(LEN(home!$G$9)>0,instruments!F512=home!$G$9,TRUE)","v":true},2,{"$f":"+COUNTIF($L$1:L512,\"=\"&4)","v":42},"Hodgeman County, KS Soybean Basis"]
["ZCBAMOHO.CM","cmdty Holt County, MO Corn Basis Idx","Corn","Basis","Missouri","County","Holt County",{"$f":"+IF(LEN(home!$G$7)>0,instruments!C513=home!$G$7,TRUE)","v":true},true,{"$f":"+IF(LEN(home!$G$8)>0,instruments!E513=home!$G$8,TRUE)","v":false},{"$f":"+IF(LEN(home!$G$9)>0,instruments!F513=home!$G$9,TRUE)","v":true},3,{"$f":"+COUNTIF($L$1:L513,\"=\"&4)","v":42},"Holt County, MO Corn Basis"]
["ZSBAMOHO.CM","cmdty Holt County, MO Soybean Basis Idx","Soybean","Basis","Missouri","County","Holt County",{"$f":"+IF(LEN(home!$G$7)>0,instruments!C514=home!$G$7,TRUE)","v":false},true,{"$f":"+IF(LEN(home!$G$8)>0,instruments!E514=home!$G$8,TRUE)","v":false},{"$f":"+IF(LEN(home!$G$9)>0,instruments!F514=home!$G$9,TRUE)","v":true},{"$f":"+COUNTIF(H514:K514,TRUE)","v":2},{"$f":"+COUNTIF($L$1:L514,\"=\"&4)","v":42},"Holt County, MO Soybean Basis"]
["ZCBANEHO.CM","cmdty Holt County, NE Corn Basis Idx","Corn","Basis","Nebraska","County","Holt County",{"$f":"+IF(LEN(home!$G$7)>0,instruments!C515=home!$G$7,TRUE)","v":true},{"$f":"+D515=\"Basis\"","v":true},{"$f":"+IF(LEN(home!$G$8)>0,instruments!E515=home!$G$8,TRUE)","v":false},{"$f":"+IF(LEN(home!$G$9)>0,instruments!F515=home!$G$9,TRUE)","v":true},3,{"$f":"+COUNTIF($L$1:L515,\"=\"&4)","v":42},{"$f":"+MID(B515,FIND(\" \",B515,1)+1,LEN(B515)-FIND(\" \",B515,1)-4)","v":"Holt County, NE Corn Basis"}]
["ZSBANEHO.CM","cmdty Holt County, NE Soybean Basis Idx","Soybean","Basis","Nebraska","County","Holt County",{"$f":"+IF(LEN(home!$G$7)>0,instruments!C516=home!$G$7,TRUE)","v":false},true,{"$f":"+IF(LEN(home!$G$8)>0,instruments!E516=home!$G$8,TRUE)","v":false},{"$f":"+IF(LEN(home!$G$9)>0,instruments!F516=home!$G$9,TRUE)","v":true},2,{"$f":"+COUNTIF($L$1:L516,\"=\"&4)","v":42},"Holt County, NE Soybean Basis"]
["ZCBAMNHO.CM","cmdty Houston County, MN Corn Basis Idx","Corn","Basis","Minnesota","County","Houston County",{"$f":"+IF(LEN(home!$G$7)>0,instruments!C517=home!$G$7,TRUE)","v":true},true,{"$f":"+IF(LEN(home!$G$8)>0,instruments!E517=home!$G$8,TRUE)","v":false},{"$f":"+IF(LEN(home!$G$9)>0,instruments!F517=home!$G$9,TRUE)","v":true},3,{"$f":"+COUNTIF($L$1:L517,\"=\"&4)","v":42},"Houston County, MN Corn Basis"]
["ZSBAMNHO.CM","cmdty Houston County, MN Soybean Basis Idx","Soybean","Basis","Minnesota","County","Houston County",{"$f":"+IF(LEN(home!$G$7)>0,instruments!C518=home!$G$7,TRUE)","v":false},true,{"$f":"+IF(LEN(home!$G$8)>0,instruments!E518=home!$G$8,TRUE)","v":false},{"$f":"+IF(LEN(home!$G$9)>0,instruments!F518=home!$G$9,TRUE)","v":true},2,{"$f":"+COUNTIF($L$1:L518,\"=\"&4)","v":42},"Houston County, MN Soybean Basis"]
["ZCBAIAHO.CM","cmdty Howard County, IA Corn Basis Idx","Corn","Basis","Iowa","County","Howard County",{"$f":"+IF(LEN(home!$G$7)>0,instruments!C519=home!$G$7,TRUE)","v":true},true,{"$f":"+IF(LEN(home!$G$8)>0,instruments!E519=home!$G$8,TRUE)","v":true},{"$f":"+IF(LEN(home!$G$9)>0,instruments!F519=home!$G$9,TRUE)","v":true},4,{"$f":"+COUNTIF($L$1:L519,\"=\"&4)","v":43},"Howard County, IA Corn Basis"]
["ZSBAIAHO.CM","cmdty Howard County, IA Soybean Basis Idx","Soybean","Basis","Iowa","County","Howard County",{"$f":"+IF(LEN(home!$G$7)>0,instruments!C520=home!$G$7,TRUE)","v":false},true,{"$f":"+IF(LEN(home!$G$8)>0,instruments!E520=home!$G$8,TRUE)","v":true},{"$f":"+IF(LEN(home!$G$9)>0,instruments!F520=home!$G$9,TRUE)","v":true},3,{"$f":"+COUNTIF($L$1:L520,\"=\"&4)","v":43},"Howard County, IA Soybean Basis"]
["ZCBAINHO.CM","cmdty Howard County, IN Corn Basis Idx","Corn","Basis","Indiana","County","Howard County",{"$f":"+IF(LEN(home!$G$7)>0,instruments!C521=home!$G$7,TRUE)","v":true},true,{"$f":"+IF(LEN(home!$G$8)>0,instruments!E521=home!$G$8,TRUE)","v":false},{"$f":"+IF(LEN(home!$G$9)>0,instruments!F521=home!$G$9,TRUE)","v":true},3,{"$f":"+COUNTIF($L$1:L521,\"=\"&4)","v":43},"Howard County, IN Corn Basis"]
["ZSBAINHO.CM","cmdty Howard County, IN Soybean Basis Idx","Soybean","Basis","Indiana","County","Howard County",{"$f":"+IF(LEN(home!$G$7)>0,instruments!C522=home!$G$7,TRUE)","v":false},true,{"$f":"+IF(LEN(home!$G$8)>0,instruments!E522=home!$G$8,TRUE)","v":false},{"$f":"+IF(LEN(home!$G$9)>0,instruments!F522=home!$G$9,TRUE)","v":true},2,{"$f":"+COUNTIF($L$1:L522,\"=\"&4)","v":43},"Howard County, IN Soybean Basis"]
["ZCBAMOHB.CM","cmdty Howard County, MO Corn Basis Idx","Corn","Basis","Missouri","County","Howard County",{"$f":"+IF(LEN(home!$G$7)>0,instruments!C523=home!$G$7,TRUE)","v":true},true,{"$f":"+IF(LEN(home!$G$8)>0,instruments!E523=home!$G$8,TRUE)","v":false},{"$f":"+IF(LEN(home!$G$9)>0,instruments!F523=home!$G$9,TRUE)","v":true},3,{"$f":"+COUNTIF($L$1:L523,\"=\"&4)","v":43},"Howard County, MO Corn Basis"]
["ZSBAMOHB.CM","cmdty Howard County, MO Soybean Basis Idx","Soybean","Basis","Missouri","County","Howard County",{"$f":"+IF(LEN(home!$G$7)>0,instruments!C524=home!$G$7,TRUE)","v":false},true,{"$f":"+IF(LEN(home!$G$8)>0,instruments!E524=home!$G$8,TRUE)","v":false},{"$f":"+IF(LEN(home!$G$9)>0,instruments!F524=home!$G$9,TRUE)","v":true},2,{"$f":"+COUNTIF($L$1:L524,\"=\"&4)","v":43},"Howard County, MO Soybean Basis"]
["ZCBANEHF.CM","cmdty Howard County, NE Corn Basis Idx","Corn","Basis","Nebraska","County","Howard County",{"$f":"+IF(LEN(home!$G$7)>0,instruments!C525=home!$G$7,TRUE)","v":true},true,{"$f":"+IF(LEN(home!$G$8)>0,instruments!E525=home!$G$8,TRUE)","v":false},{"$f":"+IF(LEN(home!$G$9)>0,instruments!F525=home!$G$9,TRUE)","v":true},3,{"$f":"+COUNTIF($L$1:L525,\"=\"&4)","v":43},"Howard County, NE Corn Basis"]
["ZSBANEHF.CM","cmdty Howard County, NE Soybean Basis Idx","Soybean","Basis","Nebraska","County","Howard County",{"$f":"+IF(LEN(home!$G$7)>0,instruments!C526=home!$G$7,TRUE)","v":false},true,{"$f":"+IF(LEN(home!$G$8)>0,instruments!E526=home!$G$8,TRUE)","v":false},{"$f":"+IF(LEN(home!$G$9)>0,instruments!F526=home!$G$9,TRUE)","v":true},2,{"$f":"+COUNTIF($L$1:L526,\"=\"&4)","v":43},"Howard County, NE Soybean Basis"]
["ZCBASDHU.CM","cmdty Hughes County, SD Corn Basis Idx","Corn","Basis","South Dakota","County","Hughes County",{"$f":"+IF(LEN(home!$G$7)>0,instruments!C527=home!$G$7,TRUE)","v":true},true,{"$f":"+IF(LEN(home!$G$8)>0,instruments!E527=home!$G$8,TRUE)","v":false},{"$f":"+IF(LEN(home!$G$9)>0,instruments!F527=home!$G$9,TRUE)","v":true},3,{"$f":"+COUNTIF($L$1:L527,\"=\"&4)","v":43},"Hughes County, SD Corn Basis"]
["ZSBASDHU.CM","cmdty Hughes County, SD Soybean Basis Idx","Soybean","Basis","South Dakota","County","Hughes County",{"$f":"+IF(LEN(home!$G$7)>0,instruments!C528=home!$G$7,TRUE)","v":false},true,{"$f":"+IF(LEN(home!$G$8)>0,instruments!E528=home!$G$8,TRUE)","v":false},{"$f":"+IF(LEN(home!$G$9)>0,instruments!F528=home!$G$9,TRUE)","v":true},2,{"$f":"+COUNTIF($L$1:L528,\"=\"&4)","v":43},"Hughes County, SD Soybean Basis"]
["ZCBAIAHU.CM","cmdty Humboldt County, IA Corn Basis Idx","Corn","Basis","Iowa","County","Humboldt County",{"$f":"+IF(LEN(home!$G$7)>0,instruments!C529=home!$G$7,TRUE)","v":true},true,{"$f":"+IF(LEN(home!$G$8)>0,instruments!E529=home!$G$8,TRUE)","v":true},{"$f":"+IF(LEN(home!$G$9)>0,instruments!F529=home!$G$9,TRUE)","v":true},4,{"$f":"+COUNTIF($L$1:L529,\"=\"&4)","v":44},"Humboldt County, IA Corn Basis"]
["ZSBAIAHU.CM","cmdty Humboldt County, IA Soybean Basis Idx","Soybean","Basis","Iowa","County","Humboldt County",{"$f":"+IF(LEN(home!$G$7)>0,instruments!C530=home!$G$7,TRUE)","v":false},true,{"$f":"+IF(LEN(home!$G$8)>0,instruments!E530=home!$G$8,TRUE)","v":true},{"$f":"+IF(LEN(home!$G$9)>0,instruments!F530=home!$G$9,TRUE)","v":true},3,{"$f":"+COUNTIF($L$1:L530,\"=\"&4)","v":44},"Humboldt County, IA Soybean Basis"]
["ZCBAINHU.CM","cmdty Huntington County, IN Corn Basis Idx","Corn","Basis","Indiana","County","Huntington County",{"$f":"+IF(LEN(home!$G$7)>0,instruments!C531=home!$G$7,TRUE)","v":true},true,{"$f":"+IF(LEN(home!$G$8)>0,instruments!E531=home!$G$8,TRUE)","v":false},{"$f":"+IF(LEN(home!$G$9)>0,instruments!F531=home!$G$9,TRUE)","v":true},3,{"$f":"+COUNTIF($L$1:L531,\"=\"&4)","v":44},"Huntington County, IN Corn Basis"]
["ZSBAINHU.CM","cmdty Huntington County, IN Soybean Basis Idx","Soybean","Basis","Indiana","County","Huntington County",{"$f":"+IF(LEN(home!$G$7)>0,instruments!C532=home!$G$7,TRUE)","v":false},true,{"$f":"+IF(LEN(home!$G$8)>0,instruments!E532=home!$G$8,TRUE)","v":false},{"$f":"+IF(LEN(home!$G$9)>0,instruments!F532=home!$G$9,TRUE)","v":true},2,{"$f":"+COUNTIF($L$1:L532,\"=\"&4)","v":44},"Huntington County, IN Soybean Basis"]
["ZSBAOHHU.CM","cmdty Huron County, OH Soybean Basis Idx","Soybean","Basis","Ohio","County","Huron County",{"$f":"+IF(LEN(home!$G$7)>0,instruments!C533=home!$G$7,TRUE)","v":false},true,{"$f":"+IF(LEN(home!$G$8)>0,instruments!E533=home!$G$8,TRUE)","v":false},{"$f":"+IF(LEN(home!$G$9)>0,instruments!F533=home!$G$9,TRUE)","v":true},2,{"$f":"+COUNTIF($L$1:L533,\"=\"&4)","v":44},"Huron County, OH Soybean Basis"]
["ZCBASDHF.CM","cmdty Hutchinson County, SD Corn Basis Idx","Corn","Basis","South Dakota","County","Hutchinson County",{"$f":"+IF(LEN(home!$G$7)>0,instruments!C534=home!$G$7,TRUE)","v":true},true,{"$f":"+IF(LEN(home!$G$8)>0,instruments!E534=home!$G$8,TRUE)","v":false},{"$f":"+IF(LEN(home!$G$9)>0,instruments!F534=home!$G$9,TRUE)","v":true},3,{"$f":"+COUNTIF($L$1:L534,\"=\"&4)","v":44},"Hutchinson County, SD Corn Basis"]
["ZSBASDHF.CM","cmdty Hutchinson County, SD Soybean Basis Idx","Soybean","Basis","South Dakota","County","Hutchinson County",{"$f":"+IF(LEN(home!$G$7)>0,instruments!C535=home!$G$7,TRUE)","v":false},true,{"$f":"+IF(LEN(home!$G$8)>0,instruments!E535=home!$G$8,TRUE)","v":false},{"$f":"+IF(LEN(home!$G$9)>0,instruments!F535=home!$G$9,TRUE)","v":true},2,{"$f":"+COUNTIF($L$1:L535,\"=\"&4)","v":44},"Hutchinson County, SD Soybean Basis"]
["ZCBASDHY.CM","cmdty Hyde County, SD Corn Basis Idx","Corn","Basis","South Dakota","County","Hyde County",{"$f":"+IF(LEN(home!$G$7)>0,instruments!C536=home!$G$7,TRUE)","v":true},true,{"$f":"+IF(LEN(home!$G$8)>0,instruments!E536=home!$G$8,TRUE)","v":false},{"$f":"+IF(LEN(home!$G$9)>0,instruments!F536=home!$G$9,TRUE)","v":true},3,{"$f":"+COUNTIF($L$1:L536,\"=\"&4)","v":44},"Hyde County, SD Corn Basis"]
["ZSBASDHY.CM","cmdty Hyde County, SD Soybean Basis Idx","Soybean","Basis","South Dakota","County","Hyde County",{"$f":"+IF(LEN(home!$G$7)>0,instruments!C537=home!$G$7,TRUE)","v":false},true,{"$f":"+IF(LEN(home!$G$8)>0,instruments!E537=home!$G$8,TRUE)","v":false},{"$f":"+IF(LEN(home!$G$9)>0,instruments!F537=home!$G$9,TRUE)","v":true},2,{"$f":"+COUNTIF($L$1:L537,\"=\"&4)","v":44},"Hyde County, SD Soybean Basis"]
["ZCBAIA10.CM","cmdty IA CRD 10 Corn Basis Idx","Corn","Basis","Iowa","District","IA CRD 10",{"$f":"+IF(LEN(home!$G$7)>0,instruments!C538=home!$G$7,TRUE)","v":true},true,{"$f":"+IF(LEN(home!$G$8)>0,instruments!E538=home!$G$8,TRUE)","v":true},{"$f":"+IF(LEN(home!$G$9)>0,instruments!F538=home!$G$9,TRUE)","v":false},3,{"$f":"+COUNTIF($L$1:L538,\"=\"&4)","v":44},"IA CRD 10 Corn Basis"]
["ZSBAIA10.CM","cmdty IA CRD 10 Soybean Basis Idx","Soybean","Basis","Iowa","District","IA CRD 10",{"$f":"+IF(LEN(home!$G$7)>0,instruments!C539=home!$G$7,TRUE)","v":false},true,{"$f":"+IF(LEN(home!$G$8)>0,instruments!E539=home!$G$8,TRUE)","v":true},{"$f":"+IF(LEN(home!$G$9)>0,instruments!F539=home!$G$9,TRUE)","v":false},2,{"$f":"+COUNTIF($L$1:L539,\"=\"&4)","v":44},"IA CRD 10 Soybean Basis"]
["ZCBAIA20.CM","cmdty IA CRD 20 Corn Basis Idx","Corn","Basis","Iowa","District","IA CRD 20",{"$f":"+IF(LEN(home!$G$7)>0,instruments!C540=home!$G$7,TRUE)","v":true},true,{"$f":"+IF(LEN(home!$G$8)>0,instruments!E540=home!$G$8,TRUE)","v":true},{"$f":"+IF(LEN(home!$G$9)>0,instruments!F540=home!$G$9,TRUE)","v":false},3,{"$f":"+COUNTIF($L$1:L540,\"=\"&4)","v":44},"IA CRD 20 Corn Basis"]
["ZSBAIA20.CM","cmdty IA CRD 20 Soybean Basis Idx","Soybean","Basis","Iowa","District","IA CRD 20",{"$f":"+IF(LEN(home!$G$7)>0,instruments!C541=home!$G$7,TRUE)","v":false},true,{"$f":"+IF(LEN(home!$G$8)>0,instruments!E541=home!$G$8,TRUE)","v":true},{"$f":"+IF(LEN(home!$G$9)>0,instruments!F541=home!$G$9,TRUE)","v":false},2,{"$f":"+COUNTIF($L$1:L541,\"=\"&4)","v":44},"IA CRD 20 Soybean Basis"]
["ZCBAIA30.CM","cmdty IA CRD 30 Corn Basis Idx","Corn","Basis","Iowa","District","IA CRD 30",{"$f":"+IF(LEN(home!$G$7)>0,instruments!C542=home!$G$7,TRUE)","v":true},true,{"$f":"+IF(LEN(home!$G$8)>0,instruments!E542=home!$G$8,TRUE)","v":true},{"$f":"+IF(LEN(home!$G$9)>0,instruments!F542=home!$G$9,TRUE)","v":false},3,{"$f":"+COUNTIF($L$1:L542,\"=\"&4)","v":44},"IA CRD 30 Corn Basis"]
["ZSBAIA30.CM","cmdty IA CRD 30 Soybean Basis Idx","Soybean","Basis","Iowa","District","IA CRD 30",{"$f":"+IF(LEN(home!$G$7)>0,instruments!C543=home!$G$7,TRUE)","v":false},true,{"$f":"+IF(LEN(home!$G$8)>0,instruments!E543=home!$G$8,TRUE)","v":true},{"$f":"+IF(LEN(home!$G$9)>0,instruments!F543=home!$G$9,TRUE)","v":false},2,{"$f":"+COUNTIF($L$1:L543,\"=\"&4)","v":44},"IA CRD 30 Soybean Basis"]
["ZCBAIA40.CM","cmdty IA CRD 40 Corn Basis Idx","Corn","Basis","Iowa","District","IA CRD 40",{"$f":"+IF(LEN(home!$G$7)>0,instruments!C544=home!$G$7,TRUE)","v":true},true,{"$f":"+IF(LEN(home!$G$8)>0,instruments!E544=home!$G$8,TRUE)","v":true},{"$f":"+IF(LEN(home!$G$9)>0,instruments!F544=home!$G$9,TRUE)","v":false},3,{"$f":"+COUNTIF($L$1:L544,\"=\"&4)","v":44},"IA CRD 40 Corn Basis"]
["ZSBAIA40.CM","cmdty IA CRD 40 Soybean Basis Idx","Soybean","Basis","Iowa","District","IA CRD 40",{"$f":"+IF(LEN(home!$G$7)>0,instruments!C545=home!$G$7,TRUE)","v":false},true,{"$f":"+IF(LEN(home!$G$8)>0,instruments!E545=home!$G$8,TRUE)","v":true},{"$f":"+IF(LEN(home!$G$9)>0,instruments!F545=home!$G$9,TRUE)","v":false},2,{"$f":"+COUNTIF($L$1:L545,\"=\"&4)","v":44},"IA CRD 40 Soybean Basis"]
["ZCBAIA50.CM","cmdty IA CRD 50 Corn Basis Idx","Corn","Basis","Iowa","District","IA CRD 50",{"$f":"+IF(LEN(home!$G$7)>0,instruments!C546=home!$G$7,TRUE)","v":true},true,{"$f":"+IF(LEN(home!$G$8)>0,instruments!E546=home!$G$8,TRUE)","v":true},{"$f":"+IF(LEN(home!$G$9)>0,instruments!F546=home!$G$9,TRUE)","v":false},3,{"$f":"+COUNTIF($L$1:L546,\"=\"&4)","v":44},"IA CRD 50 Corn Basis"]
["ZSBAIA50.CM","cmdty IA CRD 50 Soybean Basis Idx","Soybean","Basis","Iowa","District","IA CRD 50",{"$f":"+IF(LEN(home!$G$7)>0,instruments!C547=home!$G$7,TRUE)","v":false},true,{"$f":"+IF(LEN(home!$G$8)>0,instruments!E547=home!$G$8,TRUE)","v":true},{"$f":"+IF(LEN(home!$G$9)>0,instruments!F547=home!$G$9,TRUE)","v":false},2,{"$f":"+COUNTIF($L$1:L547,\"=\"&4)","v":44},"IA CRD 50 Soybean Basis"]
["ZCBAIA60.CM","cmdty IA CRD 60 Corn Basis Idx","Corn","Basis","Iowa","District","IA CRD 60",{"$f":"+IF(LEN(home!$G$7)>0,instruments!C548=home!$G$7,TRUE)","v":true},true,{"$f":"+IF(LEN(home!$G$8)>0,instruments!E548=home!$G$8,TRUE)","v":true},{"$f":"+IF(LEN(home!$G$9)>0,instruments!F548=home!$G$9,TRUE)","v":false},3,{"$f":"+COUNTIF($L$1:L548,\"=\"&4)","v":44},"IA CRD 60 Corn Basis"]
["ZSBAIA60.CM","cmdty IA CRD 60 Soybean Basis Idx","Soybean","Basis","Iowa","District","IA CRD 60",{"$f":"+IF(LEN(home!$G$7)>0,instruments!C549=home!$G$7,TRUE)","v":false},true,{"$f":"+IF(LEN(home!$G$8)>0,instruments!E549=home!$G$8,TRUE)","v":true},{"$f":"+IF(LEN(home!$G$9)>0,instruments!F549=home!$G$9,TRUE)","v":false},2,{"$f":"+COUNTIF($L$1:L549,\"=\"&4)","v":44},"IA CRD 60 Soybean Basis"]
["ZCBAIA70.CM","cmdty IA CRD 70 Corn Basis Idx","Corn","Basis","Iowa","District","IA CRD 70",{"$f":"+IF(LEN(home!$G$7)>0,instruments!C550=home!$G$7,TRUE)","v":true},true,{"$f":"+IF(LEN(home!$G$8)>0,instruments!E550=home!$G$8,TRUE)","v":true},{"$f":"+IF(LEN(home!$G$9)>0,instruments!F550=home!$G$9,TRUE)","v":false},3,{"$f":"+COUNTIF($L$1:L550,\"=\"&4)","v":44},"IA CRD 70 Corn Basis"]
["ZSBAIA70.CM","cmdty IA CRD 70 Soybean Basis Idx","Soybean","Basis","Iowa","District","IA CRD 70",{"$f":"+IF(LEN(home!$G$7)>0,instruments!C551=home!$G$7,TRUE)","v":false},true,{"$f":"+IF(LEN(home!$G$8)>0,instruments!E551=home!$G$8,TRUE)","v":true},{"$f":"+IF(LEN(home!$G$9)>0,instruments!F551=home!$G$9,TRUE)","v":false},2,{"$f":"+COUNTIF($L$1:L551,\"=\"&4)","v":44},"IA CRD 70 Soybean Basis"]
["ZCBAIA80.CM","cmdty IA CRD 80 Corn Basis Idx","Corn","Basis","Iowa","District","IA CRD 80",{"$f":"+IF(LEN(home!$G$7)>0,instruments!C552=home!$G$7,TRUE)","v":true},true,{"$f":"+IF(LEN(home!$G$8)>0,instruments!E552=home!$G$8,TRUE)","v":true},{"$f":"+IF(LEN(home!$G$9)>0,instruments!F552=home!$G$9,TRUE)","v":false},3,{"$f":"+COUNTIF($L$1:L552,\"=\"&4)","v":44},"IA CRD 80 Corn Basis"]
["ZSBAIA80.CM","cmdty IA CRD 80 Soybean Basis Idx","Soybean","Basis","Iowa","District","IA CRD 80",{"$f":"+IF(LEN(home!$G$7)>0,instruments!C553=home!$G$7,TRUE)","v":false},true,{"$f":"+IF(LEN(home!$G$8)>0,instruments!E553=home!$G$8,TRUE)","v":true},{"$f":"+IF(LEN(home!$G$9)>0,instruments!F553=home!$G$9,TRUE)","v":false},2,{"$f":"+COUNTIF($L$1:L553,\"=\"&4)","v":44},"IA CRD 80 Soybean Basis"]
["ZCBAIA90.CM","cmdty IA CRD 90 Corn Basis Idx","Corn","Basis","Iowa","District","IA CRD 90",{"$f":"+IF(LEN(home!$G$7)>0,instruments!C554=home!$G$7,TRUE)","v":true},true,{"$f":"+IF(LEN(home!$G$8)>0,instruments!E554=home!$G$8,TRUE)","v":true},{"$f":"+IF(LEN(home!$G$9)>0,instruments!F554=home!$G$9,TRUE)","v":false},3,{"$f":"+COUNTIF($L$1:L554,\"=\"&4)","v":44},"IA CRD 90 Corn Basis"]
["ZSBAIA90.CM","cmdty IA CRD 90 Soybean Basis Idx","Soybean","Basis","Iowa","District","IA CRD 90",{"$f":"+IF(LEN(home!$G$7)>0,instruments!C555=home!$G$7,TRUE)","v":false},true,{"$f":"+IF(LEN(home!$G$8)>0,instruments!E555=home!$G$8,TRUE)","v":true},{"$f":"+IF(LEN(home!$G$9)>0,instruments!F555=home!$G$9,TRUE)","v":false},2,{"$f":"+COUNTIF($L$1:L555,\"=\"&4)","v":44},"IA CRD 90 Soybean Basis"]
["ZCBAIAID.CM","cmdty Ida County, IA Corn Basis Idx","Corn","Basis","Iowa","County","Ida County",{"$f":"+IF(LEN(home!$G$7)>0,instruments!C556=home!$G$7,TRUE)","v":true},true,{"$f":"+IF(LEN(home!$G$8)>0,instruments!E556=home!$G$8,TRUE)","v":true},{"$f":"+IF(LEN(home!$G$9)>0,instruments!F556=home!$G$9,TRUE)","v":true},4,{"$f":"+COUNTIF($L$1:L556,\"=\"&4)","v":45},"Ida County, IA Corn Basis"]
["ZSBAIAID.CM","cmdty Ida County, IA Soybean Basis Idx","Soybean","Basis","Iowa","County","Ida County",{"$f":"+IF(LEN(home!$G$7)>0,instruments!C557=home!$G$7,TRUE)","v":false},true,{"$f":"+IF(LEN(home!$G$8)>0,instruments!E557=home!$G$8,TRUE)","v":true},{"$f":"+IF(LEN(home!$G$9)>0,instruments!F557=home!$G$9,TRUE)","v":true},3,{"$f":"+COUNTIF($L$1:L557,\"=\"&4)","v":45},"Ida County, IA Soybean Basis"]
["ZCBAIL10.CM","cmdty IL CRD 10 Corn Basis Idx","Corn","Basis","Illinois","District","IL CRD 10",{"$f":"+IF(LEN(home!$G$7)>0,instruments!C558=home!$G$7,TRUE)","v":true},true,{"$f":"+IF(LEN(home!$G$8)>0,instruments!E558=home!$G$8,TRUE)","v":false},{"$f":"+IF(LEN(home!$G$9)>0,instruments!F558=home!$G$9,TRUE)","v":false},2,{"$f":"+COUNTIF($L$1:L558,\"=\"&4)","v":45},"IL CRD 10 Corn Basis"]
["ZSBAIL10.CM","cmdty IL CRD 10 Soybean Basis Idx","Soybean","Basis","Illinois","District","IL CRD 10",{"$f":"+IF(LEN(home!$G$7)>0,instruments!C559=home!$G$7,TRUE)","v":false},true,{"$f":"+IF(LEN(home!$G$8)>0,instruments!E559=home!$G$8,TRUE)","v":false},{"$f":"+IF(LEN(home!$G$9)>0,instruments!F559=home!$G$9,TRUE)","v":false},1,{"$f":"+COUNTIF($L$1:L559,\"=\"&4)","v":45},"IL CRD 10 Soybean Basis"]
["ZCBAIL20.CM","cmdty IL CRD 20 Corn Basis Idx","Corn","Basis","Illinois","District","IL CRD 20",{"$f":"+IF(LEN(home!$G$7)>0,instruments!C560=home!$G$7,TRUE)","v":true},true,{"$f":"+IF(LEN(home!$G$8)>0,instruments!E560=home!$G$8,TRUE)","v":false},{"$f":"+IF(LEN(home!$G$9)>0,instruments!F560=home!$G$9,TRUE)","v":false},2,{"$f":"+COUNTIF($L$1:L560,\"=\"&4)","v":45},"IL CRD 20 Corn Basis"]
["ZSBAIL20.CM","cmdty IL CRD 20 Soybean Basis Idx","Soybean","Basis","Illinois","District","IL CRD 20",{"$f":"+IF(LEN(home!$G$7)>0,instruments!C561=home!$G$7,TRUE)","v":false},true,{"$f":"+IF(LEN(home!$G$8)>0,instruments!E561=home!$G$8,TRUE)","v":false},{"$f":"+IF(LEN(home!$G$9)>0,instruments!F561=home!$G$9,TRUE)","v":false},1,{"$f":"+COUNTIF($L$1:L561,\"=\"&4)","v":45},"IL CRD 20 Soybean Basis"]
["ZCBAIL30.CM","cmdty IL CRD 30 Corn Basis Idx","Corn","Basis","Illinois","District","IL CRD 30",{"$f":"+IF(LEN(home!$G$7)>0,instruments!C562=home!$G$7,TRUE)","v":true},true,{"$f":"+IF(LEN(home!$G$8)>0,instruments!E562=home!$G$8,TRUE)","v":false},{"$f":"+IF(LEN(home!$G$9)>0,instruments!F562=home!$G$9,TRUE)","v":false},2,{"$f":"+COUNTIF($L$1:L562,\"=\"&4)","v":45},"IL CRD 30 Corn Basis"]
["ZSBAIL30.CM","cmdty IL CRD 30 Soybean Basis Idx","Soybean","Basis","Illinois","District","IL CRD 30",{"$f":"+IF(LEN(home!$G$7)>0,instruments!C563=home!$G$7,TRUE)","v":false},true,{"$f":"+IF(LEN(home!$G$8)>0,instruments!E563=home!$G$8,TRUE)","v":false},{"$f":"+IF(LEN(home!$G$9)>0,instruments!F563=home!$G$9,TRUE)","v":false},1,{"$f":"+COUNTIF($L$1:L563,\"=\"&4)","v":45},"IL CRD 30 Soybean Basis"]
["ZCBAIL40.CM","cmdty IL CRD 40 Corn Basis Idx","Corn","Basis","Illinois","District","IL CRD 40",{"$f":"+IF(LEN(home!$G$7)>0,instruments!C564=home!$G$7,TRUE)","v":true},true,{"$f":"+IF(LEN(home!$G$8)>0,instruments!E564=home!$G$8,TRUE)","v":false},{"$f":"+IF(LEN(home!$G$9)>0,instruments!F564=home!$G$9,TRUE)","v":false},2,{"$f":"+COUNTIF($L$1:L564,\"=\"&4)","v":45},"IL CRD 40 Corn Basis"]
["ZSBAIL40.CM","cmdty IL CRD 40 Soybean Basis Idx","Soybean","Basis","Illinois","District","IL CRD 40",{"$f":"+IF(LEN(home!$G$7)>0,instruments!C565=home!$G$7,TRUE)","v":false},true,{"$f":"+IF(LEN(home!$G$8)>0,instruments!E565=home!$G$8,TRUE)","v":false},{"$f":"+IF(LEN(home!$G$9)>0,instruments!F565=home!$G$9,TRUE)","v":false},1,{"$f":"+COUNTIF($L$1:L565,\"=\"&4)","v":45},"IL CRD 40 Soybean Basis"]
["ZCBAIL50.CM","cmdty IL CRD 50 Corn Basis Idx","Corn","Basis","Illinois","District","IL CRD 50",{"$f":"+IF(LEN(home!$G$7)>0,instruments!C566=home!$G$7,TRUE)","v":true},true,{"$f":"+IF(LEN(home!$G$8)>0,instruments!E566=home!$G$8,TRUE)","v":false},{"$f":"+IF(LEN(home!$G$9)>0,instruments!F566=home!$G$9,TRUE)","v":false},2,{"$f":"+COUNTIF($L$1:L566,\"=\"&4)","v":45},"IL CRD 50 Corn Basis"]
["ZSBAIL50.CM","cmdty IL CRD 50 Soybean Basis Idx","Soybean","Basis","Illinois","District","IL CRD 50",{"$f":"+IF(LEN(home!$G$7)>0,instruments!C567=home!$G$7,TRUE)","v":false},true,{"$f":"+IF(LEN(home!$G$8)>0,instruments!E567=home!$G$8,TRUE)","v":false},{"$f":"+IF(LEN(home!$G$9)>0,instruments!F567=home!$G$9,TRUE)","v":false},1,{"$f":"+COUNTIF($L$1:L567,\"=\"&4)","v":45},"IL CRD 50 Soybean Basis"]
["ZCBAIL60.CM","cmdty IL CRD 60 Corn Basis Idx","Corn","Basis","Illinois","District","IL CRD 60",{"$f":"+IF(LEN(home!$G$7)>0,instruments!C568=home!$G$7,TRUE)","v":true},true,{"$f":"+IF(LEN(home!$G$8)>0,instruments!E568=home!$G$8,TRUE)","v":false},{"$f":"+IF(LEN(home!$G$9)>0,instruments!F568=home!$G$9,TRUE)","v":false},2,{"$f":"+COUNTIF($L$1:L568,\"=\"&4)","v":45},"IL CRD 60 Corn Basis"]
["ZSBAIL60.CM","cmdty IL CRD 60 Soybean Basis Idx","Soybean","Basis","Illinois","District","IL CRD 60",{"$f":"+IF(LEN(home!$G$7)>0,instruments!C569=home!$G$7,TRUE)","v":false},true,{"$f":"+IF(LEN(home!$G$8)>0,instruments!E569=home!$G$8,TRUE)","v":false},{"$f":"+IF(LEN(home!$G$9)>0,instruments!F569=home!$G$9,TRUE)","v":false},1,{"$f":"+COUNTIF($L$1:L569,\"=\"&4)","v":45},"IL CRD 60 Soybean Basis"]
["ZCBAIL70.CM","cmdty IL CRD 70 Corn Basis Idx","Corn","Basis","Illinois","District","IL CRD 70",{"$f":"+IF(LEN(home!$G$7)>0,instruments!C570=home!$G$7,TRUE)","v":true},true,{"$f":"+IF(LEN(home!$G$8)>0,instruments!E570=home!$G$8,TRUE)","v":false},{"$f":"+IF(LEN(home!$G$9)>0,instruments!F570=home!$G$9,TRUE)","v":false},2,{"$f":"+COUNTIF($L$1:L570,\"=\"&4)","v":45},"IL CRD 70 Corn Basis"]
["ZSBAIL70.CM","cmdty IL CRD 70 Soybean Basis Idx","Soybean","Basis","Illinois","District","IL CRD 70",{"$f":"+IF(LEN(home!$G$7)>0,instruments!C571=home!$G$7,TRUE)","v":false},true,{"$f":"+IF(LEN(home!$G$8)>0,instruments!E571=home!$G$8,TRUE)","v":false},{"$f":"+IF(LEN(home!$G$9)>0,instruments!F571=home!$G$9,TRUE)","v":false},1,{"$f":"+COUNTIF($L$1:L571,\"=\"&4)","v":45},"IL CRD 70 Soybean Basis"]
["ZCBAIL80.CM","cmdty IL CRD 80 Corn Basis Idx","Corn","Basis","Illinois","District","IL CRD 80",{"$f":"+IF(LEN(home!$G$7)>0,instruments!C572=home!$G$7,TRUE)","v":true},true,{"$f":"+IF(LEN(home!$G$8)>0,instruments!E572=home!$G$8,TRUE)","v":false},{"$f":"+IF(LEN(home!$G$9)>0,instruments!F572=home!$G$9,TRUE)","v":false},2,{"$f":"+COUNTIF($L$1:L572,\"=\"&4)","v":45},"IL CRD 80 Corn Basis"]
["ZSBAIL80.CM","cmdty IL CRD 80 Soybean Basis Idx","Soybean","Basis","Illinois","District","IL CRD 80",{"$f":"+IF(LEN(home!$G$7)>0,instruments!C573=home!$G$7,TRUE)","v":false},true,{"$f":"+IF(LEN(home!$G$8)>0,instruments!E573=home!$G$8,TRUE)","v":false},{"$f":"+IF(LEN(home!$G$9)>0,instruments!F573=home!$G$9,TRUE)","v":false},1,{"$f":"+COUNTIF($L$1:L573,\"=\"&4)","v":45},"IL CRD 80 Soybean Basis"]
["ZCBAIL90.CM","cmdty IL CRD 90 Corn Basis Idx","Corn","Basis","Illinois","District","IL CRD 90",{"$f":"+IF(LEN(home!$G$7)>0,instruments!C574=home!$G$7,TRUE)","v":true},true,{"$f":"+IF(LEN(home!$G$8)>0,instruments!E574=home!$G$8,TRUE)","v":false},{"$f":"+IF(LEN(home!$G$9)>0,instruments!F574=home!$G$9,TRUE)","v":false},2,{"$f":"+COUNTIF($L$1:L574,\"=\"&4)","v":45},"IL CRD 90 Corn Basis"]
["ZSBAIL90.CM","cmdty IL CRD 90 Soybean Basis Idx","Soybean","Basis","Illinois","District","IL CRD 90",{"$f":"+IF(LEN(home!$G$7)>0,instruments!C575=home!$G$7,TRUE)","v":false},true,{"$f":"+IF(LEN(home!$G$8)>0,instruments!E575=home!$G$8,TRUE)","v":false},{"$f":"+IF(LEN(home!$G$9)>0,instruments!F575=home!$G$9,TRUE)","v":false},1,{"$f":"+COUNTIF($L$1:L575,\"=\"&4)","v":45},"IL CRD 90 Soybean Basis"]
["ZCBAIL.CM","cmdty Illinois Corn Basis Idx","Corn","Basis","Illinois","State","Illinois",{"$f":"+IF(LEN(home!$G$7)>0,instruments!C576=home!$G$7,TRUE)","v":true},true,{"$f":"+IF(LEN(home!$G$8)>0,instruments!E576=home!$G$8,TRUE)","v":false},{"$f":"+IF(LEN(home!$G$9)>0,instruments!F576=home!$G$9,TRUE)","v":false},2,{"$f":"+COUNTIF($L$1:L576,\"=\"&4)","v":45},"Illinois Corn Basis"]
["ZSBAIL.CM","cmdty Illinois Soybean Basis Idx","Soybean","Basis","Illinois","State","Illinois",{"$f":"+IF(LEN(home!$G$7)>0,instruments!C577=home!$G$7,TRUE)","v":false},true,{"$f":"+IF(LEN(home!$G$8)>0,instruments!E577=home!$G$8,TRUE)","v":false},{"$f":"+IF(LEN(home!$G$9)>0,instruments!F577=home!$G$9,TRUE)","v":false},1,{"$f":"+COUNTIF($L$1:L577,\"=\"&4)","v":45},"Illinois Soybean Basis"]
["ZCBAIN10.CM","cmdty IN CRD 10 Corn Basis Idx","Corn","Basis","Indiana","District","IN CRD 10",{"$f":"+IF(LEN(home!$G$7)>0,instruments!C578=home!$G$7,TRUE)","v":true},true,{"$f":"+IF(LEN(home!$G$8)>0,instruments!E578=home!$G$8,TRUE)","v":false},{"$f":"+IF(LEN(home!$G$9)>0,instruments!F578=home!$G$9,TRUE)","v":false},{"$f":"+COUNTIF(H578:K578,TRUE)","v":2},{"$f":"+COUNTIF($L$1:L578,\"=\"&4)","v":45},"IN CRD 10 Corn Basis"]
["ZSBAIN10.CM","cmdty IN CRD 10 Soybean Basis Idx","Soybean","Basis","Indiana","District","IN CRD 10",{"$f":"+IF(LEN(home!$G$7)>0,instruments!C579=home!$G$7,TRUE)","v":false},{"$f":"+D579=\"Basis\"","v":true},{"$f":"+IF(LEN(home!$G$8)>0,instruments!E579=home!$G$8,TRUE)","v":false},{"$f":"+IF(LEN(home!$G$9)>0,instruments!F579=home!$G$9,TRUE)","v":false},1,{"$f":"+COUNTIF($L$1:L579,\"=\"&4)","v":45},{"$f":"+MID(B579,FIND(\" \",B579,1)+1,LEN(B579)-FIND(\" \",B579,1)-4)","v":"IN CRD 10 Soybean Basis"}]
["ZCBAIN20.CM","cmdty IN CRD 20 Corn Basis Idx","Corn","Basis","Indiana","District","IN CRD 20",{"$f":"+IF(LEN(home!$G$7)>0,instruments!C580=home!$G$7,TRUE)","v":true},true,{"$f":"+IF(LEN(home!$G$8)>0,instruments!E580=home!$G$8,TRUE)","v":false},{"$f":"+IF(LEN(home!$G$9)>0,instruments!F580=home!$G$9,TRUE)","v":false},2,{"$f":"+COUNTIF($L$1:L580,\"=\"&4)","v":45},"IN CRD 20 Corn Basis"]
["ZSBAIN20.CM","cmdty IN CRD 20 Soybean Basis Idx","Soybean","Basis","Indiana","District","IN CRD 20",{"$f":"+IF(LEN(home!$G$7)>0,instruments!C581=home!$G$7,TRUE)","v":false},true,{"$f":"+IF(LEN(home!$G$8)>0,instruments!E581=home!$G$8,TRUE)","v":false},{"$f":"+IF(LEN(home!$G$9)>0,instruments!F581=home!$G$9,TRUE)","v":false},1,{"$f":"+COUNTIF($L$1:L581,\"=\"&4)","v":45},"IN CRD 20 Soybean Basis"]
["ZCBAIN30.CM","cmdty IN CRD 30 Corn Basis Idx","Corn","Basis","Indiana","District","IN CRD 30",{"$f":"+IF(LEN(home!$G$7)>0,instruments!C582=home!$G$7,TRUE)","v":true},true,{"$f":"+IF(LEN(home!$G$8)>0,instruments!E582=home!$G$8,TRUE)","v":false},{"$f":"+IF(LEN(home!$G$9)>0,instruments!F582=home!$G$9,TRUE)","v":false},2,{"$f":"+COUNTIF($L$1:L582,\"=\"&4)","v":45},"IN CRD 30 Corn Basis"]
["ZSBAIN30.CM","cmdty IN CRD 30 Soybean Basis Idx","Soybean","Basis","Indiana","District","IN CRD 30",{"$f":"+IF(LEN(home!$G$7)>0,instruments!C583=home!$G$7,TRUE)","v":false},true,{"$f":"+IF(LEN(home!$G$8)>0,instruments!E583=home!$G$8,TRUE)","v":false},{"$f":"+IF(LEN(home!$G$9)>0,instruments!F583=home!$G$9,TRUE)","v":false},1,{"$f":"+COUNTIF($L$1:L583,\"=\"&4)","v":45},"IN CRD 30 Soybean Basis"]
["ZCBAIN40.CM","cmdty IN CRD 40 Corn Basis Idx","Corn","Basis","Indiana","District","IN CRD 40",{"$f":"+IF(LEN(home!$G$7)>0,instruments!C584=home!$G$7,TRUE)","v":true},true,{"$f":"+IF(LEN(home!$G$8)>0,instruments!E584=home!$G$8,TRUE)","v":false},{"$f":"+IF(LEN(home!$G$9)>0,instruments!F584=home!$G$9,TRUE)","v":false},2,{"$f":"+COUNTIF($L$1:L584,\"=\"&4)","v":45},"IN CRD 40 Corn Basis"]
["ZSBAIN40.CM","cmdty IN CRD 40 Soybean Basis Idx","Soybean","Basis","Indiana","District","IN CRD 40",{"$f":"+IF(LEN(home!$G$7)>0,instruments!C585=home!$G$7,TRUE)","v":false},true,{"$f":"+IF(LEN(home!$G$8)>0,instruments!E585=home!$G$8,TRUE)","v":false},{"$f":"+IF(LEN(home!$G$9)>0,instruments!F585=home!$G$9,TRUE)","v":false},1,{"$f":"+COUNTIF($L$1:L585,\"=\"&4)","v":45},"IN CRD 40 Soybean Basis"]
["ZCBAIN50.CM","cmdty IN CRD 50 Corn Basis Idx","Corn","Basis","Indiana","District","IN CRD 50",{"$f":"+IF(LEN(home!$G$7)>0,instruments!C586=home!$G$7,TRUE)","v":true},true,{"$f":"+IF(LEN(home!$G$8)>0,instruments!E586=home!$G$8,TRUE)","v":false},{"$f":"+IF(LEN(home!$G$9)>0,instruments!F586=home!$G$9,TRUE)","v":false},2,{"$f":"+COUNTIF($L$1:L586,\"=\"&4)","v":45},"IN CRD 50 Corn Basis"]
["ZSBAIN50.CM","cmdty IN CRD 50 Soybean Basis Idx","Soybean","Basis","Indiana","District","IN CRD 50",{"$f":"+IF(LEN(home!$G$7)>0,instruments!C587=home!$G$7,TRUE)","v":false},true,{"$f":"+IF(LEN(home!$G$8)>0,instruments!E587=home!$G$8,TRUE)","v":false},{"$f":"+IF(LEN(home!$G$9)>0,instruments!F587=home!$G$9,TRUE)","v":false},1,{"$f":"+COUNTIF($L$1:L587,\"=\"&4)","v":45},"IN CRD 50 Soybean Basis"]
["ZCBAIN60.CM","cmdty IN CRD 60 Corn Basis Idx","Corn","Basis","Indiana","District","IN CRD 60",{"$f":"+IF(LEN(home!$G$7)>0,instruments!C588=home!$G$7,TRUE)","v":true},true,{"$f":"+IF(LEN(home!$G$8)>0,instruments!E588=home!$G$8,TRUE)","v":false},{"$f":"+IF(LEN(home!$G$9)>0,instruments!F588=home!$G$9,TRUE)","v":false},2,{"$f":"+COUNTIF($L$1:L588,\"=\"&4)","v":45},"IN CRD 60 Corn Basis"]
["ZSBAIN60.CM","cmdty IN CRD 60 Soybean Basis Idx","Soybean","Basis","Indiana","District","IN CRD 60",{"$f":"+IF(LEN(home!$G$7)>0,instruments!C589=home!$G$7,TRUE)","v":false},true,{"$f":"+IF(LEN(home!$G$8)>0,instruments!E589=home!$G$8,TRUE)","v":false},{"$f":"+IF(LEN(home!$G$9)>0,instruments!F589=home!$G$9,TRUE)","v":false},1,{"$f":"+COUNTIF($L$1:L589,\"=\"&4)","v":45},"IN CRD 60 Soybean Basis"]
["ZCBAIN70.CM","cmdty IN CRD 70 Corn Basis Idx","Corn","Basis","Indiana","District","IN CRD 70",{"$f":"+IF(LEN(home!$G$7)>0,instruments!C590=home!$G$7,TRUE)","v":true},true,{"$f":"+IF(LEN(home!$G$8)>0,instruments!E590=home!$G$8,TRUE)","v":false},{"$f":"+IF(LEN(home!$G$9)>0,instruments!F590=home!$G$9,TRUE)","v":false},2,{"$f":"+COUNTIF($L$1:L590,\"=\"&4)","v":45},"IN CRD 70 Corn Basis"]
["ZSBAIN70.CM","cmdty IN CRD 70 Soybean Basis Idx","Soybean","Basis","Indiana","District","IN CRD 70",{"$f":"+IF(LEN(home!$G$7)>0,instruments!C591=home!$G$7,TRUE)","v":false},true,{"$f":"+IF(LEN(home!$G$8)>0,instruments!E591=home!$G$8,TRUE)","v":false},{"$f":"+IF(LEN(home!$G$9)>0,instruments!F591=home!$G$9,TRUE)","v":false},1,{"$f":"+COUNTIF($L$1:L591,\"=\"&4)","v":45},"IN CRD 70 Soybean Basis"]
["ZCBAIN90.CM","cmdty IN CRD 90 Corn Basis Idx","Corn","Basis","Indiana","District","IN CRD 90",{"$f":"+IF(LEN(home!$G$7)>0,instruments!C592=home!$G$7,TRUE)","v":true},true,{"$f":"+IF(LEN(home!$G$8)>0,instruments!E592=home!$G$8,TRUE)","v":false},{"$f":"+IF(LEN(home!$G$9)>0,instruments!F592=home!$G$9,TRUE)","v":false},2,{"$f":"+COUNTIF($L$1:L592,\"=\"&4)","v":45},"IN CRD 90 Corn Basis"]
["ZSBAIN90.CM","cmdty IN CRD 90 Soybean Basis Idx","Soybean","Basis","Indiana","District","IN CRD 90",{"$f":"+IF(LEN(home!$G$7)>0,instruments!C593=home!$G$7,TRUE)","v":false},true,{"$f":"+IF(LEN(home!$G$8)>0,instruments!E593=home!$G$8,TRUE)","v":false},{"$f":"+IF(LEN(home!$G$9)>0,instruments!F593=home!$G$9,TRUE)","v":false},1,{"$f":"+COUNTIF($L$1:L593,\"=\"&4)","v":45},"IN CRD 90 Soybean Basis"]
["ZCBAIN.CM","cmdty Indiana Corn Basis Idx","Corn","Basis","Indiana","State","Indiana",{"$f":"+IF(LEN(home!$G$7)>0,instruments!C594=home!$G$7,TRUE)","v":true},true,{"$f":"+IF(LEN(home!$G$8)>0,instruments!E594=home!$G$8,TRUE)","v":false},{"$f":"+IF(LEN(home!$G$9)>0,instruments!F594=home!$G$9,TRUE)","v":false},2,{"$f":"+COUNTIF($L$1:L594,\"=\"&4)","v":45},"Indiana Corn Basis"]
["ZSBAIN.CM","cmdty Indiana Soybean Basis Idx","Soybean","Basis","Indiana","State","Indiana",{"$f":"+IF(LEN(home!$G$7)>0,instruments!C595=home!$G$7,TRUE)","v":false},true,{"$f":"+IF(LEN(home!$G$8)>0,instruments!E595=home!$G$8,TRUE)","v":false},{"$f":"+IF(LEN(home!$G$9)>0,instruments!F595=home!$G$9,TRUE)","v":false},1,{"$f":"+COUNTIF($L$1:L595,\"=\"&4)","v":45},"Indiana Soybean Basis"]
["ZCBAIA.CM","cmdty Iowa Corn Basis Idx","Corn","Basis","Iowa","State","Iowa",{"$f":"+IF(LEN(home!$G$7)>0,instruments!C596=home!$G$7,TRUE)","v":true},true,{"$f":"+IF(LEN(home!$G$8)>0,instruments!E596=home!$G$8,TRUE)","v":true},{"$f":"+IF(LEN(home!$G$9)>0,instruments!F596=home!$G$9,TRUE)","v":false},3,{"$f":"+COUNTIF($L$1:L596,\"=\"&4)","v":45},"Iowa Corn Basis"]
["ZCBAIAIO.CM","cmdty Iowa County, IA Corn Basis Idx","Corn","Basis","Iowa","County","Iowa County",{"$f":"+IF(LEN(home!$G$7)>0,instruments!C597=home!$G$7,TRUE)","v":true},true,{"$f":"+IF(LEN(home!$G$8)>0,instruments!E597=home!$G$8,TRUE)","v":true},{"$f":"+IF(LEN(home!$G$9)>0,instruments!F597=home!$G$9,TRUE)","v":true},4,{"$f":"+COUNTIF($L$1:L597,\"=\"&4)","v":46},"Iowa County, IA Corn Basis"]
["ZSBAIAIO.CM","cmdty Iowa County, IA Soybean Basis Idx","Soybean","Basis","Iowa","County","Iowa County",{"$f":"+IF(LEN(home!$G$7)>0,instruments!C598=home!$G$7,TRUE)","v":false},true,{"$f":"+IF(LEN(home!$G$8)>0,instruments!E598=home!$G$8,TRUE)","v":true},{"$f":"+IF(LEN(home!$G$9)>0,instruments!F598=home!$G$9,TRUE)","v":true},3,{"$f":"+COUNTIF($L$1:L598,\"=\"&4)","v":46},"Iowa County, IA Soybean Basis"]
["ZSBAIA.CM","cmdty Iowa Soybean Basis Idx","Soybean","Basis","Iowa","State","Iowa",{"$f":"+IF(LEN(home!$G$7)>0,instruments!C599=home!$G$7,TRUE)","v":false},true,{"$f":"+IF(LEN(home!$G$8)>0,instruments!E599=home!$G$8,TRUE)","v":true},{"$f":"+IF(LEN(home!$G$9)>0,instruments!F599=home!$G$9,TRUE)","v":false},2,{"$f":"+COUNTIF($L$1:L599,\"=\"&4)","v":46},"Iowa Soybean Basis"]
["ZCBAILIR.CM","cmdty Iroquois County, IL Corn Basis Idx","Corn","Basis","Illinois","County","Iroquois County",{"$f":"+IF(LEN(home!$G$7)>0,instruments!C600=home!$G$7,TRUE)","v":true},true,{"$f":"+IF(LEN(home!$G$8)>0,instruments!E600=home!$G$8,TRUE)","v":false},{"$f":"+IF(LEN(home!$G$9)>0,instruments!F600=home!$G$9,TRUE)","v":true},3,{"$f":"+COUNTIF($L$1:L600,\"=\"&4)","v":46},"Iroquois County, IL Corn Basis"]
["ZSBAILIR.CM","cmdty Iroquois County, IL Soybean Basis Idx","Soybean","Basis","Illinois","County","Iroquois County",{"$f":"+IF(LEN(home!$G$7)>0,instruments!C601=home!$G$7,TRUE)","v":false},true,{"$f":"+IF(LEN(home!$G$8)>0,instruments!E601=home!$G$8,TRUE)","v":false},{"$f":"+IF(LEN(home!$G$9)>0,instruments!F601=home!$G$9,TRUE)","v":true},2,{"$f":"+COUNTIF($L$1:L601,\"=\"&4)","v":46},"Iroquois County, IL Soybean Basis"]
["ZCBAILJA.CM","cmdty Jackson County, IL Corn Basis Idx","Corn","Basis","Illinois","County","Jackson County",{"$f":"+IF(LEN(home!$G$7)>0,instruments!C602=home!$G$7,TRUE)","v":true},true,{"$f":"+IF(LEN(home!$G$8)>0,instruments!E602=home!$G$8,TRUE)","v":false},{"$f":"+IF(LEN(home!$G$9)>0,instruments!F602=home!$G$9,TRUE)","v":true},3,{"$f":"+COUNTIF($L$1:L602,\"=\"&4)","v":46},"Jackson County, IL Corn Basis"]
["ZSBAILJA.CM","cmdty Jackson County, IL Soybean Basis Idx","Soybean","Basis","Illinois","County","Jackson County",{"$f":"+IF(LEN(home!$G$7)>0,instruments!C603=home!$G$7,TRUE)","v":false},true,{"$f":"+IF(LEN(home!$G$8)>0,instruments!E603=home!$G$8,TRUE)","v":false},{"$f":"+IF(LEN(home!$G$9)>0,instruments!F603=home!$G$9,TRUE)","v":true},2,{"$f":"+COUNTIF($L$1:L603,\"=\"&4)","v":46},"Jackson County, IL Soybean Basis"]
["ZCBAKSJA.CM","cmdty Jackson County, KS Corn Basis Idx","Corn","Basis","Kansas","County","Jackson County",{"$f":"+IF(LEN(home!$G$7)>0,instruments!C604=home!$G$7,TRUE)","v":true},true,{"$f":"+IF(LEN(home!$G$8)>0,instruments!E604=home!$G$8,TRUE)","v":false},{"$f":"+IF(LEN(home!$G$9)>0,instruments!F604=home!$G$9,TRUE)","v":true},3,{"$f":"+COUNTIF($L$1:L604,\"=\"&4)","v":46},"Jackson County, KS Corn Basis"]
["ZSBAKSJA.CM","cmdty Jackson County, KS Soybean Basis Idx","Soybean","Basis","Kansas","County","Jackson County",{"$f":"+IF(LEN(home!$G$7)>0,instruments!C605=home!$G$7,TRUE)","v":false},true,{"$f":"+IF(LEN(home!$G$8)>0,instruments!E605=home!$G$8,TRUE)","v":false},{"$f":"+IF(LEN(home!$G$9)>0,instruments!F605=home!$G$9,TRUE)","v":true},2,{"$f":"+COUNTIF($L$1:L605,\"=\"&4)","v":46},"Jackson County, KS Soybean Basis"]
["ZCBAMNJA.CM","cmdty Jackson County, MN Corn Basis Idx","Corn","Basis","Minnesota","County","Jackson County",{"$f":"+IF(LEN(home!$G$7)>0,instruments!C606=home!$G$7,TRUE)","v":true},true,{"$f":"+IF(LEN(home!$G$8)>0,instruments!E606=home!$G$8,TRUE)","v":false},{"$f":"+IF(LEN(home!$G$9)>0,instruments!F606=home!$G$9,TRUE)","v":true},3,{"$f":"+COUNTIF($L$1:L606,\"=\"&4)","v":46},"Jackson County, MN Corn Basis"]
["ZSBAMNJA.CM","cmdty Jackson County, MN Soybean Basis Idx","Soybean","Basis","Minnesota","County","Jackson County",{"$f":"+IF(LEN(home!$G$7)>0,instruments!C607=home!$G$7,TRUE)","v":false},true,{"$f":"+IF(LEN(home!$G$8)>0,instruments!E607=home!$G$8,TRUE)","v":false},{"$f":"+IF(LEN(home!$G$9)>0,instruments!F607=home!$G$9,TRUE)","v":true},2,{"$f":"+COUNTIF($L$1:L607,\"=\"&4)","v":46},"Jackson County, MN Soybean Basis"]
["ZSBAMOJA.CM","cmdty Jackson County, MO Soybean Basis Idx","Soybean","Basis","Missouri","County","Jackson County",{"$f":"+IF(LEN(home!$G$7)>0,instruments!C608=home!$G$7,TRUE)","v":false},true,{"$f":"+IF(LEN(home!$G$8)>0,instruments!E608=home!$G$8,TRUE)","v":false},{"$f":"+IF(LEN(home!$G$9)>0,instruments!F608=home!$G$9,TRUE)","v":true},2,{"$f":"+COUNTIF($L$1:L608,\"=\"&4)","v":46},"Jackson County, MO Soybean Basis"]
["ZCBAIAJB.CM","cmdty Jasper County, IA Corn Basis Idx","Corn","Basis","Iowa","County","Jasper County",{"$f":"+IF(LEN(home!$G$7)>0,instruments!C609=home!$G$7,TRUE)","v":true},true,{"$f":"+IF(LEN(home!$G$8)>0,instruments!E609=home!$G$8,TRUE)","v":true},{"$f":"+IF(LEN(home!$G$9)>0,instruments!F609=home!$G$9,TRUE)","v":true},4,{"$f":"+COUNTIF($L$1:L609,\"=\"&4)","v":47},"Jasper County, IA Corn Basis"]
["ZSBAIAJB.CM","cmdty Jasper County, IA Soybean Basis Idx","Soybean","Basis","Iowa","County","Jasper County",{"$f":"+IF(LEN(home!$G$7)>0,instruments!C610=home!$G$7,TRUE)","v":false},true,{"$f":"+IF(LEN(home!$G$8)>0,instruments!E610=home!$G$8,TRUE)","v":true},{"$f":"+IF(LEN(home!$G$9)>0,instruments!F610=home!$G$9,TRUE)","v":true},3,{"$f":"+COUNTIF($L$1:L610,\"=\"&4)","v":47},"Jasper County, IA Soybean Basis"]
["ZCBAILJB.CM","cmdty Jasper County, IL Corn Basis Idx","Corn","Basis","Illinois","County","Jasper County",{"$f":"+IF(LEN(home!$G$7)>0,instruments!C611=home!$G$7,TRUE)","v":true},true,{"$f":"+IF(LEN(home!$G$8)>0,instruments!E611=home!$G$8,TRUE)","v":false},{"$f":"+IF(LEN(home!$G$9)>0,instruments!F611=home!$G$9,TRUE)","v":true},3,{"$f":"+COUNTIF($L$1:L611,\"=\"&4)","v":47},"Jasper County, IL Corn Basis"]
["ZSBAILJB.CM","cmdty Jasper County, IL Soybean Basis Idx","Soybean","Basis","Illinois","County","Jasper County",{"$f":"+IF(LEN(home!$G$7)>0,instruments!C612=home!$G$7,TRUE)","v":false},true,{"$f":"+IF(LEN(home!$G$8)>0,instruments!E612=home!$G$8,TRUE)","v":false},{"$f":"+IF(LEN(home!$G$9)>0,instruments!F612=home!$G$9,TRUE)","v":true},2,{"$f":"+COUNTIF($L$1:L612,\"=\"&4)","v":47},"Jasper County, IL Soybean Basis"]
["ZCBAINJB.CM","cmdty Jasper County, IN Corn Basis Idx","Corn","Basis","Indiana","County","Jasper County",{"$f":"+IF(LEN(home!$G$7)>0,instruments!C613=home!$G$7,TRUE)","v":true},true,{"$f":"+IF(LEN(home!$G$8)>0,instruments!E613=home!$G$8,TRUE)","v":false},{"$f":"+IF(LEN(home!$G$9)>0,instruments!F613=home!$G$9,TRUE)","v":true},3,{"$f":"+COUNTIF($L$1:L613,\"=\"&4)","v":47},"Jasper County, IN Corn Basis"]
["ZSBAINJB.CM","cmdty Jasper County, IN Soybean Basis Idx","Soybean","Basis","Indiana","County","Jasper County",{"$f":"+IF(LEN(home!$G$7)>0,instruments!C614=home!$G$7,TRUE)","v":false},true,{"$f":"+IF(LEN(home!$G$8)>0,instruments!E614=home!$G$8,TRUE)","v":false},{"$f":"+IF(LEN(home!$G$9)>0,instruments!F614=home!$G$9,TRUE)","v":true},2,{"$f":"+COUNTIF($L$1:L614,\"=\"&4)","v":47},"Jasper County, IN Soybean Basis"]
["ZCBAMOJB.CM","cmdty Jasper County, MO Corn Basis Idx","Corn","Basis","Missouri","County","Jasper County",{"$f":"+IF(LEN(home!$G$7)>0,instruments!C615=home!$G$7,TRUE)","v":true},true,{"$f":"+IF(LEN(home!$G$8)>0,instruments!E615=home!$G$8,TRUE)","v":false},{"$f":"+IF(LEN(home!$G$9)>0,instruments!F615=home!$G$9,TRUE)","v":true},3,{"$f":"+COUNTIF($L$1:L615,\"=\"&4)","v":47},"Jasper County, MO Corn Basis"]
["ZSBAMOJB.CM","cmdty Jasper County, MO Soybean Basis Idx","Soybean","Basis","Missouri","County","Jasper County",{"$f":"+IF(LEN(home!$G$7)>0,instruments!C616=home!$G$7,TRUE)","v":false},true,{"$f":"+IF(LEN(home!$G$8)>0,instruments!E616=home!$G$8,TRUE)","v":false},{"$f":"+IF(LEN(home!$G$9)>0,instruments!F616=home!$G$9,TRUE)","v":true},2,{"$f":"+COUNTIF($L$1:L616,\"=\"&4)","v":47},"Jasper County, MO Soybean Basis"]
["ZCBAINJC.CM","cmdty Jay County, IN Corn Basis Idx","Corn","Basis","Indiana","County","Jay County",{"$f":"+IF(LEN(home!$G$7)>0,instruments!C617=home!$G$7,TRUE)","v":true},true,{"$f":"+IF(LEN(home!$G$8)>0,instruments!E617=home!$G$8,TRUE)","v":false},{"$f":"+IF(LEN(home!$G$9)>0,instruments!F617=home!$G$9,TRUE)","v":true},3,{"$f":"+COUNTIF($L$1:L617,\"=\"&4)","v":47},"Jay County, IN Corn Basis"]
["ZSBAINJC.CM","cmdty Jay County, IN Soybean Basis Idx","Soybean","Basis","Indiana","County","Jay County",{"$f":"+IF(LEN(home!$G$7)>0,instruments!C618=home!$G$7,TRUE)","v":false},true,{"$f":"+IF(LEN(home!$G$8)>0,instruments!E618=home!$G$8,TRUE)","v":false},{"$f":"+IF(LEN(home!$G$9)>0,instruments!F618=home!$G$9,TRUE)","v":true},2,{"$f":"+COUNTIF($L$1:L618,\"=\"&4)","v":47},"Jay County, IN Soybean Basis"]
["ZCBAIAJE.CM","cmdty Jefferson County, IA Corn Basis Idx","Corn","Basis","Iowa","County","Jefferson County",{"$f":"+IF(LEN(home!$G$7)>0,instruments!C619=home!$G$7,TRUE)","v":true},true,{"$f":"+IF(LEN(home!$G$8)>0,instruments!E619=home!$G$8,TRUE)","v":true},{"$f":"+IF(LEN(home!$G$9)>0,instruments!F619=home!$G$9,TRUE)","v":true},4,{"$f":"+COUNTIF($L$1:L619,\"=\"&4)","v":48},"Jefferson County, IA Corn Basis"]
["ZSBAIAJE.CM","cmdty Jefferson County, IA Soybean Basis Idx","Soybean","Basis","Iowa","County","Jefferson County",{"$f":"+IF(LEN(home!$G$7)>0,instruments!C620=home!$G$7,TRUE)","v":false},true,{"$f":"+IF(LEN(home!$G$8)>0,instruments!E620=home!$G$8,TRUE)","v":true},{"$f":"+IF(LEN(home!$G$9)>0,instruments!F620=home!$G$9,TRUE)","v":true},3,{"$f":"+COUNTIF($L$1:L620,\"=\"&4)","v":48},"Jefferson County, IA Soybean Basis"]
["ZCBAILJE.CM","cmdty Jefferson County, IL Corn Basis Idx","Corn","Basis","Illinois","County","Jefferson County",{"$f":"+IF(LEN(home!$G$7)>0,instruments!C621=home!$G$7,TRUE)","v":true},true,{"$f":"+IF(LEN(home!$G$8)>0,instruments!E621=home!$G$8,TRUE)","v":false},{"$f":"+IF(LEN(home!$G$9)>0,instruments!F621=home!$G$9,TRUE)","v":true},3,{"$f":"+COUNTIF($L$1:L621,\"=\"&4)","v":48},"Jefferson County, IL Corn Basis"]
["ZSBAILJE.CM","cmdty Jefferson County, IL Soybean Basis Idx","Soybean","Basis","Illinois","County","Jefferson County",{"$f":"+IF(LEN(home!$G$7)>0,instruments!C622=home!$G$7,TRUE)","v":false},true,{"$f":"+IF(LEN(home!$G$8)>0,instruments!E622=home!$G$8,TRUE)","v":false},{"$f":"+IF(LEN(home!$G$9)>0,instruments!F622=home!$G$9,TRUE)","v":true},2,{"$f":"+COUNTIF($L$1:L622,\"=\"&4)","v":48},"Jefferson County, IL Soybean Basis"]
["ZCBAINJE.CM","cmdty Jefferson County, IN Corn Basis Idx","Corn","Basis","Indiana","County","Jefferson County",{"$f":"+IF(LEN(home!$G$7)>0,instruments!C623=home!$G$7,TRUE)","v":true},true,{"$f":"+IF(LEN(home!$G$8)>0,instruments!E623=home!$G$8,TRUE)","v":false},{"$f":"+IF(LEN(home!$G$9)>0,instruments!F623=home!$G$9,TRUE)","v":true},3,{"$f":"+COUNTIF($L$1:L623,\"=\"&4)","v":48},"Jefferson County, IN Corn Basis"]
["ZSBAINJE.CM","cmdty Jefferson County, IN Soybean Basis Idx","Soybean","Basis","Indiana","County","Jefferson County",{"$f":"+IF(LEN(home!$G$7)>0,instruments!C624=home!$G$7,TRUE)","v":false},true,{"$f":"+IF(LEN(home!$G$8)>0,instruments!E624=home!$G$8,TRUE)","v":false},{"$f":"+IF(LEN(home!$G$9)>0,instruments!F624=home!$G$9,TRUE)","v":true},2,{"$f":"+COUNTIF($L$1:L624,\"=\"&4)","v":48},"Jefferson County, IN Soybean Basis"]
["ZCBAKSJE.CM","cmdty Jefferson County, KS Corn Basis Idx","Corn","Basis","Kansas","County","Jefferson County",{"$f":"+IF(LEN(home!$G$7)>0,instruments!C625=home!$G$7,TRUE)","v":true},true,{"$f":"+IF(LEN(home!$G$8)>0,instruments!E625=home!$G$8,TRUE)","v":false},{"$f":"+IF(LEN(home!$G$9)>0,instruments!F625=home!$G$9,TRUE)","v":true},3,{"$f":"+COUNTIF($L$1:L625,\"=\"&4)","v":48},"Jefferson County, KS Corn Basis"]
["ZSBAKSJE.CM","cmdty Jefferson County, KS Soybean Basis Idx","Soybean","Basis","Kansas","County","Jefferson County",{"$f":"+IF(LEN(home!$G$7)>0,instruments!C626=home!$G$7,TRUE)","v":false},true,{"$f":"+IF(LEN(home!$G$8)>0,instruments!E626=home!$G$8,TRUE)","v":false},{"$f":"+IF(LEN(home!$G$9)>0,instruments!F626=home!$G$9,TRUE)","v":true},2,{"$f":"+COUNTIF($L$1:L626,\"=\"&4)","v":48},"Jefferson County, KS Soybean Basis"]
["ZCBANEJE.CM","cmdty Jefferson County, NE Corn Basis Idx","Corn","Basis","Nebraska","County","Jefferson County",{"$f":"+IF(LEN(home!$G$7)>0,instruments!C627=home!$G$7,TRUE)","v":true},true,{"$f":"+IF(LEN(home!$G$8)>0,instruments!E627=home!$G$8,TRUE)","v":false},{"$f":"+IF(LEN(home!$G$9)>0,instruments!F627=home!$G$9,TRUE)","v":true},3,{"$f":"+COUNTIF($L$1:L627,\"=\"&4)","v":48},"Jefferson County, NE Corn Basis"]
["ZSBANEJE.CM","cmdty Jefferson County, NE Soybean Basis Idx","Soybean","Basis","Nebraska","County","Jefferson County",{"$f":"+IF(LEN(home!$G$7)>0,instruments!C628=home!$G$7,TRUE)","v":false},true,{"$f":"+IF(LEN(home!$G$8)>0,instruments!E628=home!$G$8,TRUE)","v":false},{"$f":"+IF(LEN(home!$G$9)>0,instruments!F628=home!$G$9,TRUE)","v":true},2,{"$f":"+COUNTIF($L$1:L628,\"=\"&4)","v":48},"Jefferson County, NE Soybean Basis"]
["ZCBASDJE.CM","cmdty Jerauld County, SD Corn Basis Idx","Corn","Basis","South Dakota","County","Jerauld County",{"$f":"+IF(LEN(home!$G$7)>0,instruments!C629=home!$G$7,TRUE)","v":true},true,{"$f":"+IF(LEN(home!$G$8)>0,instruments!E629=home!$G$8,TRUE)","v":false},{"$f":"+IF(LEN(home!$G$9)>0,instruments!F629=home!$G$9,TRUE)","v":true},3,{"$f":"+COUNTIF($L$1:L629,\"=\"&4)","v":48},"Jerauld County, SD Corn Basis"]
["ZSBASDJE.CM","cmdty Jerauld County, SD Soybean Basis Idx","Soybean","Basis","South Dakota","County","Jerauld County",{"$f":"+IF(LEN(home!$G$7)>0,instruments!C630=home!$G$7,TRUE)","v":false},true,{"$f":"+IF(LEN(home!$G$8)>0,instruments!E630=home!$G$8,TRUE)","v":false},{"$f":"+IF(LEN(home!$G$9)>0,instruments!F630=home!$G$9,TRUE)","v":true},2,{"$f":"+COUNTIF($L$1:L630,\"=\"&4)","v":48},"Jerauld County, SD Soybean Basis"]
["ZCBAILJC.CM","cmdty Jersey County, IL Corn Basis Idx","Corn","Basis","Illinois","County","Jersey County",{"$f":"+IF(LEN(home!$G$7)>0,instruments!C631=home!$G$7,TRUE)","v":true},true,{"$f":"+IF(LEN(home!$G$8)>0,instruments!E631=home!$G$8,TRUE)","v":false},{"$f":"+IF(LEN(home!$G$9)>0,instruments!F631=home!$G$9,TRUE)","v":true},3,{"$f":"+COUNTIF($L$1:L631,\"=\"&4)","v":48},"Jersey County, IL Corn Basis"]
["ZSBAILJC.CM","cmdty Jersey County, IL Soybean Basis Idx","Soybean","Basis","Illinois","County","Jersey County",{"$f":"+IF(LEN(home!$G$7)>0,instruments!C632=home!$G$7,TRUE)","v":false},true,{"$f":"+IF(LEN(home!$G$8)>0,instruments!E632=home!$G$8,TRUE)","v":false},{"$f":"+IF(LEN(home!$G$9)>0,instruments!F632=home!$G$9,TRUE)","v":true},2,{"$f":"+COUNTIF($L$1:L632,\"=\"&4)","v":48},"Jersey County, IL Soybean Basis"]
["ZCBAKSJB.CM","cmdty Jewell County, KS Corn Basis Idx","Corn","Basis","Kansas","County","Jewell County",{"$f":"+IF(LEN(home!$G$7)>0,instruments!C633=home!$G$7,TRUE)","v":true},true,{"$f":"+IF(LEN(home!$G$8)>0,instruments!E633=home!$G$8,TRUE)","v":false},{"$f":"+IF(LEN(home!$G$9)>0,instruments!F633=home!$G$9,TRUE)","v":true},3,{"$f":"+COUNTIF($L$1:L633,\"=\"&4)","v":48},"Jewell County, KS Corn Basis"]
["ZSBAKSJB.CM","cmdty Jewell County, KS Soybean Basis Idx","Soybean","Basis","Kansas","County","Jewell County",{"$f":"+IF(LEN(home!$G$7)>0,instruments!C634=home!$G$7,TRUE)","v":false},true,{"$f":"+IF(LEN(home!$G$8)>0,instruments!E634=home!$G$8,TRUE)","v":false},{"$f":"+IF(LEN(home!$G$9)>0,instruments!F634=home!$G$9,TRUE)","v":true},2,{"$f":"+COUNTIF($L$1:L634,\"=\"&4)","v":48},"Jewell County, KS Soybean Basis"]
["ZCBAILJO.CM","cmdty Jo Daviess County, IL Corn Basis Idx","Corn","Basis","Illinois","County","Jo Daviess County",{"$f":"+IF(LEN(home!$G$7)>0,instruments!C635=home!$G$7,TRUE)","v":true},true,{"$f":"+IF(LEN(home!$G$8)>0,instruments!E635=home!$G$8,TRUE)","v":false},{"$f":"+IF(LEN(home!$G$9)>0,instruments!F635=home!$G$9,TRUE)","v":true},3,{"$f":"+COUNTIF($L$1:L635,\"=\"&4)","v":48},"Jo Daviess County, IL Corn Basis"]
["ZSBAILJO.CM","cmdty Jo Daviess County, IL Soybean Basis Idx","Soybean","Basis","Illinois","County","Jo Daviess County",{"$f":"+IF(LEN(home!$G$7)>0,instruments!C636=home!$G$7,TRUE)","v":false},true,{"$f":"+IF(LEN(home!$G$8)>0,instruments!E636=home!$G$8,TRUE)","v":false},{"$f":"+IF(LEN(home!$G$9)>0,instruments!F636=home!$G$9,TRUE)","v":true},2,{"$f":"+COUNTIF($L$1:L636,\"=\"&4)","v":48},"Jo Daviess County, IL Soybean Basis"]
["ZCBAIAJO.CM","cmdty Johnson County, IA Corn Basis Idx","Corn","Basis","Iowa","County","Johnson County",{"$f":"+IF(LEN(home!$G$7)>0,instruments!C637=home!$G$7,TRUE)","v":true},true,{"$f":"+IF(LEN(home!$G$8)>0,instruments!E637=home!$G$8,TRUE)","v":true},{"$f":"+IF(LEN(home!$G$9)>0,instruments!F637=home!$G$9,TRUE)","v":true},4,{"$f":"+COUNTIF($L$1:L637,\"=\"&4)","v":49},"Johnson County, IA Corn Basis"]
["ZSBAIAJO.CM","cmdty Johnson County, IA Soybean Basis Idx","Soybean","Basis","Iowa","County","Johnson County",{"$f":"+IF(LEN(home!$G$7)>0,instruments!C638=home!$G$7,TRUE)","v":false},true,{"$f":"+IF(LEN(home!$G$8)>0,instruments!E638=home!$G$8,TRUE)","v":true},{"$f":"+IF(LEN(home!$G$9)>0,instruments!F638=home!$G$9,TRUE)","v":true},3,{"$f":"+COUNTIF($L$1:L638,\"=\"&4)","v":49},"Johnson County, IA Soybean Basis"]
["ZCBAINJO.CM","cmdty Johnson County, IN Corn Basis Idx","Corn","Basis","Indiana","County","Johnson County",{"$f":"+IF(LEN(home!$G$7)>0,instruments!C639=home!$G$7,TRUE)","v":true},true,{"$f":"+IF(LEN(home!$G$8)>0,instruments!E639=home!$G$8,TRUE)","v":false},{"$f":"+IF(LEN(home!$G$9)>0,instruments!F639=home!$G$9,TRUE)","v":true},3,{"$f":"+COUNTIF($L$1:L639,\"=\"&4)","v":49},"Johnson County, IN Corn Basis"]
["ZSBAINJO.CM","cmdty Johnson County, IN Soybean Basis Idx","Soybean","Basis","Indiana","County","Johnson County",{"$f":"+IF(LEN(home!$G$7)>0,instruments!C640=home!$G$7,TRUE)","v":false},true,{"$f":"+IF(LEN(home!$G$8)>0,instruments!E640=home!$G$8,TRUE)","v":false},{"$f":"+IF(LEN(home!$G$9)>0,instruments!F640=home!$G$9,TRUE)","v":true},2,{"$f":"+COUNTIF($L$1:L640,\"=\"&4)","v":49},"Johnson County, IN Soybean Basis"]
["ZCBAKSJO.CM","cmdty Johnson County, KS Corn Basis Idx","Corn","Basis","Kansas","County","Johnson County",{"$f":"+IF(LEN(home!$G$7)>0,instruments!C641=home!$G$7,TRUE)","v":true},true,{"$f":"+IF(LEN(home!$G$8)>0,instruments!E641=home!$G$8,TRUE)","v":false},{"$f":"+IF(LEN(home!$G$9)>0,instruments!F641=home!$G$9,TRUE)","v":true},3,{"$f":"+COUNTIF($L$1:L641,\"=\"&4)","v":49},"Johnson County, KS Corn Basis"]
["ZSBAKSJO.CM","cmdty Johnson County, KS Soybean Basis Idx","Soybean","Basis","Kansas","County","Johnson County",{"$f":"+IF(LEN(home!$G$7)>0,instruments!C642=home!$G$7,TRUE)","v":false},true,{"$f":"+IF(LEN(home!$G$8)>0,instruments!E642=home!$G$8,TRUE)","v":false},{"$f":"+IF(LEN(home!$G$9)>0,instruments!F642=home!$G$9,TRUE)","v":true},{"$f":"+COUNTIF(H642:K642,TRUE)","v":2},{"$f":"+COUNTIF($L$1:L642,\"=\"&4)","v":49},"Johnson County, KS Soybean Basis"]
["ZCBAMOJO.CM","cmdty Johnson County, MO Corn Basis Idx","Corn","Basis","Missouri","County","Johnson County",{"$f":"+IF(LEN(home!$G$7)>0,instruments!C643=home!$G$7,TRUE)","v":true},{"$f":"+D643=\"Basis\"","v":true},{"$f":"+IF(LEN(home!$G$8)>0,instruments!E643=home!$G$8,TRUE)","v":false},{"$f":"+IF(LEN(home!$G$9)>0,instruments!F643=home!$G$9,TRUE)","v":true},3,{"$f":"+COUNTIF($L$1:L643,\"=\"&4)","v":49},{"$f":"+MID(B643,FIND(\" \",B643,1)+1,LEN(B643)-FIND(\" \",B643,1)-4)","v":"Johnson County, MO Corn Basis"}]
["ZSBAMOJO.CM","cmdty Johnson County, MO Soybean Basis Idx","Soybean","Basis","Missouri","County","Johnson County",{"$f":"+IF(LEN(home!$G$7)>0,instruments!C644=home!$G$7,TRUE)","v":false},true,{"$f":"+IF(LEN(home!$G$8)>0,instruments!E644=home!$G$8,TRUE)","v":false},{"$f":"+IF(LEN(home!$G$9)>0,instruments!F644=home!$G$9,TRUE)","v":true},2,{"$f":"+COUNTIF($L$1:L644,\"=\"&4)","v":49},"Johnson County, MO Soybean Basis"]
["ZCBANEJO.CM","cmdty Johnson County, NE Corn Basis Idx","Corn","Basis","Nebraska","County","Johnson County",{"$f":"+IF(LEN(home!$G$7)>0,instruments!C645=home!$G$7,TRUE)","v":true},true,{"$f":"+IF(LEN(home!$G$8)>0,instruments!E645=home!$G$8,TRUE)","v":false},{"$f":"+IF(LEN(home!$G$9)>0,instruments!F645=home!$G$9,TRUE)","v":true},3,{"$f":"+COUNTIF($L$1:L645,\"=\"&4)","v":49},"Johnson County, NE Corn Basis"]
["ZSBANEJO.CM","cmdty Johnson County, NE Soybean Basis Idx","Soybean","Basis","Nebraska","County","Johnson County",{"$f":"+IF(LEN(home!$G$7)>0,instruments!C646=home!$G$7,TRUE)","v":false},true,{"$f":"+IF(LEN(home!$G$8)>0,instruments!E646=home!$G$8,TRUE)","v":false},{"$f":"+IF(LEN(home!$G$9)>0,instruments!F646=home!$G$9,TRUE)","v":true},2,{"$f":"+COUNTIF($L$1:L646,\"=\"&4)","v":49},"Johnson County, NE Soybean Basis"]
["ZCBAIAJC.CM","cmdty Jones County, IA Corn Basis Idx","Corn","Basis","Iowa","County","Jones County",{"$f":"+IF(LEN(home!$G$7)>0,instruments!C647=home!$G$7,TRUE)","v":true},true,{"$f":"+IF(LEN(home!$G$8)>0,instruments!E647=home!$G$8,TRUE)","v":true},{"$f":"+IF(LEN(home!$G$9)>0,instruments!F647=home!$G$9,TRUE)","v":true},4,{"$f":"+COUNTIF($L$1:L647,\"=\"&4)","v":50},"Jones County, IA Corn Basis"]
["ZSBAIAJC.CM","cmdty Jones County, IA Soybean Basis Idx","Soybean","Basis","Iowa","County","Jones County",{"$f":"+IF(LEN(home!$G$7)>0,instruments!C648=home!$G$7,TRUE)","v":false},true,{"$f":"+IF(LEN(home!$G$8)>0,instruments!E648=home!$G$8,TRUE)","v":true},{"$f":"+IF(LEN(home!$G$9)>0,instruments!F648=home!$G$9,TRUE)","v":true},3,{"$f":"+COUNTIF($L$1:L648,\"=\"&4)","v":50},"Jones County, IA Soybean Basis"]
["ZCBASDJO.CM","cmdty Jones County, SD Corn Basis Idx","Corn","Basis","South Dakota","County","Jones County",{"$f":"+IF(LEN(home!$G$7)>0,instruments!C649=home!$G$7,TRUE)","v":true},true,{"$f":"+IF(LEN(home!$G$8)>0,instruments!E649=home!$G$8,TRUE)","v":false},{"$f":"+IF(LEN(home!$G$9)>0,instruments!F649=home!$G$9,TRUE)","v":true},3,{"$f":"+COUNTIF($L$1:L649,\"=\"&4)","v":50},"Jones County, SD Corn Basis"]
["ZCBAMNKB.CM","cmdty Kandiyohi County, MN Corn Basis Idx","Corn","Basis","Minnesota","County","Kandiyohi County",{"$f":"+IF(LEN(home!$G$7)>0,instruments!C650=home!$G$7,TRUE)","v":true},true,{"$f":"+IF(LEN(home!$G$8)>0,instruments!E650=home!$G$8,TRUE)","v":false},{"$f":"+IF(LEN(home!$G$9)>0,instruments!F650=home!$G$9,TRUE)","v":true},3,{"$f":"+COUNTIF($L$1:L650,\"=\"&4)","v":50},"Kandiyohi County, MN Corn Basis"]
["ZSBAMNKB.CM","cmdty Kandiyohi County, MN Soybean Basis Idx","Soybean","Basis","Minnesota","County","Kandiyohi County",{"$f":"+IF(LEN(home!$G$7)>0,instruments!C651=home!$G$7,TRUE)","v":false},true,{"$f":"+IF(LEN(home!$G$8)>0,instruments!E651=home!$G$8,TRUE)","v":false},{"$f":"+IF(LEN(home!$G$9)>0,instruments!F651=home!$G$9,TRUE)","v":true},2,{"$f":"+COUNTIF($L$1:L651,\"=\"&4)","v":50},"Kandiyohi County, MN Soybean Basis"]
["ZCBAILKA.CM","cmdty Kane County, IL Corn Basis Idx","Corn","Basis","Illinois","County","Kane County",{"$f":"+IF(LEN(home!$G$7)>0,instruments!C652=home!$G$7,TRUE)","v":true},true,{"$f":"+IF(LEN(home!$G$8)>0,instruments!E652=home!$G$8,TRUE)","v":false},{"$f":"+IF(LEN(home!$G$9)>0,instruments!F652=home!$G$9,TRUE)","v":true},3,{"$f":"+COUNTIF($L$1:L652,\"=\"&4)","v":50},"Kane County, IL Corn Basis"]
["ZSBAILKA.CM","cmdty Kane County, IL Soybean Basis Idx","Soybean","Basis","Illinois","County","Kane County",{"$f":"+IF(LEN(home!$G$7)>0,instruments!C653=home!$G$7,TRUE)","v":false},true,{"$f":"+IF(LEN(home!$G$8)>0,instruments!E653=home!$G$8,TRUE)","v":false},{"$f":"+IF(LEN(home!$G$9)>0,instruments!F653=home!$G$9,TRUE)","v":true},2,{"$f":"+COUNTIF($L$1:L653,\"=\"&4)","v":50},"Kane County, IL Soybean Basis"]
["ZCBAILKB.CM","cmdty Kankakee County, IL Corn Basis Idx","Corn","Basis","Illinois","County","Kankakee County",{"$f":"+IF(LEN(home!$G$7)>0,instruments!C654=home!$G$7,TRUE)","v":true},true,{"$f":"+IF(LEN(home!$G$8)>0,instruments!E654=home!$G$8,TRUE)","v":false},{"$f":"+IF(LEN(home!$G$9)>0,instruments!F654=home!$G$9,TRUE)","v":true},3,{"$f":"+COUNTIF($L$1:L654,\"=\"&4)","v":50},"Kankakee County, IL Corn Basis"]
["ZSBAILKB.CM","cmdty Kankakee County, IL Soybean Basis Idx","Soybean","Basis","Illinois","County","Kankakee County",{"$f":"+IF(LEN(home!$G$7)>0,instruments!C655=home!$G$7,TRUE)","v":false},true,{"$f":"+IF(LEN(home!$G$8)>0,instruments!E655=home!$G$8,TRUE)","v":false},{"$f":"+IF(LEN(home!$G$9)>0,instruments!F655=home!$G$9,TRUE)","v":true},2,{"$f":"+COUNTIF($L$1:L655,\"=\"&4)","v":50},"Kankakee County, IL Soybean Basis"]
["ZCBAKS.CM","cmdty Kansas Corn Basis Idx","Corn","Basis","Kansas","State","Kansas",{"$f":"+IF(LEN(home!$G$7)>0,instruments!C656=home!$G$7,TRUE)","v":true},true,{"$f":"+IF(LEN(home!$G$8)>0,instruments!E656=home!$G$8,TRUE)","v":false},{"$f":"+IF(LEN(home!$G$9)>0,instruments!F656=home!$G$9,TRUE)","v":false},2,{"$f":"+COUNTIF($L$1:L656,\"=\"&4)","v":50},"Kansas Corn Basis"]
["ZSBAKS.CM","cmdty Kansas Soybean Basis Idx","Soybean","Basis","Kansas","State","Kansas",{"$f":"+IF(LEN(home!$G$7)>0,instruments!C657=home!$G$7,TRUE)","v":false},true,{"$f":"+IF(LEN(home!$G$8)>0,instruments!E657=home!$G$8,TRUE)","v":false},{"$f":"+IF(LEN(home!$G$9)>0,instruments!F657=home!$G$9,TRUE)","v":false},1,{"$f":"+COUNTIF($L$1:L657,\"=\"&4)","v":50},"Kansas Soybean Basis"]
["ZCBANEKE.CM","cmdty Kearney County, NE Corn Basis Idx","Corn","Basis","Nebraska","County","Kearney County",{"$f":"+IF(LEN(home!$G$7)>0,instruments!C658=home!$G$7,TRUE)","v":true},true,{"$f":"+IF(LEN(home!$G$8)>0,instruments!E658=home!$G$8,TRUE)","v":false},{"$f":"+IF(LEN(home!$G$9)>0,instruments!F658=home!$G$9,TRUE)","v":true},3,{"$f":"+COUNTIF($L$1:L658,\"=\"&4)","v":50},"Kearney County, NE Corn Basis"]
["ZSBANEKE.CM","cmdty Kearney County, NE Soybean Basis Idx","Soybean","Basis","Nebraska","County","Kearney County",{"$f":"+IF(LEN(home!$G$7)>0,instruments!C659=home!$G$7,TRUE)","v":false},true,{"$f":"+IF(LEN(home!$G$8)>0,instruments!E659=home!$G$8,TRUE)","v":false},{"$f":"+IF(LEN(home!$G$9)>0,instruments!F659=home!$G$9,TRUE)","v":true},2,{"$f":"+COUNTIF($L$1:L659,\"=\"&4)","v":50},"Kearney County, NE Soybean Basis"]
["ZCBAKSKE.CM","cmdty Kearny County, KS Corn Basis Idx","Corn","Basis","Kansas","County","Kearny County",{"$f":"+IF(LEN(home!$G$7)>0,instruments!C660=home!$G$7,TRUE)","v":true},true,{"$f":"+IF(LEN(home!$G$8)>0,instruments!E660=home!$G$8,TRUE)","v":false},{"$f":"+IF(LEN(home!$G$9)>0,instruments!F660=home!$G$9,TRUE)","v":true},3,{"$f":"+COUNTIF($L$1:L660,\"=\"&4)","v":50},"Kearny County, KS Corn Basis"]
["ZSBAKSKE.CM","cmdty Kearny County, KS Soybean Basis Idx","Soybean","Basis","Kansas","County","Kearny County",{"$f":"+IF(LEN(home!$G$7)>0,instruments!C661=home!$G$7,TRUE)","v":false},true,{"$f":"+IF(LEN(home!$G$8)>0,instruments!E661=home!$G$8,TRUE)","v":false},{"$f":"+IF(LEN(home!$G$9)>0,instruments!F661=home!$G$9,TRUE)","v":true},2,{"$f":"+COUNTIF($L$1:L661,\"=\"&4)","v":50},"Kearny County, KS Soybean Basis"]
["ZCBANEKA.CM","cmdty Keith County, NE Corn Basis Idx","Corn","Basis","Nebraska","County","Keith County",{"$f":"+IF(LEN(home!$G$7)>0,instruments!C662=home!$G$7,TRUE)","v":true},true,{"$f":"+IF(LEN(home!$G$8)>0,instruments!E662=home!$G$8,TRUE)","v":false},{"$f":"+IF(LEN(home!$G$9)>0,instruments!F662=home!$G$9,TRUE)","v":true},3,{"$f":"+COUNTIF($L$1:L662,\"=\"&4)","v":50},"Keith County, NE Corn Basis"]
["ZSBANEKA.CM","cmdty Keith County, NE Soybean Basis Idx","Soybean","Basis","Nebraska","County","Keith County",{"$f":"+IF(LEN(home!$G$7)>0,instruments!C663=home!$G$7,TRUE)","v":false},true,{"$f":"+IF(LEN(home!$G$8)>0,instruments!E663=home!$G$8,TRUE)","v":false},{"$f":"+IF(LEN(home!$G$9)>0,instruments!F663=home!$G$9,TRUE)","v":true},2,{"$f":"+COUNTIF($L$1:L663,\"=\"&4)","v":50},"Keith County, NE Soybean Basis"]
["ZCBAILKE.CM","cmdty Kendall County, IL Corn Basis Idx","Corn","Basis","Illinois","County","Kendall County",{"$f":"+IF(LEN(home!$G$7)>0,instruments!C664=home!$G$7,TRUE)","v":true},true,{"$f":"+IF(LEN(home!$G$8)>0,instruments!E664=home!$G$8,TRUE)","v":false},{"$f":"+IF(LEN(home!$G$9)>0,instruments!F664=home!$G$9,TRUE)","v":true},3,{"$f":"+COUNTIF($L$1:L664,\"=\"&4)","v":50},"Kendall County, IL Corn Basis"]
["ZSBAILKE.CM","cmdty Kendall County, IL Soybean Basis Idx","Soybean","Basis","Illinois","County","Kendall County",{"$f":"+IF(LEN(home!$G$7)>0,instruments!C665=home!$G$7,TRUE)","v":false},true,{"$f":"+IF(LEN(home!$G$8)>0,instruments!E665=home!$G$8,TRUE)","v":false},{"$f":"+IF(LEN(home!$G$9)>0,instruments!F665=home!$G$9,TRUE)","v":true},2,{"$f":"+COUNTIF($L$1:L665,\"=\"&4)","v":50},"Kendall County, IL Soybean Basis"]
["ZCBAIAKE.CM","cmdty Keokuk County, IA Corn Basis Idx","Corn","Basis","Iowa","County","Keokuk County",{"$f":"+IF(LEN(home!$G$7)>0,instruments!C666=home!$G$7,TRUE)","v":true},true,{"$f":"+IF(LEN(home!$G$8)>0,instruments!E666=home!$G$8,TRUE)","v":true},{"$f":"+IF(LEN(home!$G$9)>0,instruments!F666=home!$G$9,TRUE)","v":true},4,{"$f":"+COUNTIF($L$1:L666,\"=\"&4)","v":51},"Keokuk County, IA Corn Basis"]
["ZSBAIAKE.CM","cmdty Keokuk County, IA Soybean Basis Idx","Soybean","Basis","Iowa","County","Keokuk County",{"$f":"+IF(LEN(home!$G$7)>0,instruments!C667=home!$G$7,TRUE)","v":false},true,{"$f":"+IF(LEN(home!$G$8)>0,instruments!E667=home!$G$8,TRUE)","v":true},{"$f":"+IF(LEN(home!$G$9)>0,instruments!F667=home!$G$9,TRUE)","v":true},3,{"$f":"+COUNTIF($L$1:L667,\"=\"&4)","v":51},"Keokuk County, IA Soybean Basis"]
["ZCBANEKI.CM","cmdty Kimball County, NE Corn Basis Idx","Corn","Basis","Nebraska","County","Kimball County",{"$f":"+IF(LEN(home!$G$7)>0,instruments!C668=home!$G$7,TRUE)","v":true},true,{"$f":"+IF(LEN(home!$G$8)>0,instruments!E668=home!$G$8,TRUE)","v":false},{"$f":"+IF(LEN(home!$G$9)>0,instruments!F668=home!$G$9,TRUE)","v":true},3,{"$f":"+COUNTIF($L$1:L668,\"=\"&4)","v":51},"Kimball County, NE Corn Basis"]
["ZCBAKSKI.CM","cmdty Kingman County, KS Corn Basis Idx","Corn","Basis","Kansas","County","Kingman County",{"$f":"+IF(LEN(home!$G$7)>0,instruments!C669=home!$G$7,TRUE)","v":true},true,{"$f":"+IF(LEN(home!$G$8)>0,instruments!E669=home!$G$8,TRUE)","v":false},{"$f":"+IF(LEN(home!$G$9)>0,instruments!F669=home!$G$9,TRUE)","v":true},3,{"$f":"+COUNTIF($L$1:L669,\"=\"&4)","v":51},"Kingman County, KS Corn Basis"]
["ZSBAKSKI.CM","cmdty Kingman County, KS Soybean Basis Idx","Soybean","Basis","Kansas","County","Kingman County",{"$f":"+IF(LEN(home!$G$7)>0,instruments!C670=home!$G$7,TRUE)","v":false},true,{"$f":"+IF(LEN(home!$G$8)>0,instruments!E670=home!$G$8,TRUE)","v":false},{"$f":"+IF(LEN(home!$G$9)>0,instruments!F670=home!$G$9,TRUE)","v":true},2,{"$f":"+COUNTIF($L$1:L670,\"=\"&4)","v":51},"Kingman County, KS Soybean Basis"]
["ZCBASDKI.CM","cmdty Kingsbury County, SD Corn Basis Idx","Corn","Basis","South Dakota","County","Kingsbury County",{"$f":"+IF(LEN(home!$G$7)>0,instruments!C671=home!$G$7,TRUE)","v":true},true,{"$f":"+IF(LEN(home!$G$8)>0,instruments!E671=home!$G$8,TRUE)","v":false},{"$f":"+IF(LEN(home!$G$9)>0,instruments!F671=home!$G$9,TRUE)","v":true},3,{"$f":"+COUNTIF($L$1:L671,\"=\"&4)","v":51},"Kingsbury County, SD Corn Basis"]
["ZSBASDKI.CM","cmdty Kingsbury County, SD Soybean Basis Idx","Soybean","Basis","South Dakota","County","Kingsbury County",{"$f":"+IF(LEN(home!$G$7)>0,instruments!C672=home!$G$7,TRUE)","v":false},true,{"$f":"+IF(LEN(home!$G$8)>0,instruments!E672=home!$G$8,TRUE)","v":false},{"$f":"+IF(LEN(home!$G$9)>0,instruments!F672=home!$G$9,TRUE)","v":true},2,{"$f":"+COUNTIF($L$1:L672,\"=\"&4)","v":51},"Kingsbury County, SD Soybean Basis"]
["ZCBAKSKA.CM","cmdty Kiowa County, KS Corn Basis Idx","Corn","Basis","Kansas","County","Kiowa County",{"$f":"+IF(LEN(home!$G$7)>0,instruments!C673=home!$G$7,TRUE)","v":true},true,{"$f":"+IF(LEN(home!$G$8)>0,instruments!E673=home!$G$8,TRUE)","v":false},{"$f":"+IF(LEN(home!$G$9)>0,instruments!F673=home!$G$9,TRUE)","v":true},3,{"$f":"+COUNTIF($L$1:L673,\"=\"&4)","v":51},"Kiowa County, KS Corn Basis"]
["ZSBAKSKA.CM","cmdty Kiowa County, KS Soybean Basis Idx","Soybean","Basis","Kansas","County","Kiowa County",{"$f":"+IF(LEN(home!$G$7)>0,instruments!C674=home!$G$7,TRUE)","v":false},true,{"$f":"+IF(LEN(home!$G$8)>0,instruments!E674=home!$G$8,TRUE)","v":false},{"$f":"+IF(LEN(home!$G$9)>0,instruments!F674=home!$G$9,TRUE)","v":true},2,{"$f":"+COUNTIF($L$1:L674,\"=\"&4)","v":51},"Kiowa County, KS Soybean Basis"]
["ZCBAMNKI.CM","cmdty Kittson County, MN Corn Basis Idx","Corn","Basis","Minnesota","County","Kittson County",{"$f":"+IF(LEN(home!$G$7)>0,instruments!C675=home!$G$7,TRUE)","v":true},true,{"$f":"+IF(LEN(home!$G$8)>0,instruments!E675=home!$G$8,TRUE)","v":false},{"$f":"+IF(LEN(home!$G$9)>0,instruments!F675=home!$G$9,TRUE)","v":true},3,{"$f":"+COUNTIF($L$1:L675,\"=\"&4)","v":51},"Kittson County, MN Corn Basis"]
["ZSBAMNKI.CM","cmdty Kittson County, MN Soybean Basis Idx","Soybean","Basis","Minnesota","County","Kittson County",{"$f":"+IF(LEN(home!$G$7)>0,instruments!C676=home!$G$7,TRUE)","v":false},true,{"$f":"+IF(LEN(home!$G$8)>0,instruments!E676=home!$G$8,TRUE)","v":false},{"$f":"+IF(LEN(home!$G$9)>0,instruments!F676=home!$G$9,TRUE)","v":true},2,{"$f":"+COUNTIF($L$1:L676,\"=\"&4)","v":51},"Kittson County, MN Soybean Basis"]
["ZCBAILKN.CM","cmdty Knox County, IL Corn Basis Idx","Corn","Basis","Illinois","County","Knox County",{"$f":"+IF(LEN(home!$G$7)>0,instruments!C677=home!$G$7,TRUE)","v":true},true,{"$f":"+IF(LEN(home!$G$8)>0,instruments!E677=home!$G$8,TRUE)","v":false},{"$f":"+IF(LEN(home!$G$9)>0,instruments!F677=home!$G$9,TRUE)","v":true},3,{"$f":"+COUNTIF($L$1:L677,\"=\"&4)","v":51},"Knox County, IL Corn Basis"]
["ZSBAILKN.CM","cmdty Knox County, IL Soybean Basis Idx","Soybean","Basis","Illinois","County","Knox County",{"$f":"+IF(LEN(home!$G$7)>0,instruments!C678=home!$G$7,TRUE)","v":false},true,{"$f":"+IF(LEN(home!$G$8)>0,instruments!E678=home!$G$8,TRUE)","v":false},{"$f":"+IF(LEN(home!$G$9)>0,instruments!F678=home!$G$9,TRUE)","v":true},2,{"$f":"+COUNTIF($L$1:L678,\"=\"&4)","v":51},"Knox County, IL Soybean Basis"]
["ZCBAINKN.CM","cmdty Knox County, IN Corn Basis Idx","Corn","Basis","Indiana","County","Knox County",{"$f":"+IF(LEN(home!$G$7)>0,instruments!C679=home!$G$7,TRUE)","v":true},true,{"$f":"+IF(LEN(home!$G$8)>0,instruments!E679=home!$G$8,TRUE)","v":false},{"$f":"+IF(LEN(home!$G$9)>0,instruments!F679=home!$G$9,TRUE)","v":true},3,{"$f":"+COUNTIF($L$1:L679,\"=\"&4)","v":51},"Knox County, IN Corn Basis"]
["ZSBAINKN.CM","cmdty Knox County, IN Soybean Basis Idx","Soybean","Basis","Indiana","County","Knox County",{"$f":"+IF(LEN(home!$G$7)>0,instruments!C680=home!$G$7,TRUE)","v":false},true,{"$f":"+IF(LEN(home!$G$8)>0,instruments!E680=home!$G$8,TRUE)","v":false},{"$f":"+IF(LEN(home!$G$9)>0,instruments!F680=home!$G$9,TRUE)","v":true},2,{"$f":"+COUNTIF($L$1:L680,\"=\"&4)","v":51},"Knox County, IN Soybean Basis"]
["ZCBAMOKN.CM","cmdty Knox County, MO Corn Basis Idx","Corn","Basis","Missouri","County","Knox County",{"$f":"+IF(LEN(home!$G$7)>0,instruments!C681=home!$G$7,TRUE)","v":true},true,{"$f":"+IF(LEN(home!$G$8)>0,instruments!E681=home!$G$8,TRUE)","v":false},{"$f":"+IF(LEN(home!$G$9)>0,instruments!F681=home!$G$9,TRUE)","v":true},3,{"$f":"+COUNTIF($L$1:L681,\"=\"&4)","v":51},"Knox County, MO Corn Basis"]
["ZSBAMOKN.CM","cmdty Knox County, MO Soybean Basis Idx","Soybean","Basis","Missouri","County","Knox County",{"$f":"+IF(LEN(home!$G$7)>0,instruments!C682=home!$G$7,TRUE)","v":false},true,{"$f":"+IF(LEN(home!$G$8)>0,instruments!E682=home!$G$8,TRUE)","v":false},{"$f":"+IF(LEN(home!$G$9)>0,instruments!F682=home!$G$9,TRUE)","v":true},2,{"$f":"+COUNTIF($L$1:L682,\"=\"&4)","v":51},"Knox County, MO Soybean Basis"]
["ZCBANEKN.CM","cmdty Knox County, NE Corn Basis Idx","Corn","Basis","Nebraska","County","Knox County",{"$f":"+IF(LEN(home!$G$7)>0,instruments!C683=home!$G$7,TRUE)","v":true},true,{"$f":"+IF(LEN(home!$G$8)>0,instruments!E683=home!$G$8,TRUE)","v":false},{"$f":"+IF(LEN(home!$G$9)>0,instruments!F683=home!$G$9,TRUE)","v":true},3,{"$f":"+COUNTIF($L$1:L683,\"=\"&4)","v":51},"Knox County, NE Corn Basis"]
["ZSBANEKN.CM","cmdty Knox County, NE Soybean Basis Idx","Soybean","Basis","Nebraska","County","Knox County",{"$f":"+IF(LEN(home!$G$7)>0,instruments!C684=home!$G$7,TRUE)","v":false},true,{"$f":"+IF(LEN(home!$G$8)>0,instruments!E684=home!$G$8,TRUE)","v":false},{"$f":"+IF(LEN(home!$G$9)>0,instruments!F684=home!$G$9,TRUE)","v":true},2,{"$f":"+COUNTIF($L$1:L684,\"=\"&4)","v":51},"Knox County, NE Soybean Basis"]
["ZSBAOHKN.CM","cmdty Knox County, OH Soybean Basis Idx","Soybean","Basis","Ohio","County","Knox County",{"$f":"+IF(LEN(home!$G$7)>0,instruments!C685=home!$G$7,TRUE)","v":false},true,{"$f":"+IF(LEN(home!$G$8)>0,instruments!E685=home!$G$8,TRUE)","v":false},{"$f":"+IF(LEN(home!$G$9)>0,instruments!F685=home!$G$9,TRUE)","v":true},2,{"$f":"+COUNTIF($L$1:L685,\"=\"&4)","v":51},"Knox County, OH Soybean Basis"]
["ZCBAINKO.CM","cmdty Kosciusko County, IN Corn Basis Idx","Corn","Basis","Indiana","County","Kosciusko County",{"$f":"+IF(LEN(home!$G$7)>0,instruments!C686=home!$G$7,TRUE)","v":true},true,{"$f":"+IF(LEN(home!$G$8)>0,instruments!E686=home!$G$8,TRUE)","v":false},{"$f":"+IF(LEN(home!$G$9)>0,instruments!F686=home!$G$9,TRUE)","v":true},3,{"$f":"+COUNTIF($L$1:L686,\"=\"&4)","v":51},"Kosciusko County, IN Corn Basis"]
["ZSBAINKO.CM","cmdty Kosciusko County, IN Soybean Basis Idx","Soybean","Basis","Indiana","County","Kosciusko County",{"$f":"+IF(LEN(home!$G$7)>0,instruments!C687=home!$G$7,TRUE)","v":false},true,{"$f":"+IF(LEN(home!$G$8)>0,instruments!E687=home!$G$8,TRUE)","v":false},{"$f":"+IF(LEN(home!$G$9)>0,instruments!F687=home!$G$9,TRUE)","v":true},2,{"$f":"+COUNTIF($L$1:L687,\"=\"&4)","v":51},"Kosciusko County, IN Soybean Basis"]
["ZCBAIAKO.CM","cmdty Kossuth County, IA Corn Basis Idx","Corn","Basis","Iowa","County","Kossuth County",{"$f":"+IF(LEN(home!$G$7)>0,instruments!C688=home!$G$7,TRUE)","v":true},true,{"$f":"+IF(LEN(home!$G$8)>0,instruments!E688=home!$G$8,TRUE)","v":true},{"$f":"+IF(LEN(home!$G$9)>0,instruments!F688=home!$G$9,TRUE)","v":true},4,{"$f":"+COUNTIF($L$1:L688,\"=\"&4)","v":52},"Kossuth County, IA Corn Basis"]
["ZSBAIAKO.CM","cmdty Kossuth County, IA Soybean Basis Idx","Soybean","Basis","Iowa","County","Kossuth County",{"$f":"+IF(LEN(home!$G$7)>0,instruments!C689=home!$G$7,TRUE)","v":false},true,{"$f":"+IF(LEN(home!$G$8)>0,instruments!E689=home!$G$8,TRUE)","v":true},{"$f":"+IF(LEN(home!$G$9)>0,instruments!F689=home!$G$9,TRUE)","v":true},3,{"$f":"+COUNTIF($L$1:L689,\"=\"&4)","v":52},"Kossuth County, IA Soybean Basis"]
["ZCBAKS10.CM","cmdty KS CRD 10 Corn Basis Idx","Corn","Basis","Kansas","District","KS CRD 10",{"$f":"+IF(LEN(home!$G$7)>0,instruments!C690=home!$G$7,TRUE)","v":true},true,{"$f":"+IF(LEN(home!$G$8)>0,instruments!E690=home!$G$8,TRUE)","v":false},{"$f":"+IF(LEN(home!$G$9)>0,instruments!F690=home!$G$9,TRUE)","v":false},2,{"$f":"+COUNTIF($L$1:L690,\"=\"&4)","v":52},"KS CRD 10 Corn Basis"]
["ZSBAKS10.CM","cmdty KS CRD 10 Soybean Basis Idx","Soybean","Basis","Kansas","District","KS CRD 10",{"$f":"+IF(LEN(home!$G$7)>0,instruments!C691=home!$G$7,TRUE)","v":false},true,{"$f":"+IF(LEN(home!$G$8)>0,instruments!E691=home!$G$8,TRUE)","v":false},{"$f":"+IF(LEN(home!$G$9)>0,instruments!F691=home!$G$9,TRUE)","v":false},1,{"$f":"+COUNTIF($L$1:L691,\"=\"&4)","v":52},"KS CRD 10 Soybean Basis"]
["ZCBAKS20.CM","cmdty KS CRD 20 Corn Basis Idx","Corn","Basis","Kansas","District","KS CRD 20",{"$f":"+IF(LEN(home!$G$7)>0,instruments!C692=home!$G$7,TRUE)","v":true},true,{"$f":"+IF(LEN(home!$G$8)>0,instruments!E692=home!$G$8,TRUE)","v":false},{"$f":"+IF(LEN(home!$G$9)>0,instruments!F692=home!$G$9,TRUE)","v":false},2,{"$f":"+COUNTIF($L$1:L692,\"=\"&4)","v":52},"KS CRD 20 Corn Basis"]
["ZSBAKS20.CM","cmdty KS CRD 20 Soybean Basis Idx","Soybean","Basis","Kansas","District","KS CRD 20",{"$f":"+IF(LEN(home!$G$7)>0,instruments!C693=home!$G$7,TRUE)","v":false},true,{"$f":"+IF(LEN(home!$G$8)>0,instruments!E693=home!$G$8,TRUE)","v":false},{"$f":"+IF(LEN(home!$G$9)>0,instruments!F693=home!$G$9,TRUE)","v":false},1,{"$f":"+COUNTIF($L$1:L693,\"=\"&4)","v":52},"KS CRD 20 Soybean Basis"]
["ZCBAKS30.CM","cmdty KS CRD 30 Corn Basis Idx","Corn","Basis","Kansas","District","KS CRD 30",{"$f":"+IF(LEN(home!$G$7)>0,instruments!C694=home!$G$7,TRUE)","v":true},true,{"$f":"+IF(LEN(home!$G$8)>0,instruments!E694=home!$G$8,TRUE)","v":false},{"$f":"+IF(LEN(home!$G$9)>0,instruments!F694=home!$G$9,TRUE)","v":false},2,{"$f":"+COUNTIF($L$1:L694,\"=\"&4)","v":52},"KS CRD 30 Corn Basis"]
["ZSBAKS30.CM","cmdty KS CRD 30 Soybean Basis Idx","Soybean","Basis","Kansas","District","KS CRD 30",{"$f":"+IF(LEN(home!$G$7)>0,instruments!C695=home!$G$7,TRUE)","v":false},true,{"$f":"+IF(LEN(home!$G$8)>0,instruments!E695=home!$G$8,TRUE)","v":false},{"$f":"+IF(LEN(home!$G$9)>0,instruments!F695=home!$G$9,TRUE)","v":false},1,{"$f":"+COUNTIF($L$1:L695,\"=\"&4)","v":52},"KS CRD 30 Soybean Basis"]
["ZCBAKS40.CM","cmdty KS CRD 40 Corn Basis Idx","Corn","Basis","Kansas","District","KS CRD 40",{"$f":"+IF(LEN(home!$G$7)>0,instruments!C696=home!$G$7,TRUE)","v":true},true,{"$f":"+IF(LEN(home!$G$8)>0,instruments!E696=home!$G$8,TRUE)","v":false},{"$f":"+IF(LEN(home!$G$9)>0,instruments!F696=home!$G$9,TRUE)","v":false},2,{"$f":"+COUNTIF($L$1:L696,\"=\"&4)","v":52},"KS CRD 40 Corn Basis"]
["ZSBAKS40.CM","cmdty KS CRD 40 Soybean Basis Idx","Soybean","Basis","Kansas","District","KS CRD 40",{"$f":"+IF(LEN(home!$G$7)>0,instruments!C697=home!$G$7,TRUE)","v":false},true,{"$f":"+IF(LEN(home!$G$8)>0,instruments!E697=home!$G$8,TRUE)","v":false},{"$f":"+IF(LEN(home!$G$9)>0,instruments!F697=home!$G$9,TRUE)","v":false},1,{"$f":"+COUNTIF($L$1:L697,\"=\"&4)","v":52},"KS CRD 40 Soybean Basis"]
["ZCBAKS50.CM","cmdty KS CRD 50 Corn Basis Idx","Corn","Basis","Kansas","District","KS CRD 50",{"$f":"+IF(LEN(home!$G$7)>0,instruments!C698=home!$G$7,TRUE)","v":true},true,{"$f":"+IF(LEN(home!$G$8)>0,instruments!E698=home!$G$8,TRUE)","v":false},{"$f":"+IF(LEN(home!$G$9)>0,instruments!F698=home!$G$9,TRUE)","v":false},2,{"$f":"+COUNTIF($L$1:L698,\"=\"&4)","v":52},"KS CRD 50 Corn Basis"]
["ZSBAKS50.CM","cmdty KS CRD 50 Soybean Basis Idx","Soybean","Basis","Kansas","District","KS CRD 50",{"$f":"+IF(LEN(home!$G$7)>0,instruments!C699=home!$G$7,TRUE)","v":false},true,{"$f":"+IF(LEN(home!$G$8)>0,instruments!E699=home!$G$8,TRUE)","v":false},{"$f":"+IF(LEN(home!$G$9)>0,instruments!F699=home!$G$9,TRUE)","v":false},1,{"$f":"+COUNTIF($L$1:L699,\"=\"&4)","v":52},"KS CRD 50 Soybean Basis"]
["ZCBAKS60.CM","cmdty KS CRD 60 Corn Basis Idx","Corn","Basis","Kansas","District","KS CRD 60",{"$f":"+IF(LEN(home!$G$7)>0,instruments!C700=home!$G$7,TRUE)","v":true},true,{"$f":"+IF(LEN(home!$G$8)>0,instruments!E700=home!$G$8,TRUE)","v":false},{"$f":"+IF(LEN(home!$G$9)>0,instruments!F700=home!$G$9,TRUE)","v":false},2,{"$f":"+COUNTIF($L$1:L700,\"=\"&4)","v":52},"KS CRD 60 Corn Basis"]
["ZSBAKS60.CM","cmdty KS CRD 60 Soybean Basis Idx","Soybean","Basis","Kansas","District","KS CRD 60",{"$f":"+IF(LEN(home!$G$7)>0,instruments!C701=home!$G$7,TRUE)","v":false},true,{"$f":"+IF(LEN(home!$G$8)>0,instruments!E701=home!$G$8,TRUE)","v":false},{"$f":"+IF(LEN(home!$G$9)>0,instruments!F701=home!$G$9,TRUE)","v":false},1,{"$f":"+COUNTIF($L$1:L701,\"=\"&4)","v":52},"KS CRD 60 Soybean Basis"]
["ZCBAKS70.CM","cmdty KS CRD 70 Corn Basis Idx","Corn","Basis","Kansas","District","KS CRD 70",{"$f":"+IF(LEN(home!$G$7)>0,instruments!C702=home!$G$7,TRUE)","v":true},true,{"$f":"+IF(LEN(home!$G$8)>0,instruments!E702=home!$G$8,TRUE)","v":false},{"$f":"+IF(LEN(home!$G$9)>0,instruments!F702=home!$G$9,TRUE)","v":false},2,{"$f":"+COUNTIF($L$1:L702,\"=\"&4)","v":52},"KS CRD 70 Corn Basis"]
["ZSBAKS70.CM","cmdty KS CRD 70 Soybean Basis Idx","Soybean","Basis","Kansas","District","KS CRD 70",{"$f":"+IF(LEN(home!$G$7)>0,instruments!C703=home!$G$7,TRUE)","v":false},true,{"$f":"+IF(LEN(home!$G$8)>0,instruments!E703=home!$G$8,TRUE)","v":false},{"$f":"+IF(LEN(home!$G$9)>0,instruments!F703=home!$G$9,TRUE)","v":false},1,{"$f":"+COUNTIF($L$1:L703,\"=\"&4)","v":52},"KS CRD 70 Soybean Basis"]
["ZCBAKS80.CM","cmdty KS CRD 80 Corn Basis Idx","Corn","Basis","Kansas","District","KS CRD 80",{"$f":"+IF(LEN(home!$G$7)>0,instruments!C704=home!$G$7,TRUE)","v":true},true,{"$f":"+IF(LEN(home!$G$8)>0,instruments!E704=home!$G$8,TRUE)","v":false},{"$f":"+IF(LEN(home!$G$9)>0,instruments!F704=home!$G$9,TRUE)","v":false},2,{"$f":"+COUNTIF($L$1:L704,\"=\"&4)","v":52},"KS CRD 80 Corn Basis"]
["ZSBAKS80.CM","cmdty KS CRD 80 Soybean Basis Idx","Soybean","Basis","Kansas","District","KS CRD 80",{"$f":"+IF(LEN(home!$G$7)>0,instruments!C705=home!$G$7,TRUE)","v":false},true,{"$f":"+IF(LEN(home!$G$8)>0,instruments!E705=home!$G$8,TRUE)","v":false},{"$f":"+IF(LEN(home!$G$9)>0,instruments!F705=home!$G$9,TRUE)","v":false},1,{"$f":"+COUNTIF($L$1:L705,\"=\"&4)","v":52},"KS CRD 80 Soybean Basis"]
["ZCBAKS90.CM","cmdty KS CRD 90 Corn Basis Idx","Corn","Basis","Kansas","District","KS CRD 90",{"$f":"+IF(LEN(home!$G$7)>0,instruments!C706=home!$G$7,TRUE)","v":true},true,{"$f":"+IF(LEN(home!$G$8)>0,instruments!E706=home!$G$8,TRUE)","v":false},{"$f":"+IF(LEN(home!$G$9)>0,instruments!F706=home!$G$9,TRUE)","v":false},{"$f":"+COUNTIF(H706:K706,TRUE)","v":2},{"$f":"+COUNTIF($L$1:L706,\"=\"&4)","v":52},"KS CRD 90 Corn Basis"]
["ZSBAKS90.CM","cmdty KS CRD 90 Soybean Basis Idx","Soybean","Basis","Kansas","District","KS CRD 90",{"$f":"+IF(LEN(home!$G$7)>0,instruments!C707=home!$G$7,TRUE)","v":false},{"$f":"+D707=\"Basis\"","v":true},{"$f":"+IF(LEN(home!$G$8)>0,instruments!E707=home!$G$8,TRUE)","v":false},{"$f":"+IF(LEN(home!$G$9)>0,instruments!F707=home!$G$9,TRUE)","v":false},1,{"$f":"+COUNTIF($L$1:L707,\"=\"&4)","v":52},{"$f":"+MID(B707,FIND(\" \",B707,1)+1,LEN(B707)-FIND(\" \",B707,1)-4)","v":"KS CRD 90 Soybean Basis"}]
["ZCBAKSLA.CM","cmdty Labette County, KS Corn Basis Idx","Corn","Basis","Kansas","County","Labette County",{"$f":"+IF(LEN(home!$G$7)>0,instruments!C708=home!$G$7,TRUE)","v":true},true,{"$f":"+IF(LEN(home!$G$8)>0,instruments!E708=home!$G$8,TRUE)","v":false},{"$f":"+IF(LEN(home!$G$9)>0,instruments!F708=home!$G$9,TRUE)","v":true},3,{"$f":"+COUNTIF($L$1:L708,\"=\"&4)","v":52},"Labette County, KS Corn Basis"]
["ZSBAKSLA.CM","cmdty Labette County, KS Soybean Basis Idx","Soybean","Basis","Kansas","County","Labette County",{"$f":"+IF(LEN(home!$G$7)>0,instruments!C709=home!$G$7,TRUE)","v":false},true,{"$f":"+IF(LEN(home!$G$8)>0,instruments!E709=home!$G$8,TRUE)","v":false},{"$f":"+IF(LEN(home!$G$9)>0,instruments!F709=home!$G$9,TRUE)","v":true},2,{"$f":"+COUNTIF($L$1:L709,\"=\"&4)","v":52},"Labette County, KS Soybean Basis"]
["ZCBAMNLA.CM","cmdty Lac qui Parle County, MN Corn Basis Idx","Corn","Basis","Minnesota","County","Lac qui Parle County",{"$f":"+IF(LEN(home!$G$7)>0,instruments!C710=home!$G$7,TRUE)","v":true},true,{"$f":"+IF(LEN(home!$G$8)>0,instruments!E710=home!$G$8,TRUE)","v":false},{"$f":"+IF(LEN(home!$G$9)>0,instruments!F710=home!$G$9,TRUE)","v":true},3,{"$f":"+COUNTIF($L$1:L710,\"=\"&4)","v":52},"Lac qui Parle County, MN Corn Basis"]
["ZSBAMNLA.CM","cmdty Lac qui Parle County, MN Soybean Basis Idx","Soybean","Basis","Minnesota","County","Lac qui Parle County",{"$f":"+IF(LEN(home!$G$7)>0,instruments!C711=home!$G$7,TRUE)","v":false},true,{"$f":"+IF(LEN(home!$G$8)>0,instruments!E711=home!$G$8,TRUE)","v":false},{"$f":"+IF(LEN(home!$G$9)>0,instruments!F711=home!$G$9,TRUE)","v":true},2,{"$f":"+COUNTIF($L$1:L711,\"=\"&4)","v":52},"Lac qui Parle County, MN Soybean Basis"]
["ZCBAMOLB.CM","cmdty Lafayette County, MO Corn Basis Idx","Corn","Basis","Missouri","County","Lafayette County",{"$f":"+IF(LEN(home!$G$7)>0,instruments!C712=home!$G$7,TRUE)","v":true},true,{"$f":"+IF(LEN(home!$G$8)>0,instruments!E712=home!$G$8,TRUE)","v":false},{"$f":"+IF(LEN(home!$G$9)>0,instruments!F712=home!$G$9,TRUE)","v":true},3,{"$f":"+COUNTIF($L$1:L712,\"=\"&4)","v":52},"Lafayette County, MO Corn Basis"]
["ZSBAMOLB.CM","cmdty Lafayette County, MO Soybean Basis Idx","Soybean","Basis","Missouri","County","Lafayette County",{"$f":"+IF(LEN(home!$G$7)>0,instruments!C713=home!$G$7,TRUE)","v":false},true,{"$f":"+IF(LEN(home!$G$8)>0,instruments!E713=home!$G$8,TRUE)","v":false},{"$f":"+IF(LEN(home!$G$9)>0,instruments!F713=home!$G$9,TRUE)","v":true},2,{"$f":"+COUNTIF($L$1:L713,\"=\"&4)","v":52},"Lafayette County, MO Soybean Basis"]
["ZCBAILLA.CM","cmdty Lake County, IL Corn Basis Idx","Corn","Basis","Illinois","County","Lake County",{"$f":"+IF(LEN(home!$G$7)>0,instruments!C714=home!$G$7,TRUE)","v":true},true,{"$f":"+IF(LEN(home!$G$8)>0,instruments!E714=home!$G$8,TRUE)","v":false},{"$f":"+IF(LEN(home!$G$9)>0,instruments!F714=home!$G$9,TRUE)","v":true},3,{"$f":"+COUNTIF($L$1:L714,\"=\"&4)","v":52},"Lake County, IL Corn Basis"]
["ZCBAINLB.CM","cmdty Lake County, IN Corn Basis Idx","Corn","Basis","Indiana","County","Lake County",{"$f":"+IF(LEN(home!$G$7)>0,instruments!C715=home!$G$7,TRUE)","v":true},true,{"$f":"+IF(LEN(home!$G$8)>0,instruments!E715=home!$G$8,TRUE)","v":false},{"$f":"+IF(LEN(home!$G$9)>0,instruments!F715=home!$G$9,TRUE)","v":true},3,{"$f":"+COUNTIF($L$1:L715,\"=\"&4)","v":52},"Lake County, IN Corn Basis"]
["ZCBASDLA.CM","cmdty Lake County, SD Corn Basis Idx","Corn","Basis","South Dakota","County","Lake County",{"$f":"+IF(LEN(home!$G$7)>0,instruments!C716=home!$G$7,TRUE)","v":true},true,{"$f":"+IF(LEN(home!$G$8)>0,instruments!E716=home!$G$8,TRUE)","v":false},{"$f":"+IF(LEN(home!$G$9)>0,instruments!F716=home!$G$9,TRUE)","v":true},3,{"$f":"+COUNTIF($L$1:L716,\"=\"&4)","v":52},"Lake County, SD Corn Basis"]
["ZSBANDLA.CM","cmdty LaMoure County, ND Soybean Basis Idx","Soybean","Basis","North Dakota","County","LaMoure County",{"$f":"+IF(LEN(home!$G$7)>0,instruments!C717=home!$G$7,TRUE)","v":false},true,{"$f":"+IF(LEN(home!$G$8)>0,instruments!E717=home!$G$8,TRUE)","v":false},{"$f":"+IF(LEN(home!$G$9)>0,instruments!F717=home!$G$9,TRUE)","v":true},2,{"$f":"+COUNTIF($L$1:L717,\"=\"&4)","v":52},"LaMoure County, ND Soybean Basis"]
["ZCBANELA.CM","cmdty Lancaster County, NE Corn Basis Idx","Corn","Basis","Nebraska","County","Lancaster County",{"$f":"+IF(LEN(home!$G$7)>0,instruments!C718=home!$G$7,TRUE)","v":true},true,{"$f":"+IF(LEN(home!$G$8)>0,instruments!E718=home!$G$8,TRUE)","v":false},{"$f":"+IF(LEN(home!$G$9)>0,instruments!F718=home!$G$9,TRUE)","v":true},3,{"$f":"+COUNTIF($L$1:L718,\"=\"&4)","v":52},"Lancaster County, NE Corn Basis"]
["ZSBANELA.CM","cmdty Lancaster County, NE Soybean Basis Idx","Soybean","Basis","Nebraska","County","Lancaster County",{"$f":"+IF(LEN(home!$G$7)>0,instruments!C719=home!$G$7,TRUE)","v":false},true,{"$f":"+IF(LEN(home!$G$8)>0,instruments!E719=home!$G$8,TRUE)","v":false},{"$f":"+IF(LEN(home!$G$9)>0,instruments!F719=home!$G$9,TRUE)","v":true},2,{"$f":"+COUNTIF($L$1:L719,\"=\"&4)","v":52},"Lancaster County, NE Soybean Basis"]
["ZCBAKSLB.CM","cmdty Lane County, KS Corn Basis Idx","Corn","Basis","Kansas","County","Lane County",{"$f":"+IF(LEN(home!$G$7)>0,instruments!C720=home!$G$7,TRUE)","v":true},true,{"$f":"+IF(LEN(home!$G$8)>0,instruments!E720=home!$G$8,TRUE)","v":false},{"$f":"+IF(LEN(home!$G$9)>0,instruments!F720=home!$G$9,TRUE)","v":true},3,{"$f":"+COUNTIF($L$1:L720,\"=\"&4)","v":52},"Lane County, KS Corn Basis"]
["ZSBAKSLB.CM","cmdty Lane County, KS Soybean Basis Idx","Soybean","Basis","Kansas","County","Lane County",{"$f":"+IF(LEN(home!$G$7)>0,instruments!C721=home!$G$7,TRUE)","v":false},true,{"$f":"+IF(LEN(home!$G$8)>0,instruments!E721=home!$G$8,TRUE)","v":false},{"$f":"+IF(LEN(home!$G$9)>0,instruments!F721=home!$G$9,TRUE)","v":true},2,{"$f":"+COUNTIF($L$1:L721,\"=\"&4)","v":52},"Lane County, KS Soybean Basis"]
["ZCBAINLC.CM","cmdty LaPorte County, IN Corn Basis Idx","Corn","Basis","Indiana","County","LaPorte County",{"$f":"+IF(LEN(home!$G$7)>0,instruments!C722=home!$G$7,TRUE)","v":true},true,{"$f":"+IF(LEN(home!$G$8)>0,instruments!E722=home!$G$8,TRUE)","v":false},{"$f":"+IF(LEN(home!$G$9)>0,instruments!F722=home!$G$9,TRUE)","v":true},3,{"$f":"+COUNTIF($L$1:L722,\"=\"&4)","v":52},"LaPorte County, IN Corn Basis"]
["ZSBAINLC.CM","cmdty LaPorte County, IN Soybean Basis Idx","Soybean","Basis","Indiana","County","LaPorte County",{"$f":"+IF(LEN(home!$G$7)>0,instruments!C723=home!$G$7,TRUE)","v":false},true,{"$f":"+IF(LEN(home!$G$8)>0,instruments!E723=home!$G$8,TRUE)","v":false},{"$f":"+IF(LEN(home!$G$9)>0,instruments!F723=home!$G$9,TRUE)","v":true},2,{"$f":"+COUNTIF($L$1:L723,\"=\"&4)","v":52},"LaPorte County, IN Soybean Basis"]
["ZCBAILLB.CM","cmdty LaSalle County, IL Corn Basis Idx","Corn","Basis","Illinois","County","LaSalle County",{"$f":"+IF(LEN(home!$G$7)>0,instruments!C724=home!$G$7,TRUE)","v":true},true,{"$f":"+IF(LEN(home!$G$8)>0,instruments!E724=home!$G$8,TRUE)","v":false},{"$f":"+IF(LEN(home!$G$9)>0,instruments!F724=home!$G$9,TRUE)","v":true},3,{"$f":"+COUNTIF($L$1:L724,\"=\"&4)","v":52},"LaSalle County, IL Corn Basis"]
["ZSBAILLB.CM","cmdty LaSalle County, IL Soybean Basis Idx","Soybean","Basis","Illinois","County","LaSalle County",{"$f":"+IF(LEN(home!$G$7)>0,instruments!C725=home!$G$7,TRUE)","v":false},true,{"$f":"+IF(LEN(home!$G$8)>0,instruments!E725=home!$G$8,TRUE)","v":false},{"$f":"+IF(LEN(home!$G$9)>0,instruments!F725=home!$G$9,TRUE)","v":true},2,{"$f":"+COUNTIF($L$1:L725,\"=\"&4)","v":52},"LaSalle County, IL Soybean Basis"]
["ZCBAILLC.CM","cmdty Lawrence County, IL Corn Basis Idx","Corn","Basis","Illinois","County","Lawrence County",{"$f":"+IF(LEN(home!$G$7)>0,instruments!C726=home!$G$7,TRUE)","v":true},true,{"$f":"+IF(LEN(home!$G$8)>0,instruments!E726=home!$G$8,TRUE)","v":false},{"$f":"+IF(LEN(home!$G$9)>0,instruments!F726=home!$G$9,TRUE)","v":true},3,{"$f":"+COUNTIF($L$1:L726,\"=\"&4)","v":52},"Lawrence County, IL Corn Basis"]
["ZSBAILLC.CM","cmdty Lawrence County, IL Soybean Basis Idx","Soybean","Basis","Illinois","County","Lawrence County",{"$f":"+IF(LEN(home!$G$7)>0,instruments!C727=home!$G$7,TRUE)","v":false},true,{"$f":"+IF(LEN(home!$G$8)>0,instruments!E727=home!$G$8,TRUE)","v":false},{"$f":"+IF(LEN(home!$G$9)>0,instruments!F727=home!$G$9,TRUE)","v":true},2,{"$f":"+COUNTIF($L$1:L727,\"=\"&4)","v":52},"Lawrence County, IL Soybean Basis"]
["ZCBAIALE.CM","cmdty Lee County, IA Corn Basis Idx","Corn","Basis","Iowa","County","Lee County",{"$f":"+IF(LEN(home!$G$7)>0,instruments!C728=home!$G$7,TRUE)","v":true},true,{"$f":"+IF(LEN(home!$G$8)>0,instruments!E728=home!$G$8,TRUE)","v":true},{"$f":"+IF(LEN(home!$G$9)>0,instruments!F728=home!$G$9,TRUE)","v":true},4,{"$f":"+COUNTIF($L$1:L728,\"=\"&4)","v":53},"Lee County, IA Corn Basis"]
["ZSBAIALE.CM","cmdty Lee County, IA Soybean Basis Idx","Soybean","Basis","Iowa","County","Lee County",{"$f":"+IF(LEN(home!$G$7)>0,instruments!C729=home!$G$7,TRUE)","v":false},true,{"$f":"+IF(LEN(home!$G$8)>0,instruments!E729=home!$G$8,TRUE)","v":true},{"$f":"+IF(LEN(home!$G$9)>0,instruments!F729=home!$G$9,TRUE)","v":true},3,{"$f":"+COUNTIF($L$1:L729,\"=\"&4)","v":53},"Lee County, IA Soybean Basis"]
["ZCBAILLE.CM","cmdty Lee County, IL Corn Basis Idx","Corn","Basis","Illinois","County","Lee County",{"$f":"+IF(LEN(home!$G$7)>0,instruments!C730=home!$G$7,TRUE)","v":true},true,{"$f":"+IF(LEN(home!$G$8)>0,instruments!E730=home!$G$8,TRUE)","v":false},{"$f":"+IF(LEN(home!$G$9)>0,instruments!F730=home!$G$9,TRUE)","v":true},3,{"$f":"+COUNTIF($L$1:L730,\"=\"&4)","v":53},"Lee County, IL Corn Basis"]
["ZSBAILLE.CM","cmdty Lee County, IL Soybean Basis Idx","Soybean","Basis","Illinois","County","Lee County",{"$f":"+IF(LEN(home!$G$7)>0,instruments!C731=home!$G$7,TRUE)","v":false},true,{"$f":"+IF(LEN(home!$G$8)>0,instruments!E731=home!$G$8,TRUE)","v":false},{"$f":"+IF(LEN(home!$G$9)>0,instruments!F731=home!$G$9,TRUE)","v":true},2,{"$f":"+COUNTIF($L$1:L731,\"=\"&4)","v":53},"Lee County, IL Soybean Basis"]
["ZCBAMNLE.CM","cmdty Le Sueur County, MN Corn Basis Idx","Corn","Basis","Minnesota","County","Le Sueur County",{"$f":"+IF(LEN(home!$G$7)>0,instruments!C732=home!$G$7,TRUE)","v":true},true,{"$f":"+IF(LEN(home!$G$8)>0,instruments!E732=home!$G$8,TRUE)","v":false},{"$f":"+IF(LEN(home!$G$9)>0,instruments!F732=home!$G$9,TRUE)","v":true},3,{"$f":"+COUNTIF($L$1:L732,\"=\"&4)","v":53},"Le Sueur County, MN Corn Basis"]
["ZSBAMNLE.CM","cmdty Le Sueur County, MN Soybean Basis Idx","Soybean","Basis","Minnesota","County","Le Sueur County",{"$f":"+IF(LEN(home!$G$7)>0,instruments!C733=home!$G$7,TRUE)","v":false},true,{"$f":"+IF(LEN(home!$G$8)>0,instruments!E733=home!$G$8,TRUE)","v":false},{"$f":"+IF(LEN(home!$G$9)>0,instruments!F733=home!$G$9,TRUE)","v":true},2,{"$f":"+COUNTIF($L$1:L733,\"=\"&4)","v":53},"Le Sueur County, MN Soybean Basis"]
["ZCBAMOLE.CM","cmdty Lewis County, MO Corn Basis Idx","Corn","Basis","Missouri","County","Lewis County",{"$f":"+IF(LEN(home!$G$7)>0,instruments!C734=home!$G$7,TRUE)","v":true},true,{"$f":"+IF(LEN(home!$G$8)>0,instruments!E734=home!$G$8,TRUE)","v":false},{"$f":"+IF(LEN(home!$G$9)>0,instruments!F734=home!$G$9,TRUE)","v":true},3,{"$f":"+COUNTIF($L$1:L734,\"=\"&4)","v":53},"Lewis County, MO Corn Basis"]
["ZSBAMOLE.CM","cmdty Lewis County, MO Soybean Basis Idx","Soybean","Basis","Missouri","County","Lewis County",{"$f":"+IF(LEN(home!$G$7)>0,instruments!C735=home!$G$7,TRUE)","v":false},true,{"$f":"+IF(LEN(home!$G$8)>0,instruments!E735=home!$G$8,TRUE)","v":false},{"$f":"+IF(LEN(home!$G$9)>0,instruments!F735=home!$G$9,TRUE)","v":true},2,{"$f":"+COUNTIF($L$1:L735,\"=\"&4)","v":53},"Lewis County, MO Soybean Basis"]
["ZSBAOHLI.CM","cmdty Licking County, OH Soybean Basis Idx","Soybean","Basis","Ohio","County","Licking County",{"$f":"+IF(LEN(home!$G$7)>0,instruments!C736=home!$G$7,TRUE)","v":false},true,{"$f":"+IF(LEN(home!$G$8)>0,instruments!E736=home!$G$8,TRUE)","v":false},{"$f":"+IF(LEN(home!$G$9)>0,instruments!F736=home!$G$9,TRUE)","v":true},2,{"$f":"+COUNTIF($L$1:L736,\"=\"&4)","v":53},"Licking County, OH Soybean Basis"]
["ZCBAKSLI.CM","cmdty Lincoln County, KS Corn Basis Idx","Corn","Basis","Kansas","County","Lincoln County",{"$f":"+IF(LEN(home!$G$7)>0,instruments!C737=home!$G$7,TRUE)","v":true},true,{"$f":"+IF(LEN(home!$G$8)>0,instruments!E737=home!$G$8,TRUE)","v":false},{"$f":"+IF(LEN(home!$G$9)>0,instruments!F737=home!$G$9,TRUE)","v":true},3,{"$f":"+COUNTIF($L$1:L737,\"=\"&4)","v":53},"Lincoln County, KS Corn Basis"]
["ZSBAKSLI.CM","cmdty Lincoln County, KS Soybean Basis Idx","Soybean","Basis","Kansas","County","Lincoln County",{"$f":"+IF(LEN(home!$G$7)>0,instruments!C738=home!$G$7,TRUE)","v":false},true,{"$f":"+IF(LEN(home!$G$8)>0,instruments!E738=home!$G$8,TRUE)","v":false},{"$f":"+IF(LEN(home!$G$9)>0,instruments!F738=home!$G$9,TRUE)","v":true},2,{"$f":"+COUNTIF($L$1:L738,\"=\"&4)","v":53},"Lincoln County, KS Soybean Basis"]
["ZCBAMNLI.CM","cmdty Lincoln County, MN Corn Basis Idx","Corn","Basis","Minnesota","County","Lincoln County",{"$f":"+IF(LEN(home!$G$7)>0,instruments!C739=home!$G$7,TRUE)","v":true},true,{"$f":"+IF(LEN(home!$G$8)>0,instruments!E739=home!$G$8,TRUE)","v":false},{"$f":"+IF(LEN(home!$G$9)>0,instruments!F739=home!$G$9,TRUE)","v":true},3,{"$f":"+COUNTIF($L$1:L739,\"=\"&4)","v":53},"Lincoln County, MN Corn Basis"]
["ZSBAMNLI.CM","cmdty Lincoln County, MN Soybean Basis Idx","Soybean","Basis","Minnesota","County","Lincoln County",{"$f":"+IF(LEN(home!$G$7)>0,instruments!C740=home!$G$7,TRUE)","v":false},true,{"$f":"+IF(LEN(home!$G$8)>0,instruments!E740=home!$G$8,TRUE)","v":false},{"$f":"+IF(LEN(home!$G$9)>0,instruments!F740=home!$G$9,TRUE)","v":true},2,{"$f":"+COUNTIF($L$1:L740,\"=\"&4)","v":53},"Lincoln County, MN Soybean Basis"]
["ZCBANELI.CM","cmdty Lincoln County, NE Corn Basis Idx","Corn","Basis","Nebraska","County","Lincoln County",{"$f":"+IF(LEN(home!$G$7)>0,instruments!C741=home!$G$7,TRUE)","v":true},true,{"$f":"+IF(LEN(home!$G$8)>0,instruments!E741=home!$G$8,TRUE)","v":false},{"$f":"+IF(LEN(home!$G$9)>0,instruments!F741=home!$G$9,TRUE)","v":true},3,{"$f":"+COUNTIF($L$1:L741,\"=\"&4)","v":53},"Lincoln County, NE Corn Basis"]
["ZSBANELI.CM","cmdty Lincoln County, NE Soybean Basis Idx","Soybean","Basis","Nebraska","County","Lincoln County",{"$f":"+IF(LEN(home!$G$7)>0,instruments!C742=home!$G$7,TRUE)","v":false},true,{"$f":"+IF(LEN(home!$G$8)>0,instruments!E742=home!$G$8,TRUE)","v":false},{"$f":"+IF(LEN(home!$G$9)>0,instruments!F742=home!$G$9,TRUE)","v":true},2,{"$f":"+COUNTIF($L$1:L742,\"=\"&4)","v":53},"Lincoln County, NE Soybean Basis"]
["ZCBASDLI.CM","cmdty Lincoln County, SD Corn Basis Idx","Corn","Basis","South Dakota","County","Lincoln County",{"$f":"+IF(LEN(home!$G$7)>0,instruments!C743=home!$G$7,TRUE)","v":true},true,{"$f":"+IF(LEN(home!$G$8)>0,instruments!E743=home!$G$8,TRUE)","v":false},{"$f":"+IF(LEN(home!$G$9)>0,instruments!F743=home!$G$9,TRUE)","v":true},3,{"$f":"+COUNTIF($L$1:L743,\"=\"&4)","v":53},"Lincoln County, SD Corn Basis"]
["ZSBASDLI.CM","cmdty Lincoln County, SD Soybean Basis Idx","Soybean","Basis","South Dakota","County","Lincoln County",{"$f":"+IF(LEN(home!$G$7)>0,instruments!C744=home!$G$7,TRUE)","v":false},true,{"$f":"+IF(LEN(home!$G$8)>0,instruments!E744=home!$G$8,TRUE)","v":false},{"$f":"+IF(LEN(home!$G$9)>0,instruments!F744=home!$G$9,TRUE)","v":true},2,{"$f":"+COUNTIF($L$1:L744,\"=\"&4)","v":53},"Lincoln County, SD Soybean Basis"]
["ZCBAIALI.CM","cmdty Linn County, IA Corn Basis Idx","Corn","Basis","Iowa","County","Linn County",{"$f":"+IF(LEN(home!$G$7)>0,instruments!C745=home!$G$7,TRUE)","v":true},true,{"$f":"+IF(LEN(home!$G$8)>0,instruments!E745=home!$G$8,TRUE)","v":true},{"$f":"+IF(LEN(home!$G$9)>0,instruments!F745=home!$G$9,TRUE)","v":true},4,{"$f":"+COUNTIF($L$1:L745,\"=\"&4)","v":54},"Linn County, IA Corn Basis"]
["ZSBAIALI.CM","cmdty Linn County, IA Soybean Basis Idx","Soybean","Basis","Iowa","County","Linn County",{"$f":"+IF(LEN(home!$G$7)>0,instruments!C746=home!$G$7,TRUE)","v":false},true,{"$f":"+IF(LEN(home!$G$8)>0,instruments!E746=home!$G$8,TRUE)","v":true},{"$f":"+IF(LEN(home!$G$9)>0,instruments!F746=home!$G$9,TRUE)","v":true},3,{"$f":"+COUNTIF($L$1:L746,\"=\"&4)","v":54},"Linn County, IA Soybean Basis"]
["ZCBAKSLC.CM","cmdty Linn County, KS Corn Basis Idx","Corn","Basis","Kansas","County","Linn County",{"$f":"+IF(LEN(home!$G$7)>0,instruments!C747=home!$G$7,TRUE)","v":true},true,{"$f":"+IF(LEN(home!$G$8)>0,instruments!E747=home!$G$8,TRUE)","v":false},{"$f":"+IF(LEN(home!$G$9)>0,instruments!F747=home!$G$9,TRUE)","v":true},3,{"$f":"+COUNTIF($L$1:L747,\"=\"&4)","v":54},"Linn County, KS Corn Basis"]
["ZSBAKSLC.CM","cmdty Linn County, KS Soybean Basis Idx","Soybean","Basis","Kansas","County","Linn County",{"$f":"+IF(LEN(home!$G$7)>0,instruments!C748=home!$G$7,TRUE)","v":false},true,{"$f":"+IF(LEN(home!$G$8)>0,instruments!E748=home!$G$8,TRUE)","v":false},{"$f":"+IF(LEN(home!$G$9)>0,instruments!F748=home!$G$9,TRUE)","v":true},2,{"$f":"+COUNTIF($L$1:L748,\"=\"&4)","v":54},"Linn County, KS Soybean Basis"]
["ZCBAMOLD.CM","cmdty Linn County, MO Corn Basis Idx","Corn","Basis","Missouri","County","Linn County",{"$f":"+IF(LEN(home!$G$7)>0,instruments!C749=home!$G$7,TRUE)","v":true},true,{"$f":"+IF(LEN(home!$G$8)>0,instruments!E749=home!$G$8,TRUE)","v":false},{"$f":"+IF(LEN(home!$G$9)>0,instruments!F749=home!$G$9,TRUE)","v":true},3,{"$f":"+COUNTIF($L$1:L749,\"=\"&4)","v":54},"Linn County, MO Corn Basis"]
["ZSBAMOLD.CM","cmdty Linn County, MO Soybean Basis Idx","Soybean","Basis","Missouri","County","Linn County",{"$f":"+IF(LEN(home!$G$7)>0,instruments!C750=home!$G$7,TRUE)","v":false},true,{"$f":"+IF(LEN(home!$G$8)>0,instruments!E750=home!$G$8,TRUE)","v":false},{"$f":"+IF(LEN(home!$G$9)>0,instruments!F750=home!$G$9,TRUE)","v":true},2,{"$f":"+COUNTIF($L$1:L750,\"=\"&4)","v":54},"Linn County, MO Soybean Basis"]
["ZCBAILLI.CM","cmdty Livingston County, IL Corn Basis Idx","Corn","Basis","Illinois","County","Livingston County",{"$f":"+IF(LEN(home!$G$7)>0,instruments!C751=home!$G$7,TRUE)","v":true},true,{"$f":"+IF(LEN(home!$G$8)>0,instruments!E751=home!$G$8,TRUE)","v":false},{"$f":"+IF(LEN(home!$G$9)>0,instruments!F751=home!$G$9,TRUE)","v":true},3,{"$f":"+COUNTIF($L$1:L751,\"=\"&4)","v":54},"Livingston County, IL Corn Basis"]
["ZSBAILLI.CM","cmdty Livingston County, IL Soybean Basis Idx","Soybean","Basis","Illinois","County","Livingston County",{"$f":"+IF(LEN(home!$G$7)>0,instruments!C752=home!$G$7,TRUE)","v":false},true,{"$f":"+IF(LEN(home!$G$8)>0,instruments!E752=home!$G$8,TRUE)","v":false},{"$f":"+IF(LEN(home!$G$9)>0,instruments!F752=home!$G$9,TRUE)","v":true},2,{"$f":"+COUNTIF($L$1:L752,\"=\"&4)","v":54},"Livingston County, IL Soybean Basis"]
["ZCBAMOLF.CM","cmdty Livingston County, MO Corn Basis Idx","Corn","Basis","Missouri","County","Livingston County",{"$f":"+IF(LEN(home!$G$7)>0,instruments!C753=home!$G$7,TRUE)","v":true},true,{"$f":"+IF(LEN(home!$G$8)>0,instruments!E753=home!$G$8,TRUE)","v":false},{"$f":"+IF(LEN(home!$G$9)>0,instruments!F753=home!$G$9,TRUE)","v":true},3,{"$f":"+COUNTIF($L$1:L753,\"=\"&4)","v":54},"Livingston County, MO Corn Basis"]
["ZSBAMOLF.CM","cmdty Livingston County, MO Soybean Basis Idx","Soybean","Basis","Missouri","County","Livingston County",{"$f":"+IF(LEN(home!$G$7)>0,instruments!C754=home!$G$7,TRUE)","v":false},true,{"$f":"+IF(LEN(home!$G$8)>0,instruments!E754=home!$G$8,TRUE)","v":false},{"$f":"+IF(LEN(home!$G$9)>0,instruments!F754=home!$G$9,TRUE)","v":true},2,{"$f":"+COUNTIF($L$1:L754,\"=\"&4)","v":54},"Livingston County, MO Soybean Basis"]
["ZCBAILLO.CM","cmdty Logan County, IL Corn Basis Idx","Corn","Basis","Illinois","County","Logan County",{"$f":"+IF(LEN(home!$G$7)>0,instruments!C755=home!$G$7,TRUE)","v":true},true,{"$f":"+IF(LEN(home!$G$8)>0,instruments!E755=home!$G$8,TRUE)","v":false},{"$f":"+IF(LEN(home!$G$9)>0,instruments!F755=home!$G$9,TRUE)","v":true},3,{"$f":"+COUNTIF($L$1:L755,\"=\"&4)","v":54},"Logan County, IL Corn Basis"]
["ZSBAILLO.CM","cmdty Logan County, IL Soybean Basis Idx","Soybean","Basis","Illinois","County","Logan County",{"$f":"+IF(LEN(home!$G$7)>0,instruments!C756=home!$G$7,TRUE)","v":false},true,{"$f":"+IF(LEN(home!$G$8)>0,instruments!E756=home!$G$8,TRUE)","v":false},{"$f":"+IF(LEN(home!$G$9)>0,instruments!F756=home!$G$9,TRUE)","v":true},2,{"$f":"+COUNTIF($L$1:L756,\"=\"&4)","v":54},"Logan County, IL Soybean Basis"]
["ZCBAKSLO.CM","cmdty Logan County, KS Corn Basis Idx","Corn","Basis","Kansas","County","Logan County",{"$f":"+IF(LEN(home!$G$7)>0,instruments!C757=home!$G$7,TRUE)","v":true},true,{"$f":"+IF(LEN(home!$G$8)>0,instruments!E757=home!$G$8,TRUE)","v":false},{"$f":"+IF(LEN(home!$G$9)>0,instruments!F757=home!$G$9,TRUE)","v":true},3,{"$f":"+COUNTIF($L$1:L757,\"=\"&4)","v":54},"Logan County, KS Corn Basis"]
["ZSBAKSLO.CM","cmdty Logan County, KS Soybean Basis Idx","Soybean","Basis","Kansas","County","Logan County",{"$f":"+IF(LEN(home!$G$7)>0,instruments!C758=home!$G$7,TRUE)","v":false},true,{"$f":"+IF(LEN(home!$G$8)>0,instruments!E758=home!$G$8,TRUE)","v":false},{"$f":"+IF(LEN(home!$G$9)>0,instruments!F758=home!$G$9,TRUE)","v":true},2,{"$f":"+COUNTIF($L$1:L758,\"=\"&4)","v":54},"Logan County, KS Soybean Basis"]
["ZSBANDLO.CM","cmdty Logan County, ND Soybean Basis Idx","Soybean","Basis","North Dakota","County","Logan County",{"$f":"+IF(LEN(home!$G$7)>0,instruments!C759=home!$G$7,TRUE)","v":false},true,{"$f":"+IF(LEN(home!$G$8)>0,instruments!E759=home!$G$8,TRUE)","v":false},{"$f":"+IF(LEN(home!$G$9)>0,instruments!F759=home!$G$9,TRUE)","v":true},2,{"$f":"+COUNTIF($L$1:L759,\"=\"&4)","v":54},"Logan County, ND Soybean Basis"]
["ZCBANELO.CM","cmdty Logan County, NE Corn Basis Idx","Corn","Basis","Nebraska","County","Logan County",{"$f":"+IF(LEN(home!$G$7)>0,instruments!C760=home!$G$7,TRUE)","v":true},true,{"$f":"+IF(LEN(home!$G$8)>0,instruments!E760=home!$G$8,TRUE)","v":false},{"$f":"+IF(LEN(home!$G$9)>0,instruments!F760=home!$G$9,TRUE)","v":true},3,{"$f":"+COUNTIF($L$1:L760,\"=\"&4)","v":54},"Logan County, NE Corn Basis"]
["ZSBANELO.CM","cmdty Logan County, NE Soybean Basis Idx","Soybean","Basis","Nebraska","County","Logan County",{"$f":"+IF(LEN(home!$G$7)>0,instruments!C761=home!$G$7,TRUE)","v":false},true,{"$f":"+IF(LEN(home!$G$8)>0,instruments!E761=home!$G$8,TRUE)","v":false},{"$f":"+IF(LEN(home!$G$9)>0,instruments!F761=home!$G$9,TRUE)","v":true},2,{"$f":"+COUNTIF($L$1:L761,\"=\"&4)","v":54},"Logan County, NE Soybean Basis"]
["ZSBAOHLO.CM","cmdty Logan County, OH Soybean Basis Idx","Soybean","Basis","Ohio","County","Logan County",{"$f":"+IF(LEN(home!$G$7)>0,instruments!C762=home!$G$7,TRUE)","v":false},true,{"$f":"+IF(LEN(home!$G$8)>0,instruments!E762=home!$G$8,TRUE)","v":false},{"$f":"+IF(LEN(home!$G$9)>0,instruments!F762=home!$G$9,TRUE)","v":true},2,{"$f":"+COUNTIF($L$1:L762,\"=\"&4)","v":54},"Logan County, OH Soybean Basis"]
["ZSBAOHLC.CM","cmdty Lorain County, OH Soybean Basis Idx","Soybean","Basis","Ohio","County","Lorain County",{"$f":"+IF(LEN(home!$G$7)>0,instruments!C763=home!$G$7,TRUE)","v":false},true,{"$f":"+IF(LEN(home!$G$8)>0,instruments!E763=home!$G$8,TRUE)","v":false},{"$f":"+IF(LEN(home!$G$9)>0,instruments!F763=home!$G$9,TRUE)","v":true},2,{"$f":"+COUNTIF($L$1:L763,\"=\"&4)","v":54},"Lorain County, OH Soybean Basis"]
["ZCBAIALO.CM","cmdty Louisa County, IA Corn Basis Idx","Corn","Basis","Iowa","County","Louisa County",{"$f":"+IF(LEN(home!$G$7)>0,instruments!C764=home!$G$7,TRUE)","v":true},true,{"$f":"+IF(LEN(home!$G$8)>0,instruments!E764=home!$G$8,TRUE)","v":true},{"$f":"+IF(LEN(home!$G$9)>0,instruments!F764=home!$G$9,TRUE)","v":true},4,{"$f":"+COUNTIF($L$1:L764,\"=\"&4)","v":55},"Louisa County, IA Corn Basis"]
["ZSBAIALO.CM","cmdty Louisa County, IA Soybean Basis Idx","Soybean","Basis","Iowa","County","Louisa County",{"$f":"+IF(LEN(home!$G$7)>0,instruments!C765=home!$G$7,TRUE)","v":false},true,{"$f":"+IF(LEN(home!$G$8)>0,instruments!E765=home!$G$8,TRUE)","v":true},{"$f":"+IF(LEN(home!$G$9)>0,instruments!F765=home!$G$9,TRUE)","v":true},3,{"$f":"+COUNTIF($L$1:L765,\"=\"&4)","v":55},"Louisa County, IA Soybean Basis"]
["ZCBAIALU.CM","cmdty Lucas County, IA Corn Basis Idx","Corn","Basis","Iowa","County","Lucas County",{"$f":"+IF(LEN(home!$G$7)>0,instruments!C766=home!$G$7,TRUE)","v":true},true,{"$f":"+IF(LEN(home!$G$8)>0,instruments!E766=home!$G$8,TRUE)","v":true},{"$f":"+IF(LEN(home!$G$9)>0,instruments!F766=home!$G$9,TRUE)","v":true},4,{"$f":"+COUNTIF($L$1:L766,\"=\"&4)","v":56},"Lucas County, IA Corn Basis"]
["ZSBAIALU.CM","cmdty Lucas County, IA Soybean Basis Idx","Soybean","Basis","Iowa","County","Lucas County",{"$f":"+IF(LEN(home!$G$7)>0,instruments!C767=home!$G$7,TRUE)","v":false},true,{"$f":"+IF(LEN(home!$G$8)>0,instruments!E767=home!$G$8,TRUE)","v":true},{"$f":"+IF(LEN(home!$G$9)>0,instruments!F767=home!$G$9,TRUE)","v":true},3,{"$f":"+COUNTIF($L$1:L767,\"=\"&4)","v":56},"Lucas County, IA Soybean Basis"]
["ZSBAOHLU.CM","cmdty Lucas County, OH Soybean Basis Idx","Soybean","Basis","Ohio","County","Lucas County",{"$f":"+IF(LEN(home!$G$7)>0,instruments!C768=home!$G$7,TRUE)","v":false},true,{"$f":"+IF(LEN(home!$G$8)>0,instruments!E768=home!$G$8,TRUE)","v":false},{"$f":"+IF(LEN(home!$G$9)>0,instruments!F768=home!$G$9,TRUE)","v":true},2,{"$f":"+COUNTIF($L$1:L768,\"=\"&4)","v":56},"Lucas County, OH Soybean Basis"]
["ZCBASDLY.CM","cmdty Lyman County, SD Corn Basis Idx","Corn","Basis","South Dakota","County","Lyman County",{"$f":"+IF(LEN(home!$G$7)>0,instruments!C769=home!$G$7,TRUE)","v":true},true,{"$f":"+IF(LEN(home!$G$8)>0,instruments!E769=home!$G$8,TRUE)","v":false},{"$f":"+IF(LEN(home!$G$9)>0,instruments!F769=home!$G$9,TRUE)","v":true},3,{"$f":"+COUNTIF($L$1:L769,\"=\"&4)","v":56},"Lyman County, SD Corn Basis"]
["ZSBASDLY.CM","cmdty Lyman County, SD Soybean Basis Idx","Soybean","Basis","South Dakota","County","Lyman County",{"$f":"+IF(LEN(home!$G$7)>0,instruments!C770=home!$G$7,TRUE)","v":false},true,{"$f":"+IF(LEN(home!$G$8)>0,instruments!E770=home!$G$8,TRUE)","v":false},{"$f":"+IF(LEN(home!$G$9)>0,instruments!F770=home!$G$9,TRUE)","v":true},{"$f":"+COUNTIF(H770:K770,TRUE)","v":2},{"$f":"+COUNTIF($L$1:L770,\"=\"&4)","v":56},"Lyman County, SD Soybean Basis"]
["ZCBAIALY.CM","cmdty Lyon County, IA Corn Basis Idx","Corn","Basis","Iowa","County","Lyon County",{"$f":"+IF(LEN(home!$G$7)>0,instruments!C771=home!$G$7,TRUE)","v":true},{"$f":"+D771=\"Basis\"","v":true},{"$f":"+IF(LEN(home!$G$8)>0,instruments!E771=home!$G$8,TRUE)","v":true},{"$f":"+IF(LEN(home!$G$9)>0,instruments!F771=home!$G$9,TRUE)","v":true},4,{"$f":"+COUNTIF($L$1:L771,\"=\"&4)","v":57},{"$f":"+MID(B771,FIND(\" \",B771,1)+1,LEN(B771)-FIND(\" \",B771,1)-4)","v":"Lyon County, IA Corn Basis"}]
["ZSBAIALY.CM","cmdty Lyon County, IA Soybean Basis Idx","Soybean","Basis","Iowa","County","Lyon County",{"$f":"+IF(LEN(home!$G$7)>0,instruments!C772=home!$G$7,TRUE)","v":false},true,{"$f":"+IF(LEN(home!$G$8)>0,instruments!E772=home!$G$8,TRUE)","v":true},{"$f":"+IF(LEN(home!$G$9)>0,instruments!F772=home!$G$9,TRUE)","v":true},3,{"$f":"+COUNTIF($L$1:L772,\"=\"&4)","v":57},"Lyon County, IA Soybean Basis"]
["ZCBAKSLY.CM","cmdty Lyon County, KS Corn Basis Idx","Corn","Basis","Kansas","County","Lyon County",{"$f":"+IF(LEN(home!$G$7)>0,instruments!C773=home!$G$7,TRUE)","v":true},true,{"$f":"+IF(LEN(home!$G$8)>0,instruments!E773=home!$G$8,TRUE)","v":false},{"$f":"+IF(LEN(home!$G$9)>0,instruments!F773=home!$G$9,TRUE)","v":true},3,{"$f":"+COUNTIF($L$1:L773,\"=\"&4)","v":57},"Lyon County, KS Corn Basis"]
["ZSBAKSLY.CM","cmdty Lyon County, KS Soybean Basis Idx","Soybean","Basis","Kansas","County","Lyon County",{"$f":"+IF(LEN(home!$G$7)>0,instruments!C774=home!$G$7,TRUE)","v":false},true,{"$f":"+IF(LEN(home!$G$8)>0,instruments!E774=home!$G$8,TRUE)","v":false},{"$f":"+IF(LEN(home!$G$9)>0,instruments!F774=home!$G$9,TRUE)","v":true},2,{"$f":"+COUNTIF($L$1:L774,\"=\"&4)","v":57},"Lyon County, KS Soybean Basis"]
["ZCBAMNLY.CM","cmdty Lyon County, MN Corn Basis Idx","Corn","Basis","Minnesota","County","Lyon County",{"$f":"+IF(LEN(home!$G$7)>0,instruments!C775=home!$G$7,TRUE)","v":true},true,{"$f":"+IF(LEN(home!$G$8)>0,instruments!E775=home!$G$8,TRUE)","v":false},{"$f":"+IF(LEN(home!$G$9)>0,instruments!F775=home!$G$9,TRUE)","v":true},3,{"$f":"+COUNTIF($L$1:L775,\"=\"&4)","v":57},"Lyon County, MN Corn Basis"]
["ZSBAMNLY.CM","cmdty Lyon County, MN Soybean Basis Idx","Soybean","Basis","Minnesota","County","Lyon County",{"$f":"+IF(LEN(home!$G$7)>0,instruments!C776=home!$G$7,TRUE)","v":false},true,{"$f":"+IF(LEN(home!$G$8)>0,instruments!E776=home!$G$8,TRUE)","v":false},{"$f":"+IF(LEN(home!$G$9)>0,instruments!F776=home!$G$9,TRUE)","v":true},2,{"$f":"+COUNTIF($L$1:L776,\"=\"&4)","v":57},"Lyon County, MN Soybean Basis"]
["ZCBAILMA.CM","cmdty Macon County, IL Corn Basis Idx","Corn","Basis","Illinois","County","Macon County",{"$f":"+IF(LEN(home!$G$7)>0,instruments!C777=home!$G$7,TRUE)","v":true},true,{"$f":"+IF(LEN(home!$G$8)>0,instruments!E777=home!$G$8,TRUE)","v":false},{"$f":"+IF(LEN(home!$G$9)>0,instruments!F777=home!$G$9,TRUE)","v":true},3,{"$f":"+COUNTIF($L$1:L777,\"=\"&4)","v":57},"Macon County, IL Corn Basis"]
["ZSBAILMA.CM","cmdty Macon County, IL Soybean Basis Idx","Soybean","Basis","Illinois","County","Macon County",{"$f":"+IF(LEN(home!$G$7)>0,instruments!C778=home!$G$7,TRUE)","v":false},true,{"$f":"+IF(LEN(home!$G$8)>0,instruments!E778=home!$G$8,TRUE)","v":false},{"$f":"+IF(LEN(home!$G$9)>0,instruments!F778=home!$G$9,TRUE)","v":true},2,{"$f":"+COUNTIF($L$1:L778,\"=\"&4)","v":57},"Macon County, IL Soybean Basis"]
["ZCBAMOMA.CM","cmdty Macon County, MO Corn Basis Idx","Corn","Basis","Missouri","County","Macon County",{"$f":"+IF(LEN(home!$G$7)>0,instruments!C779=home!$G$7,TRUE)","v":true},true,{"$f":"+IF(LEN(home!$G$8)>0,instruments!E779=home!$G$8,TRUE)","v":false},{"$f":"+IF(LEN(home!$G$9)>0,instruments!F779=home!$G$9,TRUE)","v":true},3,{"$f":"+COUNTIF($L$1:L779,\"=\"&4)","v":57},"Macon County, MO Corn Basis"]
["ZSBAMOMA.CM","cmdty Macon County, MO Soybean Basis Idx","Soybean","Basis","Missouri","County","Macon County",{"$f":"+IF(LEN(home!$G$7)>0,instruments!C780=home!$G$7,TRUE)","v":false},true,{"$f":"+IF(LEN(home!$G$8)>0,instruments!E780=home!$G$8,TRUE)","v":false},{"$f":"+IF(LEN(home!$G$9)>0,instruments!F780=home!$G$9,TRUE)","v":true},2,{"$f":"+COUNTIF($L$1:L780,\"=\"&4)","v":57},"Macon County, MO Soybean Basis"]
["ZCBAILMB.CM","cmdty Macoupin County, IL Corn Basis Idx","Corn","Basis","Illinois","County","Macoupin County",{"$f":"+IF(LEN(home!$G$7)>0,instruments!C781=home!$G$7,TRUE)","v":true},true,{"$f":"+IF(LEN(home!$G$8)>0,instruments!E781=home!$G$8,TRUE)","v":false},{"$f":"+IF(LEN(home!$G$9)>0,instruments!F781=home!$G$9,TRUE)","v":true},3,{"$f":"+COUNTIF($L$1:L781,\"=\"&4)","v":57},"Macoupin County, IL Corn Basis"]
["ZSBAILMB.CM","cmdty Macoupin County, IL Soybean Basis Idx","Soybean","Basis","Illinois","County","Macoupin County",{"$f":"+IF(LEN(home!$G$7)>0,instruments!C782=home!$G$7,TRUE)","v":false},true,{"$f":"+IF(LEN(home!$G$8)>0,instruments!E782=home!$G$8,TRUE)","v":false},{"$f":"+IF(LEN(home!$G$9)>0,instruments!F782=home!$G$9,TRUE)","v":true},2,{"$f":"+COUNTIF($L$1:L782,\"=\"&4)","v":57},"Macoupin County, IL Soybean Basis"]
["ZCBAIAMA.CM","cmdty Madison County, IA Corn Basis Idx","Corn","Basis","Iowa","County","Madison County",{"$f":"+IF(LEN(home!$G$7)>0,instruments!C783=home!$G$7,TRUE)","v":true},true,{"$f":"+IF(LEN(home!$G$8)>0,instruments!E783=home!$G$8,TRUE)","v":true},{"$f":"+IF(LEN(home!$G$9)>0,instruments!F783=home!$G$9,TRUE)","v":true},4,{"$f":"+COUNTIF($L$1:L783,\"=\"&4)","v":58},"Madison County, IA Corn Basis"]
["ZSBAIAMA.CM","cmdty Madison County, IA Soybean Basis Idx","Soybean","Basis","Iowa","County","Madison County",{"$f":"+IF(LEN(home!$G$7)>0,instruments!C784=home!$G$7,TRUE)","v":false},true,{"$f":"+IF(LEN(home!$G$8)>0,instruments!E784=home!$G$8,TRUE)","v":true},{"$f":"+IF(LEN(home!$G$9)>0,instruments!F784=home!$G$9,TRUE)","v":true},3,{"$f":"+COUNTIF($L$1:L784,\"=\"&4)","v":58},"Madison County, IA Soybean Basis"]
["ZCBAILMD.CM","cmdty Madison County, IL Corn Basis Idx","Corn","Basis","Illinois","County","Madison County",{"$f":"+IF(LEN(home!$G$7)>0,instruments!C785=home!$G$7,TRUE)","v":true},true,{"$f":"+IF(LEN(home!$G$8)>0,instruments!E785=home!$G$8,TRUE)","v":false},{"$f":"+IF(LEN(home!$G$9)>0,instruments!F785=home!$G$9,TRUE)","v":true},3,{"$f":"+COUNTIF($L$1:L785,\"=\"&4)","v":58},"Madison County, IL Corn Basis"]
["ZSBAILMD.CM","cmdty Madison County, IL Soybean Basis Idx","Soybean","Basis","Illinois","County","Madison County",{"$f":"+IF(LEN(home!$G$7)>0,instruments!C786=home!$G$7,TRUE)","v":false},true,{"$f":"+IF(LEN(home!$G$8)>0,instruments!E786=home!$G$8,TRUE)","v":false},{"$f":"+IF(LEN(home!$G$9)>0,instruments!F786=home!$G$9,TRUE)","v":true},2,{"$f":"+COUNTIF($L$1:L786,\"=\"&4)","v":58},"Madison County, IL Soybean Basis"]
["ZCBAINMA.CM","cmdty Madison County, IN Corn Basis Idx","Corn","Basis","Indiana","County","Madison County",{"$f":"+IF(LEN(home!$G$7)>0,instruments!C787=home!$G$7,TRUE)","v":true},true,{"$f":"+IF(LEN(home!$G$8)>0,instruments!E787=home!$G$8,TRUE)","v":false},{"$f":"+IF(LEN(home!$G$9)>0,instruments!F787=home!$G$9,TRUE)","v":true},3,{"$f":"+COUNTIF($L$1:L787,\"=\"&4)","v":58},"Madison County, IN Corn Basis"]
["ZSBAINMA.CM","cmdty Madison County, IN Soybean Basis Idx","Soybean","Basis","Indiana","County","Madison County",{"$f":"+IF(LEN(home!$G$7)>0,instruments!C788=home!$G$7,TRUE)","v":false},true,{"$f":"+IF(LEN(home!$G$8)>0,instruments!E788=home!$G$8,TRUE)","v":false},{"$f":"+IF(LEN(home!$G$9)>0,instruments!F788=home!$G$9,TRUE)","v":true},2,{"$f":"+COUNTIF($L$1:L788,\"=\"&4)","v":58},"Madison County, IN Soybean Basis"]
["ZCBANEMA.CM","cmdty Madison County, NE Corn Basis Idx","Corn","Basis","Nebraska","County","Madison County",{"$f":"+IF(LEN(home!$G$7)>0,instruments!C789=home!$G$7,TRUE)","v":true},true,{"$f":"+IF(LEN(home!$G$8)>0,instruments!E789=home!$G$8,TRUE)","v":false},{"$f":"+IF(LEN(home!$G$9)>0,instruments!F789=home!$G$9,TRUE)","v":true},3,{"$f":"+COUNTIF($L$1:L789,\"=\"&4)","v":58},"Madison County, NE Corn Basis"]
["ZSBANEMA.CM","cmdty Madison County, NE Soybean Basis Idx","Soybean","Basis","Nebraska","County","Madison County",{"$f":"+IF(LEN(home!$G$7)>0,instruments!C790=home!$G$7,TRUE)","v":false},true,{"$f":"+IF(LEN(home!$G$8)>0,instruments!E790=home!$G$8,TRUE)","v":false},{"$f":"+IF(LEN(home!$G$9)>0,instruments!F790=home!$G$9,TRUE)","v":true},2,{"$f":"+COUNTIF($L$1:L790,\"=\"&4)","v":58},"Madison County, NE Soybean Basis"]
["ZSBAOHMA.CM","cmdty Madison County, OH Soybean Basis Idx","Soybean","Basis","Ohio","County","Madison County",{"$f":"+IF(LEN(home!$G$7)>0,instruments!C791=home!$G$7,TRUE)","v":false},true,{"$f":"+IF(LEN(home!$G$8)>0,instruments!E791=home!$G$8,TRUE)","v":false},{"$f":"+IF(LEN(home!$G$9)>0,instruments!F791=home!$G$9,TRUE)","v":true},2,{"$f":"+COUNTIF($L$1:L791,\"=\"&4)","v":58},"Madison County, OH Soybean Basis"]
["ZCBAIAMB.CM","cmdty Mahaska County, IA Corn Basis Idx","Corn","Basis","Iowa","County","Mahaska County",{"$f":"+IF(LEN(home!$G$7)>0,instruments!C792=home!$G$7,TRUE)","v":true},true,{"$f":"+IF(LEN(home!$G$8)>0,instruments!E792=home!$G$8,TRUE)","v":true},{"$f":"+IF(LEN(home!$G$9)>0,instruments!F792=home!$G$9,TRUE)","v":true},4,{"$f":"+COUNTIF($L$1:L792,\"=\"&4)","v":59},"Mahaska County, IA Corn Basis"]
["ZSBAIAMB.CM","cmdty Mahaska County, IA Soybean Basis Idx","Soybean","Basis","Iowa","County","Mahaska County",{"$f":"+IF(LEN(home!$G$7)>0,instruments!C793=home!$G$7,TRUE)","v":false},true,{"$f":"+IF(LEN(home!$G$8)>0,instruments!E793=home!$G$8,TRUE)","v":true},{"$f":"+IF(LEN(home!$G$9)>0,instruments!F793=home!$G$9,TRUE)","v":true},3,{"$f":"+COUNTIF($L$1:L793,\"=\"&4)","v":59},"Mahaska County, IA Soybean Basis"]
["ZCBAMNMA.CM","cmdty Mahnomen County, MN Corn Basis Idx","Corn","Basis","Minnesota","County","Mahnomen County",{"$f":"+IF(LEN(home!$G$7)>0,instruments!C794=home!$G$7,TRUE)","v":true},true,{"$f":"+IF(LEN(home!$G$8)>0,instruments!E794=home!$G$8,TRUE)","v":false},{"$f":"+IF(LEN(home!$G$9)>0,instruments!F794=home!$G$9,TRUE)","v":true},3,{"$f":"+COUNTIF($L$1:L794,\"=\"&4)","v":59},"Mahnomen County, MN Corn Basis"]
["ZSBAMNMA.CM","cmdty Mahnomen County, MN Soybean Basis Idx","Soybean","Basis","Minnesota","County","Mahnomen County",{"$f":"+IF(LEN(home!$G$7)>0,instruments!C795=home!$G$7,TRUE)","v":false},true,{"$f":"+IF(LEN(home!$G$8)>0,instruments!E795=home!$G$8,TRUE)","v":false},{"$f":"+IF(LEN(home!$G$9)>0,instruments!F795=home!$G$9,TRUE)","v":true},2,{"$f":"+COUNTIF($L$1:L795,\"=\"&4)","v":59},"Mahnomen County, MN Soybean Basis"]
["ZSBAOHMB.CM","cmdty Mahoning County, OH Soybean Basis Idx","Soybean","Basis","Ohio","County","Mahoning County",{"$f":"+IF(LEN(home!$G$7)>0,instruments!C796=home!$G$7,TRUE)","v":false},true,{"$f":"+IF(LEN(home!$G$8)>0,instruments!E796=home!$G$8,TRUE)","v":false},{"$f":"+IF(LEN(home!$G$9)>0,instruments!F796=home!$G$9,TRUE)","v":true},2,{"$f":"+COUNTIF($L$1:L796,\"=\"&4)","v":59},"Mahoning County, OH Soybean Basis"]
["ZCBAIAMC.CM","cmdty Marion County, IA Corn Basis Idx","Corn","Basis","Iowa","County","Marion County",{"$f":"+IF(LEN(home!$G$7)>0,instruments!C797=home!$G$7,TRUE)","v":true},true,{"$f":"+IF(LEN(home!$G$8)>0,instruments!E797=home!$G$8,TRUE)","v":true},{"$f":"+IF(LEN(home!$G$9)>0,instruments!F797=home!$G$9,TRUE)","v":true},4,{"$f":"+COUNTIF($L$1:L797,\"=\"&4)","v":60},"Marion County, IA Corn Basis"]
["ZSBAIAMC.CM","cmdty Marion County, IA Soybean Basis Idx","Soybean","Basis","Iowa","County","Marion County",{"$f":"+IF(LEN(home!$G$7)>0,instruments!C798=home!$G$7,TRUE)","v":false},true,{"$f":"+IF(LEN(home!$G$8)>0,instruments!E798=home!$G$8,TRUE)","v":true},{"$f":"+IF(LEN(home!$G$9)>0,instruments!F798=home!$G$9,TRUE)","v":true},3,{"$f":"+COUNTIF($L$1:L798,\"=\"&4)","v":60},"Marion County, IA Soybean Basis"]
["ZCBAILMF.CM","cmdty Marion County, IL Corn Basis Idx","Corn","Basis","Illinois","County","Marion County",{"$f":"+IF(LEN(home!$G$7)>0,instruments!C799=home!$G$7,TRUE)","v":true},true,{"$f":"+IF(LEN(home!$G$8)>0,instruments!E799=home!$G$8,TRUE)","v":false},{"$f":"+IF(LEN(home!$G$9)>0,instruments!F799=home!$G$9,TRUE)","v":true},3,{"$f":"+COUNTIF($L$1:L799,\"=\"&4)","v":60},"Marion County, IL Corn Basis"]
["ZSBAILMF.CM","cmdty Marion County, IL Soybean Basis Idx","Soybean","Basis","Illinois","County","Marion County",{"$f":"+IF(LEN(home!$G$7)>0,instruments!C800=home!$G$7,TRUE)","v":false},true,{"$f":"+IF(LEN(home!$G$8)>0,instruments!E800=home!$G$8,TRUE)","v":false},{"$f":"+IF(LEN(home!$G$9)>0,instruments!F800=home!$G$9,TRUE)","v":true},2,{"$f":"+COUNTIF($L$1:L800,\"=\"&4)","v":60},"Marion County, IL Soybean Basis"]
["ZCBAINMB.CM","cmdty Marion County, IN Corn Basis Idx","Corn","Basis","Indiana","County","Marion County",{"$f":"+IF(LEN(home!$G$7)>0,instruments!C801=home!$G$7,TRUE)","v":true},true,{"$f":"+IF(LEN(home!$G$8)>0,instruments!E801=home!$G$8,TRUE)","v":false},{"$f":"+IF(LEN(home!$G$9)>0,instruments!F801=home!$G$9,TRUE)","v":true},3,{"$f":"+COUNTIF($L$1:L801,\"=\"&4)","v":60},"Marion County, IN Corn Basis"]
["ZSBAINMB.CM","cmdty Marion County, IN Soybean Basis Idx","Soybean","Basis","Indiana","County","Marion County",{"$f":"+IF(LEN(home!$G$7)>0,instruments!C802=home!$G$7,TRUE)","v":false},true,{"$f":"+IF(LEN(home!$G$8)>0,instruments!E802=home!$G$8,TRUE)","v":false},{"$f":"+IF(LEN(home!$G$9)>0,instruments!F802=home!$G$9,TRUE)","v":true},2,{"$f":"+COUNTIF($L$1:L802,\"=\"&4)","v":60},"Marion County, IN Soybean Basis"]
["ZCBAKSMA.CM","cmdty Marion County, KS Corn Basis Idx","Corn","Basis","Kansas","County","Marion County",{"$f":"+IF(LEN(home!$G$7)>0,instruments!C803=home!$G$7,TRUE)","v":true},true,{"$f":"+IF(LEN(home!$G$8)>0,instruments!E803=home!$G$8,TRUE)","v":false},{"$f":"+IF(LEN(home!$G$9)>0,instruments!F803=home!$G$9,TRUE)","v":true},3,{"$f":"+COUNTIF($L$1:L803,\"=\"&4)","v":60},"Marion County, KS Corn Basis"]
["ZSBAKSMA.CM","cmdty Marion County, KS Soybean Basis Idx","Soybean","Basis","Kansas","County","Marion County",{"$f":"+IF(LEN(home!$G$7)>0,instruments!C804=home!$G$7,TRUE)","v":false},true,{"$f":"+IF(LEN(home!$G$8)>0,instruments!E804=home!$G$8,TRUE)","v":false},{"$f":"+IF(LEN(home!$G$9)>0,instruments!F804=home!$G$9,TRUE)","v":true},2,{"$f":"+COUNTIF($L$1:L804,\"=\"&4)","v":60},"Marion County, KS Soybean Basis"]
["ZCBAMOMF.CM","cmdty Marion County, MO Corn Basis Idx","Corn","Basis","Missouri","County","Marion County",{"$f":"+IF(LEN(home!$G$7)>0,instruments!C805=home!$G$7,TRUE)","v":true},true,{"$f":"+IF(LEN(home!$G$8)>0,instruments!E805=home!$G$8,TRUE)","v":false},{"$f":"+IF(LEN(home!$G$9)>0,instruments!F805=home!$G$9,TRUE)","v":true},3,{"$f":"+COUNTIF($L$1:L805,\"=\"&4)","v":60},"Marion County, MO Corn Basis"]
["ZSBAMOMF.CM","cmdty Marion County, MO Soybean Basis Idx","Soybean","Basis","Missouri","County","Marion County",{"$f":"+IF(LEN(home!$G$7)>0,instruments!C806=home!$G$7,TRUE)","v":false},true,{"$f":"+IF(LEN(home!$G$8)>0,instruments!E806=home!$G$8,TRUE)","v":false},{"$f":"+IF(LEN(home!$G$9)>0,instruments!F806=home!$G$9,TRUE)","v":true},2,{"$f":"+COUNTIF($L$1:L806,\"=\"&4)","v":60},"Marion County, MO Soybean Basis"]
["ZSBAOHMC.CM","cmdty Marion County, OH Soybean Basis Idx","Soybean","Basis","Ohio","County","Marion County",{"$f":"+IF(LEN(home!$G$7)>0,instruments!C807=home!$G$7,TRUE)","v":false},true,{"$f":"+IF(LEN(home!$G$8)>0,instruments!E807=home!$G$8,TRUE)","v":false},{"$f":"+IF(LEN(home!$G$9)>0,instruments!F807=home!$G$9,TRUE)","v":true},2,{"$f":"+COUNTIF($L$1:L807,\"=\"&4)","v":60},"Marion County, OH Soybean Basis"]
["ZCBAIAMD.CM","cmdty Marshall County, IA Corn Basis Idx","Corn","Basis","Iowa","County","Marshall County",{"$f":"+IF(LEN(home!$G$7)>0,instruments!C808=home!$G$7,TRUE)","v":true},true,{"$f":"+IF(LEN(home!$G$8)>0,instruments!E808=home!$G$8,TRUE)","v":true},{"$f":"+IF(LEN(home!$G$9)>0,instruments!F808=home!$G$9,TRUE)","v":true},4,{"$f":"+COUNTIF($L$1:L808,\"=\"&4)","v":61},"Marshall County, IA Corn Basis"]
["ZSBAIAMD.CM","cmdty Marshall County, IA Soybean Basis Idx","Soybean","Basis","Iowa","County","Marshall County",{"$f":"+IF(LEN(home!$G$7)>0,instruments!C809=home!$G$7,TRUE)","v":false},true,{"$f":"+IF(LEN(home!$G$8)>0,instruments!E809=home!$G$8,TRUE)","v":true},{"$f":"+IF(LEN(home!$G$9)>0,instruments!F809=home!$G$9,TRUE)","v":true},3,{"$f":"+COUNTIF($L$1:L809,\"=\"&4)","v":61},"Marshall County, IA Soybean Basis"]
["ZCBAILMG.CM","cmdty Marshall County, IL Corn Basis Idx","Corn","Basis","Illinois","County","Marshall County",{"$f":"+IF(LEN(home!$G$7)>0,instruments!C810=home!$G$7,TRUE)","v":true},true,{"$f":"+IF(LEN(home!$G$8)>0,instruments!E810=home!$G$8,TRUE)","v":false},{"$f":"+IF(LEN(home!$G$9)>0,instruments!F810=home!$G$9,TRUE)","v":true},3,{"$f":"+COUNTIF($L$1:L810,\"=\"&4)","v":61},"Marshall County, IL Corn Basis"]
["ZSBAILMG.CM","cmdty Marshall County, IL Soybean Basis Idx","Soybean","Basis","Illinois","County","Marshall County",{"$f":"+IF(LEN(home!$G$7)>0,instruments!C811=home!$G$7,TRUE)","v":false},true,{"$f":"+IF(LEN(home!$G$8)>0,instruments!E811=home!$G$8,TRUE)","v":false},{"$f":"+IF(LEN(home!$G$9)>0,instruments!F811=home!$G$9,TRUE)","v":true},2,{"$f":"+COUNTIF($L$1:L811,\"=\"&4)","v":61},"Marshall County, IL Soybean Basis"]
["ZCBAINMC.CM","cmdty Marshall County, IN Corn Basis Idx","Corn","Basis","Indiana","County","Marshall County",{"$f":"+IF(LEN(home!$G$7)>0,instruments!C812=home!$G$7,TRUE)","v":true},true,{"$f":"+IF(LEN(home!$G$8)>0,instruments!E812=home!$G$8,TRUE)","v":false},{"$f":"+IF(LEN(home!$G$9)>0,instruments!F812=home!$G$9,TRUE)","v":true},3,{"$f":"+COUNTIF($L$1:L812,\"=\"&4)","v":61},"Marshall County, IN Corn Basis"]
["ZSBAINMC.CM","cmdty Marshall County, IN Soybean Basis Idx","Soybean","Basis","Indiana","County","Marshall County",{"$f":"+IF(LEN(home!$G$7)>0,instruments!C813=home!$G$7,TRUE)","v":false},true,{"$f":"+IF(LEN(home!$G$8)>0,instruments!E813=home!$G$8,TRUE)","v":false},{"$f":"+IF(LEN(home!$G$9)>0,instruments!F813=home!$G$9,TRUE)","v":true},2,{"$f":"+COUNTIF($L$1:L813,\"=\"&4)","v":61},"Marshall County, IN Soybean Basis"]
["ZCBAKSMB.CM","cmdty Marshall County, KS Corn Basis Idx","Corn","Basis","Kansas","County","Marshall County",{"$f":"+IF(LEN(home!$G$7)>0,instruments!C814=home!$G$7,TRUE)","v":true},true,{"$f":"+IF(LEN(home!$G$8)>0,instruments!E814=home!$G$8,TRUE)","v":false},{"$f":"+IF(LEN(home!$G$9)>0,instruments!F814=home!$G$9,TRUE)","v":true},3,{"$f":"+COUNTIF($L$1:L814,\"=\"&4)","v":61},"Marshall County, KS Corn Basis"]
["ZSBAKSMB.CM","cmdty Marshall County, KS Soybean Basis Idx","Soybean","Basis","Kansas","County","Marshall County",{"$f":"+IF(LEN(home!$G$7)>0,instruments!C815=home!$G$7,TRUE)","v":false},true,{"$f":"+IF(LEN(home!$G$8)>0,instruments!E815=home!$G$8,TRUE)","v":false},{"$f":"+IF(LEN(home!$G$9)>0,instruments!F815=home!$G$9,TRUE)","v":true},2,{"$f":"+COUNTIF($L$1:L815,\"=\"&4)","v":61},"Marshall County, KS Soybean Basis"]
["ZCBAMNMB.CM","cmdty Marshall County, MN Corn Basis Idx","Corn","Basis","Minnesota","County","Marshall County",{"$f":"+IF(LEN(home!$G$7)>0,instruments!C816=home!$G$7,TRUE)","v":true},true,{"$f":"+IF(LEN(home!$G$8)>0,instruments!E816=home!$G$8,TRUE)","v":false},{"$f":"+IF(LEN(home!$G$9)>0,instruments!F816=home!$G$9,TRUE)","v":true},3,{"$f":"+COUNTIF($L$1:L816,\"=\"&4)","v":61},"Marshall County, MN Corn Basis"]
["ZSBAMNMB.CM","cmdty Marshall County, MN Soybean Basis Idx","Soybean","Basis","Minnesota","County","Marshall County",{"$f":"+IF(LEN(home!$G$7)>0,instruments!C817=home!$G$7,TRUE)","v":false},true,{"$f":"+IF(LEN(home!$G$8)>0,instruments!E817=home!$G$8,TRUE)","v":false},{"$f":"+IF(LEN(home!$G$9)>0,instruments!F817=home!$G$9,TRUE)","v":true},2,{"$f":"+COUNTIF($L$1:L817,\"=\"&4)","v":61},"Marshall County, MN Soybean Basis"]
["ZCBASDMA.CM","cmdty Marshall County, SD Corn Basis Idx","Corn","Basis","South Dakota","County","Marshall County",{"$f":"+IF(LEN(home!$G$7)>0,instruments!C818=home!$G$7,TRUE)","v":true},true,{"$f":"+IF(LEN(home!$G$8)>0,instruments!E818=home!$G$8,TRUE)","v":false},{"$f":"+IF(LEN(home!$G$9)>0,instruments!F818=home!$G$9,TRUE)","v":true},3,{"$f":"+COUNTIF($L$1:L818,\"=\"&4)","v":61},"Marshall County, SD Corn Basis"]
["ZSBASDMA.CM","cmdty Marshall County, SD Soybean Basis Idx","Soybean","Basis","South Dakota","County","Marshall County",{"$f":"+IF(LEN(home!$G$7)>0,instruments!C819=home!$G$7,TRUE)","v":false},true,{"$f":"+IF(LEN(home!$G$8)>0,instruments!E819=home!$G$8,TRUE)","v":false},{"$f":"+IF(LEN(home!$G$9)>0,instruments!F819=home!$G$9,TRUE)","v":true},2,{"$f":"+COUNTIF($L$1:L819,\"=\"&4)","v":61},"Marshall County, SD Soybean Basis"]
["ZCBAMNMD.CM","cmdty Martin County, MN Corn Basis Idx","Corn","Basis","Minnesota","County","Martin County",{"$f":"+IF(LEN(home!$G$7)>0,instruments!C820=home!$G$7,TRUE)","v":true},true,{"$f":"+IF(LEN(home!$G$8)>0,instruments!E820=home!$G$8,TRUE)","v":false},{"$f":"+IF(LEN(home!$G$9)>0,instruments!F820=home!$G$9,TRUE)","v":true},3,{"$f":"+COUNTIF($L$1:L820,\"=\"&4)","v":61},"Martin County, MN Corn Basis"]
["ZSBAMNMD.CM","cmdty Martin County, MN Soybean Basis Idx","Soybean","Basis","Minnesota","County","Martin County",{"$f":"+IF(LEN(home!$G$7)>0,instruments!C821=home!$G$7,TRUE)","v":false},true,{"$f":"+IF(LEN(home!$G$8)>0,instruments!E821=home!$G$8,TRUE)","v":false},{"$f":"+IF(LEN(home!$G$9)>0,instruments!F821=home!$G$9,TRUE)","v":true},2,{"$f":"+COUNTIF($L$1:L821,\"=\"&4)","v":61},"Martin County, MN Soybean Basis"]
["ZCBAILMH.CM","cmdty Mason County, IL Corn Basis Idx","Corn","Basis","Illinois","County","Mason County",{"$f":"+IF(LEN(home!$G$7)>0,instruments!C822=home!$G$7,TRUE)","v":true},true,{"$f":"+IF(LEN(home!$G$8)>0,instruments!E822=home!$G$8,TRUE)","v":false},{"$f":"+IF(LEN(home!$G$9)>0,instruments!F822=home!$G$9,TRUE)","v":true},3,{"$f":"+COUNTIF($L$1:L822,\"=\"&4)","v":61},"Mason County, IL Corn Basis"]
["ZSBAILMH.CM","cmdty Mason County, IL Soybean Basis Idx","Soybean","Basis","Illinois","County","Mason County",{"$f":"+IF(LEN(home!$G$7)>0,instruments!C823=home!$G$7,TRUE)","v":false},true,{"$f":"+IF(LEN(home!$G$8)>0,instruments!E823=home!$G$8,TRUE)","v":false},{"$f":"+IF(LEN(home!$G$9)>0,instruments!F823=home!$G$9,TRUE)","v":true},2,{"$f":"+COUNTIF($L$1:L823,\"=\"&4)","v":61},"Mason County, IL Soybean Basis"]
["ZCBASDMC.CM","cmdty McCook County, SD Corn Basis Idx","Corn","Basis","South Dakota","County","McCook County",{"$f":"+IF(LEN(home!$G$7)>0,instruments!C824=home!$G$7,TRUE)","v":true},true,{"$f":"+IF(LEN(home!$G$8)>0,instruments!E824=home!$G$8,TRUE)","v":false},{"$f":"+IF(LEN(home!$G$9)>0,instruments!F824=home!$G$9,TRUE)","v":true},3,{"$f":"+COUNTIF($L$1:L824,\"=\"&4)","v":61},"McCook County, SD Corn Basis"]
["ZSBASDMC.CM","cmdty McCook County, SD Soybean Basis Idx","Soybean","Basis","South Dakota","County","McCook County",{"$f":"+IF(LEN(home!$G$7)>0,instruments!C825=home!$G$7,TRUE)","v":false},true,{"$f":"+IF(LEN(home!$G$8)>0,instruments!E825=home!$G$8,TRUE)","v":false},{"$f":"+IF(LEN(home!$G$9)>0,instruments!F825=home!$G$9,TRUE)","v":true},2,{"$f":"+COUNTIF($L$1:L825,\"=\"&4)","v":61},"McCook County, SD Soybean Basis"]
["ZCBAILMC.CM","cmdty McDonough County, IL Corn Basis Idx","Corn","Basis","Illinois","County","McDonough County",{"$f":"+IF(LEN(home!$G$7)>0,instruments!C826=home!$G$7,TRUE)","v":true},true,{"$f":"+IF(LEN(home!$G$8)>0,instruments!E826=home!$G$8,TRUE)","v":false},{"$f":"+IF(LEN(home!$G$9)>0,instruments!F826=home!$G$9,TRUE)","v":true},3,{"$f":"+COUNTIF($L$1:L826,\"=\"&4)","v":61},"McDonough County, IL Corn Basis"]
["ZSBAILMC.CM","cmdty McDonough County, IL Soybean Basis Idx","Soybean","Basis","Illinois","County","McDonough County",{"$f":"+IF(LEN(home!$G$7)>0,instruments!C827=home!$G$7,TRUE)","v":false},true,{"$f":"+IF(LEN(home!$G$8)>0,instruments!E827=home!$G$8,TRUE)","v":false},{"$f":"+IF(LEN(home!$G$9)>0,instruments!F827=home!$G$9,TRUE)","v":true},2,{"$f":"+COUNTIF($L$1:L827,\"=\"&4)","v":61},"McDonough County, IL Soybean Basis"]
["ZSBANDMC.CM","cmdty McHenry County, ND Soybean Basis Idx","Soybean","Basis","North Dakota","County","McHenry County",{"$f":"+IF(LEN(home!$G$7)>0,instruments!C828=home!$G$7,TRUE)","v":false},true,{"$f":"+IF(LEN(home!$G$8)>0,instruments!E828=home!$G$8,TRUE)","v":false},{"$f":"+IF(LEN(home!$G$9)>0,instruments!F828=home!$G$9,TRUE)","v":true},2,{"$f":"+COUNTIF($L$1:L828,\"=\"&4)","v":61},"McHenry County, ND Soybean Basis"]
["ZSBANDMA.CM","cmdty McIntosh County, ND Soybean Basis Idx","Soybean","Basis","North Dakota","County","McIntosh County",{"$f":"+IF(LEN(home!$G$7)>0,instruments!C829=home!$G$7,TRUE)","v":false},true,{"$f":"+IF(LEN(home!$G$8)>0,instruments!E829=home!$G$8,TRUE)","v":false},{"$f":"+IF(LEN(home!$G$9)>0,instruments!F829=home!$G$9,TRUE)","v":true},2,{"$f":"+COUNTIF($L$1:L829,\"=\"&4)","v":61},"McIntosh County, ND Soybean Basis"]
["ZCBAILML.CM","cmdty McLean County, IL Corn Basis Idx","Corn","Basis","Illinois","County","McLean County",{"$f":"+IF(LEN(home!$G$7)>0,instruments!C830=home!$G$7,TRUE)","v":true},true,{"$f":"+IF(LEN(home!$G$8)>0,instruments!E830=home!$G$8,TRUE)","v":false},{"$f":"+IF(LEN(home!$G$9)>0,instruments!F830=home!$G$9,TRUE)","v":true},3,{"$f":"+COUNTIF($L$1:L830,\"=\"&4)","v":61},"McLean County, IL Corn Basis"]
["ZSBAILML.CM","cmdty McLean County, IL Soybean Basis Idx","Soybean","Basis","Illinois","County","McLean County",{"$f":"+IF(LEN(home!$G$7)>0,instruments!C831=home!$G$7,TRUE)","v":false},true,{"$f":"+IF(LEN(home!$G$8)>0,instruments!E831=home!$G$8,TRUE)","v":false},{"$f":"+IF(LEN(home!$G$9)>0,instruments!F831=home!$G$9,TRUE)","v":true},2,{"$f":"+COUNTIF($L$1:L831,\"=\"&4)","v":61},"McLean County, IL Soybean Basis"]
["ZSBANDMD.CM","cmdty McLean County, ND Soybean Basis Idx","Soybean","Basis","North Dakota","County","McLean County",{"$f":"+IF(LEN(home!$G$7)>0,instruments!C832=home!$G$7,TRUE)","v":false},true,{"$f":"+IF(LEN(home!$G$8)>0,instruments!E832=home!$G$8,TRUE)","v":false},{"$f":"+IF(LEN(home!$G$9)>0,instruments!F832=home!$G$9,TRUE)","v":true},2,{"$f":"+COUNTIF($L$1:L832,\"=\"&4)","v":61},"McLean County, ND Soybean Basis"]
["ZCBAMNMC.CM","cmdty McLeod County, MN Corn Basis Idx","Corn","Basis","Minnesota","County","McLeod County",{"$f":"+IF(LEN(home!$G$7)>0,instruments!C833=home!$G$7,TRUE)","v":true},true,{"$f":"+IF(LEN(home!$G$8)>0,instruments!E833=home!$G$8,TRUE)","v":false},{"$f":"+IF(LEN(home!$G$9)>0,instruments!F833=home!$G$9,TRUE)","v":true},3,{"$f":"+COUNTIF($L$1:L833,\"=\"&4)","v":61},"McLeod County, MN Corn Basis"]
["ZSBAMNMC.CM","cmdty McLeod County, MN Soybean Basis Idx","Soybean","Basis","Minnesota","County","McLeod County",{"$f":"+IF(LEN(home!$G$7)>0,instruments!C834=home!$G$7,TRUE)","v":false},true,{"$f":"+IF(LEN(home!$G$8)>0,instruments!E834=home!$G$8,TRUE)","v":false},{"$f":"+IF(LEN(home!$G$9)>0,instruments!F834=home!$G$9,TRUE)","v":true},{"$f":"+COUNTIF(H834:K834,TRUE)","v":2},{"$f":"+COUNTIF($L$1:L834,\"=\"&4)","v":61},"McLeod County, MN Soybean Basis"]
["ZCBAKSMC.CM","cmdty McPherson County, KS Corn Basis Idx","Corn","Basis","Kansas","County","McPherson County",{"$f":"+IF(LEN(home!$G$7)>0,instruments!C835=home!$G$7,TRUE)","v":true},{"$f":"+D835=\"Basis\"","v":true},{"$f":"+IF(LEN(home!$G$8)>0,instruments!E835=home!$G$8,TRUE)","v":false},{"$f":"+IF(LEN(home!$G$9)>0,instruments!F835=home!$G$9,TRUE)","v":true},3,{"$f":"+COUNTIF($L$1:L835,\"=\"&4)","v":61},{"$f":"+MID(B835,FIND(\" \",B835,1)+1,LEN(B835)-FIND(\" \",B835,1)-4)","v":"McPherson County, KS Corn Basis"}]
["ZSBAKSMC.CM","cmdty McPherson County, KS Soybean Basis Idx","Soybean","Basis","Kansas","County","McPherson County",{"$f":"+IF(LEN(home!$G$7)>0,instruments!C836=home!$G$7,TRUE)","v":false},true,{"$f":"+IF(LEN(home!$G$8)>0,instruments!E836=home!$G$8,TRUE)","v":false},{"$f":"+IF(LEN(home!$G$9)>0,instruments!F836=home!$G$9,TRUE)","v":true},2,{"$f":"+COUNTIF($L$1:L836,\"=\"&4)","v":61},"McPherson County, KS Soybean Basis"]
["ZCBASDMB.CM","cmdty McPherson County, SD Corn Basis Idx","Corn","Basis","South Dakota","County","McPherson County",{"$f":"+IF(LEN(home!$G$7)>0,instruments!C837=home!$G$7,TRUE)","v":true},true,{"$f":"+IF(LEN(home!$G$8)>0,instruments!E837=home!$G$8,TRUE)","v":false},{"$f":"+IF(LEN(home!$G$9)>0,instruments!F837=home!$G$9,TRUE)","v":true},3,{"$f":"+COUNTIF($L$1:L837,\"=\"&4)","v":61},"McPherson County, SD Corn Basis"]
["ZSBASDMB.CM","cmdty McPherson County, SD Soybean Basis Idx","Soybean","Basis","South Dakota","County","McPherson County",{"$f":"+IF(LEN(home!$G$7)>0,instruments!C838=home!$G$7,TRUE)","v":false},true,{"$f":"+IF(LEN(home!$G$8)>0,instruments!E838=home!$G$8,TRUE)","v":false},{"$f":"+IF(LEN(home!$G$9)>0,instruments!F838=home!$G$9,TRUE)","v":true},2,{"$f":"+COUNTIF($L$1:L838,\"=\"&4)","v":61},"McPherson County, SD Soybean Basis"]
["ZCBAKSME.CM","cmdty Meade County, KS Corn Basis Idx","Corn","Basis","Kansas","County","Meade County",{"$f":"+IF(LEN(home!$G$7)>0,instruments!C839=home!$G$7,TRUE)","v":true},true,{"$f":"+IF(LEN(home!$G$8)>0,instruments!E839=home!$G$8,TRUE)","v":false},{"$f":"+IF(LEN(home!$G$9)>0,instruments!F839=home!$G$9,TRUE)","v":true},3,{"$f":"+COUNTIF($L$1:L839,\"=\"&4)","v":61},"Meade County, KS Corn Basis"]
["ZSBAKSME.CM","cmdty Meade County, KS Soybean Basis Idx","Soybean","Basis","Kansas","County","Meade County",{"$f":"+IF(LEN(home!$G$7)>0,instruments!C840=home!$G$7,TRUE)","v":false},true,{"$f":"+IF(LEN(home!$G$8)>0,instruments!E840=home!$G$8,TRUE)","v":false},{"$f":"+IF(LEN(home!$G$9)>0,instruments!F840=home!$G$9,TRUE)","v":true},2,{"$f":"+COUNTIF($L$1:L840,\"=\"&4)","v":61},"Meade County, KS Soybean Basis"]
["ZSBAOHME.CM","cmdty Medina County, OH Soybean Basis Idx","Soybean","Basis","Ohio","County","Medina County",{"$f":"+IF(LEN(home!$G$7)>0,instruments!C841=home!$G$7,TRUE)","v":false},true,{"$f":"+IF(LEN(home!$G$8)>0,instruments!E841=home!$G$8,TRUE)","v":false},{"$f":"+IF(LEN(home!$G$9)>0,instruments!F841=home!$G$9,TRUE)","v":true},2,{"$f":"+COUNTIF($L$1:L841,\"=\"&4)","v":61},"Medina County, OH Soybean Basis"]
["ZCBAMNME.CM","cmdty Meeker County, MN Corn Basis Idx","Corn","Basis","Minnesota","County","Meeker County",{"$f":"+IF(LEN(home!$G$7)>0,instruments!C842=home!$G$7,TRUE)","v":true},true,{"$f":"+IF(LEN(home!$G$8)>0,instruments!E842=home!$G$8,TRUE)","v":false},{"$f":"+IF(LEN(home!$G$9)>0,instruments!F842=home!$G$9,TRUE)","v":true},3,{"$f":"+COUNTIF($L$1:L842,\"=\"&4)","v":61},"Meeker County, MN Corn Basis"]
["ZSBAMNME.CM","cmdty Meeker County, MN Soybean Basis Idx","Soybean","Basis","Minnesota","County","Meeker County",{"$f":"+IF(LEN(home!$G$7)>0,instruments!C843=home!$G$7,TRUE)","v":false},true,{"$f":"+IF(LEN(home!$G$8)>0,instruments!E843=home!$G$8,TRUE)","v":false},{"$f":"+IF(LEN(home!$G$9)>0,instruments!F843=home!$G$9,TRUE)","v":true},2,{"$f":"+COUNTIF($L$1:L843,\"=\"&4)","v":61},"Meeker County, MN Soybean Basis"]
["ZCBAILME.CM","cmdty Menard County, IL Corn Basis Idx","Corn","Basis","Illinois","County","Menard County",{"$f":"+IF(LEN(home!$G$7)>0,instruments!C844=home!$G$7,TRUE)","v":true},true,{"$f":"+IF(LEN(home!$G$8)>0,instruments!E844=home!$G$8,TRUE)","v":false},{"$f":"+IF(LEN(home!$G$9)>0,instruments!F844=home!$G$9,TRUE)","v":true},3,{"$f":"+COUNTIF($L$1:L844,\"=\"&4)","v":61},"Menard County, IL Corn Basis"]
["ZSBAILME.CM","cmdty Menard County, IL Soybean Basis Idx","Soybean","Basis","Illinois","County","Menard County",{"$f":"+IF(LEN(home!$G$7)>0,instruments!C845=home!$G$7,TRUE)","v":false},true,{"$f":"+IF(LEN(home!$G$8)>0,instruments!E845=home!$G$8,TRUE)","v":false},{"$f":"+IF(LEN(home!$G$9)>0,instruments!F845=home!$G$9,TRUE)","v":true},2,{"$f":"+COUNTIF($L$1:L845,\"=\"&4)","v":61},"Menard County, IL Soybean Basis"]
["ZCBAILMM.CM","cmdty Mercer County, IL Corn Basis Idx","Corn","Basis","Illinois","County","Mercer County",{"$f":"+IF(LEN(home!$G$7)>0,instruments!C846=home!$G$7,TRUE)","v":true},true,{"$f":"+IF(LEN(home!$G$8)>0,instruments!E846=home!$G$8,TRUE)","v":false},{"$f":"+IF(LEN(home!$G$9)>0,instruments!F846=home!$G$9,TRUE)","v":true},3,{"$f":"+COUNTIF($L$1:L846,\"=\"&4)","v":61},"Mercer County, IL Corn Basis"]
["ZSBAILMM.CM","cmdty Mercer County, IL Soybean Basis Idx","Soybean","Basis","Illinois","County","Mercer County",{"$f":"+IF(LEN(home!$G$7)>0,instruments!C847=home!$G$7,TRUE)","v":false},true,{"$f":"+IF(LEN(home!$G$8)>0,instruments!E847=home!$G$8,TRUE)","v":false},{"$f":"+IF(LEN(home!$G$9)>0,instruments!F847=home!$G$9,TRUE)","v":true},2,{"$f":"+COUNTIF($L$1:L847,\"=\"&4)","v":61},"Mercer County, IL Soybean Basis"]
["ZSBAOHMF.CM","cmdty Mercer County, OH Soybean Basis Idx","Soybean","Basis","Ohio","County","Mercer County",{"$f":"+IF(LEN(home!$G$7)>0,instruments!C848=home!$G$7,TRUE)","v":false},true,{"$f":"+IF(LEN(home!$G$8)>0,instruments!E848=home!$G$8,TRUE)","v":false},{"$f":"+IF(LEN(home!$G$9)>0,instruments!F848=home!$G$9,TRUE)","v":true},2,{"$f":"+COUNTIF($L$1:L848,\"=\"&4)","v":61},"Mercer County, OH Soybean Basis"]
["ZCBANEME.CM","cmdty Merrick County, NE Corn Basis Idx","Corn","Basis","Nebraska","County","Merrick County",{"$f":"+IF(LEN(home!$G$7)>0,instruments!C849=home!$G$7,TRUE)","v":true},true,{"$f":"+IF(LEN(home!$G$8)>0,instruments!E849=home!$G$8,TRUE)","v":false},{"$f":"+IF(LEN(home!$G$9)>0,instruments!F849=home!$G$9,TRUE)","v":true},3,{"$f":"+COUNTIF($L$1:L849,\"=\"&4)","v":61},"Merrick County, NE Corn Basis"]
["ZSBANEME.CM","cmdty Merrick County, NE Soybean Basis Idx","Soybean","Basis","Nebraska","County","Merrick County",{"$f":"+IF(LEN(home!$G$7)>0,instruments!C850=home!$G$7,TRUE)","v":false},true,{"$f":"+IF(LEN(home!$G$8)>0,instruments!E850=home!$G$8,TRUE)","v":false},{"$f":"+IF(LEN(home!$G$9)>0,instruments!F850=home!$G$9,TRUE)","v":true},2,{"$f":"+COUNTIF($L$1:L850,\"=\"&4)","v":61},"Merrick County, NE Soybean Basis"]
["ZCBAINMI.CM","cmdty Miami County, IN Corn Basis Idx","Corn","Basis","Indiana","County","Miami County",{"$f":"+IF(LEN(home!$G$7)>0,instruments!C851=home!$G$7,TRUE)","v":true},true,{"$f":"+IF(LEN(home!$G$8)>0,instruments!E851=home!$G$8,TRUE)","v":false},{"$f":"+IF(LEN(home!$G$9)>0,instruments!F851=home!$G$9,TRUE)","v":true},3,{"$f":"+COUNTIF($L$1:L851,\"=\"&4)","v":61},"Miami County, IN Corn Basis"]
["ZSBAINMI.CM","cmdty Miami County, IN Soybean Basis Idx","Soybean","Basis","Indiana","County","Miami County",{"$f":"+IF(LEN(home!$G$7)>0,instruments!C852=home!$G$7,TRUE)","v":false},true,{"$f":"+IF(LEN(home!$G$8)>0,instruments!E852=home!$G$8,TRUE)","v":false},{"$f":"+IF(LEN(home!$G$9)>0,instruments!F852=home!$G$9,TRUE)","v":true},2,{"$f":"+COUNTIF($L$1:L852,\"=\"&4)","v":61},"Miami County, IN Soybean Basis"]
["ZCBAKSMI.CM","cmdty Miami County, KS Corn Basis Idx","Corn","Basis","Kansas","County","Miami County",{"$f":"+IF(LEN(home!$G$7)>0,instruments!C853=home!$G$7,TRUE)","v":true},true,{"$f":"+IF(LEN(home!$G$8)>0,instruments!E853=home!$G$8,TRUE)","v":false},{"$f":"+IF(LEN(home!$G$9)>0,instruments!F853=home!$G$9,TRUE)","v":true},3,{"$f":"+COUNTIF($L$1:L853,\"=\"&4)","v":61},"Miami County, KS Corn Basis"]
["ZSBAKSMI.CM","cmdty Miami County, KS Soybean Basis Idx","Soybean","Basis","Kansas","County","Miami County",{"$f":"+IF(LEN(home!$G$7)>0,instruments!C854=home!$G$7,TRUE)","v":false},true,{"$f":"+IF(LEN(home!$G$8)>0,instruments!E854=home!$G$8,TRUE)","v":false},{"$f":"+IF(LEN(home!$G$9)>0,instruments!F854=home!$G$9,TRUE)","v":true},2,{"$f":"+COUNTIF($L$1:L854,\"=\"&4)","v":61},"Miami County, KS Soybean Basis"]
["ZSBAOHMI.CM","cmdty Miami County, OH Soybean Basis Idx","Soybean","Basis","Ohio","County","Miami County",{"$f":"+IF(LEN(home!$G$7)>0,instruments!C855=home!$G$7,TRUE)","v":false},true,{"$f":"+IF(LEN(home!$G$8)>0,instruments!E855=home!$G$8,TRUE)","v":false},{"$f":"+IF(LEN(home!$G$9)>0,instruments!F855=home!$G$9,TRUE)","v":true},2,{"$f":"+COUNTIF($L$1:L855,\"=\"&4)","v":61},"Miami County, OH Soybean Basis"]
["ZCBAIAMI.CM","cmdty Mills County, IA Corn Basis Idx","Corn","Basis","Iowa","County","Mills County",{"$f":"+IF(LEN(home!$G$7)>0,instruments!C856=home!$G$7,TRUE)","v":true},true,{"$f":"+IF(LEN(home!$G$8)>0,instruments!E856=home!$G$8,TRUE)","v":true},{"$f":"+IF(LEN(home!$G$9)>0,instruments!F856=home!$G$9,TRUE)","v":true},4,{"$f":"+COUNTIF($L$1:L856,\"=\"&4)","v":62},"Mills County, IA Corn Basis"]
["ZSBAIAMI.CM","cmdty Mills County, IA Soybean Basis Idx","Soybean","Basis","Iowa","County","Mills County",{"$f":"+IF(LEN(home!$G$7)>0,instruments!C857=home!$G$7,TRUE)","v":false},true,{"$f":"+IF(LEN(home!$G$8)>0,instruments!E857=home!$G$8,TRUE)","v":true},{"$f":"+IF(LEN(home!$G$9)>0,instruments!F857=home!$G$9,TRUE)","v":true},3,{"$f":"+COUNTIF($L$1:L857,\"=\"&4)","v":62},"Mills County, IA Soybean Basis"]
["ZCBASDMI.CM","cmdty Miner County, SD Corn Basis Idx","Corn","Basis","South Dakota","County","Miner County",{"$f":"+IF(LEN(home!$G$7)>0,instruments!C858=home!$G$7,TRUE)","v":true},true,{"$f":"+IF(LEN(home!$G$8)>0,instruments!E858=home!$G$8,TRUE)","v":false},{"$f":"+IF(LEN(home!$G$9)>0,instruments!F858=home!$G$9,TRUE)","v":true},3,{"$f":"+COUNTIF($L$1:L858,\"=\"&4)","v":62},"Miner County, SD Corn Basis"]
["ZSBASDMI.CM","cmdty Miner County, SD Soybean Basis Idx","Soybean","Basis","South Dakota","County","Miner County",{"$f":"+IF(LEN(home!$G$7)>0,instruments!C859=home!$G$7,TRUE)","v":false},true,{"$f":"+IF(LEN(home!$G$8)>0,instruments!E859=home!$G$8,TRUE)","v":false},{"$f":"+IF(LEN(home!$G$9)>0,instruments!F859=home!$G$9,TRUE)","v":true},2,{"$f":"+COUNTIF($L$1:L859,\"=\"&4)","v":62},"Miner County, SD Soybean Basis"]
["ZCBASDMF.CM","cmdty Minnehaha County, SD Corn Basis Idx","Corn","Basis","South Dakota","County","Minnehaha County",{"$f":"+IF(LEN(home!$G$7)>0,instruments!C860=home!$G$7,TRUE)","v":true},true,{"$f":"+IF(LEN(home!$G$8)>0,instruments!E860=home!$G$8,TRUE)","v":false},{"$f":"+IF(LEN(home!$G$9)>0,instruments!F860=home!$G$9,TRUE)","v":true},3,{"$f":"+COUNTIF($L$1:L860,\"=\"&4)","v":62},"Minnehaha County, SD Corn Basis"]
["ZSBASDMF.CM","cmdty Minnehaha County, SD Soybean Basis Idx","Soybean","Basis","South Dakota","County","Minnehaha County",{"$f":"+IF(LEN(home!$G$7)>0,instruments!C861=home!$G$7,TRUE)","v":false},true,{"$f":"+IF(LEN(home!$G$8)>0,instruments!E861=home!$G$8,TRUE)","v":false},{"$f":"+IF(LEN(home!$G$9)>0,instruments!F861=home!$G$9,TRUE)","v":true},2,{"$f":"+COUNTIF($L$1:L861,\"=\"&4)","v":62},"Minnehaha County, SD Soybean Basis"]
["ZCBAMN.CM","cmdty Minnesota Corn Basis Idx","Corn","Basis","Minnesota","State","Minnesota",{"$f":"+IF(LEN(home!$G$7)>0,instruments!C862=home!$G$7,TRUE)","v":true},true,{"$f":"+IF(LEN(home!$G$8)>0,instruments!E862=home!$G$8,TRUE)","v":false},{"$f":"+IF(LEN(home!$G$9)>0,instruments!F862=home!$G$9,TRUE)","v":false},2,{"$f":"+COUNTIF($L$1:L862,\"=\"&4)","v":62},"Minnesota Corn Basis"]
["ZSBAMN.CM","cmdty Minnesota Soybean Basis Idx","Soybean","Basis","Minnesota","State","Minnesota",{"$f":"+IF(LEN(home!$G$7)>0,instruments!C863=home!$G$7,TRUE)","v":false},true,{"$f":"+IF(LEN(home!$G$8)>0,instruments!E863=home!$G$8,TRUE)","v":false},{"$f":"+IF(LEN(home!$G$9)>0,instruments!F863=home!$G$9,TRUE)","v":false},1,{"$f":"+COUNTIF($L$1:L863,\"=\"&4)","v":62},"Minnesota Soybean Basis"]
["ZCBAMOMG.CM","cmdty Mississippi County, MO Corn Basis Idx","Corn","Basis","Missouri","County","Mississippi County",{"$f":"+IF(LEN(home!$G$7)>0,instruments!C864=home!$G$7,TRUE)","v":true},true,{"$f":"+IF(LEN(home!$G$8)>0,instruments!E864=home!$G$8,TRUE)","v":false},{"$f":"+IF(LEN(home!$G$9)>0,instruments!F864=home!$G$9,TRUE)","v":true},3,{"$f":"+COUNTIF($L$1:L864,\"=\"&4)","v":62},"Mississippi County, MO Corn Basis"]
["ZSBAMOMG.CM","cmdty Mississippi County, MO Soybean Basis Idx","Soybean","Basis","Missouri","County","Mississippi County",{"$f":"+IF(LEN(home!$G$7)>0,instruments!C865=home!$G$7,TRUE)","v":false},true,{"$f":"+IF(LEN(home!$G$8)>0,instruments!E865=home!$G$8,TRUE)","v":false},{"$f":"+IF(LEN(home!$G$9)>0,instruments!F865=home!$G$9,TRUE)","v":true},2,{"$f":"+COUNTIF($L$1:L865,\"=\"&4)","v":62},"Mississippi County, MO Soybean Basis"]
["ZCBAMO.CM","cmdty Missouri Corn Basis Idx","Corn","Basis","Missouri","State","Missouri",{"$f":"+IF(LEN(home!$G$7)>0,instruments!C866=home!$G$7,TRUE)","v":true},true,{"$f":"+IF(LEN(home!$G$8)>0,instruments!E866=home!$G$8,TRUE)","v":false},{"$f":"+IF(LEN(home!$G$9)>0,instruments!F866=home!$G$9,TRUE)","v":false},2,{"$f":"+COUNTIF($L$1:L866,\"=\"&4)","v":62},"Missouri Corn Basis"]
["ZSBAMO.CM","cmdty Missouri Soybean Basis Idx","Soybean","Basis","Missouri","State","Missouri",{"$f":"+IF(LEN(home!$G$7)>0,instruments!C867=home!$G$7,TRUE)","v":false},true,{"$f":"+IF(LEN(home!$G$8)>0,instruments!E867=home!$G$8,TRUE)","v":false},{"$f":"+IF(LEN(home!$G$9)>0,instruments!F867=home!$G$9,TRUE)","v":false},1,{"$f":"+COUNTIF($L$1:L867,\"=\"&4)","v":62},"Missouri Soybean Basis"]
["ZCBAIAME.CM","cmdty Mitchell County, IA Corn Basis Idx","Corn","Basis","Iowa","County","Mitchell County",{"$f":"+IF(LEN(home!$G$7)>0,instruments!C868=home!$G$7,TRUE)","v":true},true,{"$f":"+IF(LEN(home!$G$8)>0,instruments!E868=home!$G$8,TRUE)","v":true},{"$f":"+IF(LEN(home!$G$9)>0,instruments!F868=home!$G$9,TRUE)","v":true},4,{"$f":"+COUNTIF($L$1:L868,\"=\"&4)","v":63},"Mitchell County, IA Corn Basis"]
["ZSBAIAME.CM","cmdty Mitchell County, IA Soybean Basis Idx","Soybean","Basis","Iowa","County","Mitchell County",{"$f":"+IF(LEN(home!$G$7)>0,instruments!C869=home!$G$7,TRUE)","v":false},true,{"$f":"+IF(LEN(home!$G$8)>0,instruments!E869=home!$G$8,TRUE)","v":true},{"$f":"+IF(LEN(home!$G$9)>0,instruments!F869=home!$G$9,TRUE)","v":true},3,{"$f":"+COUNTIF($L$1:L869,\"=\"&4)","v":63},"Mitchell County, IA Soybean Basis"]
["ZCBAKSMD.CM","cmdty Mitchell County, KS Corn Basis Idx","Corn","Basis","Kansas","County","Mitchell County",{"$f":"+IF(LEN(home!$G$7)>0,instruments!C870=home!$G$7,TRUE)","v":true},true,{"$f":"+IF(LEN(home!$G$8)>0,instruments!E870=home!$G$8,TRUE)","v":false},{"$f":"+IF(LEN(home!$G$9)>0,instruments!F870=home!$G$9,TRUE)","v":true},3,{"$f":"+COUNTIF($L$1:L870,\"=\"&4)","v":63},"Mitchell County, KS Corn Basis"]
["ZSBAKSMD.CM","cmdty Mitchell County, KS Soybean Basis Idx","Soybean","Basis","Kansas","County","Mitchell County",{"$f":"+IF(LEN(home!$G$7)>0,instruments!C871=home!$G$7,TRUE)","v":false},true,{"$f":"+IF(LEN(home!$G$8)>0,instruments!E871=home!$G$8,TRUE)","v":false},{"$f":"+IF(LEN(home!$G$9)>0,instruments!F871=home!$G$9,TRUE)","v":true},2,{"$f":"+COUNTIF($L$1:L871,\"=\"&4)","v":63},"Mitchell County, KS Soybean Basis"]
["ZCBAMN10.CM","cmdty MN CRD 10 Corn Basis Idx","Corn","Basis","Minnesota","District","MN CRD 10",{"$f":"+IF(LEN(home!$G$7)>0,instruments!C872=home!$G$7,TRUE)","v":true},true,{"$f":"+IF(LEN(home!$G$8)>0,instruments!E872=home!$G$8,TRUE)","v":false},{"$f":"+IF(LEN(home!$G$9)>0,instruments!F872=home!$G$9,TRUE)","v":false},2,{"$f":"+COUNTIF($L$1:L872,\"=\"&4)","v":63},"MN CRD 10 Corn Basis"]
["ZSBAMN10.CM","cmdty MN CRD 10 Soybean Basis Idx","Soybean","Basis","Minnesota","District","MN CRD 10",{"$f":"+IF(LEN(home!$G$7)>0,instruments!C873=home!$G$7,TRUE)","v":false},true,{"$f":"+IF(LEN(home!$G$8)>0,instruments!E873=home!$G$8,TRUE)","v":false},{"$f":"+IF(LEN(home!$G$9)>0,instruments!F873=home!$G$9,TRUE)","v":false},1,{"$f":"+COUNTIF($L$1:L873,\"=\"&4)","v":63},"MN CRD 10 Soybean Basis"]
["ZSBAMN20.CM","cmdty MN CRD 20 Soybean Basis Idx","Soybean","Basis","Minnesota","District","MN CRD 20",{"$f":"+IF(LEN(home!$G$7)>0,instruments!C874=home!$G$7,TRUE)","v":false},true,{"$f":"+IF(LEN(home!$G$8)>0,instruments!E874=home!$G$8,TRUE)","v":false},{"$f":"+IF(LEN(home!$G$9)>0,instruments!F874=home!$G$9,TRUE)","v":false},1,{"$f":"+COUNTIF($L$1:L874,\"=\"&4)","v":63},"MN CRD 20 Soybean Basis"]
["ZSBAMN30.CM","cmdty MN CRD 30 Soybean Basis Idx","Soybean","Basis","Minnesota","District","MN CRD 30",{"$f":"+IF(LEN(home!$G$7)>0,instruments!C875=home!$G$7,TRUE)","v":false},true,{"$f":"+IF(LEN(home!$G$8)>0,instruments!E875=home!$G$8,TRUE)","v":false},{"$f":"+IF(LEN(home!$G$9)>0,instruments!F875=home!$G$9,TRUE)","v":false},1,{"$f":"+COUNTIF($L$1:L875,\"=\"&4)","v":63},"MN CRD 30 Soybean Basis"]
["ZCBAMN40.CM","cmdty MN CRD 40 Corn Basis Idx","Corn","Basis","Minnesota","District","MN CRD 40",{"$f":"+IF(LEN(home!$G$7)>0,instruments!C876=home!$G$7,TRUE)","v":true},true,{"$f":"+IF(LEN(home!$G$8)>0,instruments!E876=home!$G$8,TRUE)","v":false},{"$f":"+IF(LEN(home!$G$9)>0,instruments!F876=home!$G$9,TRUE)","v":false},2,{"$f":"+COUNTIF($L$1:L876,\"=\"&4)","v":63},"MN CRD 40 Corn Basis"]
["ZSBAMN40.CM","cmdty MN CRD 40 Soybean Basis Idx","Soybean","Basis","Minnesota","District","MN CRD 40",{"$f":"+IF(LEN(home!$G$7)>0,instruments!C877=home!$G$7,TRUE)","v":false},true,{"$f":"+IF(LEN(home!$G$8)>0,instruments!E877=home!$G$8,TRUE)","v":false},{"$f":"+IF(LEN(home!$G$9)>0,instruments!F877=home!$G$9,TRUE)","v":false},1,{"$f":"+COUNTIF($L$1:L877,\"=\"&4)","v":63},"MN CRD 40 Soybean Basis"]
["ZCBAMN50.CM","cmdty MN CRD 50 Corn Basis Idx","Corn","Basis","Minnesota","District","MN CRD 50",{"$f":"+IF(LEN(home!$G$7)>0,instruments!C878=home!$G$7,TRUE)","v":true},true,{"$f":"+IF(LEN(home!$G$8)>0,instruments!E878=home!$G$8,TRUE)","v":false},{"$f":"+IF(LEN(home!$G$9)>0,instruments!F878=home!$G$9,TRUE)","v":false},2,{"$f":"+COUNTIF($L$1:L878,\"=\"&4)","v":63},"MN CRD 50 Corn Basis"]
["ZSBAMN50.CM","cmdty MN CRD 50 Soybean Basis Idx","Soybean","Basis","Minnesota","District","MN CRD 50",{"$f":"+IF(LEN(home!$G$7)>0,instruments!C879=home!$G$7,TRUE)","v":false},true,{"$f":"+IF(LEN(home!$G$8)>0,instruments!E879=home!$G$8,TRUE)","v":false},{"$f":"+IF(LEN(home!$G$9)>0,instruments!F879=home!$G$9,TRUE)","v":false},1,{"$f":"+COUNTIF($L$1:L879,\"=\"&4)","v":63},"MN CRD 50 Soybean Basis"]
["ZCBAMN60.CM","cmdty MN CRD 60 Corn Basis Idx","Corn","Basis","Minnesota","District","MN CRD 60",{"$f":"+IF(LEN(home!$G$7)>0,instruments!C880=home!$G$7,TRUE)","v":true},true,{"$f":"+IF(LEN(home!$G$8)>0,instruments!E880=home!$G$8,TRUE)","v":false},{"$f":"+IF(LEN(home!$G$9)>0,instruments!F880=home!$G$9,TRUE)","v":false},2,{"$f":"+COUNTIF($L$1:L880,\"=\"&4)","v":63},"MN CRD 60 Corn Basis"]
["ZSBAMN60.CM","cmdty MN CRD 60 Soybean Basis Idx","Soybean","Basis","Minnesota","District","MN CRD 60",{"$f":"+IF(LEN(home!$G$7)>0,instruments!C881=home!$G$7,TRUE)","v":false},true,{"$f":"+IF(LEN(home!$G$8)>0,instruments!E881=home!$G$8,TRUE)","v":false},{"$f":"+IF(LEN(home!$G$9)>0,instruments!F881=home!$G$9,TRUE)","v":false},1,{"$f":"+COUNTIF($L$1:L881,\"=\"&4)","v":63},"MN CRD 60 Soybean Basis"]
["ZCBAMN70.CM","cmdty MN CRD 70 Corn Basis Idx","Corn","Basis","Minnesota","District","MN CRD 70",{"$f":"+IF(LEN(home!$G$7)>0,instruments!C882=home!$G$7,TRUE)","v":true},true,{"$f":"+IF(LEN(home!$G$8)>0,instruments!E882=home!$G$8,TRUE)","v":false},{"$f":"+IF(LEN(home!$G$9)>0,instruments!F882=home!$G$9,TRUE)","v":false},2,{"$f":"+COUNTIF($L$1:L882,\"=\"&4)","v":63},"MN CRD 70 Corn Basis"]
["ZSBAMN70.CM","cmdty MN CRD 70 Soybean Basis Idx","Soybean","Basis","Minnesota","District","MN CRD 70",{"$f":"+IF(LEN(home!$G$7)>0,instruments!C883=home!$G$7,TRUE)","v":false},true,{"$f":"+IF(LEN(home!$G$8)>0,instruments!E883=home!$G$8,TRUE)","v":false},{"$f":"+IF(LEN(home!$G$9)>0,instruments!F883=home!$G$9,TRUE)","v":false},1,{"$f":"+COUNTIF($L$1:L883,\"=\"&4)","v":63},"MN CRD 70 Soybean Basis"]
["ZCBAMN80.CM","cmdty MN CRD 80 Corn Basis Idx","Corn","Basis","Minnesota","District","MN CRD 80",{"$f":"+IF(LEN(home!$G$7)>0,instruments!C884=home!$G$7,TRUE)","v":true},true,{"$f":"+IF(LEN(home!$G$8)>0,instruments!E884=home!$G$8,TRUE)","v":false},{"$f":"+IF(LEN(home!$G$9)>0,instruments!F884=home!$G$9,TRUE)","v":false},2,{"$f":"+COUNTIF($L$1:L884,\"=\"&4)","v":63},"MN CRD 80 Corn Basis"]
["ZSBAMN80.CM","cmdty MN CRD 80 Soybean Basis Idx","Soybean","Basis","Minnesota","District","MN CRD 80",{"$f":"+IF(LEN(home!$G$7)>0,instruments!C885=home!$G$7,TRUE)","v":false},true,{"$f":"+IF(LEN(home!$G$8)>0,instruments!E885=home!$G$8,TRUE)","v":false},{"$f":"+IF(LEN(home!$G$9)>0,instruments!F885=home!$G$9,TRUE)","v":false},1,{"$f":"+COUNTIF($L$1:L885,\"=\"&4)","v":63},"MN CRD 80 Soybean Basis"]
["ZCBAMN90.CM","cmdty MN CRD 90 Corn Basis Idx","Corn","Basis","Minnesota","District","MN CRD 90",{"$f":"+IF(LEN(home!$G$7)>0,instruments!C886=home!$G$7,TRUE)","v":true},true,{"$f":"+IF(LEN(home!$G$8)>0,instruments!E886=home!$G$8,TRUE)","v":false},{"$f":"+IF(LEN(home!$G$9)>0,instruments!F886=home!$G$9,TRUE)","v":false},2,{"$f":"+COUNTIF($L$1:L886,\"=\"&4)","v":63},"MN CRD 90 Corn Basis"]
["ZSBAMN90.CM","cmdty MN CRD 90 Soybean Basis Idx","Soybean","Basis","Minnesota","District","MN CRD 90",{"$f":"+IF(LEN(home!$G$7)>0,instruments!C887=home!$G$7,TRUE)","v":false},true,{"$f":"+IF(LEN(home!$G$8)>0,instruments!E887=home!$G$8,TRUE)","v":false},{"$f":"+IF(LEN(home!$G$9)>0,instruments!F887=home!$G$9,TRUE)","v":false},1,{"$f":"+COUNTIF($L$1:L887,\"=\"&4)","v":63},"MN CRD 90 Soybean Basis"]
["ZCBAMO10.CM","cmdty MO CRD 10 Corn Basis Idx","Corn","Basis","Missouri","District","MO CRD 10",{"$f":"+IF(LEN(home!$G$7)>0,instruments!C888=home!$G$7,TRUE)","v":true},true,{"$f":"+IF(LEN(home!$G$8)>0,instruments!E888=home!$G$8,TRUE)","v":false},{"$f":"+IF(LEN(home!$G$9)>0,instruments!F888=home!$G$9,TRUE)","v":false},2,{"$f":"+COUNTIF($L$1:L888,\"=\"&4)","v":63},"MO CRD 10 Corn Basis"]
["ZSBAMO10.CM","cmdty MO CRD 10 Soybean Basis Idx","Soybean","Basis","Missouri","District","MO CRD 10",{"$f":"+IF(LEN(home!$G$7)>0,instruments!C889=home!$G$7,TRUE)","v":false},true,{"$f":"+IF(LEN(home!$G$8)>0,instruments!E889=home!$G$8,TRUE)","v":false},{"$f":"+IF(LEN(home!$G$9)>0,instruments!F889=home!$G$9,TRUE)","v":false},1,{"$f":"+COUNTIF($L$1:L889,\"=\"&4)","v":63},"MO CRD 10 Soybean Basis"]
["ZCBAMO20.CM","cmdty MO CRD 20 Corn Basis Idx","Corn","Basis","Missouri","District","MO CRD 20",{"$f":"+IF(LEN(home!$G$7)>0,instruments!C890=home!$G$7,TRUE)","v":true},true,{"$f":"+IF(LEN(home!$G$8)>0,instruments!E890=home!$G$8,TRUE)","v":false},{"$f":"+IF(LEN(home!$G$9)>0,instruments!F890=home!$G$9,TRUE)","v":false},2,{"$f":"+COUNTIF($L$1:L890,\"=\"&4)","v":63},"MO CRD 20 Corn Basis"]
["ZSBAMO20.CM","cmdty MO CRD 20 Soybean Basis Idx","Soybean","Basis","Missouri","District","MO CRD 20",{"$f":"+IF(LEN(home!$G$7)>0,instruments!C891=home!$G$7,TRUE)","v":false},true,{"$f":"+IF(LEN(home!$G$8)>0,instruments!E891=home!$G$8,TRUE)","v":false},{"$f":"+IF(LEN(home!$G$9)>0,instruments!F891=home!$G$9,TRUE)","v":false},1,{"$f":"+COUNTIF($L$1:L891,\"=\"&4)","v":63},"MO CRD 20 Soybean Basis"]
["ZCBAMO30.CM","cmdty MO CRD 30 Corn Basis Idx","Corn","Basis","Missouri","District","MO CRD 30",{"$f":"+IF(LEN(home!$G$7)>0,instruments!C892=home!$G$7,TRUE)","v":true},true,{"$f":"+IF(LEN(home!$G$8)>0,instruments!E892=home!$G$8,TRUE)","v":false},{"$f":"+IF(LEN(home!$G$9)>0,instruments!F892=home!$G$9,TRUE)","v":false},2,{"$f":"+COUNTIF($L$1:L892,\"=\"&4)","v":63},"MO CRD 30 Corn Basis"]
["ZSBAMO30.CM","cmdty MO CRD 30 Soybean Basis Idx","Soybean","Basis","Missouri","District","MO CRD 30",{"$f":"+IF(LEN(home!$G$7)>0,instruments!C893=home!$G$7,TRUE)","v":false},true,{"$f":"+IF(LEN(home!$G$8)>0,instruments!E893=home!$G$8,TRUE)","v":false},{"$f":"+IF(LEN(home!$G$9)>0,instruments!F893=home!$G$9,TRUE)","v":false},1,{"$f":"+COUNTIF($L$1:L893,\"=\"&4)","v":63},"MO CRD 30 Soybean Basis"]
["ZCBAMO40.CM","cmdty MO CRD 40 Corn Basis Idx","Corn","Basis","Missouri","District","MO CRD 40",{"$f":"+IF(LEN(home!$G$7)>0,instruments!C894=home!$G$7,TRUE)","v":true},true,{"$f":"+IF(LEN(home!$G$8)>0,instruments!E894=home!$G$8,TRUE)","v":false},{"$f":"+IF(LEN(home!$G$9)>0,instruments!F894=home!$G$9,TRUE)","v":false},2,{"$f":"+COUNTIF($L$1:L894,\"=\"&4)","v":63},"MO CRD 40 Corn Basis"]
["ZSBAMO40.CM","cmdty MO CRD 40 Soybean Basis Idx","Soybean","Basis","Missouri","District","MO CRD 40",{"$f":"+IF(LEN(home!$G$7)>0,instruments!C895=home!$G$7,TRUE)","v":false},true,{"$f":"+IF(LEN(home!$G$8)>0,instruments!E895=home!$G$8,TRUE)","v":false},{"$f":"+IF(LEN(home!$G$9)>0,instruments!F895=home!$G$9,TRUE)","v":false},1,{"$f":"+COUNTIF($L$1:L895,\"=\"&4)","v":63},"MO CRD 40 Soybean Basis"]
["ZCBAMO50.CM","cmdty MO CRD 50 Corn Basis Idx","Corn","Basis","Missouri","District","MO CRD 50",{"$f":"+IF(LEN(home!$G$7)>0,instruments!C896=home!$G$7,TRUE)","v":true},true,{"$f":"+IF(LEN(home!$G$8)>0,instruments!E896=home!$G$8,TRUE)","v":false},{"$f":"+IF(LEN(home!$G$9)>0,instruments!F896=home!$G$9,TRUE)","v":false},2,{"$f":"+COUNTIF($L$1:L896,\"=\"&4)","v":63},"MO CRD 50 Corn Basis"]
["ZSBAMO50.CM","cmdty MO CRD 50 Soybean Basis Idx","Soybean","Basis","Missouri","District","MO CRD 50",{"$f":"+IF(LEN(home!$G$7)>0,instruments!C897=home!$G$7,TRUE)","v":false},true,{"$f":"+IF(LEN(home!$G$8)>0,instruments!E897=home!$G$8,TRUE)","v":false},{"$f":"+IF(LEN(home!$G$9)>0,instruments!F897=home!$G$9,TRUE)","v":false},1,{"$f":"+COUNTIF($L$1:L897,\"=\"&4)","v":63},"MO CRD 50 Soybean Basis"]
["ZCBAMO60.CM","cmdty MO CRD 60 Corn Basis Idx","Corn","Basis","Missouri","District","MO CRD 60",{"$f":"+IF(LEN(home!$G$7)>0,instruments!C898=home!$G$7,TRUE)","v":true},true,{"$f":"+IF(LEN(home!$G$8)>0,instruments!E898=home!$G$8,TRUE)","v":false},{"$f":"+IF(LEN(home!$G$9)>0,instruments!F898=home!$G$9,TRUE)","v":false},{"$f":"+COUNTIF(H898:K898,TRUE)","v":2},{"$f":"+COUNTIF($L$1:L898,\"=\"&4)","v":63},"MO CRD 60 Corn Basis"]
["ZSBAMO60.CM","cmdty MO CRD 60 Soybean Basis Idx","Soybean","Basis","Missouri","District","MO CRD 60",{"$f":"+IF(LEN(home!$G$7)>0,instruments!C899=home!$G$7,TRUE)","v":false},{"$f":"+D899=\"Basis\"","v":true},{"$f":"+IF(LEN(home!$G$8)>0,instruments!E899=home!$G$8,TRUE)","v":false},{"$f":"+IF(LEN(home!$G$9)>0,instruments!F899=home!$G$9,TRUE)","v":false},1,{"$f":"+COUNTIF($L$1:L899,\"=\"&4)","v":63},{"$f":"+MID(B899,FIND(\" \",B899,1)+1,LEN(B899)-FIND(\" \",B899,1)-4)","v":"MO CRD 60 Soybean Basis"}]
["ZCBAMO70.CM","cmdty MO CRD 70 Corn Basis Idx","Corn","Basis","Missouri","District","MO CRD 70",{"$f":"+IF(LEN(home!$G$7)>0,instruments!C900=home!$G$7,TRUE)","v":true},true,{"$f":"+IF(LEN(home!$G$8)>0,instruments!E900=home!$G$8,TRUE)","v":false},{"$f":"+IF(LEN(home!$G$9)>0,instruments!F900=home!$G$9,TRUE)","v":false},2,{"$f":"+COUNTIF($L$1:L900,\"=\"&4)","v":63},"MO CRD 70 Corn Basis"]
["ZSBAMO70.CM","cmdty MO CRD 70 Soybean Basis Idx","Soybean","Basis","Missouri","District","MO CRD 70",{"$f":"+IF(LEN(home!$G$7)>0,instruments!C901=home!$G$7,TRUE)","v":false},true,{"$f":"+IF(LEN(home!$G$8)>0,instruments!E901=home!$G$8,TRUE)","v":false},{"$f":"+IF(LEN(home!$G$9)>0,instruments!F901=home!$G$9,TRUE)","v":false},1,{"$f":"+COUNTIF($L$1:L901,\"=\"&4)","v":63},"MO CRD 70 Soybean Basis"]
["ZCBAMO90.CM","cmdty MO CRD 90 Corn Basis Idx","Corn","Basis","Missouri","District","MO CRD 90",{"$f":"+IF(LEN(home!$G$7)>0,instruments!C902=home!$G$7,TRUE)","v":true},true,{"$f":"+IF(LEN(home!$G$8)>0,instruments!E902=home!$G$8,TRUE)","v":false},{"$f":"+IF(LEN(home!$G$9)>0,instruments!F902=home!$G$9,TRUE)","v":false},2,{"$f":"+COUNTIF($L$1:L902,\"=\"&4)","v":63},"MO CRD 90 Corn Basis"]
["ZSBAMO90.CM","cmdty MO CRD 90 Soybean Basis Idx","Soybean","Basis","Missouri","District","MO CRD 90",{"$f":"+IF(LEN(home!$G$7)>0,instruments!C903=home!$G$7,TRUE)","v":false},true,{"$f":"+IF(LEN(home!$G$8)>0,instruments!E903=home!$G$8,TRUE)","v":false},{"$f":"+IF(LEN(home!$G$9)>0,instruments!F903=home!$G$9,TRUE)","v":false},1,{"$f":"+COUNTIF($L$1:L903,\"=\"&4)","v":63},"MO CRD 90 Soybean Basis"]
["ZCBAMOMO.CM","cmdty Moniteau County, MO Corn Basis Idx","Corn","Basis","Missouri","County","Moniteau County",{"$f":"+IF(LEN(home!$G$7)>0,instruments!C904=home!$G$7,TRUE)","v":true},true,{"$f":"+IF(LEN(home!$G$8)>0,instruments!E904=home!$G$8,TRUE)","v":false},{"$f":"+IF(LEN(home!$G$9)>0,instruments!F904=home!$G$9,TRUE)","v":true},3,{"$f":"+COUNTIF($L$1:L904,\"=\"&4)","v":63},"Moniteau County, MO Corn Basis"]
["ZCBAIAMO.CM","cmdty Monona County, IA Corn Basis Idx","Corn","Basis","Iowa","County","Monona County",{"$f":"+IF(LEN(home!$G$7)>0,instruments!C905=home!$G$7,TRUE)","v":true},true,{"$f":"+IF(LEN(home!$G$8)>0,instruments!E905=home!$G$8,TRUE)","v":true},{"$f":"+IF(LEN(home!$G$9)>0,instruments!F905=home!$G$9,TRUE)","v":true},4,{"$f":"+COUNTIF($L$1:L905,\"=\"&4)","v":64},"Monona County, IA Corn Basis"]
["ZSBAIAMO.CM","cmdty Monona County, IA Soybean Basis Idx","Soybean","Basis","Iowa","County","Monona County",{"$f":"+IF(LEN(home!$G$7)>0,instruments!C906=home!$G$7,TRUE)","v":false},true,{"$f":"+IF(LEN(home!$G$8)>0,instruments!E906=home!$G$8,TRUE)","v":true},{"$f":"+IF(LEN(home!$G$9)>0,instruments!F906=home!$G$9,TRUE)","v":true},3,{"$f":"+COUNTIF($L$1:L906,\"=\"&4)","v":64},"Monona County, IA Soybean Basis"]
["ZCBAIAMF.CM","cmdty Monroe County, IA Corn Basis Idx","Corn","Basis","Iowa","County","Monroe County",{"$f":"+IF(LEN(home!$G$7)>0,instruments!C907=home!$G$7,TRUE)","v":true},true,{"$f":"+IF(LEN(home!$G$8)>0,instruments!E907=home!$G$8,TRUE)","v":true},{"$f":"+IF(LEN(home!$G$9)>0,instruments!F907=home!$G$9,TRUE)","v":true},4,{"$f":"+COUNTIF($L$1:L907,\"=\"&4)","v":65},"Monroe County, IA Corn Basis"]
["ZSBAIAMF.CM","cmdty Monroe County, IA Soybean Basis Idx","Soybean","Basis","Iowa","County","Monroe County",{"$f":"+IF(LEN(home!$G$7)>0,instruments!C908=home!$G$7,TRUE)","v":false},true,{"$f":"+IF(LEN(home!$G$8)>0,instruments!E908=home!$G$8,TRUE)","v":true},{"$f":"+IF(LEN(home!$G$9)>0,instruments!F908=home!$G$9,TRUE)","v":true},3,{"$f":"+COUNTIF($L$1:L908,\"=\"&4)","v":65},"Monroe County, IA Soybean Basis"]
["ZCBAILMO.CM","cmdty Monroe County, IL Corn Basis Idx","Corn","Basis","Illinois","County","Monroe County",{"$f":"+IF(LEN(home!$G$7)>0,instruments!C909=home!$G$7,TRUE)","v":true},true,{"$f":"+IF(LEN(home!$G$8)>0,instruments!E909=home!$G$8,TRUE)","v":false},{"$f":"+IF(LEN(home!$G$9)>0,instruments!F909=home!$G$9,TRUE)","v":true},3,{"$f":"+COUNTIF($L$1:L909,\"=\"&4)","v":65},"Monroe County, IL Corn Basis"]
["ZSBAILMO.CM","cmdty Monroe County, IL Soybean Basis Idx","Soybean","Basis","Illinois","County","Monroe County",{"$f":"+IF(LEN(home!$G$7)>0,instruments!C910=home!$G$7,TRUE)","v":false},true,{"$f":"+IF(LEN(home!$G$8)>0,instruments!E910=home!$G$8,TRUE)","v":false},{"$f":"+IF(LEN(home!$G$9)>0,instruments!F910=home!$G$9,TRUE)","v":true},2,{"$f":"+COUNTIF($L$1:L910,\"=\"&4)","v":65},"Monroe County, IL Soybean Basis"]
["ZCBAMOMH.CM","cmdty Monroe County, MO Corn Basis Idx","Corn","Basis","Missouri","County","Monroe County",{"$f":"+IF(LEN(home!$G$7)>0,instruments!C911=home!$G$7,TRUE)","v":true},true,{"$f":"+IF(LEN(home!$G$8)>0,instruments!E911=home!$G$8,TRUE)","v":false},{"$f":"+IF(LEN(home!$G$9)>0,instruments!F911=home!$G$9,TRUE)","v":true},3,{"$f":"+COUNTIF($L$1:L911,\"=\"&4)","v":65},"Monroe County, MO Corn Basis"]
["ZSBAMOMH.CM","cmdty Monroe County, MO Soybean Basis Idx","Soybean","Basis","Missouri","County","Monroe County",{"$f":"+IF(LEN(home!$G$7)>0,instruments!C912=home!$G$7,TRUE)","v":false},true,{"$f":"+IF(LEN(home!$G$8)>0,instruments!E912=home!$G$8,TRUE)","v":false},{"$f":"+IF(LEN(home!$G$9)>0,instruments!F912=home!$G$9,TRUE)","v":true},2,{"$f":"+COUNTIF($L$1:L912,\"=\"&4)","v":65},"Monroe County, MO Soybean Basis"]
["ZCBAIAMG.CM","cmdty Montgomery County, IA Corn Basis Idx","Corn","Basis","Iowa","County","Montgomery County",{"$f":"+IF(LEN(home!$G$7)>0,instruments!C913=home!$G$7,TRUE)","v":true},true,{"$f":"+IF(LEN(home!$G$8)>0,instruments!E913=home!$G$8,TRUE)","v":true},{"$f":"+IF(LEN(home!$G$9)>0,instruments!F913=home!$G$9,TRUE)","v":true},4,{"$f":"+COUNTIF($L$1:L913,\"=\"&4)","v":66},"Montgomery County, IA Corn Basis"]
["ZSBAIAMG.CM","cmdty Montgomery County, IA Soybean Basis Idx","Soybean","Basis","Iowa","County","Montgomery County",{"$f":"+IF(LEN(home!$G$7)>0,instruments!C914=home!$G$7,TRUE)","v":false},true,{"$f":"+IF(LEN(home!$G$8)>0,instruments!E914=home!$G$8,TRUE)","v":true},{"$f":"+IF(LEN(home!$G$9)>0,instruments!F914=home!$G$9,TRUE)","v":true},3,{"$f":"+COUNTIF($L$1:L914,\"=\"&4)","v":66},"Montgomery County, IA Soybean Basis"]
["ZCBAILMN.CM","cmdty Montgomery County, IL Corn Basis Idx","Corn","Basis","Illinois","County","Montgomery County",{"$f":"+IF(LEN(home!$G$7)>0,instruments!C915=home!$G$7,TRUE)","v":true},true,{"$f":"+IF(LEN(home!$G$8)>0,instruments!E915=home!$G$8,TRUE)","v":false},{"$f":"+IF(LEN(home!$G$9)>0,instruments!F915=home!$G$9,TRUE)","v":true},3,{"$f":"+COUNTIF($L$1:L915,\"=\"&4)","v":66},"Montgomery County, IL Corn Basis"]
["ZSBAILMN.CM","cmdty Montgomery County, IL Soybean Basis Idx","Soybean","Basis","Illinois","County","Montgomery County",{"$f":"+IF(LEN(home!$G$7)>0,instruments!C916=home!$G$7,TRUE)","v":false},true,{"$f":"+IF(LEN(home!$G$8)>0,instruments!E916=home!$G$8,TRUE)","v":false},{"$f":"+IF(LEN(home!$G$9)>0,instruments!F916=home!$G$9,TRUE)","v":true},2,{"$f":"+COUNTIF($L$1:L916,\"=\"&4)","v":66},"Montgomery County, IL Soybean Basis"]
["ZCBAINME.CM","cmdty Montgomery County, IN Corn Basis Idx","Corn","Basis","Indiana","County","Montgomery County",{"$f":"+IF(LEN(home!$G$7)>0,instruments!C917=home!$G$7,TRUE)","v":true},true,{"$f":"+IF(LEN(home!$G$8)>0,instruments!E917=home!$G$8,TRUE)","v":false},{"$f":"+IF(LEN(home!$G$9)>0,instruments!F917=home!$G$9,TRUE)","v":true},3,{"$f":"+COUNTIF($L$1:L917,\"=\"&4)","v":66},"Montgomery County, IN Corn Basis"]
["ZSBAINME.CM","cmdty Montgomery County, IN Soybean Basis Idx","Soybean","Basis","Indiana","County","Montgomery County",{"$f":"+IF(LEN(home!$G$7)>0,instruments!C918=home!$G$7,TRUE)","v":false},true,{"$f":"+IF(LEN(home!$G$8)>0,instruments!E918=home!$G$8,TRUE)","v":false},{"$f":"+IF(LEN(home!$G$9)>0,instruments!F918=home!$G$9,TRUE)","v":true},2,{"$f":"+COUNTIF($L$1:L918,\"=\"&4)","v":66},"Montgomery County, IN Soybean Basis"]
["ZCBAKSMO.CM","cmdty Montgomery County, KS Corn Basis Idx","Corn","Basis","Kansas","County","Montgomery County",{"$f":"+IF(LEN(home!$G$7)>0,instruments!C919=home!$G$7,TRUE)","v":true},true,{"$f":"+IF(LEN(home!$G$8)>0,instruments!E919=home!$G$8,TRUE)","v":false},{"$f":"+IF(LEN(home!$G$9)>0,instruments!F919=home!$G$9,TRUE)","v":true},3,{"$f":"+COUNTIF($L$1:L919,\"=\"&4)","v":66},"Montgomery County, KS Corn Basis"]
["ZSBAKSMO.CM","cmdty Montgomery County, KS Soybean Basis Idx","Soybean","Basis","Kansas","County","Montgomery County",{"$f":"+IF(LEN(home!$G$7)>0,instruments!C920=home!$G$7,TRUE)","v":false},true,{"$f":"+IF(LEN(home!$G$8)>0,instruments!E920=home!$G$8,TRUE)","v":false},{"$f":"+IF(LEN(home!$G$9)>0,instruments!F920=home!$G$9,TRUE)","v":true},2,{"$f":"+COUNTIF($L$1:L920,\"=\"&4)","v":66},"Montgomery County, KS Soybean Basis"]
["ZCBAMOMK.CM","cmdty Montgomery County, MO Corn Basis Idx","Corn","Basis","Missouri","County","Montgomery County",{"$f":"+IF(LEN(home!$G$7)>0,instruments!C921=home!$G$7,TRUE)","v":true},true,{"$f":"+IF(LEN(home!$G$8)>0,instruments!E921=home!$G$8,TRUE)","v":false},{"$f":"+IF(LEN(home!$G$9)>0,instruments!F921=home!$G$9,TRUE)","v":true},3,{"$f":"+COUNTIF($L$1:L921,\"=\"&4)","v":66},"Montgomery County, MO Corn Basis"]
["ZSBAMOMK.CM","cmdty Montgomery County, MO Soybean Basis Idx","Soybean","Basis","Missouri","County","Montgomery County",{"$f":"+IF(LEN(home!$G$7)>0,instruments!C922=home!$G$7,TRUE)","v":false},true,{"$f":"+IF(LEN(home!$G$8)>0,instruments!E922=home!$G$8,TRUE)","v":false},{"$f":"+IF(LEN(home!$G$9)>0,instruments!F922=home!$G$9,TRUE)","v":true},2,{"$f":"+COUNTIF($L$1:L922,\"=\"&4)","v":66},"Montgomery County, MO Soybean Basis"]
["ZCBAILMP.CM","cmdty Morgan County, IL Corn Basis Idx","Corn","Basis","Illinois","County","Morgan County",{"$f":"+IF(LEN(home!$G$7)>0,instruments!C923=home!$G$7,TRUE)","v":true},true,{"$f":"+IF(LEN(home!$G$8)>0,instruments!E923=home!$G$8,TRUE)","v":false},{"$f":"+IF(LEN(home!$G$9)>0,instruments!F923=home!$G$9,TRUE)","v":true},3,{"$f":"+COUNTIF($L$1:L923,\"=\"&4)","v":66},"Morgan County, IL Corn Basis"]
["ZSBAILMP.CM","cmdty Morgan County, IL Soybean Basis Idx","Soybean","Basis","Illinois","County","Morgan County",{"$f":"+IF(LEN(home!$G$7)>0,instruments!C924=home!$G$7,TRUE)","v":false},true,{"$f":"+IF(LEN(home!$G$8)>0,instruments!E924=home!$G$8,TRUE)","v":false},{"$f":"+IF(LEN(home!$G$9)>0,instruments!F924=home!$G$9,TRUE)","v":true},2,{"$f":"+COUNTIF($L$1:L924,\"=\"&4)","v":66},"Morgan County, IL Soybean Basis"]
["ZCBAINMF.CM","cmdty Morgan County, IN Corn Basis Idx","Corn","Basis","Indiana","County","Morgan County",{"$f":"+IF(LEN(home!$G$7)>0,instruments!C925=home!$G$7,TRUE)","v":true},true,{"$f":"+IF(LEN(home!$G$8)>0,instruments!E925=home!$G$8,TRUE)","v":false},{"$f":"+IF(LEN(home!$G$9)>0,instruments!F925=home!$G$9,TRUE)","v":true},3,{"$f":"+COUNTIF($L$1:L925,\"=\"&4)","v":66},"Morgan County, IN Corn Basis"]
["ZSBAINMF.CM","cmdty Morgan County, IN Soybean Basis Idx","Soybean","Basis","Indiana","County","Morgan County",{"$f":"+IF(LEN(home!$G$7)>0,instruments!C926=home!$G$7,TRUE)","v":false},true,{"$f":"+IF(LEN(home!$G$8)>0,instruments!E926=home!$G$8,TRUE)","v":false},{"$f":"+IF(LEN(home!$G$9)>0,instruments!F926=home!$G$9,TRUE)","v":true},2,{"$f":"+COUNTIF($L$1:L926,\"=\"&4)","v":66},"Morgan County, IN Soybean Basis"]
["ZCBANEMO.CM","cmdty Morrill County, NE Corn Basis Idx","Corn","Basis","Nebraska","County","Morrill County",{"$f":"+IF(LEN(home!$G$7)>0,instruments!C927=home!$G$7,TRUE)","v":true},true,{"$f":"+IF(LEN(home!$G$8)>0,instruments!E927=home!$G$8,TRUE)","v":false},{"$f":"+IF(LEN(home!$G$9)>0,instruments!F927=home!$G$9,TRUE)","v":true},3,{"$f":"+COUNTIF($L$1:L927,\"=\"&4)","v":66},"Morrill County, NE Corn Basis"]
["ZCBAMNMO.CM","cmdty Morrison County, MN Corn Basis Idx","Corn","Basis","Minnesota","County","Morrison County",{"$f":"+IF(LEN(home!$G$7)>0,instruments!C928=home!$G$7,TRUE)","v":true},true,{"$f":"+IF(LEN(home!$G$8)>0,instruments!E928=home!$G$8,TRUE)","v":false},{"$f":"+IF(LEN(home!$G$9)>0,instruments!F928=home!$G$9,TRUE)","v":true},3,{"$f":"+COUNTIF($L$1:L928,\"=\"&4)","v":66},"Morrison County, MN Corn Basis"]
["ZSBAMNMO.CM","cmdty Morrison County, MN Soybean Basis Idx","Soybean","Basis","Minnesota","County","Morrison County",{"$f":"+IF(LEN(home!$G$7)>0,instruments!C929=home!$G$7,TRUE)","v":false},true,{"$f":"+IF(LEN(home!$G$8)>0,instruments!E929=home!$G$8,TRUE)","v":false},{"$f":"+IF(LEN(home!$G$9)>0,instruments!F929=home!$G$9,TRUE)","v":true},2,{"$f":"+COUNTIF($L$1:L929,\"=\"&4)","v":66},"Morrison County, MN Soybean Basis"]
["ZSBAOHMK.CM","cmdty Morrow County, OH Soybean Basis Idx","Soybean","Basis","Ohio","County","Morrow County",{"$f":"+IF(LEN(home!$G$7)>0,instruments!C930=home!$G$7,TRUE)","v":false},true,{"$f":"+IF(LEN(home!$G$8)>0,instruments!E930=home!$G$8,TRUE)","v":false},{"$f":"+IF(LEN(home!$G$9)>0,instruments!F930=home!$G$9,TRUE)","v":true},2,{"$f":"+COUNTIF($L$1:L930,\"=\"&4)","v":66},"Morrow County, OH Soybean Basis"]
["ZCBAKSMG.CM","cmdty Morton County, KS Corn Basis Idx","Corn","Basis","Kansas","County","Morton County",{"$f":"+IF(LEN(home!$G$7)>0,instruments!C931=home!$G$7,TRUE)","v":true},true,{"$f":"+IF(LEN(home!$G$8)>0,instruments!E931=home!$G$8,TRUE)","v":false},{"$f":"+IF(LEN(home!$G$9)>0,instruments!F931=home!$G$9,TRUE)","v":true},3,{"$f":"+COUNTIF($L$1:L931,\"=\"&4)","v":66},"Morton County, KS Corn Basis"]
["ZSBAKSMG.CM","cmdty Morton County, KS Soybean Basis Idx","Soybean","Basis","Kansas","County","Morton County",{"$f":"+IF(LEN(home!$G$7)>0,instruments!C932=home!$G$7,TRUE)","v":false},true,{"$f":"+IF(LEN(home!$G$8)>0,instruments!E932=home!$G$8,TRUE)","v":false},{"$f":"+IF(LEN(home!$G$9)>0,instruments!F932=home!$G$9,TRUE)","v":true},2,{"$f":"+COUNTIF($L$1:L932,\"=\"&4)","v":66},"Morton County, KS Soybean Basis"]
["ZSBANDMO.CM","cmdty Morton County, ND Soybean Basis Idx","Soybean","Basis","North Dakota","County","Morton County",{"$f":"+IF(LEN(home!$G$7)>0,instruments!C933=home!$G$7,TRUE)","v":false},true,{"$f":"+IF(LEN(home!$G$8)>0,instruments!E933=home!$G$8,TRUE)","v":false},{"$f":"+IF(LEN(home!$G$9)>0,instruments!F933=home!$G$9,TRUE)","v":true},2,{"$f":"+COUNTIF($L$1:L933,\"=\"&4)","v":66},"Morton County, ND Soybean Basis"]
["ZCBAILMQ.CM","cmdty Moultrie County, IL Corn Basis Idx","Corn","Basis","Illinois","County","Moultrie County",{"$f":"+IF(LEN(home!$G$7)>0,instruments!C934=home!$G$7,TRUE)","v":true},true,{"$f":"+IF(LEN(home!$G$8)>0,instruments!E934=home!$G$8,TRUE)","v":false},{"$f":"+IF(LEN(home!$G$9)>0,instruments!F934=home!$G$9,TRUE)","v":true},3,{"$f":"+COUNTIF($L$1:L934,\"=\"&4)","v":66},"Moultrie County, IL Corn Basis"]
["ZSBAILMQ.CM","cmdty Moultrie County, IL Soybean Basis Idx","Soybean","Basis","Illinois","County","Moultrie County",{"$f":"+IF(LEN(home!$G$7)>0,instruments!C935=home!$G$7,TRUE)","v":false},true,{"$f":"+IF(LEN(home!$G$8)>0,instruments!E935=home!$G$8,TRUE)","v":false},{"$f":"+IF(LEN(home!$G$9)>0,instruments!F935=home!$G$9,TRUE)","v":true},2,{"$f":"+COUNTIF($L$1:L935,\"=\"&4)","v":66},"Moultrie County, IL Soybean Basis"]
["ZSBANDMF.CM","cmdty Mountrail County, ND Soybean Basis Idx","Soybean","Basis","North Dakota","County","Mountrail County",{"$f":"+IF(LEN(home!$G$7)>0,instruments!C936=home!$G$7,TRUE)","v":false},true,{"$f":"+IF(LEN(home!$G$8)>0,instruments!E936=home!$G$8,TRUE)","v":false},{"$f":"+IF(LEN(home!$G$9)>0,instruments!F936=home!$G$9,TRUE)","v":true},2,{"$f":"+COUNTIF($L$1:L936,\"=\"&4)","v":66},"Mountrail County, ND Soybean Basis"]
["ZCBAMNMF.CM","cmdty Mower County, MN Corn Basis Idx","Corn","Basis","Minnesota","County","Mower County",{"$f":"+IF(LEN(home!$G$7)>0,instruments!C937=home!$G$7,TRUE)","v":true},true,{"$f":"+IF(LEN(home!$G$8)>0,instruments!E937=home!$G$8,TRUE)","v":false},{"$f":"+IF(LEN(home!$G$9)>0,instruments!F937=home!$G$9,TRUE)","v":true},3,{"$f":"+COUNTIF($L$1:L937,\"=\"&4)","v":66},"Mower County, MN Corn Basis"]
["ZSBAMNMF.CM","cmdty Mower County, MN Soybean Basis Idx","Soybean","Basis","Minnesota","County","Mower County",{"$f":"+IF(LEN(home!$G$7)>0,instruments!C938=home!$G$7,TRUE)","v":false},true,{"$f":"+IF(LEN(home!$G$8)>0,instruments!E938=home!$G$8,TRUE)","v":false},{"$f":"+IF(LEN(home!$G$9)>0,instruments!F938=home!$G$9,TRUE)","v":true},2,{"$f":"+COUNTIF($L$1:L938,\"=\"&4)","v":66},"Mower County, MN Soybean Basis"]
["ZCBAMNMU.CM","cmdty Murray County, MN Corn Basis Idx","Corn","Basis","Minnesota","County","Murray County",{"$f":"+IF(LEN(home!$G$7)>0,instruments!C939=home!$G$7,TRUE)","v":true},true,{"$f":"+IF(LEN(home!$G$8)>0,instruments!E939=home!$G$8,TRUE)","v":false},{"$f":"+IF(LEN(home!$G$9)>0,instruments!F939=home!$G$9,TRUE)","v":true},3,{"$f":"+COUNTIF($L$1:L939,\"=\"&4)","v":66},"Murray County, MN Corn Basis"]
["ZSBAMNMU.CM","cmdty Murray County, MN Soybean Basis Idx","Soybean","Basis","Minnesota","County","Murray County",{"$f":"+IF(LEN(home!$G$7)>0,instruments!C940=home!$G$7,TRUE)","v":false},true,{"$f":"+IF(LEN(home!$G$8)>0,instruments!E940=home!$G$8,TRUE)","v":false},{"$f":"+IF(LEN(home!$G$9)>0,instruments!F940=home!$G$9,TRUE)","v":true},2,{"$f":"+COUNTIF($L$1:L940,\"=\"&4)","v":66},"Murray County, MN Soybean Basis"]
["ZCBAIAMU.CM","cmdty Muscatine County, IA Corn Basis Idx","Corn","Basis","Iowa","County","Muscatine County",{"$f":"+IF(LEN(home!$G$7)>0,instruments!C941=home!$G$7,TRUE)","v":true},true,{"$f":"+IF(LEN(home!$G$8)>0,instruments!E941=home!$G$8,TRUE)","v":true},{"$f":"+IF(LEN(home!$G$9)>0,instruments!F941=home!$G$9,TRUE)","v":true},4,{"$f":"+COUNTIF($L$1:L941,\"=\"&4)","v":67},"Muscatine County, IA Corn Basis"]
["ZSBAIAMU.CM","cmdty Muscatine County, IA Soybean Basis Idx","Soybean","Basis","Iowa","County","Muscatine County",{"$f":"+IF(LEN(home!$G$7)>0,instruments!C942=home!$G$7,TRUE)","v":false},true,{"$f":"+IF(LEN(home!$G$8)>0,instruments!E942=home!$G$8,TRUE)","v":true},{"$f":"+IF(LEN(home!$G$9)>0,instruments!F942=home!$G$9,TRUE)","v":true},3,{"$f":"+COUNTIF($L$1:L942,\"=\"&4)","v":67},"Muscatine County, IA Soybean Basis"]
["ZCBANENA.CM","cmdty Nance County, NE Corn Basis Idx","Corn","Basis","Nebraska","County","Nance County",{"$f":"+IF(LEN(home!$G$7)>0,instruments!C943=home!$G$7,TRUE)","v":true},true,{"$f":"+IF(LEN(home!$G$8)>0,instruments!E943=home!$G$8,TRUE)","v":false},{"$f":"+IF(LEN(home!$G$9)>0,instruments!F943=home!$G$9,TRUE)","v":true},3,{"$f":"+COUNTIF($L$1:L943,\"=\"&4)","v":67},"Nance County, NE Corn Basis"]
["ZSBANENA.CM","cmdty Nance County, NE Soybean Basis Idx","Soybean","Basis","Nebraska","County","Nance County",{"$f":"+IF(LEN(home!$G$7)>0,instruments!C944=home!$G$7,TRUE)","v":false},true,{"$f":"+IF(LEN(home!$G$8)>0,instruments!E944=home!$G$8,TRUE)","v":false},{"$f":"+IF(LEN(home!$G$9)>0,instruments!F944=home!$G$9,TRUE)","v":true},2,{"$f":"+COUNTIF($L$1:L944,\"=\"&4)","v":67},"Nance County, NE Soybean Basis"]
["ZSBAND10.CM","cmdty ND CRD 10 Soybean Basis Idx","Soybean","Basis","North Dakota","District","ND CRD 10",{"$f":"+IF(LEN(home!$G$7)>0,instruments!C945=home!$G$7,TRUE)","v":false},true,{"$f":"+IF(LEN(home!$G$8)>0,instruments!E945=home!$G$8,TRUE)","v":false},{"$f":"+IF(LEN(home!$G$9)>0,instruments!F945=home!$G$9,TRUE)","v":false},1,{"$f":"+COUNTIF($L$1:L945,\"=\"&4)","v":67},"ND CRD 10 Soybean Basis"]
["ZSBAND20.CM","cmdty ND CRD 20 Soybean Basis Idx","Soybean","Basis","North Dakota","District","ND CRD 20",{"$f":"+IF(LEN(home!$G$7)>0,instruments!C946=home!$G$7,TRUE)","v":false},true,{"$f":"+IF(LEN(home!$G$8)>0,instruments!E946=home!$G$8,TRUE)","v":false},{"$f":"+IF(LEN(home!$G$9)>0,instruments!F946=home!$G$9,TRUE)","v":false},1,{"$f":"+COUNTIF($L$1:L946,\"=\"&4)","v":67},"ND CRD 20 Soybean Basis"]
["ZSBAND30.CM","cmdty ND CRD 30 Soybean Basis Idx","Soybean","Basis","North Dakota","District","ND CRD 30",{"$f":"+IF(LEN(home!$G$7)>0,instruments!C947=home!$G$7,TRUE)","v":false},true,{"$f":"+IF(LEN(home!$G$8)>0,instruments!E947=home!$G$8,TRUE)","v":false},{"$f":"+IF(LEN(home!$G$9)>0,instruments!F947=home!$G$9,TRUE)","v":false},1,{"$f":"+COUNTIF($L$1:L947,\"=\"&4)","v":67},"ND CRD 30 Soybean Basis"]
["ZSBAND40.CM","cmdty ND CRD 40 Soybean Basis Idx","Soybean","Basis","North Dakota","District","ND CRD 40",{"$f":"+IF(LEN(home!$G$7)>0,instruments!C948=home!$G$7,TRUE)","v":false},true,{"$f":"+IF(LEN(home!$G$8)>0,instruments!E948=home!$G$8,TRUE)","v":false},{"$f":"+IF(LEN(home!$G$9)>0,instruments!F948=home!$G$9,TRUE)","v":false},1,{"$f":"+COUNTIF($L$1:L948,\"=\"&4)","v":67},"ND CRD 40 Soybean Basis"]
["ZSBAND50.CM","cmdty ND CRD 50 Soybean Basis Idx","Soybean","Basis","North Dakota","District","ND CRD 50",{"$f":"+IF(LEN(home!$G$7)>0,instruments!C949=home!$G$7,TRUE)","v":false},true,{"$f":"+IF(LEN(home!$G$8)>0,instruments!E949=home!$G$8,TRUE)","v":false},{"$f":"+IF(LEN(home!$G$9)>0,instruments!F949=home!$G$9,TRUE)","v":false},1,{"$f":"+COUNTIF($L$1:L949,\"=\"&4)","v":67},"ND CRD 50 Soybean Basis"]
["ZSBAND60.CM","cmdty ND CRD 60 Soybean Basis Idx","Soybean","Basis","North Dakota","District","ND CRD 60",{"$f":"+IF(LEN(home!$G$7)>0,instruments!C950=home!$G$7,TRUE)","v":false},true,{"$f":"+IF(LEN(home!$G$8)>0,instruments!E950=home!$G$8,TRUE)","v":false},{"$f":"+IF(LEN(home!$G$9)>0,instruments!F950=home!$G$9,TRUE)","v":false},1,{"$f":"+COUNTIF($L$1:L950,\"=\"&4)","v":67},"ND CRD 60 Soybean Basis"]
["ZSBAND70.CM","cmdty ND CRD 70 Soybean Basis Idx","Soybean","Basis","North Dakota","District","ND CRD 70",{"$f":"+IF(LEN(home!$G$7)>0,instruments!C951=home!$G$7,TRUE)","v":false},true,{"$f":"+IF(LEN(home!$G$8)>0,instruments!E951=home!$G$8,TRUE)","v":false},{"$f":"+IF(LEN(home!$G$9)>0,instruments!F951=home!$G$9,TRUE)","v":false},1,{"$f":"+COUNTIF($L$1:L951,\"=\"&4)","v":67},"ND CRD 70 Soybean Basis"]
["ZSBAND80.CM","cmdty ND CRD 80 Soybean Basis Idx","Soybean","Basis","North Dakota","District","ND CRD 80",{"$f":"+IF(LEN(home!$G$7)>0,instruments!C952=home!$G$7,TRUE)","v":false},true,{"$f":"+IF(LEN(home!$G$8)>0,instruments!E952=home!$G$8,TRUE)","v":false},{"$f":"+IF(LEN(home!$G$9)>0,instruments!F952=home!$G$9,TRUE)","v":false},1,{"$f":"+COUNTIF($L$1:L952,\"=\"&4)","v":67},"ND CRD 80 Soybean Basis"]
["ZSBAND90.CM","cmdty ND CRD 90 Soybean Basis Idx","Soybean","Basis","North Dakota","District","ND CRD 90",{"$f":"+IF(LEN(home!$G$7)>0,instruments!C953=home!$G$7,TRUE)","v":false},true,{"$f":"+IF(LEN(home!$G$8)>0,instruments!E953=home!$G$8,TRUE)","v":false},{"$f":"+IF(LEN(home!$G$9)>0,instruments!F953=home!$G$9,TRUE)","v":false},1,{"$f":"+COUNTIF($L$1:L953,\"=\"&4)","v":67},"ND CRD 90 Soybean Basis"]
["ZCBANE.CM","cmdty Nebraska Corn Basis Idx","Corn","Basis","Nebraska","State","Nebraska",{"$f":"+IF(LEN(home!$G$7)>0,instruments!C954=home!$G$7,TRUE)","v":true},true,{"$f":"+IF(LEN(home!$G$8)>0,instruments!E954=home!$G$8,TRUE)","v":false},{"$f":"+IF(LEN(home!$G$9)>0,instruments!F954=home!$G$9,TRUE)","v":false},2,{"$f":"+COUNTIF($L$1:L954,\"=\"&4)","v":67},"Nebraska Corn Basis"]
["ZSBANE.CM","cmdty Nebraska Soybean Basis Idx","Soybean","Basis","Nebraska","State","Nebraska",{"$f":"+IF(LEN(home!$G$7)>0,instruments!C955=home!$G$7,TRUE)","v":false},true,{"$f":"+IF(LEN(home!$G$8)>0,instruments!E955=home!$G$8,TRUE)","v":false},{"$f":"+IF(LEN(home!$G$9)>0,instruments!F955=home!$G$9,TRUE)","v":false},1,{"$f":"+COUNTIF($L$1:L955,\"=\"&4)","v":67},"Nebraska Soybean Basis"]
["ZCBANE10.CM","cmdty NE CRD 10 Corn Basis Idx","Corn","Basis","Nebraska","District","NE CRD 10",{"$f":"+IF(LEN(home!$G$7)>0,instruments!C956=home!$G$7,TRUE)","v":true},true,{"$f":"+IF(LEN(home!$G$8)>0,instruments!E956=home!$G$8,TRUE)","v":false},{"$f":"+IF(LEN(home!$G$9)>0,instruments!F956=home!$G$9,TRUE)","v":false},2,{"$f":"+COUNTIF($L$1:L956,\"=\"&4)","v":67},"NE CRD 10 Corn Basis"]
["ZSBANE10.CM","cmdty NE CRD 10 Soybean Basis Idx","Soybean","Basis","Nebraska","District","NE CRD 10",{"$f":"+IF(LEN(home!$G$7)>0,instruments!C957=home!$G$7,TRUE)","v":false},true,{"$f":"+IF(LEN(home!$G$8)>0,instruments!E957=home!$G$8,TRUE)","v":false},{"$f":"+IF(LEN(home!$G$9)>0,instruments!F957=home!$G$9,TRUE)","v":false},1,{"$f":"+COUNTIF($L$1:L957,\"=\"&4)","v":67},"NE CRD 10 Soybean Basis"]
["ZCBANE20.CM","cmdty NE CRD 20 Corn Basis Idx","Corn","Basis","Nebraska","District","NE CRD 20",{"$f":"+IF(LEN(home!$G$7)>0,instruments!C958=home!$G$7,TRUE)","v":true},true,{"$f":"+IF(LEN(home!$G$8)>0,instruments!E958=home!$G$8,TRUE)","v":false},{"$f":"+IF(LEN(home!$G$9)>0,instruments!F958=home!$G$9,TRUE)","v":false},2,{"$f":"+COUNTIF($L$1:L958,\"=\"&4)","v":67},"NE CRD 20 Corn Basis"]
["ZSBANE20.CM","cmdty NE CRD 20 Soybean Basis Idx","Soybean","Basis","Nebraska","District","NE CRD 20",{"$f":"+IF(LEN(home!$G$7)>0,instruments!C959=home!$G$7,TRUE)","v":false},true,{"$f":"+IF(LEN(home!$G$8)>0,instruments!E959=home!$G$8,TRUE)","v":false},{"$f":"+IF(LEN(home!$G$9)>0,instruments!F959=home!$G$9,TRUE)","v":false},1,{"$f":"+COUNTIF($L$1:L959,\"=\"&4)","v":67},"NE CRD 20 Soybean Basis"]
["ZCBANE30.CM","cmdty NE CRD 30 Corn Basis Idx","Corn","Basis","Nebraska","District","NE CRD 30",{"$f":"+IF(LEN(home!$G$7)>0,instruments!C960=home!$G$7,TRUE)","v":true},true,{"$f":"+IF(LEN(home!$G$8)>0,instruments!E960=home!$G$8,TRUE)","v":false},{"$f":"+IF(LEN(home!$G$9)>0,instruments!F960=home!$G$9,TRUE)","v":false},2,{"$f":"+COUNTIF($L$1:L960,\"=\"&4)","v":67},"NE CRD 30 Corn Basis"]
["ZSBANE30.CM","cmdty NE CRD 30 Soybean Basis Idx","Soybean","Basis","Nebraska","District","NE CRD 30",{"$f":"+IF(LEN(home!$G$7)>0,instruments!C961=home!$G$7,TRUE)","v":false},true,{"$f":"+IF(LEN(home!$G$8)>0,instruments!E961=home!$G$8,TRUE)","v":false},{"$f":"+IF(LEN(home!$G$9)>0,instruments!F961=home!$G$9,TRUE)","v":false},1,{"$f":"+COUNTIF($L$1:L961,\"=\"&4)","v":67},"NE CRD 30 Soybean Basis"]
["ZCBANE50.CM","cmdty NE CRD 50 Corn Basis Idx","Corn","Basis","Nebraska","District","NE CRD 50",{"$f":"+IF(LEN(home!$G$7)>0,instruments!C962=home!$G$7,TRUE)","v":true},true,{"$f":"+IF(LEN(home!$G$8)>0,instruments!E962=home!$G$8,TRUE)","v":false},{"$f":"+IF(LEN(home!$G$9)>0,instruments!F962=home!$G$9,TRUE)","v":false},{"$f":"+COUNTIF(H962:K962,TRUE)","v":2},{"$f":"+COUNTIF($L$1:L962,\"=\"&4)","v":67},"NE CRD 50 Corn Basis"]
["ZSBANE50.CM","cmdty NE CRD 50 Soybean Basis Idx","Soybean","Basis","Nebraska","District","NE CRD 50",{"$f":"+IF(LEN(home!$G$7)>0,instruments!C963=home!$G$7,TRUE)","v":false},{"$f":"+D963=\"Basis\"","v":true},{"$f":"+IF(LEN(home!$G$8)>0,instruments!E963=home!$G$8,TRUE)","v":false},{"$f":"+IF(LEN(home!$G$9)>0,instruments!F963=home!$G$9,TRUE)","v":false},1,{"$f":"+COUNTIF($L$1:L963,\"=\"&4)","v":67},{"$f":"+MID(B963,FIND(\" \",B963,1)+1,LEN(B963)-FIND(\" \",B963,1)-4)","v":"NE CRD 50 Soybean Basis"}]
["ZCBANE60.CM","cmdty NE CRD 60 Corn Basis Idx","Corn","Basis","Nebraska","District","NE CRD 60",{"$f":"+IF(LEN(home!$G$7)>0,instruments!C964=home!$G$7,TRUE)","v":true},true,{"$f":"+IF(LEN(home!$G$8)>0,instruments!E964=home!$G$8,TRUE)","v":false},{"$f":"+IF(LEN(home!$G$9)>0,instruments!F964=home!$G$9,TRUE)","v":false},2,{"$f":"+COUNTIF($L$1:L964,\"=\"&4)","v":67},"NE CRD 60 Corn Basis"]
["ZSBANE60.CM","cmdty NE CRD 60 Soybean Basis Idx","Soybean","Basis","Nebraska","District","NE CRD 60",{"$f":"+IF(LEN(home!$G$7)>0,instruments!C965=home!$G$7,TRUE)","v":false},true,{"$f":"+IF(LEN(home!$G$8)>0,instruments!E965=home!$G$8,TRUE)","v":false},{"$f":"+IF(LEN(home!$G$9)>0,instruments!F965=home!$G$9,TRUE)","v":false},1,{"$f":"+COUNTIF($L$1:L965,\"=\"&4)","v":67},"NE CRD 60 Soybean Basis"]
["ZCBANE70.CM","cmdty NE CRD 70 Corn Basis Idx","Corn","Basis","Nebraska","District","NE CRD 70",{"$f":"+IF(LEN(home!$G$7)>0,instruments!C966=home!$G$7,TRUE)","v":true},true,{"$f":"+IF(LEN(home!$G$8)>0,instruments!E966=home!$G$8,TRUE)","v":false},{"$f":"+IF(LEN(home!$G$9)>0,instruments!F966=home!$G$9,TRUE)","v":false},2,{"$f":"+COUNTIF($L$1:L966,\"=\"&4)","v":67},"NE CRD 70 Corn Basis"]
["ZSBANE70.CM","cmdty NE CRD 70 Soybean Basis Idx","Soybean","Basis","Nebraska","District","NE CRD 70",{"$f":"+IF(LEN(home!$G$7)>0,instruments!C967=home!$G$7,TRUE)","v":false},true,{"$f":"+IF(LEN(home!$G$8)>0,instruments!E967=home!$G$8,TRUE)","v":false},{"$f":"+IF(LEN(home!$G$9)>0,instruments!F967=home!$G$9,TRUE)","v":false},1,{"$f":"+COUNTIF($L$1:L967,\"=\"&4)","v":67},"NE CRD 70 Soybean Basis"]
["ZCBANE80.CM","cmdty NE CRD 80 Corn Basis Idx","Corn","Basis","Nebraska","District","NE CRD 80",{"$f":"+IF(LEN(home!$G$7)>0,instruments!C968=home!$G$7,TRUE)","v":true},true,{"$f":"+IF(LEN(home!$G$8)>0,instruments!E968=home!$G$8,TRUE)","v":false},{"$f":"+IF(LEN(home!$G$9)>0,instruments!F968=home!$G$9,TRUE)","v":false},2,{"$f":"+COUNTIF($L$1:L968,\"=\"&4)","v":67},"NE CRD 80 Corn Basis"]
["ZSBANE80.CM","cmdty NE CRD 80 Soybean Basis Idx","Soybean","Basis","Nebraska","District","NE CRD 80",{"$f":"+IF(LEN(home!$G$7)>0,instruments!C969=home!$G$7,TRUE)","v":false},true,{"$f":"+IF(LEN(home!$G$8)>0,instruments!E969=home!$G$8,TRUE)","v":false},{"$f":"+IF(LEN(home!$G$9)>0,instruments!F969=home!$G$9,TRUE)","v":false},1,{"$f":"+COUNTIF($L$1:L969,\"=\"&4)","v":67},"NE CRD 80 Soybean Basis"]
["ZCBANE90.CM","cmdty NE CRD 90 Corn Basis Idx","Corn","Basis","Nebraska","District","NE CRD 90",{"$f":"+IF(LEN(home!$G$7)>0,instruments!C970=home!$G$7,TRUE)","v":true},true,{"$f":"+IF(LEN(home!$G$8)>0,instruments!E970=home!$G$8,TRUE)","v":false},{"$f":"+IF(LEN(home!$G$9)>0,instruments!F970=home!$G$9,TRUE)","v":false},2,{"$f":"+COUNTIF($L$1:L970,\"=\"&4)","v":67},"NE CRD 90 Corn Basis"]
["ZSBANE90.CM","cmdty NE CRD 90 Soybean Basis Idx","Soybean","Basis","Nebraska","District","NE CRD 90",{"$f":"+IF(LEN(home!$G$7)>0,instruments!C971=home!$G$7,TRUE)","v":false},true,{"$f":"+IF(LEN(home!$G$8)>0,instruments!E971=home!$G$8,TRUE)","v":false},{"$f":"+IF(LEN(home!$G$9)>0,instruments!F971=home!$G$9,TRUE)","v":false},1,{"$f":"+COUNTIF($L$1:L971,\"=\"&4)","v":67},"NE CRD 90 Soybean Basis"]
["ZSBANDNE.CM","cmdty Nelson County, ND Soybean Basis Idx","Soybean","Basis","North Dakota","County","Nelson County",{"$f":"+IF(LEN(home!$G$7)>0,instruments!C972=home!$G$7,TRUE)","v":false},true,{"$f":"+IF(LEN(home!$G$8)>0,instruments!E972=home!$G$8,TRUE)","v":false},{"$f":"+IF(LEN(home!$G$9)>0,instruments!F972=home!$G$9,TRUE)","v":true},2,{"$f":"+COUNTIF($L$1:L972,\"=\"&4)","v":67},"Nelson County, ND Soybean Basis"]
["ZCBAKSNE.CM","cmdty Nemaha County, KS Corn Basis Idx","Corn","Basis","Kansas","County","Nemaha County",{"$f":"+IF(LEN(home!$G$7)>0,instruments!C973=home!$G$7,TRUE)","v":true},true,{"$f":"+IF(LEN(home!$G$8)>0,instruments!E973=home!$G$8,TRUE)","v":false},{"$f":"+IF(LEN(home!$G$9)>0,instruments!F973=home!$G$9,TRUE)","v":true},3,{"$f":"+COUNTIF($L$1:L973,\"=\"&4)","v":67},"Nemaha County, KS Corn Basis"]
["ZSBAKSNE.CM","cmdty Nemaha County, KS Soybean Basis Idx","Soybean","Basis","Kansas","County","Nemaha County",{"$f":"+IF(LEN(home!$G$7)>0,instruments!C974=home!$G$7,TRUE)","v":false},true,{"$f":"+IF(LEN(home!$G$8)>0,instruments!E974=home!$G$8,TRUE)","v":false},{"$f":"+IF(LEN(home!$G$9)>0,instruments!F974=home!$G$9,TRUE)","v":true},2,{"$f":"+COUNTIF($L$1:L974,\"=\"&4)","v":67},"Nemaha County, KS Soybean Basis"]
["ZCBAKSNA.CM","cmdty Neosho County, KS Corn Basis Idx","Corn","Basis","Kansas","County","Neosho County",{"$f":"+IF(LEN(home!$G$7)>0,instruments!C975=home!$G$7,TRUE)","v":true},true,{"$f":"+IF(LEN(home!$G$8)>0,instruments!E975=home!$G$8,TRUE)","v":false},{"$f":"+IF(LEN(home!$G$9)>0,instruments!F975=home!$G$9,TRUE)","v":true},3,{"$f":"+COUNTIF($L$1:L975,\"=\"&4)","v":67},"Neosho County, KS Corn Basis"]
["ZSBAKSNA.CM","cmdty Neosho County, KS Soybean Basis Idx","Soybean","Basis","Kansas","County","Neosho County",{"$f":"+IF(LEN(home!$G$7)>0,instruments!C976=home!$G$7,TRUE)","v":false},true,{"$f":"+IF(LEN(home!$G$8)>0,instruments!E976=home!$G$8,TRUE)","v":false},{"$f":"+IF(LEN(home!$G$9)>0,instruments!F976=home!$G$9,TRUE)","v":true},2,{"$f":"+COUNTIF($L$1:L976,\"=\"&4)","v":67},"Neosho County, KS Soybean Basis"]
["ZCBAKSNB.CM","cmdty Ness County, KS Corn Basis Idx","Corn","Basis","Kansas","County","Ness County",{"$f":"+IF(LEN(home!$G$7)>0,instruments!C977=home!$G$7,TRUE)","v":true},true,{"$f":"+IF(LEN(home!$G$8)>0,instruments!E977=home!$G$8,TRUE)","v":false},{"$f":"+IF(LEN(home!$G$9)>0,instruments!F977=home!$G$9,TRUE)","v":true},3,{"$f":"+COUNTIF($L$1:L977,\"=\"&4)","v":67},"Ness County, KS Corn Basis"]
["ZSBAKSNB.CM","cmdty Ness County, KS Soybean Basis Idx","Soybean","Basis","Kansas","County","Ness County",{"$f":"+IF(LEN(home!$G$7)>0,instruments!C978=home!$G$7,TRUE)","v":false},true,{"$f":"+IF(LEN(home!$G$8)>0,instruments!E978=home!$G$8,TRUE)","v":false},{"$f":"+IF(LEN(home!$G$9)>0,instruments!F978=home!$G$9,TRUE)","v":true},2,{"$f":"+COUNTIF($L$1:L978,\"=\"&4)","v":67},"Ness County, KS Soybean Basis"]
["ZCBAMONE.CM","cmdty New Madrid County, MO Corn Basis Idx","Corn","Basis","Missouri","County","New Madrid County",{"$f":"+IF(LEN(home!$G$7)>0,instruments!C979=home!$G$7,TRUE)","v":true},true,{"$f":"+IF(LEN(home!$G$8)>0,instruments!E979=home!$G$8,TRUE)","v":false},{"$f":"+IF(LEN(home!$G$9)>0,instruments!F979=home!$G$9,TRUE)","v":true},3,{"$f":"+COUNTIF($L$1:L979,\"=\"&4)","v":67},"New Madrid County, MO Corn Basis"]
["ZSBAMONE.CM","cmdty New Madrid County, MO Soybean Basis Idx","Soybean","Basis","Missouri","County","New Madrid County",{"$f":"+IF(LEN(home!$G$7)>0,instruments!C980=home!$G$7,TRUE)","v":false},true,{"$f":"+IF(LEN(home!$G$8)>0,instruments!E980=home!$G$8,TRUE)","v":false},{"$f":"+IF(LEN(home!$G$9)>0,instruments!F980=home!$G$9,TRUE)","v":true},2,{"$f":"+COUNTIF($L$1:L980,\"=\"&4)","v":67},"New Madrid County, MO Soybean Basis"]
["ZCBAINNE.CM","cmdty Newton County, IN Corn Basis Idx","Corn","Basis","Indiana","County","Newton County",{"$f":"+IF(LEN(home!$G$7)>0,instruments!C981=home!$G$7,TRUE)","v":true},true,{"$f":"+IF(LEN(home!$G$8)>0,instruments!E981=home!$G$8,TRUE)","v":false},{"$f":"+IF(LEN(home!$G$9)>0,instruments!F981=home!$G$9,TRUE)","v":true},3,{"$f":"+COUNTIF($L$1:L981,\"=\"&4)","v":67},"Newton County, IN Corn Basis"]
["ZSBAINNE.CM","cmdty Newton County, IN Soybean Basis Idx","Soybean","Basis","Indiana","County","Newton County",{"$f":"+IF(LEN(home!$G$7)>0,instruments!C982=home!$G$7,TRUE)","v":false},true,{"$f":"+IF(LEN(home!$G$8)>0,instruments!E982=home!$G$8,TRUE)","v":false},{"$f":"+IF(LEN(home!$G$9)>0,instruments!F982=home!$G$9,TRUE)","v":true},2,{"$f":"+COUNTIF($L$1:L982,\"=\"&4)","v":67},"Newton County, IN Soybean Basis"]
["ZCBAMNNI.CM","cmdty Nicollet County, MN Corn Basis Idx","Corn","Basis","Minnesota","County","Nicollet County",{"$f":"+IF(LEN(home!$G$7)>0,instruments!C983=home!$G$7,TRUE)","v":true},true,{"$f":"+IF(LEN(home!$G$8)>0,instruments!E983=home!$G$8,TRUE)","v":false},{"$f":"+IF(LEN(home!$G$9)>0,instruments!F983=home!$G$9,TRUE)","v":true},3,{"$f":"+COUNTIF($L$1:L983,\"=\"&4)","v":67},"Nicollet County, MN Corn Basis"]
["ZSBAMNNI.CM","cmdty Nicollet County, MN Soybean Basis Idx","Soybean","Basis","Minnesota","County","Nicollet County",{"$f":"+IF(LEN(home!$G$7)>0,instruments!C984=home!$G$7,TRUE)","v":false},true,{"$f":"+IF(LEN(home!$G$8)>0,instruments!E984=home!$G$8,TRUE)","v":false},{"$f":"+IF(LEN(home!$G$9)>0,instruments!F984=home!$G$9,TRUE)","v":true},2,{"$f":"+COUNTIF($L$1:L984,\"=\"&4)","v":67},"Nicollet County, MN Soybean Basis"]
["ZCBAINNO.CM","cmdty Noble County, IN Corn Basis Idx","Corn","Basis","Indiana","County","Noble County",{"$f":"+IF(LEN(home!$G$7)>0,instruments!C985=home!$G$7,TRUE)","v":true},true,{"$f":"+IF(LEN(home!$G$8)>0,instruments!E985=home!$G$8,TRUE)","v":false},{"$f":"+IF(LEN(home!$G$9)>0,instruments!F985=home!$G$9,TRUE)","v":true},3,{"$f":"+COUNTIF($L$1:L985,\"=\"&4)","v":67},"Noble County, IN Corn Basis"]
["ZSBAINNO.CM","cmdty Noble County, IN Soybean Basis Idx","Soybean","Basis","Indiana","County","Noble County",{"$f":"+IF(LEN(home!$G$7)>0,instruments!C986=home!$G$7,TRUE)","v":false},true,{"$f":"+IF(LEN(home!$G$8)>0,instruments!E986=home!$G$8,TRUE)","v":false},{"$f":"+IF(LEN(home!$G$9)>0,instruments!F986=home!$G$9,TRUE)","v":true},2,{"$f":"+COUNTIF($L$1:L986,\"=\"&4)","v":67},"Noble County, IN Soybean Basis"]
["ZCBAMNNO.CM","cmdty Nobles County, MN Corn Basis Idx","Corn","Basis","Minnesota","County","Nobles County",{"$f":"+IF(LEN(home!$G$7)>0,instruments!C987=home!$G$7,TRUE)","v":true},true,{"$f":"+IF(LEN(home!$G$8)>0,instruments!E987=home!$G$8,TRUE)","v":false},{"$f":"+IF(LEN(home!$G$9)>0,instruments!F987=home!$G$9,TRUE)","v":true},3,{"$f":"+COUNTIF($L$1:L987,\"=\"&4)","v":67},"Nobles County, MN Corn Basis"]
["ZSBAMNNO.CM","cmdty Nobles County, MN Soybean Basis Idx","Soybean","Basis","Minnesota","County","Nobles County",{"$f":"+IF(LEN(home!$G$7)>0,instruments!C988=home!$G$7,TRUE)","v":false},true,{"$f":"+IF(LEN(home!$G$8)>0,instruments!E988=home!$G$8,TRUE)","v":false},{"$f":"+IF(LEN(home!$G$9)>0,instruments!F988=home!$G$9,TRUE)","v":true},2,{"$f":"+COUNTIF($L$1:L988,\"=\"&4)","v":67},"Nobles County, MN Soybean Basis"]
["ZCBAMONO.CM","cmdty Nodaway County, MO Corn Basis Idx","Corn","Basis","Missouri","County","Nodaway County",{"$f":"+IF(LEN(home!$G$7)>0,instruments!C989=home!$G$7,TRUE)","v":true},true,{"$f":"+IF(LEN(home!$G$8)>0,instruments!E989=home!$G$8,TRUE)","v":false},{"$f":"+IF(LEN(home!$G$9)>0,instruments!F989=home!$G$9,TRUE)","v":true},3,{"$f":"+COUNTIF($L$1:L989,\"=\"&4)","v":67},"Nodaway County, MO Corn Basis"]
["ZSBAMONO.CM","cmdty Nodaway County, MO Soybean Basis Idx","Soybean","Basis","Missouri","County","Nodaway County",{"$f":"+IF(LEN(home!$G$7)>0,instruments!C990=home!$G$7,TRUE)","v":false},true,{"$f":"+IF(LEN(home!$G$8)>0,instruments!E990=home!$G$8,TRUE)","v":false},{"$f":"+IF(LEN(home!$G$9)>0,instruments!F990=home!$G$9,TRUE)","v":true},2,{"$f":"+COUNTIF($L$1:L990,\"=\"&4)","v":67},"Nodaway County, MO Soybean Basis"]
["ZCBAMNNA.CM","cmdty Norman County, MN Corn Basis Idx","Corn","Basis","Minnesota","County","Norman County",{"$f":"+IF(LEN(home!$G$7)>0,instruments!C991=home!$G$7,TRUE)","v":true},true,{"$f":"+IF(LEN(home!$G$8)>0,instruments!E991=home!$G$8,TRUE)","v":false},{"$f":"+IF(LEN(home!$G$9)>0,instruments!F991=home!$G$9,TRUE)","v":true},3,{"$f":"+COUNTIF($L$1:L991,\"=\"&4)","v":67},"Norman County, MN Corn Basis"]
["ZSBAMNNA.CM","cmdty Norman County, MN Soybean Basis Idx","Soybean","Basis","Minnesota","County","Norman County",{"$f":"+IF(LEN(home!$G$7)>0,instruments!C992=home!$G$7,TRUE)","v":false},true,{"$f":"+IF(LEN(home!$G$8)>0,instruments!E992=home!$G$8,TRUE)","v":false},{"$f":"+IF(LEN(home!$G$9)>0,instruments!F992=home!$G$9,TRUE)","v":true},2,{"$f":"+COUNTIF($L$1:L992,\"=\"&4)","v":67},"Norman County, MN Soybean Basis"]
["ZSBAND.CM","cmdty North Dakota Soybean Basis Idx","Soybean","Basis","North Dakota","State","North Dakota",{"$f":"+IF(LEN(home!$G$7)>0,instruments!C993=home!$G$7,TRUE)","v":false},true,{"$f":"+IF(LEN(home!$G$8)>0,instruments!E993=home!$G$8,TRUE)","v":false},{"$f":"+IF(LEN(home!$G$9)>0,instruments!F993=home!$G$9,TRUE)","v":false},1,{"$f":"+COUNTIF($L$1:L993,\"=\"&4)","v":67},"North Dakota Soybean Basis"]
["ZCBAKSNO.CM","cmdty Norton County, KS Corn Basis Idx","Corn","Basis","Kansas","County","Norton County",{"$f":"+IF(LEN(home!$G$7)>0,instruments!C994=home!$G$7,TRUE)","v":true},true,{"$f":"+IF(LEN(home!$G$8)>0,instruments!E994=home!$G$8,TRUE)","v":false},{"$f":"+IF(LEN(home!$G$9)>0,instruments!F994=home!$G$9,TRUE)","v":true},3,{"$f":"+COUNTIF($L$1:L994,\"=\"&4)","v":67},"Norton County, KS Corn Basis"]
["ZSBAKSNO.CM","cmdty Norton County, KS Soybean Basis Idx","Soybean","Basis","Kansas","County","Norton County",{"$f":"+IF(LEN(home!$G$7)>0,instruments!C995=home!$G$7,TRUE)","v":false},true,{"$f":"+IF(LEN(home!$G$8)>0,instruments!E995=home!$G$8,TRUE)","v":false},{"$f":"+IF(LEN(home!$G$9)>0,instruments!F995=home!$G$9,TRUE)","v":true},2,{"$f":"+COUNTIF($L$1:L995,\"=\"&4)","v":67},"Norton County, KS Soybean Basis"]
["ZCBANENU.CM","cmdty Nuckolls County, NE Corn Basis Idx","Corn","Basis","Nebraska","County","Nuckolls County",{"$f":"+IF(LEN(home!$G$7)>0,instruments!C996=home!$G$7,TRUE)","v":true},true,{"$f":"+IF(LEN(home!$G$8)>0,instruments!E996=home!$G$8,TRUE)","v":false},{"$f":"+IF(LEN(home!$G$9)>0,instruments!F996=home!$G$9,TRUE)","v":true},3,{"$f":"+COUNTIF($L$1:L996,\"=\"&4)","v":67},"Nuckolls County, NE Corn Basis"]
["ZSBANENU.CM","cmdty Nuckolls County, NE Soybean Basis Idx","Soybean","Basis","Nebraska","County","Nuckolls County",{"$f":"+IF(LEN(home!$G$7)>0,instruments!C997=home!$G$7,TRUE)","v":false},true,{"$f":"+IF(LEN(home!$G$8)>0,instruments!E997=home!$G$8,TRUE)","v":false},{"$f":"+IF(LEN(home!$G$9)>0,instruments!F997=home!$G$9,TRUE)","v":true},2,{"$f":"+COUNTIF($L$1:L997,\"=\"&4)","v":67},"Nuckolls County, NE Soybean Basis"]
["ZCBAILOG.CM","cmdty Ogle County, IL Corn Basis Idx","Corn","Basis","Illinois","County","Ogle County",{"$f":"+IF(LEN(home!$G$7)>0,instruments!C998=home!$G$7,TRUE)","v":true},true,{"$f":"+IF(LEN(home!$G$8)>0,instruments!E998=home!$G$8,TRUE)","v":false},{"$f":"+IF(LEN(home!$G$9)>0,instruments!F998=home!$G$9,TRUE)","v":true},3,{"$f":"+COUNTIF($L$1:L998,\"=\"&4)","v":67},"Ogle County, IL Corn Basis"]
["ZSBAILOG.CM","cmdty Ogle County, IL Soybean Basis Idx","Soybean","Basis","Illinois","County","Ogle County",{"$f":"+IF(LEN(home!$G$7)>0,instruments!C999=home!$G$7,TRUE)","v":false},true,{"$f":"+IF(LEN(home!$G$8)>0,instruments!E999=home!$G$8,TRUE)","v":false},{"$f":"+IF(LEN(home!$G$9)>0,instruments!F999=home!$G$9,TRUE)","v":true},2,{"$f":"+COUNTIF($L$1:L999,\"=\"&4)","v":67},"Ogle County, IL Soybean Basis"]
["ZSBAOH10.CM","cmdty OH CRD 10 Soybean Basis Idx","Soybean","Basis","Ohio","District","OH CRD 10",{"$f":"+IF(LEN(home!$G$7)>0,instruments!C1000=home!$G$7,TRUE)","v":false},true,{"$f":"+IF(LEN(home!$G$8)>0,instruments!E1000=home!$G$8,TRUE)","v":false},{"$f":"+IF(LEN(home!$G$9)>0,instruments!F1000=home!$G$9,TRUE)","v":false},1,{"$f":"+COUNTIF($L$1:L1000,\"=\"&4)","v":67},"OH CRD 10 Soybean Basis"]
["ZSBAOH20.CM","cmdty OH CRD 20 Soybean Basis Idx","Soybean","Basis","Ohio","District","OH CRD 20",{"$f":"+IF(LEN(home!$G$7)>0,instruments!C1001=home!$G$7,TRUE)","v":false},true,{"$f":"+IF(LEN(home!$G$8)>0,instruments!E1001=home!$G$8,TRUE)","v":false},{"$f":"+IF(LEN(home!$G$9)>0,instruments!F1001=home!$G$9,TRUE)","v":false},1,{"$f":"+COUNTIF($L$1:L1001,\"=\"&4)","v":67},"OH CRD 20 Soybean Basis"]
["ZSBAOH30.CM","cmdty OH CRD 30 Soybean Basis Idx","Soybean","Basis","Ohio","District","OH CRD 30",{"$f":"+IF(LEN(home!$G$7)>0,instruments!C1002=home!$G$7,TRUE)","v":false},true,{"$f":"+IF(LEN(home!$G$8)>0,instruments!E1002=home!$G$8,TRUE)","v":false},{"$f":"+IF(LEN(home!$G$9)>0,instruments!F1002=home!$G$9,TRUE)","v":false},1,{"$f":"+COUNTIF($L$1:L1002,\"=\"&4)","v":67},"OH CRD 30 Soybean Basis"]
["ZSBAOH40.CM","cmdty OH CRD 40 Soybean Basis Idx","Soybean","Basis","Ohio","District","OH CRD 40",{"$f":"+IF(LEN(home!$G$7)>0,instruments!C1003=home!$G$7,TRUE)","v":false},true,{"$f":"+IF(LEN(home!$G$8)>0,instruments!E1003=home!$G$8,TRUE)","v":false},{"$f":"+IF(LEN(home!$G$9)>0,instruments!F1003=home!$G$9,TRUE)","v":false},1,{"$f":"+COUNTIF($L$1:L1003,\"=\"&4)","v":67},"OH CRD 40 Soybean Basis"]
["ZSBAOH50.CM","cmdty OH CRD 50 Soybean Basis Idx","Soybean","Basis","Ohio","District","OH CRD 50",{"$f":"+IF(LEN(home!$G$7)>0,instruments!C1004=home!$G$7,TRUE)","v":false},true,{"$f":"+IF(LEN(home!$G$8)>0,instruments!E1004=home!$G$8,TRUE)","v":false},{"$f":"+IF(LEN(home!$G$9)>0,instruments!F1004=home!$G$9,TRUE)","v":false},1,{"$f":"+COUNTIF($L$1:L1004,\"=\"&4)","v":67},"OH CRD 50 Soybean Basis"]
["ZSBAOH60.CM","cmdty OH CRD 60 Soybean Basis Idx","Soybean","Basis","Ohio","District","OH CRD 60",{"$f":"+IF(LEN(home!$G$7)>0,instruments!C1005=home!$G$7,TRUE)","v":false},true,{"$f":"+IF(LEN(home!$G$8)>0,instruments!E1005=home!$G$8,TRUE)","v":false},{"$f":"+IF(LEN(home!$G$9)>0,instruments!F1005=home!$G$9,TRUE)","v":false},1,{"$f":"+COUNTIF($L$1:L1005,\"=\"&4)","v":67},"OH CRD 60 Soybean Basis"]
["ZSBAOH70.CM","cmdty OH CRD 70 Soybean Basis Idx","Soybean","Basis","Ohio","District","OH CRD 70",{"$f":"+IF(LEN(home!$G$7)>0,instruments!C1006=home!$G$7,TRUE)","v":false},true,{"$f":"+IF(LEN(home!$G$8)>0,instruments!E1006=home!$G$8,TRUE)","v":false},{"$f":"+IF(LEN(home!$G$9)>0,instruments!F1006=home!$G$9,TRUE)","v":false},1,{"$f":"+COUNTIF($L$1:L1006,\"=\"&4)","v":67},"OH CRD 70 Soybean Basis"]
["ZSBAOH80.CM","cmdty OH CRD 80 Soybean Basis Idx","Soybean","Basis","Ohio","District","OH CRD 80",{"$f":"+IF(LEN(home!$G$7)>0,instruments!C1007=home!$G$7,TRUE)","v":false},true,{"$f":"+IF(LEN(home!$G$8)>0,instruments!E1007=home!$G$8,TRUE)","v":false},{"$f":"+IF(LEN(home!$G$9)>0,instruments!F1007=home!$G$9,TRUE)","v":false},1,{"$f":"+COUNTIF($L$1:L1007,\"=\"&4)","v":67},"OH CRD 80 Soybean Basis"]
["ZSBAOH.CM","cmdty Ohio Soybean Basis Idx","Soybean","Basis","Ohio","State","Ohio",{"$f":"+IF(LEN(home!$G$7)>0,instruments!C1008=home!$G$7,TRUE)","v":false},true,{"$f":"+IF(LEN(home!$G$8)>0,instruments!E1008=home!$G$8,TRUE)","v":false},{"$f":"+IF(LEN(home!$G$9)>0,instruments!F1008=home!$G$9,TRUE)","v":false},1,{"$f":"+COUNTIF($L$1:L1008,\"=\"&4)","v":67},"Ohio Soybean Basis"]
["ZSBANDOL.CM","cmdty Oliver County, ND Soybean Basis Idx","Soybean","Basis","North Dakota","County","Oliver County",{"$f":"+IF(LEN(home!$G$7)>0,instruments!C1009=home!$G$7,TRUE)","v":false},true,{"$f":"+IF(LEN(home!$G$8)>0,instruments!E1009=home!$G$8,TRUE)","v":false},{"$f":"+IF(LEN(home!$G$9)>0,instruments!F1009=home!$G$9,TRUE)","v":true},2,{"$f":"+COUNTIF($L$1:L1009,\"=\"&4)","v":67},"Oliver County, ND Soybean Basis"]
["ZCBAMNOL.CM","cmdty Olmsted County, MN Corn Basis Idx","Corn","Basis","Minnesota","County","Olmsted County",{"$f":"+IF(LEN(home!$G$7)>0,instruments!C1010=home!$G$7,TRUE)","v":true},true,{"$f":"+IF(LEN(home!$G$8)>0,instruments!E1010=home!$G$8,TRUE)","v":false},{"$f":"+IF(LEN(home!$G$9)>0,instruments!F1010=home!$G$9,TRUE)","v":true},3,{"$f":"+COUNTIF($L$1:L1010,\"=\"&4)","v":67},"Olmsted County, MN Corn Basis"]
["ZSBAMNOL.CM","cmdty Olmsted County, MN Soybean Basis Idx","Soybean","Basis","Minnesota","County","Olmsted County",{"$f":"+IF(LEN(home!$G$7)>0,instruments!C1011=home!$G$7,TRUE)","v":false},true,{"$f":"+IF(LEN(home!$G$8)>0,instruments!E1011=home!$G$8,TRUE)","v":false},{"$f":"+IF(LEN(home!$G$9)>0,instruments!F1011=home!$G$9,TRUE)","v":true},2,{"$f":"+COUNTIF($L$1:L1011,\"=\"&4)","v":67},"Olmsted County, MN Soybean Basis"]
["ZCBAKSOS.CM","cmdty Osage County, KS Corn Basis Idx","Corn","Basis","Kansas","County","Osage County",{"$f":"+IF(LEN(home!$G$7)>0,instruments!C1012=home!$G$7,TRUE)","v":true},true,{"$f":"+IF(LEN(home!$G$8)>0,instruments!E1012=home!$G$8,TRUE)","v":false},{"$f":"+IF(LEN(home!$G$9)>0,instruments!F1012=home!$G$9,TRUE)","v":true},3,{"$f":"+COUNTIF($L$1:L1012,\"=\"&4)","v":67},"Osage County, KS Corn Basis"]
["ZSBAKSOS.CM","cmdty Osage County, KS Soybean Basis Idx","Soybean","Basis","Kansas","County","Osage County",{"$f":"+IF(LEN(home!$G$7)>0,instruments!C1013=home!$G$7,TRUE)","v":false},true,{"$f":"+IF(LEN(home!$G$8)>0,instruments!E1013=home!$G$8,TRUE)","v":false},{"$f":"+IF(LEN(home!$G$9)>0,instruments!F1013=home!$G$9,TRUE)","v":true},2,{"$f":"+COUNTIF($L$1:L1013,\"=\"&4)","v":67},"Osage County, KS Soybean Basis"]
["ZCBAKSOA.CM","cmdty Osborne County, KS Corn Basis Idx","Corn","Basis","Kansas","County","Osborne County",{"$f":"+IF(LEN(home!$G$7)>0,instruments!C1014=home!$G$7,TRUE)","v":true},true,{"$f":"+IF(LEN(home!$G$8)>0,instruments!E1014=home!$G$8,TRUE)","v":false},{"$f":"+IF(LEN(home!$G$9)>0,instruments!F1014=home!$G$9,TRUE)","v":true},3,{"$f":"+COUNTIF($L$1:L1014,\"=\"&4)","v":67},"Osborne County, KS Corn Basis"]
["ZSBAKSOA.CM","cmdty Osborne County, KS Soybean Basis Idx","Soybean","Basis","Kansas","County","Osborne County",{"$f":"+IF(LEN(home!$G$7)>0,instruments!C1015=home!$G$7,TRUE)","v":false},true,{"$f":"+IF(LEN(home!$G$8)>0,instruments!E1015=home!$G$8,TRUE)","v":false},{"$f":"+IF(LEN(home!$G$9)>0,instruments!F1015=home!$G$9,TRUE)","v":true},2,{"$f":"+COUNTIF($L$1:L1015,\"=\"&4)","v":67},"Osborne County, KS Soybean Basis"]
["ZCBAIAOS.CM","cmdty Osceola County, IA Corn Basis Idx","Corn","Basis","Iowa","County","Osceola County",{"$f":"+IF(LEN(home!$G$7)>0,instruments!C1016=home!$G$7,TRUE)","v":true},true,{"$f":"+IF(LEN(home!$G$8)>0,instruments!E1016=home!$G$8,TRUE)","v":true},{"$f":"+IF(LEN(home!$G$9)>0,instruments!F1016=home!$G$9,TRUE)","v":true},4,{"$f":"+COUNTIF($L$1:L1016,\"=\"&4)","v":68},"Osceola County, IA Corn Basis"]
["ZSBAIAOS.CM","cmdty Osceola County, IA Soybean Basis Idx","Soybean","Basis","Iowa","County","Osceola County",{"$f":"+IF(LEN(home!$G$7)>0,instruments!C1017=home!$G$7,TRUE)","v":false},true,{"$f":"+IF(LEN(home!$G$8)>0,instruments!E1017=home!$G$8,TRUE)","v":true},{"$f":"+IF(LEN(home!$G$9)>0,instruments!F1017=home!$G$9,TRUE)","v":true},3,{"$f":"+COUNTIF($L$1:L1017,\"=\"&4)","v":68},"Osceola County, IA Soybean Basis"]
["ZCBANEOT.CM","cmdty Otoe County, NE Corn Basis Idx","Corn","Basis","Nebraska","County","Otoe County",{"$f":"+IF(LEN(home!$G$7)>0,instruments!C1018=home!$G$7,TRUE)","v":true},true,{"$f":"+IF(LEN(home!$G$8)>0,instruments!E1018=home!$G$8,TRUE)","v":false},{"$f":"+IF(LEN(home!$G$9)>0,instruments!F1018=home!$G$9,TRUE)","v":true},3,{"$f":"+COUNTIF($L$1:L1018,\"=\"&4)","v":68},"Otoe County, NE Corn Basis"]
["ZSBANEOT.CM","cmdty Otoe County, NE Soybean Basis Idx","Soybean","Basis","Nebraska","County","Otoe County",{"$f":"+IF(LEN(home!$G$7)>0,instruments!C1019=home!$G$7,TRUE)","v":false},true,{"$f":"+IF(LEN(home!$G$8)>0,instruments!E1019=home!$G$8,TRUE)","v":false},{"$f":"+IF(LEN(home!$G$9)>0,instruments!F1019=home!$G$9,TRUE)","v":true},2,{"$f":"+COUNTIF($L$1:L1019,\"=\"&4)","v":68},"Otoe County, NE Soybean Basis"]
["ZCBAKSOT.CM","cmdty Ottawa County, KS Corn Basis Idx","Corn","Basis","Kansas","County","Ottawa County",{"$f":"+IF(LEN(home!$G$7)>0,instruments!C1020=home!$G$7,TRUE)","v":true},true,{"$f":"+IF(LEN(home!$G$8)>0,instruments!E1020=home!$G$8,TRUE)","v":false},{"$f":"+IF(LEN(home!$G$9)>0,instruments!F1020=home!$G$9,TRUE)","v":true},3,{"$f":"+COUNTIF($L$1:L1020,\"=\"&4)","v":68},"Ottawa County, KS Corn Basis"]
["ZSBAKSOT.CM","cmdty Ottawa County, KS Soybean Basis Idx","Soybean","Basis","Kansas","County","Ottawa County",{"$f":"+IF(LEN(home!$G$7)>0,instruments!C1021=home!$G$7,TRUE)","v":false},true,{"$f":"+IF(LEN(home!$G$8)>0,instruments!E1021=home!$G$8,TRUE)","v":false},{"$f":"+IF(LEN(home!$G$9)>0,instruments!F1021=home!$G$9,TRUE)","v":true},2,{"$f":"+COUNTIF($L$1:L1021,\"=\"&4)","v":68},"Ottawa County, KS Soybean Basis"]
["ZSBAOHOT.CM","cmdty Ottawa County, OH Soybean Basis Idx","Soybean","Basis","Ohio","County","Ottawa County",{"$f":"+IF(LEN(home!$G$7)>0,instruments!C1022=home!$G$7,TRUE)","v":false},true,{"$f":"+IF(LEN(home!$G$8)>0,instruments!E1022=home!$G$8,TRUE)","v":false},{"$f":"+IF(LEN(home!$G$9)>0,instruments!F1022=home!$G$9,TRUE)","v":true},2,{"$f":"+COUNTIF($L$1:L1022,\"=\"&4)","v":68},"Ottawa County, OH Soybean Basis"]
["ZCBAMNOT.CM","cmdty Otter Tail County, MN Corn Basis Idx","Corn","Basis","Minnesota","County","Otter Tail County",{"$f":"+IF(LEN(home!$G$7)>0,instruments!C1023=home!$G$7,TRUE)","v":true},true,{"$f":"+IF(LEN(home!$G$8)>0,instruments!E1023=home!$G$8,TRUE)","v":false},{"$f":"+IF(LEN(home!$G$9)>0,instruments!F1023=home!$G$9,TRUE)","v":true},3,{"$f":"+COUNTIF($L$1:L1023,\"=\"&4)","v":68},"Otter Tail County, MN Corn Basis"]
["ZSBAMNOT.CM","cmdty Otter Tail County, MN Soybean Basis Idx","Soybean","Basis","Minnesota","County","Otter Tail County",{"$f":"+IF(LEN(home!$G$7)>0,instruments!C1024=home!$G$7,TRUE)","v":false},true,{"$f":"+IF(LEN(home!$G$8)>0,instruments!E1024=home!$G$8,TRUE)","v":false},{"$f":"+IF(LEN(home!$G$9)>0,instruments!F1024=home!$G$9,TRUE)","v":true},2,{"$f":"+COUNTIF($L$1:L1024,\"=\"&4)","v":68},"Otter Tail County, MN Soybean Basis"]
["ZCBAIAPA.CM","cmdty Page County, IA Corn Basis Idx","Corn","Basis","Iowa","County","Page County",{"$f":"+IF(LEN(home!$G$7)>0,instruments!C1025=home!$G$7,TRUE)","v":true},true,{"$f":"+IF(LEN(home!$G$8)>0,instruments!E1025=home!$G$8,TRUE)","v":true},{"$f":"+IF(LEN(home!$G$9)>0,instruments!F1025=home!$G$9,TRUE)","v":true},4,{"$f":"+COUNTIF($L$1:L1025,\"=\"&4)","v":69},"Page County, IA Corn Basis"]
["ZSBAIAPA.CM","cmdty Page County, IA Soybean Basis Idx","Soybean","Basis","Iowa","County","Page County",{"$f":"+IF(LEN(home!$G$7)>0,instruments!C1026=home!$G$7,TRUE)","v":false},true,{"$f":"+IF(LEN(home!$G$8)>0,instruments!E1026=home!$G$8,TRUE)","v":true},{"$f":"+IF(LEN(home!$G$9)>0,instruments!F1026=home!$G$9,TRUE)","v":true},{"$f":"+COUNTIF(H1026:K1026,TRUE)","v":3},{"$f":"+COUNTIF($L$1:L1026,\"=\"&4)","v":69},"Page County, IA Soybean Basis"]
["ZCBAIAPB.CM","cmdty Palo Alto County, IA Corn Basis Idx","Corn","Basis","Iowa","County","Palo Alto County",{"$f":"+IF(LEN(home!$G$7)>0,instruments!C1027=home!$G$7,TRUE)","v":true},{"$f":"+D1027=\"Basis\"","v":true},{"$f":"+IF(LEN(home!$G$8)>0,instruments!E1027=home!$G$8,TRUE)","v":true},{"$f":"+IF(LEN(home!$G$9)>0,instruments!F1027=home!$G$9,TRUE)","v":true},4,{"$f":"+COUNTIF($L$1:L1027,\"=\"&4)","v":70},{"$f":"+MID(B1027,FIND(\" \",B1027,1)+1,LEN(B1027)-FIND(\" \",B1027,1)-4)","v":"Palo Alto County, IA Corn Basis"}]
["ZSBAIAPB.CM","cmdty Palo Alto County, IA Soybean Basis Idx","Soybean","Basis","Iowa","County","Palo Alto County",{"$f":"+IF(LEN(home!$G$7)>0,instruments!C1028=home!$G$7,TRUE)","v":false},true,{"$f":"+IF(LEN(home!$G$8)>0,instruments!E1028=home!$G$8,TRUE)","v":true},{"$f":"+IF(LEN(home!$G$9)>0,instruments!F1028=home!$G$9,TRUE)","v":true},3,{"$f":"+COUNTIF($L$1:L1028,\"=\"&4)","v":70},"Palo Alto County, IA Soybean Basis"]
["ZSBAOHPA.CM","cmdty Paulding County, OH Soybean Basis Idx","Soybean","Basis","Ohio","County","Paulding County",{"$f":"+IF(LEN(home!$G$7)>0,instruments!C1029=home!$G$7,TRUE)","v":false},true,{"$f":"+IF(LEN(home!$G$8)>0,instruments!E1029=home!$G$8,TRUE)","v":false},{"$f":"+IF(LEN(home!$G$9)>0,instruments!F1029=home!$G$9,TRUE)","v":true},2,{"$f":"+COUNTIF($L$1:L1029,\"=\"&4)","v":70},"Paulding County, OH Soybean Basis"]
["ZCBAKSPA.CM","cmdty Pawnee County, KS Corn Basis Idx","Corn","Basis","Kansas","County","Pawnee County",{"$f":"+IF(LEN(home!$G$7)>0,instruments!C1030=home!$G$7,TRUE)","v":true},true,{"$f":"+IF(LEN(home!$G$8)>0,instruments!E1030=home!$G$8,TRUE)","v":false},{"$f":"+IF(LEN(home!$G$9)>0,instruments!F1030=home!$G$9,TRUE)","v":true},3,{"$f":"+COUNTIF($L$1:L1030,\"=\"&4)","v":70},"Pawnee County, KS Corn Basis"]
["ZSBAKSPA.CM","cmdty Pawnee County, KS Soybean Basis Idx","Soybean","Basis","Kansas","County","Pawnee County",{"$f":"+IF(LEN(home!$G$7)>0,instruments!C1031=home!$G$7,TRUE)","v":false},true,{"$f":"+IF(LEN(home!$G$8)>0,instruments!E1031=home!$G$8,TRUE)","v":false},{"$f":"+IF(LEN(home!$G$9)>0,instruments!F1031=home!$G$9,TRUE)","v":true},2,{"$f":"+COUNTIF($L$1:L1031,\"=\"&4)","v":70},"Pawnee County, KS Soybean Basis"]
["ZCBANEPA.CM","cmdty Pawnee County, NE Corn Basis Idx","Corn","Basis","Nebraska","County","Pawnee County",{"$f":"+IF(LEN(home!$G$7)>0,instruments!C1032=home!$G$7,TRUE)","v":true},true,{"$f":"+IF(LEN(home!$G$8)>0,instruments!E1032=home!$G$8,TRUE)","v":false},{"$f":"+IF(LEN(home!$G$9)>0,instruments!F1032=home!$G$9,TRUE)","v":true},3,{"$f":"+COUNTIF($L$1:L1032,\"=\"&4)","v":70},"Pawnee County, NE Corn Basis"]
["ZSBANEPA.CM","cmdty Pawnee County, NE Soybean Basis Idx","Soybean","Basis","Nebraska","County","Pawnee County",{"$f":"+IF(LEN(home!$G$7)>0,instruments!C1033=home!$G$7,TRUE)","v":false},true,{"$f":"+IF(LEN(home!$G$8)>0,instruments!E1033=home!$G$8,TRUE)","v":false},{"$f":"+IF(LEN(home!$G$9)>0,instruments!F1033=home!$G$9,TRUE)","v":true},2,{"$f":"+COUNTIF($L$1:L1033,\"=\"&4)","v":70},"Pawnee County, NE Soybean Basis"]
["ZSBANDPE.CM","cmdty Pembina County, ND Soybean Basis Idx","Soybean","Basis","North Dakota","County","Pembina County",{"$f":"+IF(LEN(home!$G$7)>0,instruments!C1034=home!$G$7,TRUE)","v":false},true,{"$f":"+IF(LEN(home!$G$8)>0,instruments!E1034=home!$G$8,TRUE)","v":false},{"$f":"+IF(LEN(home!$G$9)>0,instruments!F1034=home!$G$9,TRUE)","v":true},2,{"$f":"+COUNTIF($L$1:L1034,\"=\"&4)","v":70},"Pembina County, ND Soybean Basis"]
["ZCBAMOPE.CM","cmdty Pemiscot County, MO Corn Basis Idx","Corn","Basis","Missouri","County","Pemiscot County",{"$f":"+IF(LEN(home!$G$7)>0,instruments!C1035=home!$G$7,TRUE)","v":true},true,{"$f":"+IF(LEN(home!$G$8)>0,instruments!E1035=home!$G$8,TRUE)","v":false},{"$f":"+IF(LEN(home!$G$9)>0,instruments!F1035=home!$G$9,TRUE)","v":true},3,{"$f":"+COUNTIF($L$1:L1035,\"=\"&4)","v":70},"Pemiscot County, MO Corn Basis"]
["ZSBAMOPE.CM","cmdty Pemiscot County, MO Soybean Basis Idx","Soybean","Basis","Missouri","County","Pemiscot County",{"$f":"+IF(LEN(home!$G$7)>0,instruments!C1036=home!$G$7,TRUE)","v":false},true,{"$f":"+IF(LEN(home!$G$8)>0,instruments!E1036=home!$G$8,TRUE)","v":false},{"$f":"+IF(LEN(home!$G$9)>0,instruments!F1036=home!$G$9,TRUE)","v":true},2,{"$f":"+COUNTIF($L$1:L1036,\"=\"&4)","v":70},"Pemiscot County, MO Soybean Basis"]
["ZCBAMNPE.CM","cmdty Pennington County, MN Corn Basis Idx","Corn","Basis","Minnesota","County","Pennington County",{"$f":"+IF(LEN(home!$G$7)>0,instruments!C1037=home!$G$7,TRUE)","v":true},true,{"$f":"+IF(LEN(home!$G$8)>0,instruments!E1037=home!$G$8,TRUE)","v":false},{"$f":"+IF(LEN(home!$G$9)>0,instruments!F1037=home!$G$9,TRUE)","v":true},3,{"$f":"+COUNTIF($L$1:L1037,\"=\"&4)","v":70},"Pennington County, MN Corn Basis"]
["ZSBAMNPE.CM","cmdty Pennington County, MN Soybean Basis Idx","Soybean","Basis","Minnesota","County","Pennington County",{"$f":"+IF(LEN(home!$G$7)>0,instruments!C1038=home!$G$7,TRUE)","v":false},true,{"$f":"+IF(LEN(home!$G$8)>0,instruments!E1038=home!$G$8,TRUE)","v":false},{"$f":"+IF(LEN(home!$G$9)>0,instruments!F1038=home!$G$9,TRUE)","v":true},2,{"$f":"+COUNTIF($L$1:L1038,\"=\"&4)","v":70},"Pennington County, MN Soybean Basis"]
["ZCBASDPE.CM","cmdty Pennington County, SD Corn Basis Idx","Corn","Basis","South Dakota","County","Pennington County",{"$f":"+IF(LEN(home!$G$7)>0,instruments!C1039=home!$G$7,TRUE)","v":true},true,{"$f":"+IF(LEN(home!$G$8)>0,instruments!E1039=home!$G$8,TRUE)","v":false},{"$f":"+IF(LEN(home!$G$9)>0,instruments!F1039=home!$G$9,TRUE)","v":true},3,{"$f":"+COUNTIF($L$1:L1039,\"=\"&4)","v":70},"Pennington County, SD Corn Basis"]
["ZCBAILPE.CM","cmdty Peoria County, IL Corn Basis Idx","Corn","Basis","Illinois","County","Peoria County",{"$f":"+IF(LEN(home!$G$7)>0,instruments!C1040=home!$G$7,TRUE)","v":true},true,{"$f":"+IF(LEN(home!$G$8)>0,instruments!E1040=home!$G$8,TRUE)","v":false},{"$f":"+IF(LEN(home!$G$9)>0,instruments!F1040=home!$G$9,TRUE)","v":true},3,{"$f":"+COUNTIF($L$1:L1040,\"=\"&4)","v":70},"Peoria County, IL Corn Basis"]
["ZSBAILPE.CM","cmdty Peoria County, IL Soybean Basis Idx","Soybean","Basis","Illinois","County","Peoria County",{"$f":"+IF(LEN(home!$G$7)>0,instruments!C1041=home!$G$7,TRUE)","v":false},true,{"$f":"+IF(LEN(home!$G$8)>0,instruments!E1041=home!$G$8,TRUE)","v":false},{"$f":"+IF(LEN(home!$G$9)>0,instruments!F1041=home!$G$9,TRUE)","v":true},2,{"$f":"+COUNTIF($L$1:L1041,\"=\"&4)","v":70},"Peoria County, IL Soybean Basis"]
["ZCBANEPE.CM","cmdty Perkins County, NE Corn Basis Idx","Corn","Basis","Nebraska","County","Perkins County",{"$f":"+IF(LEN(home!$G$7)>0,instruments!C1042=home!$G$7,TRUE)","v":true},true,{"$f":"+IF(LEN(home!$G$8)>0,instruments!E1042=home!$G$8,TRUE)","v":false},{"$f":"+IF(LEN(home!$G$9)>0,instruments!F1042=home!$G$9,TRUE)","v":true},3,{"$f":"+COUNTIF($L$1:L1042,\"=\"&4)","v":70},"Perkins County, NE Corn Basis"]
["ZSBANEPE.CM","cmdty Perkins County, NE Soybean Basis Idx","Soybean","Basis","Nebraska","County","Perkins County",{"$f":"+IF(LEN(home!$G$7)>0,instruments!C1043=home!$G$7,TRUE)","v":false},true,{"$f":"+IF(LEN(home!$G$8)>0,instruments!E1043=home!$G$8,TRUE)","v":false},{"$f":"+IF(LEN(home!$G$9)>0,instruments!F1043=home!$G$9,TRUE)","v":true},2,{"$f":"+COUNTIF($L$1:L1043,\"=\"&4)","v":70},"Perkins County, NE Soybean Basis"]
["ZCBASDPA.CM","cmdty Perkins County, SD Corn Basis Idx","Corn","Basis","South Dakota","County","Perkins County",{"$f":"+IF(LEN(home!$G$7)>0,instruments!C1044=home!$G$7,TRUE)","v":true},true,{"$f":"+IF(LEN(home!$G$8)>0,instruments!E1044=home!$G$8,TRUE)","v":false},{"$f":"+IF(LEN(home!$G$9)>0,instruments!F1044=home!$G$9,TRUE)","v":true},3,{"$f":"+COUNTIF($L$1:L1044,\"=\"&4)","v":70},"Perkins County, SD Corn Basis"]
["ZCBAILPA.CM","cmdty Perry County, IL Corn Basis Idx","Corn","Basis","Illinois","County","Perry County",{"$f":"+IF(LEN(home!$G$7)>0,instruments!C1045=home!$G$7,TRUE)","v":true},true,{"$f":"+IF(LEN(home!$G$8)>0,instruments!E1045=home!$G$8,TRUE)","v":false},{"$f":"+IF(LEN(home!$G$9)>0,instruments!F1045=home!$G$9,TRUE)","v":true},3,{"$f":"+COUNTIF($L$1:L1045,\"=\"&4)","v":70},"Perry County, IL Corn Basis"]
["ZSBAILPA.CM","cmdty Perry County, IL Soybean Basis Idx","Soybean","Basis","Illinois","County","Perry County",{"$f":"+IF(LEN(home!$G$7)>0,instruments!C1046=home!$G$7,TRUE)","v":false},true,{"$f":"+IF(LEN(home!$G$8)>0,instruments!E1046=home!$G$8,TRUE)","v":false},{"$f":"+IF(LEN(home!$G$9)>0,instruments!F1046=home!$G$9,TRUE)","v":true},2,{"$f":"+COUNTIF($L$1:L1046,\"=\"&4)","v":70},"Perry County, IL Soybean Basis"]
["ZCBAMOPA.CM","cmdty Perry County, MO Corn Basis Idx","Corn","Basis","Missouri","County","Perry County",{"$f":"+IF(LEN(home!$G$7)>0,instruments!C1047=home!$G$7,TRUE)","v":true},true,{"$f":"+IF(LEN(home!$G$8)>0,instruments!E1047=home!$G$8,TRUE)","v":false},{"$f":"+IF(LEN(home!$G$9)>0,instruments!F1047=home!$G$9,TRUE)","v":true},3,{"$f":"+COUNTIF($L$1:L1047,\"=\"&4)","v":70},"Perry County, MO Corn Basis"]
["ZSBAMOPA.CM","cmdty Perry County, MO Soybean Basis Idx","Soybean","Basis","Missouri","County","Perry County",{"$f":"+IF(LEN(home!$G$7)>0,instruments!C1048=home!$G$7,TRUE)","v":false},true,{"$f":"+IF(LEN(home!$G$8)>0,instruments!E1048=home!$G$8,TRUE)","v":false},{"$f":"+IF(LEN(home!$G$9)>0,instruments!F1048=home!$G$9,TRUE)","v":true},2,{"$f":"+COUNTIF($L$1:L1048,\"=\"&4)","v":70},"Perry County, MO Soybean Basis"]
["ZCBAMOPB.CM","cmdty Pettis County, MO Corn Basis Idx","Corn","Basis","Missouri","County","Pettis County",{"$f":"+IF(LEN(home!$G$7)>0,instruments!C1049=home!$G$7,TRUE)","v":true},true,{"$f":"+IF(LEN(home!$G$8)>0,instruments!E1049=home!$G$8,TRUE)","v":false},{"$f":"+IF(LEN(home!$G$9)>0,instruments!F1049=home!$G$9,TRUE)","v":true},3,{"$f":"+COUNTIF($L$1:L1049,\"=\"&4)","v":70},"Pettis County, MO Corn Basis"]
["ZSBAMOPB.CM","cmdty Pettis County, MO Soybean Basis Idx","Soybean","Basis","Missouri","County","Pettis County",{"$f":"+IF(LEN(home!$G$7)>0,instruments!C1050=home!$G$7,TRUE)","v":false},true,{"$f":"+IF(LEN(home!$G$8)>0,instruments!E1050=home!$G$8,TRUE)","v":false},{"$f":"+IF(LEN(home!$G$9)>0,instruments!F1050=home!$G$9,TRUE)","v":true},2,{"$f":"+COUNTIF($L$1:L1050,\"=\"&4)","v":70},"Pettis County, MO Soybean Basis"]
["ZCBANEPH.CM","cmdty Phelps County, NE Corn Basis Idx","Corn","Basis","Nebraska","County","Phelps County",{"$f":"+IF(LEN(home!$G$7)>0,instruments!C1051=home!$G$7,TRUE)","v":true},true,{"$f":"+IF(LEN(home!$G$8)>0,instruments!E1051=home!$G$8,TRUE)","v":false},{"$f":"+IF(LEN(home!$G$9)>0,instruments!F1051=home!$G$9,TRUE)","v":true},3,{"$f":"+COUNTIF($L$1:L1051,\"=\"&4)","v":70},"Phelps County, NE Corn Basis"]
["ZSBANEPH.CM","cmdty Phelps County, NE Soybean Basis Idx","Soybean","Basis","Nebraska","County","Phelps County",{"$f":"+IF(LEN(home!$G$7)>0,instruments!C1052=home!$G$7,TRUE)","v":false},true,{"$f":"+IF(LEN(home!$G$8)>0,instruments!E1052=home!$G$8,TRUE)","v":false},{"$f":"+IF(LEN(home!$G$9)>0,instruments!F1052=home!$G$9,TRUE)","v":true},2,{"$f":"+COUNTIF($L$1:L1052,\"=\"&4)","v":70},"Phelps County, NE Soybean Basis"]
["ZCBAKSPH.CM","cmdty Phillips County, KS Corn Basis Idx","Corn","Basis","Kansas","County","Phillips County",{"$f":"+IF(LEN(home!$G$7)>0,instruments!C1053=home!$G$7,TRUE)","v":true},true,{"$f":"+IF(LEN(home!$G$8)>0,instruments!E1053=home!$G$8,TRUE)","v":false},{"$f":"+IF(LEN(home!$G$9)>0,instruments!F1053=home!$G$9,TRUE)","v":true},3,{"$f":"+COUNTIF($L$1:L1053,\"=\"&4)","v":70},"Phillips County, KS Corn Basis"]
["ZSBAKSPH.CM","cmdty Phillips County, KS Soybean Basis Idx","Soybean","Basis","Kansas","County","Phillips County",{"$f":"+IF(LEN(home!$G$7)>0,instruments!C1054=home!$G$7,TRUE)","v":false},true,{"$f":"+IF(LEN(home!$G$8)>0,instruments!E1054=home!$G$8,TRUE)","v":false},{"$f":"+IF(LEN(home!$G$9)>0,instruments!F1054=home!$G$9,TRUE)","v":true},2,{"$f":"+COUNTIF($L$1:L1054,\"=\"&4)","v":70},"Phillips County, KS Soybean Basis"]
["ZCBAILPI.CM","cmdty Piatt County, IL Corn Basis Idx","Corn","Basis","Illinois","County","Piatt County",{"$f":"+IF(LEN(home!$G$7)>0,instruments!C1055=home!$G$7,TRUE)","v":true},true,{"$f":"+IF(LEN(home!$G$8)>0,instruments!E1055=home!$G$8,TRUE)","v":false},{"$f":"+IF(LEN(home!$G$9)>0,instruments!F1055=home!$G$9,TRUE)","v":true},3,{"$f":"+COUNTIF($L$1:L1055,\"=\"&4)","v":70},"Piatt County, IL Corn Basis"]
["ZSBAILPI.CM","cmdty Piatt County, IL Soybean Basis Idx","Soybean","Basis","Illinois","County","Piatt County",{"$f":"+IF(LEN(home!$G$7)>0,instruments!C1056=home!$G$7,TRUE)","v":false},true,{"$f":"+IF(LEN(home!$G$8)>0,instruments!E1056=home!$G$8,TRUE)","v":false},{"$f":"+IF(LEN(home!$G$9)>0,instruments!F1056=home!$G$9,TRUE)","v":true},2,{"$f":"+COUNTIF($L$1:L1056,\"=\"&4)","v":70},"Piatt County, IL Soybean Basis"]
["ZSBAOHPI.CM","cmdty Pickaway County, OH Soybean Basis Idx","Soybean","Basis","Ohio","County","Pickaway County",{"$f":"+IF(LEN(home!$G$7)>0,instruments!C1057=home!$G$7,TRUE)","v":false},true,{"$f":"+IF(LEN(home!$G$8)>0,instruments!E1057=home!$G$8,TRUE)","v":false},{"$f":"+IF(LEN(home!$G$9)>0,instruments!F1057=home!$G$9,TRUE)","v":true},2,{"$f":"+COUNTIF($L$1:L1057,\"=\"&4)","v":70},"Pickaway County, OH Soybean Basis"]
["ZSBANDPI.CM","cmdty Pierce County, ND Soybean Basis Idx","Soybean","Basis","North Dakota","County","Pierce County",{"$f":"+IF(LEN(home!$G$7)>0,instruments!C1058=home!$G$7,TRUE)","v":false},true,{"$f":"+IF(LEN(home!$G$8)>0,instruments!E1058=home!$G$8,TRUE)","v":false},{"$f":"+IF(LEN(home!$G$9)>0,instruments!F1058=home!$G$9,TRUE)","v":true},2,{"$f":"+COUNTIF($L$1:L1058,\"=\"&4)","v":70},"Pierce County, ND Soybean Basis"]
["ZCBANEPI.CM","cmdty Pierce County, NE Corn Basis Idx","Corn","Basis","Nebraska","County","Pierce County",{"$f":"+IF(LEN(home!$G$7)>0,instruments!C1059=home!$G$7,TRUE)","v":true},true,{"$f":"+IF(LEN(home!$G$8)>0,instruments!E1059=home!$G$8,TRUE)","v":false},{"$f":"+IF(LEN(home!$G$9)>0,instruments!F1059=home!$G$9,TRUE)","v":true},3,{"$f":"+COUNTIF($L$1:L1059,\"=\"&4)","v":70},"Pierce County, NE Corn Basis"]
["ZSBANEPI.CM","cmdty Pierce County, NE Soybean Basis Idx","Soybean","Basis","Nebraska","County","Pierce County",{"$f":"+IF(LEN(home!$G$7)>0,instruments!C1060=home!$G$7,TRUE)","v":false},true,{"$f":"+IF(LEN(home!$G$8)>0,instruments!E1060=home!$G$8,TRUE)","v":false},{"$f":"+IF(LEN(home!$G$9)>0,instruments!F1060=home!$G$9,TRUE)","v":true},2,{"$f":"+COUNTIF($L$1:L1060,\"=\"&4)","v":70},"Pierce County, NE Soybean Basis"]
["ZCBAILPB.CM","cmdty Pike County, IL Corn Basis Idx","Corn","Basis","Illinois","County","Pike County",{"$f":"+IF(LEN(home!$G$7)>0,instruments!C1061=home!$G$7,TRUE)","v":true},true,{"$f":"+IF(LEN(home!$G$8)>0,instruments!E1061=home!$G$8,TRUE)","v":false},{"$f":"+IF(LEN(home!$G$9)>0,instruments!F1061=home!$G$9,TRUE)","v":true},3,{"$f":"+COUNTIF($L$1:L1061,\"=\"&4)","v":70},"Pike County, IL Corn Basis"]
["ZSBAILPB.CM","cmdty Pike County, IL Soybean Basis Idx","Soybean","Basis","Illinois","County","Pike County",{"$f":"+IF(LEN(home!$G$7)>0,instruments!C1062=home!$G$7,TRUE)","v":false},true,{"$f":"+IF(LEN(home!$G$8)>0,instruments!E1062=home!$G$8,TRUE)","v":false},{"$f":"+IF(LEN(home!$G$9)>0,instruments!F1062=home!$G$9,TRUE)","v":true},2,{"$f":"+COUNTIF($L$1:L1062,\"=\"&4)","v":70},"Pike County, IL Soybean Basis"]
["ZCBAINPI.CM","cmdty Pike County, IN Corn Basis Idx","Corn","Basis","Indiana","County","Pike County",{"$f":"+IF(LEN(home!$G$7)>0,instruments!C1063=home!$G$7,TRUE)","v":true},true,{"$f":"+IF(LEN(home!$G$8)>0,instruments!E1063=home!$G$8,TRUE)","v":false},{"$f":"+IF(LEN(home!$G$9)>0,instruments!F1063=home!$G$9,TRUE)","v":true},3,{"$f":"+COUNTIF($L$1:L1063,\"=\"&4)","v":70},"Pike County, IN Corn Basis"]
["ZSBAINPI.CM","cmdty Pike County, IN Soybean Basis Idx","Soybean","Basis","Indiana","County","Pike County",{"$f":"+IF(LEN(home!$G$7)>0,instruments!C1064=home!$G$7,TRUE)","v":false},true,{"$f":"+IF(LEN(home!$G$8)>0,instruments!E1064=home!$G$8,TRUE)","v":false},{"$f":"+IF(LEN(home!$G$9)>0,instruments!F1064=home!$G$9,TRUE)","v":true},2,{"$f":"+COUNTIF($L$1:L1064,\"=\"&4)","v":70},"Pike County, IN Soybean Basis"]
["ZCBAMOPI.CM","cmdty Pike County, MO Corn Basis Idx","Corn","Basis","Missouri","County","Pike County",{"$f":"+IF(LEN(home!$G$7)>0,instruments!C1065=home!$G$7,TRUE)","v":true},true,{"$f":"+IF(LEN(home!$G$8)>0,instruments!E1065=home!$G$8,TRUE)","v":false},{"$f":"+IF(LEN(home!$G$9)>0,instruments!F1065=home!$G$9,TRUE)","v":true},3,{"$f":"+COUNTIF($L$1:L1065,\"=\"&4)","v":70},"Pike County, MO Corn Basis"]
["ZSBAMOPI.CM","cmdty Pike County, MO Soybean Basis Idx","Soybean","Basis","Missouri","County","Pike County",{"$f":"+IF(LEN(home!$G$7)>0,instruments!C1066=home!$G$7,TRUE)","v":false},true,{"$f":"+IF(LEN(home!$G$8)>0,instruments!E1066=home!$G$8,TRUE)","v":false},{"$f":"+IF(LEN(home!$G$9)>0,instruments!F1066=home!$G$9,TRUE)","v":true},2,{"$f":"+COUNTIF($L$1:L1066,\"=\"&4)","v":70},"Pike County, MO Soybean Basis"]
["ZCBAMNPA.CM","cmdty Pipestone County, MN Corn Basis Idx","Corn","Basis","Minnesota","County","Pipestone County",{"$f":"+IF(LEN(home!$G$7)>0,instruments!C1067=home!$G$7,TRUE)","v":true},true,{"$f":"+IF(LEN(home!$G$8)>0,instruments!E1067=home!$G$8,TRUE)","v":false},{"$f":"+IF(LEN(home!$G$9)>0,instruments!F1067=home!$G$9,TRUE)","v":true},3,{"$f":"+COUNTIF($L$1:L1067,\"=\"&4)","v":70},"Pipestone County, MN Corn Basis"]
["ZSBAMNPA.CM","cmdty Pipestone County, MN Soybean Basis Idx","Soybean","Basis","Minnesota","County","Pipestone County",{"$f":"+IF(LEN(home!$G$7)>0,instruments!C1068=home!$G$7,TRUE)","v":false},true,{"$f":"+IF(LEN(home!$G$8)>0,instruments!E1068=home!$G$8,TRUE)","v":false},{"$f":"+IF(LEN(home!$G$9)>0,instruments!F1068=home!$G$9,TRUE)","v":true},2,{"$f":"+COUNTIF($L$1:L1068,\"=\"&4)","v":70},"Pipestone County, MN Soybean Basis"]
["ZCBANEPL.CM","cmdty Platte County, NE Corn Basis Idx","Corn","Basis","Nebraska","County","Platte County",{"$f":"+IF(LEN(home!$G$7)>0,instruments!C1069=home!$G$7,TRUE)","v":true},true,{"$f":"+IF(LEN(home!$G$8)>0,instruments!E1069=home!$G$8,TRUE)","v":false},{"$f":"+IF(LEN(home!$G$9)>0,instruments!F1069=home!$G$9,TRUE)","v":true},3,{"$f":"+COUNTIF($L$1:L1069,\"=\"&4)","v":70},"Platte County, NE Corn Basis"]
["ZSBANEPL.CM","cmdty Platte County, NE Soybean Basis Idx","Soybean","Basis","Nebraska","County","Platte County",{"$f":"+IF(LEN(home!$G$7)>0,instruments!C1070=home!$G$7,TRUE)","v":false},true,{"$f":"+IF(LEN(home!$G$8)>0,instruments!E1070=home!$G$8,TRUE)","v":false},{"$f":"+IF(LEN(home!$G$9)>0,instruments!F1070=home!$G$9,TRUE)","v":true},2,{"$f":"+COUNTIF($L$1:L1070,\"=\"&4)","v":70},"Platte County, NE Soybean Basis"]
["ZCBAIAPL.CM","cmdty Plymouth County, IA Corn Basis Idx","Corn","Basis","Iowa","County","Plymouth County",{"$f":"+IF(LEN(home!$G$7)>0,instruments!C1071=home!$G$7,TRUE)","v":true},true,{"$f":"+IF(LEN(home!$G$8)>0,instruments!E1071=home!$G$8,TRUE)","v":true},{"$f":"+IF(LEN(home!$G$9)>0,instruments!F1071=home!$G$9,TRUE)","v":true},4,{"$f":"+COUNTIF($L$1:L1071,\"=\"&4)","v":71},"Plymouth County, IA Corn Basis"]
["ZSBAIAPL.CM","cmdty Plymouth County, IA Soybean Basis Idx","Soybean","Basis","Iowa","County","Plymouth County",{"$f":"+IF(LEN(home!$G$7)>0,instruments!C1072=home!$G$7,TRUE)","v":false},true,{"$f":"+IF(LEN(home!$G$8)>0,instruments!E1072=home!$G$8,TRUE)","v":true},{"$f":"+IF(LEN(home!$G$9)>0,instruments!F1072=home!$G$9,TRUE)","v":true},3,{"$f":"+COUNTIF($L$1:L1072,\"=\"&4)","v":71},"Plymouth County, IA Soybean Basis"]
["ZCBAIAPO.CM","cmdty Pocahontas County, IA Corn Basis Idx","Corn","Basis","Iowa","County","Pocahontas County",{"$f":"+IF(LEN(home!$G$7)>0,instruments!C1073=home!$G$7,TRUE)","v":true},true,{"$f":"+IF(LEN(home!$G$8)>0,instruments!E1073=home!$G$8,TRUE)","v":true},{"$f":"+IF(LEN(home!$G$9)>0,instruments!F1073=home!$G$9,TRUE)","v":true},4,{"$f":"+COUNTIF($L$1:L1073,\"=\"&4)","v":72},"Pocahontas County, IA Corn Basis"]
["ZSBAIAPO.CM","cmdty Pocahontas County, IA Soybean Basis Idx","Soybean","Basis","Iowa","County","Pocahontas County",{"$f":"+IF(LEN(home!$G$7)>0,instruments!C1074=home!$G$7,TRUE)","v":false},true,{"$f":"+IF(LEN(home!$G$8)>0,instruments!E1074=home!$G$8,TRUE)","v":true},{"$f":"+IF(LEN(home!$G$9)>0,instruments!F1074=home!$G$9,TRUE)","v":true},3,{"$f":"+COUNTIF($L$1:L1074,\"=\"&4)","v":72},"Pocahontas County, IA Soybean Basis"]
["ZCBAIAPC.CM","cmdty Polk County, IA Corn Basis Idx","Corn","Basis","Iowa","County","Polk County",{"$f":"+IF(LEN(home!$G$7)>0,instruments!C1075=home!$G$7,TRUE)","v":true},true,{"$f":"+IF(LEN(home!$G$8)>0,instruments!E1075=home!$G$8,TRUE)","v":true},{"$f":"+IF(LEN(home!$G$9)>0,instruments!F1075=home!$G$9,TRUE)","v":true},4,{"$f":"+COUNTIF($L$1:L1075,\"=\"&4)","v":73},"Polk County, IA Corn Basis"]
["ZSBAIAPC.CM","cmdty Polk County, IA Soybean Basis Idx","Soybean","Basis","Iowa","County","Polk County",{"$f":"+IF(LEN(home!$G$7)>0,instruments!C1076=home!$G$7,TRUE)","v":false},true,{"$f":"+IF(LEN(home!$G$8)>0,instruments!E1076=home!$G$8,TRUE)","v":true},{"$f":"+IF(LEN(home!$G$9)>0,instruments!F1076=home!$G$9,TRUE)","v":true},3,{"$f":"+COUNTIF($L$1:L1076,\"=\"&4)","v":73},"Polk County, IA Soybean Basis"]
["ZCBAMNPO.CM","cmdty Polk County, MN Corn Basis Idx","Corn","Basis","Minnesota","County","Polk County",{"$f":"+IF(LEN(home!$G$7)>0,instruments!C1077=home!$G$7,TRUE)","v":true},true,{"$f":"+IF(LEN(home!$G$8)>0,instruments!E1077=home!$G$8,TRUE)","v":false},{"$f":"+IF(LEN(home!$G$9)>0,instruments!F1077=home!$G$9,TRUE)","v":true},3,{"$f":"+COUNTIF($L$1:L1077,\"=\"&4)","v":73},"Polk County, MN Corn Basis"]
["ZSBAMNPO.CM","cmdty Polk County, MN Soybean Basis Idx","Soybean","Basis","Minnesota","County","Polk County",{"$f":"+IF(LEN(home!$G$7)>0,instruments!C1078=home!$G$7,TRUE)","v":false},true,{"$f":"+IF(LEN(home!$G$8)>0,instruments!E1078=home!$G$8,TRUE)","v":false},{"$f":"+IF(LEN(home!$G$9)>0,instruments!F1078=home!$G$9,TRUE)","v":true},2,{"$f":"+COUNTIF($L$1:L1078,\"=\"&4)","v":73},"Polk County, MN Soybean Basis"]
["ZCBANEPO.CM","cmdty Polk County, NE Corn Basis Idx","Corn","Basis","Nebraska","County","Polk County",{"$f":"+IF(LEN(home!$G$7)>0,instruments!C1079=home!$G$7,TRUE)","v":true},true,{"$f":"+IF(LEN(home!$G$8)>0,instruments!E1079=home!$G$8,TRUE)","v":false},{"$f":"+IF(LEN(home!$G$9)>0,instruments!F1079=home!$G$9,TRUE)","v":true},3,{"$f":"+COUNTIF($L$1:L1079,\"=\"&4)","v":73},"Polk County, NE Corn Basis"]
["ZSBANEPO.CM","cmdty Polk County, NE Soybean Basis Idx","Soybean","Basis","Nebraska","County","Polk County",{"$f":"+IF(LEN(home!$G$7)>0,instruments!C1080=home!$G$7,TRUE)","v":false},true,{"$f":"+IF(LEN(home!$G$8)>0,instruments!E1080=home!$G$8,TRUE)","v":false},{"$f":"+IF(LEN(home!$G$9)>0,instruments!F1080=home!$G$9,TRUE)","v":true},2,{"$f":"+COUNTIF($L$1:L1080,\"=\"&4)","v":73},"Polk County, NE Soybean Basis"]
["ZCBAMNPB.CM","cmdty Pope County, MN Corn Basis Idx","Corn","Basis","Minnesota","County","Pope County",{"$f":"+IF(LEN(home!$G$7)>0,instruments!C1081=home!$G$7,TRUE)","v":true},true,{"$f":"+IF(LEN(home!$G$8)>0,instruments!E1081=home!$G$8,TRUE)","v":false},{"$f":"+IF(LEN(home!$G$9)>0,instruments!F1081=home!$G$9,TRUE)","v":true},3,{"$f":"+COUNTIF($L$1:L1081,\"=\"&4)","v":73},"Pope County, MN Corn Basis"]
["ZSBAMNPB.CM","cmdty Pope County, MN Soybean Basis Idx","Soybean","Basis","Minnesota","County","Pope County",{"$f":"+IF(LEN(home!$G$7)>0,instruments!C1082=home!$G$7,TRUE)","v":false},true,{"$f":"+IF(LEN(home!$G$8)>0,instruments!E1082=home!$G$8,TRUE)","v":false},{"$f":"+IF(LEN(home!$G$9)>0,instruments!F1082=home!$G$9,TRUE)","v":true},2,{"$f":"+COUNTIF($L$1:L1082,\"=\"&4)","v":73},"Pope County, MN Soybean Basis"]
["ZSBAOHPO.CM","cmdty Portage County, OH Soybean Basis Idx","Soybean","Basis","Ohio","County","Portage County",{"$f":"+IF(LEN(home!$G$7)>0,instruments!C1083=home!$G$7,TRUE)","v":false},true,{"$f":"+IF(LEN(home!$G$8)>0,instruments!E1083=home!$G$8,TRUE)","v":false},{"$f":"+IF(LEN(home!$G$9)>0,instruments!F1083=home!$G$9,TRUE)","v":true},2,{"$f":"+COUNTIF($L$1:L1083,\"=\"&4)","v":73},"Portage County, OH Soybean Basis"]
["ZCBAINPO.CM","cmdty Porter County, IN Corn Basis Idx","Corn","Basis","Indiana","County","Porter County",{"$f":"+IF(LEN(home!$G$7)>0,instruments!C1084=home!$G$7,TRUE)","v":true},true,{"$f":"+IF(LEN(home!$G$8)>0,instruments!E1084=home!$G$8,TRUE)","v":false},{"$f":"+IF(LEN(home!$G$9)>0,instruments!F1084=home!$G$9,TRUE)","v":true},3,{"$f":"+COUNTIF($L$1:L1084,\"=\"&4)","v":73},"Porter County, IN Corn Basis"]
["ZSBAINPO.CM","cmdty Porter County, IN Soybean Basis Idx","Soybean","Basis","Indiana","County","Porter County",{"$f":"+IF(LEN(home!$G$7)>0,instruments!C1085=home!$G$7,TRUE)","v":false},true,{"$f":"+IF(LEN(home!$G$8)>0,instruments!E1085=home!$G$8,TRUE)","v":false},{"$f":"+IF(LEN(home!$G$9)>0,instruments!F1085=home!$G$9,TRUE)","v":true},2,{"$f":"+COUNTIF($L$1:L1085,\"=\"&4)","v":73},"Porter County, IN Soybean Basis"]
["ZCBAINPB.CM","cmdty Posey County, IN Corn Basis Idx","Corn","Basis","Indiana","County","Posey County",{"$f":"+IF(LEN(home!$G$7)>0,instruments!C1086=home!$G$7,TRUE)","v":true},true,{"$f":"+IF(LEN(home!$G$8)>0,instruments!E1086=home!$G$8,TRUE)","v":false},{"$f":"+IF(LEN(home!$G$9)>0,instruments!F1086=home!$G$9,TRUE)","v":true},3,{"$f":"+COUNTIF($L$1:L1086,\"=\"&4)","v":73},"Posey County, IN Corn Basis"]
["ZSBAINPB.CM","cmdty Posey County, IN Soybean Basis Idx","Soybean","Basis","Indiana","County","Posey County",{"$f":"+IF(LEN(home!$G$7)>0,instruments!C1087=home!$G$7,TRUE)","v":false},true,{"$f":"+IF(LEN(home!$G$8)>0,instruments!E1087=home!$G$8,TRUE)","v":false},{"$f":"+IF(LEN(home!$G$9)>0,instruments!F1087=home!$G$9,TRUE)","v":true},2,{"$f":"+COUNTIF($L$1:L1087,\"=\"&4)","v":73},"Posey County, IN Soybean Basis"]
["ZCBAKSPO.CM","cmdty Pottawatomie County, KS Corn Basis Idx","Corn","Basis","Kansas","County","Pottawatomie County",{"$f":"+IF(LEN(home!$G$7)>0,instruments!C1088=home!$G$7,TRUE)","v":true},true,{"$f":"+IF(LEN(home!$G$8)>0,instruments!E1088=home!$G$8,TRUE)","v":false},{"$f":"+IF(LEN(home!$G$9)>0,instruments!F1088=home!$G$9,TRUE)","v":true},3,{"$f":"+COUNTIF($L$1:L1088,\"=\"&4)","v":73},"Pottawatomie County, KS Corn Basis"]
["ZSBAKSPO.CM","cmdty Pottawatomie County, KS Soybean Basis Idx","Soybean","Basis","Kansas","County","Pottawatomie County",{"$f":"+IF(LEN(home!$G$7)>0,instruments!C1089=home!$G$7,TRUE)","v":false},true,{"$f":"+IF(LEN(home!$G$8)>0,instruments!E1089=home!$G$8,TRUE)","v":false},{"$f":"+IF(LEN(home!$G$9)>0,instruments!F1089=home!$G$9,TRUE)","v":true},2,{"$f":"+COUNTIF($L$1:L1089,\"=\"&4)","v":73},"Pottawatomie County, KS Soybean Basis"]
["ZCBAIAPD.CM","cmdty Pottawattamie County, IA Corn Basis Idx","Corn","Basis","Iowa","County","Pottawattamie County",{"$f":"+IF(LEN(home!$G$7)>0,instruments!C1090=home!$G$7,TRUE)","v":true},true,{"$f":"+IF(LEN(home!$G$8)>0,instruments!E1090=home!$G$8,TRUE)","v":true},{"$f":"+IF(LEN(home!$G$9)>0,instruments!F1090=home!$G$9,TRUE)","v":true},{"$f":"+COUNTIF(H1090:K1090,TRUE)","v":4},{"$f":"+COUNTIF($L$1:L1090,\"=\"&4)","v":74},"Pottawattamie County, IA Corn Basis"]
["ZSBAIAPD.CM","cmdty Pottawattamie County, IA Soybean Basis Idx","Soybean","Basis","Iowa","County","Pottawattamie County",{"$f":"+IF(LEN(home!$G$7)>0,instruments!C1091=home!$G$7,TRUE)","v":false},{"$f":"+D1091=\"Basis\"","v":true},{"$f":"+IF(LEN(home!$G$8)>0,instruments!E1091=home!$G$8,TRUE)","v":true},{"$f":"+IF(LEN(home!$G$9)>0,instruments!F1091=home!$G$9,TRUE)","v":true},3,{"$f":"+COUNTIF($L$1:L1091,\"=\"&4)","v":74},{"$f":"+MID(B1091,FIND(\" \",B1091,1)+1,LEN(B1091)-FIND(\" \",B1091,1)-4)","v":"Pottawattamie County, IA Soybean Basis"}]
["ZCBASDPO.CM","cmdty Potter County, SD Corn Basis Idx","Corn","Basis","South Dakota","County","Potter County",{"$f":"+IF(LEN(home!$G$7)>0,instruments!C1092=home!$G$7,TRUE)","v":true},true,{"$f":"+IF(LEN(home!$G$8)>0,instruments!E1092=home!$G$8,TRUE)","v":false},{"$f":"+IF(LEN(home!$G$9)>0,instruments!F1092=home!$G$9,TRUE)","v":true},3,{"$f":"+COUNTIF($L$1:L1092,\"=\"&4)","v":74},"Potter County, SD Corn Basis"]
["ZSBASDPO.CM","cmdty Potter County, SD Soybean Basis Idx","Soybean","Basis","South Dakota","County","Potter County",{"$f":"+IF(LEN(home!$G$7)>0,instruments!C1093=home!$G$7,TRUE)","v":false},true,{"$f":"+IF(LEN(home!$G$8)>0,instruments!E1093=home!$G$8,TRUE)","v":false},{"$f":"+IF(LEN(home!$G$9)>0,instruments!F1093=home!$G$9,TRUE)","v":true},2,{"$f":"+COUNTIF($L$1:L1093,\"=\"&4)","v":74},"Potter County, SD Soybean Basis"]
["ZCBAIAPE.CM","cmdty Poweshiek County, IA Corn Basis Idx","Corn","Basis","Iowa","County","Poweshiek County",{"$f":"+IF(LEN(home!$G$7)>0,instruments!C1094=home!$G$7,TRUE)","v":true},true,{"$f":"+IF(LEN(home!$G$8)>0,instruments!E1094=home!$G$8,TRUE)","v":true},{"$f":"+IF(LEN(home!$G$9)>0,instruments!F1094=home!$G$9,TRUE)","v":true},4,{"$f":"+COUNTIF($L$1:L1094,\"=\"&4)","v":75},"Poweshiek County, IA Corn Basis"]
["ZSBAIAPE.CM","cmdty Poweshiek County, IA Soybean Basis Idx","Soybean","Basis","Iowa","County","Poweshiek County",{"$f":"+IF(LEN(home!$G$7)>0,instruments!C1095=home!$G$7,TRUE)","v":false},true,{"$f":"+IF(LEN(home!$G$8)>0,instruments!E1095=home!$G$8,TRUE)","v":true},{"$f":"+IF(LEN(home!$G$9)>0,instruments!F1095=home!$G$9,TRUE)","v":true},3,{"$f":"+COUNTIF($L$1:L1095,\"=\"&4)","v":75},"Poweshiek County, IA Soybean Basis"]
["ZCBAKSPR.CM","cmdty Pratt County, KS Corn Basis Idx","Corn","Basis","Kansas","County","Pratt County",{"$f":"+IF(LEN(home!$G$7)>0,instruments!C1096=home!$G$7,TRUE)","v":true},true,{"$f":"+IF(LEN(home!$G$8)>0,instruments!E1096=home!$G$8,TRUE)","v":false},{"$f":"+IF(LEN(home!$G$9)>0,instruments!F1096=home!$G$9,TRUE)","v":true},3,{"$f":"+COUNTIF($L$1:L1096,\"=\"&4)","v":75},"Pratt County, KS Corn Basis"]
["ZSBAKSPR.CM","cmdty Pratt County, KS Soybean Basis Idx","Soybean","Basis","Kansas","County","Pratt County",{"$f":"+IF(LEN(home!$G$7)>0,instruments!C1097=home!$G$7,TRUE)","v":false},true,{"$f":"+IF(LEN(home!$G$8)>0,instruments!E1097=home!$G$8,TRUE)","v":false},{"$f":"+IF(LEN(home!$G$9)>0,instruments!F1097=home!$G$9,TRUE)","v":true},2,{"$f":"+COUNTIF($L$1:L1097,\"=\"&4)","v":75},"Pratt County, KS Soybean Basis"]
["ZSBAOHPR.CM","cmdty Preble County, OH Soybean Basis Idx","Soybean","Basis","Ohio","County","Preble County",{"$f":"+IF(LEN(home!$G$7)>0,instruments!C1098=home!$G$7,TRUE)","v":false},true,{"$f":"+IF(LEN(home!$G$8)>0,instruments!E1098=home!$G$8,TRUE)","v":false},{"$f":"+IF(LEN(home!$G$9)>0,instruments!F1098=home!$G$9,TRUE)","v":true},2,{"$f":"+COUNTIF($L$1:L1098,\"=\"&4)","v":75},"Preble County, OH Soybean Basis"]
["ZCBAILPU.CM","cmdty Pulaski County, IL Corn Basis Idx","Corn","Basis","Illinois","County","Pulaski County",{"$f":"+IF(LEN(home!$G$7)>0,instruments!C1099=home!$G$7,TRUE)","v":true},true,{"$f":"+IF(LEN(home!$G$8)>0,instruments!E1099=home!$G$8,TRUE)","v":false},{"$f":"+IF(LEN(home!$G$9)>0,instruments!F1099=home!$G$9,TRUE)","v":true},3,{"$f":"+COUNTIF($L$1:L1099,\"=\"&4)","v":75},"Pulaski County, IL Corn Basis"]
["ZSBAILPU.CM","cmdty Pulaski County, IL Soybean Basis Idx","Soybean","Basis","Illinois","County","Pulaski County",{"$f":"+IF(LEN(home!$G$7)>0,instruments!C1100=home!$G$7,TRUE)","v":false},true,{"$f":"+IF(LEN(home!$G$8)>0,instruments!E1100=home!$G$8,TRUE)","v":false},{"$f":"+IF(LEN(home!$G$9)>0,instruments!F1100=home!$G$9,TRUE)","v":true},2,{"$f":"+COUNTIF($L$1:L1100,\"=\"&4)","v":75},"Pulaski County, IL Soybean Basis"]
["ZCBAINPU.CM","cmdty Pulaski County, IN Corn Basis Idx","Corn","Basis","Indiana","County","Pulaski County",{"$f":"+IF(LEN(home!$G$7)>0,instruments!C1101=home!$G$7,TRUE)","v":true},true,{"$f":"+IF(LEN(home!$G$8)>0,instruments!E1101=home!$G$8,TRUE)","v":false},{"$f":"+IF(LEN(home!$G$9)>0,instruments!F1101=home!$G$9,TRUE)","v":true},3,{"$f":"+COUNTIF($L$1:L1101,\"=\"&4)","v":75},"Pulaski County, IN Corn Basis"]
["ZSBAINPU.CM","cmdty Pulaski County, IN Soybean Basis Idx","Soybean","Basis","Indiana","County","Pulaski County",{"$f":"+IF(LEN(home!$G$7)>0,instruments!C1102=home!$G$7,TRUE)","v":false},true,{"$f":"+IF(LEN(home!$G$8)>0,instruments!E1102=home!$G$8,TRUE)","v":false},{"$f":"+IF(LEN(home!$G$9)>0,instruments!F1102=home!$G$9,TRUE)","v":true},2,{"$f":"+COUNTIF($L$1:L1102,\"=\"&4)","v":75},"Pulaski County, IN Soybean Basis"]
["ZCBAILPC.CM","cmdty Putnam County, IL Corn Basis Idx","Corn","Basis","Illinois","County","Putnam County",{"$f":"+IF(LEN(home!$G$7)>0,instruments!C1103=home!$G$7,TRUE)","v":true},true,{"$f":"+IF(LEN(home!$G$8)>0,instruments!E1103=home!$G$8,TRUE)","v":false},{"$f":"+IF(LEN(home!$G$9)>0,instruments!F1103=home!$G$9,TRUE)","v":true},3,{"$f":"+COUNTIF($L$1:L1103,\"=\"&4)","v":75},"Putnam County, IL Corn Basis"]
["ZSBAILPC.CM","cmdty Putnam County, IL Soybean Basis Idx","Soybean","Basis","Illinois","County","Putnam County",{"$f":"+IF(LEN(home!$G$7)>0,instruments!C1104=home!$G$7,TRUE)","v":false},true,{"$f":"+IF(LEN(home!$G$8)>0,instruments!E1104=home!$G$8,TRUE)","v":false},{"$f":"+IF(LEN(home!$G$9)>0,instruments!F1104=home!$G$9,TRUE)","v":true},2,{"$f":"+COUNTIF($L$1:L1104,\"=\"&4)","v":75},"Putnam County, IL Soybean Basis"]
["ZCBAINPC.CM","cmdty Putnam County, IN Corn Basis Idx","Corn","Basis","Indiana","County","Putnam County",{"$f":"+IF(LEN(home!$G$7)>0,instruments!C1105=home!$G$7,TRUE)","v":true},true,{"$f":"+IF(LEN(home!$G$8)>0,instruments!E1105=home!$G$8,TRUE)","v":false},{"$f":"+IF(LEN(home!$G$9)>0,instruments!F1105=home!$G$9,TRUE)","v":true},3,{"$f":"+COUNTIF($L$1:L1105,\"=\"&4)","v":75},"Putnam County, IN Corn Basis"]
["ZCBAMOPC.CM","cmdty Putnam County, MO Corn Basis Idx","Corn","Basis","Missouri","County","Putnam County",{"$f":"+IF(LEN(home!$G$7)>0,instruments!C1106=home!$G$7,TRUE)","v":true},true,{"$f":"+IF(LEN(home!$G$8)>0,instruments!E1106=home!$G$8,TRUE)","v":false},{"$f":"+IF(LEN(home!$G$9)>0,instruments!F1106=home!$G$9,TRUE)","v":true},3,{"$f":"+COUNTIF($L$1:L1106,\"=\"&4)","v":75},"Putnam County, MO Corn Basis"]
["ZSBAOHPU.CM","cmdty Putnam County, OH Soybean Basis Idx","Soybean","Basis","Ohio","County","Putnam County",{"$f":"+IF(LEN(home!$G$7)>0,instruments!C1107=home!$G$7,TRUE)","v":false},true,{"$f":"+IF(LEN(home!$G$8)>0,instruments!E1107=home!$G$8,TRUE)","v":false},{"$f":"+IF(LEN(home!$G$9)>0,instruments!F1107=home!$G$9,TRUE)","v":true},2,{"$f":"+COUNTIF($L$1:L1107,\"=\"&4)","v":75},"Putnam County, OH Soybean Basis"]
["ZCBAMORA.CM","cmdty Ralls County, MO Corn Basis Idx","Corn","Basis","Missouri","County","Ralls County",{"$f":"+IF(LEN(home!$G$7)>0,instruments!C1108=home!$G$7,TRUE)","v":true},true,{"$f":"+IF(LEN(home!$G$8)>0,instruments!E1108=home!$G$8,TRUE)","v":false},{"$f":"+IF(LEN(home!$G$9)>0,instruments!F1108=home!$G$9,TRUE)","v":true},3,{"$f":"+COUNTIF($L$1:L1108,\"=\"&4)","v":75},"Ralls County, MO Corn Basis"]
["ZSBAMORA.CM","cmdty Ralls County, MO Soybean Basis Idx","Soybean","Basis","Missouri","County","Ralls County",{"$f":"+IF(LEN(home!$G$7)>0,instruments!C1109=home!$G$7,TRUE)","v":false},true,{"$f":"+IF(LEN(home!$G$8)>0,instruments!E1109=home!$G$8,TRUE)","v":false},{"$f":"+IF(LEN(home!$G$9)>0,instruments!F1109=home!$G$9,TRUE)","v":true},2,{"$f":"+COUNTIF($L$1:L1109,\"=\"&4)","v":75},"Ralls County, MO Soybean Basis"]
["ZSBAMNRA.CM","cmdty Ramsey County, MN Soybean Basis Idx","Soybean","Basis","Minnesota","County","Ramsey County",{"$f":"+IF(LEN(home!$G$7)>0,instruments!C1110=home!$G$7,TRUE)","v":false},true,{"$f":"+IF(LEN(home!$G$8)>0,instruments!E1110=home!$G$8,TRUE)","v":false},{"$f":"+IF(LEN(home!$G$9)>0,instruments!F1110=home!$G$9,TRUE)","v":true},2,{"$f":"+COUNTIF($L$1:L1110,\"=\"&4)","v":75},"Ramsey County, MN Soybean Basis"]
["ZSBANDRA.CM","cmdty Ramsey County, ND Soybean Basis Idx","Soybean","Basis","North Dakota","County","Ramsey County",{"$f":"+IF(LEN(home!$G$7)>0,instruments!C1111=home!$G$7,TRUE)","v":false},true,{"$f":"+IF(LEN(home!$G$8)>0,instruments!E1111=home!$G$8,TRUE)","v":false},{"$f":"+IF(LEN(home!$G$9)>0,instruments!F1111=home!$G$9,TRUE)","v":true},2,{"$f":"+COUNTIF($L$1:L1111,\"=\"&4)","v":75},"Ramsey County, ND Soybean Basis"]
["ZCBAILRA.CM","cmdty Randolph County, IL Corn Basis Idx","Corn","Basis","Illinois","County","Randolph County",{"$f":"+IF(LEN(home!$G$7)>0,instruments!C1112=home!$G$7,TRUE)","v":true},true,{"$f":"+IF(LEN(home!$G$8)>0,instruments!E1112=home!$G$8,TRUE)","v":false},{"$f":"+IF(LEN(home!$G$9)>0,instruments!F1112=home!$G$9,TRUE)","v":true},3,{"$f":"+COUNTIF($L$1:L1112,\"=\"&4)","v":75},"Randolph County, IL Corn Basis"]
["ZSBAILRA.CM","cmdty Randolph County, IL Soybean Basis Idx","Soybean","Basis","Illinois","County","Randolph County",{"$f":"+IF(LEN(home!$G$7)>0,instruments!C1113=home!$G$7,TRUE)","v":false},true,{"$f":"+IF(LEN(home!$G$8)>0,instruments!E1113=home!$G$8,TRUE)","v":false},{"$f":"+IF(LEN(home!$G$9)>0,instruments!F1113=home!$G$9,TRUE)","v":true},2,{"$f":"+COUNTIF($L$1:L1113,\"=\"&4)","v":75},"Randolph County, IL Soybean Basis"]
["ZCBAINRA.CM","cmdty Randolph County, IN Corn Basis Idx","Corn","Basis","Indiana","County","Randolph County",{"$f":"+IF(LEN(home!$G$7)>0,instruments!C1114=home!$G$7,TRUE)","v":true},true,{"$f":"+IF(LEN(home!$G$8)>0,instruments!E1114=home!$G$8,TRUE)","v":false},{"$f":"+IF(LEN(home!$G$9)>0,instruments!F1114=home!$G$9,TRUE)","v":true},3,{"$f":"+COUNTIF($L$1:L1114,\"=\"&4)","v":75},"Randolph County, IN Corn Basis"]
["ZSBAINRA.CM","cmdty Randolph County, IN Soybean Basis Idx","Soybean","Basis","Indiana","County","Randolph County",{"$f":"+IF(LEN(home!$G$7)>0,instruments!C1115=home!$G$7,TRUE)","v":false},true,{"$f":"+IF(LEN(home!$G$8)>0,instruments!E1115=home!$G$8,TRUE)","v":false},{"$f":"+IF(LEN(home!$G$9)>0,instruments!F1115=home!$G$9,TRUE)","v":true},2,{"$f":"+COUNTIF($L$1:L1115,\"=\"&4)","v":75},"Randolph County, IN Soybean Basis"]
["ZSBANDRB.CM","cmdty Ransom County, ND Soybean Basis Idx","Soybean","Basis","North Dakota","County","Ransom County",{"$f":"+IF(LEN(home!$G$7)>0,instruments!C1116=home!$G$7,TRUE)","v":false},true,{"$f":"+IF(LEN(home!$G$8)>0,instruments!E1116=home!$G$8,TRUE)","v":false},{"$f":"+IF(LEN(home!$G$9)>0,instruments!F1116=home!$G$9,TRUE)","v":true},2,{"$f":"+COUNTIF($L$1:L1116,\"=\"&4)","v":75},"Ransom County, ND Soybean Basis"]
["ZCBAKSRA.CM","cmdty Rawlins County, KS Corn Basis Idx","Corn","Basis","Kansas","County","Rawlins County",{"$f":"+IF(LEN(home!$G$7)>0,instruments!C1117=home!$G$7,TRUE)","v":true},true,{"$f":"+IF(LEN(home!$G$8)>0,instruments!E1117=home!$G$8,TRUE)","v":false},{"$f":"+IF(LEN(home!$G$9)>0,instruments!F1117=home!$G$9,TRUE)","v":true},3,{"$f":"+COUNTIF($L$1:L1117,\"=\"&4)","v":75},"Rawlins County, KS Corn Basis"]
["ZSBAKSRA.CM","cmdty Rawlins County, KS Soybean Basis Idx","Soybean","Basis","Kansas","County","Rawlins County",{"$f":"+IF(LEN(home!$G$7)>0,instruments!C1118=home!$G$7,TRUE)","v":false},true,{"$f":"+IF(LEN(home!$G$8)>0,instruments!E1118=home!$G$8,TRUE)","v":false},{"$f":"+IF(LEN(home!$G$9)>0,instruments!F1118=home!$G$9,TRUE)","v":true},2,{"$f":"+COUNTIF($L$1:L1118,\"=\"&4)","v":75},"Rawlins County, KS Soybean Basis"]
["ZCBAMORC.CM","cmdty Ray County, MO Corn Basis Idx","Corn","Basis","Missouri","County","Ray County",{"$f":"+IF(LEN(home!$G$7)>0,instruments!C1119=home!$G$7,TRUE)","v":true},true,{"$f":"+IF(LEN(home!$G$8)>0,instruments!E1119=home!$G$8,TRUE)","v":false},{"$f":"+IF(LEN(home!$G$9)>0,instruments!F1119=home!$G$9,TRUE)","v":true},3,{"$f":"+COUNTIF($L$1:L1119,\"=\"&4)","v":75},"Ray County, MO Corn Basis"]
["ZSBAMORC.CM","cmdty Ray County, MO Soybean Basis Idx","Soybean","Basis","Missouri","County","Ray County",{"$f":"+IF(LEN(home!$G$7)>0,instruments!C1120=home!$G$7,TRUE)","v":false},true,{"$f":"+IF(LEN(home!$G$8)>0,instruments!E1120=home!$G$8,TRUE)","v":false},{"$f":"+IF(LEN(home!$G$9)>0,instruments!F1120=home!$G$9,TRUE)","v":true},2,{"$f":"+COUNTIF($L$1:L1120,\"=\"&4)","v":75},"Ray County, MO Soybean Basis"]
["ZSBAMNRE.CM","cmdty Red Lake County, MN Soybean Basis Idx","Soybean","Basis","Minnesota","County","Red Lake County",{"$f":"+IF(LEN(home!$G$7)>0,instruments!C1121=home!$G$7,TRUE)","v":false},true,{"$f":"+IF(LEN(home!$G$8)>0,instruments!E1121=home!$G$8,TRUE)","v":false},{"$f":"+IF(LEN(home!$G$9)>0,instruments!F1121=home!$G$9,TRUE)","v":true},2,{"$f":"+COUNTIF($L$1:L1121,\"=\"&4)","v":75},"Red Lake County, MN Soybean Basis"]
["ZCBANERE.CM","cmdty Red Willow County, NE Corn Basis Idx","Corn","Basis","Nebraska","County","Red Willow County",{"$f":"+IF(LEN(home!$G$7)>0,instruments!C1122=home!$G$7,TRUE)","v":true},true,{"$f":"+IF(LEN(home!$G$8)>0,instruments!E1122=home!$G$8,TRUE)","v":false},{"$f":"+IF(LEN(home!$G$9)>0,instruments!F1122=home!$G$9,TRUE)","v":true},3,{"$f":"+COUNTIF($L$1:L1122,\"=\"&4)","v":75},"Red Willow County, NE Corn Basis"]
["ZSBANERE.CM","cmdty Red Willow County, NE Soybean Basis Idx","Soybean","Basis","Nebraska","County","Red Willow County",{"$f":"+IF(LEN(home!$G$7)>0,instruments!C1123=home!$G$7,TRUE)","v":false},true,{"$f":"+IF(LEN(home!$G$8)>0,instruments!E1123=home!$G$8,TRUE)","v":false},{"$f":"+IF(LEN(home!$G$9)>0,instruments!F1123=home!$G$9,TRUE)","v":true},2,{"$f":"+COUNTIF($L$1:L1123,\"=\"&4)","v":75},"Red Willow County, NE Soybean Basis"]
["ZCBAMNRB.CM","cmdty Redwood County, MN Corn Basis Idx","Corn","Basis","Minnesota","County","Redwood County",{"$f":"+IF(LEN(home!$G$7)>0,instruments!C1124=home!$G$7,TRUE)","v":true},true,{"$f":"+IF(LEN(home!$G$8)>0,instruments!E1124=home!$G$8,TRUE)","v":false},{"$f":"+IF(LEN(home!$G$9)>0,instruments!F1124=home!$G$9,TRUE)","v":true},3,{"$f":"+COUNTIF($L$1:L1124,\"=\"&4)","v":75},"Redwood County, MN Corn Basis"]
["ZSBAMNRB.CM","cmdty Redwood County, MN Soybean Basis Idx","Soybean","Basis","Minnesota","County","Redwood County",{"$f":"+IF(LEN(home!$G$7)>0,instruments!C1125=home!$G$7,TRUE)","v":false},true,{"$f":"+IF(LEN(home!$G$8)>0,instruments!E1125=home!$G$8,TRUE)","v":false},{"$f":"+IF(LEN(home!$G$9)>0,instruments!F1125=home!$G$9,TRUE)","v":true},2,{"$f":"+COUNTIF($L$1:L1125,\"=\"&4)","v":75},"Redwood County, MN Soybean Basis"]
["ZCBAKSRE.CM","cmdty Reno County, KS Corn Basis Idx","Corn","Basis","Kansas","County","Reno County",{"$f":"+IF(LEN(home!$G$7)>0,instruments!C1126=home!$G$7,TRUE)","v":true},true,{"$f":"+IF(LEN(home!$G$8)>0,instruments!E1126=home!$G$8,TRUE)","v":false},{"$f":"+IF(LEN(home!$G$9)>0,instruments!F1126=home!$G$9,TRUE)","v":true},3,{"$f":"+COUNTIF($L$1:L1126,\"=\"&4)","v":75},"Reno County, KS Corn Basis"]
["ZSBAKSRE.CM","cmdty Reno County, KS Soybean Basis Idx","Soybean","Basis","Kansas","County","Reno County",{"$f":"+IF(LEN(home!$G$7)>0,instruments!C1127=home!$G$7,TRUE)","v":false},true,{"$f":"+IF(LEN(home!$G$8)>0,instruments!E1127=home!$G$8,TRUE)","v":false},{"$f":"+IF(LEN(home!$G$9)>0,instruments!F1127=home!$G$9,TRUE)","v":true},2,{"$f":"+COUNTIF($L$1:L1127,\"=\"&4)","v":75},"Reno County, KS Soybean Basis"]
["ZCBAMNRC.CM","cmdty Renville County, MN Corn Basis Idx","Corn","Basis","Minnesota","County","Renville County",{"$f":"+IF(LEN(home!$G$7)>0,instruments!C1128=home!$G$7,TRUE)","v":true},true,{"$f":"+IF(LEN(home!$G$8)>0,instruments!E1128=home!$G$8,TRUE)","v":false},{"$f":"+IF(LEN(home!$G$9)>0,instruments!F1128=home!$G$9,TRUE)","v":true},3,{"$f":"+COUNTIF($L$1:L1128,\"=\"&4)","v":75},"Renville County, MN Corn Basis"]
["ZSBAMNRC.CM","cmdty Renville County, MN Soybean Basis Idx","Soybean","Basis","Minnesota","County","Renville County",{"$f":"+IF(LEN(home!$G$7)>0,instruments!C1129=home!$G$7,TRUE)","v":false},true,{"$f":"+IF(LEN(home!$G$8)>0,instruments!E1129=home!$G$8,TRUE)","v":false},{"$f":"+IF(LEN(home!$G$9)>0,instruments!F1129=home!$G$9,TRUE)","v":true},2,{"$f":"+COUNTIF($L$1:L1129,\"=\"&4)","v":75},"Renville County, MN Soybean Basis"]
["ZSBANDRE.CM","cmdty Renville County, ND Soybean Basis Idx","Soybean","Basis","North Dakota","County","Renville County",{"$f":"+IF(LEN(home!$G$7)>0,instruments!C1130=home!$G$7,TRUE)","v":false},true,{"$f":"+IF(LEN(home!$G$8)>0,instruments!E1130=home!$G$8,TRUE)","v":false},{"$f":"+IF(LEN(home!$G$9)>0,instruments!F1130=home!$G$9,TRUE)","v":true},2,{"$f":"+COUNTIF($L$1:L1130,\"=\"&4)","v":75},"Renville County, ND Soybean Basis"]
["ZCBAKSRB.CM","cmdty Republic County, KS Corn Basis Idx","Corn","Basis","Kansas","County","Republic County",{"$f":"+IF(LEN(home!$G$7)>0,instruments!C1131=home!$G$7,TRUE)","v":true},true,{"$f":"+IF(LEN(home!$G$8)>0,instruments!E1131=home!$G$8,TRUE)","v":false},{"$f":"+IF(LEN(home!$G$9)>0,instruments!F1131=home!$G$9,TRUE)","v":true},3,{"$f":"+COUNTIF($L$1:L1131,\"=\"&4)","v":75},"Republic County, KS Corn Basis"]
["ZSBAKSRB.CM","cmdty Republic County, KS Soybean Basis Idx","Soybean","Basis","Kansas","County","Republic County",{"$f":"+IF(LEN(home!$G$7)>0,instruments!C1132=home!$G$7,TRUE)","v":false},true,{"$f":"+IF(LEN(home!$G$8)>0,instruments!E1132=home!$G$8,TRUE)","v":false},{"$f":"+IF(LEN(home!$G$9)>0,instruments!F1132=home!$G$9,TRUE)","v":true},2,{"$f":"+COUNTIF($L$1:L1132,\"=\"&4)","v":75},"Republic County, KS Soybean Basis"]
["ZCBAKSRI.CM","cmdty Rice County, KS Corn Basis Idx","Corn","Basis","Kansas","County","Rice County",{"$f":"+IF(LEN(home!$G$7)>0,instruments!C1133=home!$G$7,TRUE)","v":true},true,{"$f":"+IF(LEN(home!$G$8)>0,instruments!E1133=home!$G$8,TRUE)","v":false},{"$f":"+IF(LEN(home!$G$9)>0,instruments!F1133=home!$G$9,TRUE)","v":true},3,{"$f":"+COUNTIF($L$1:L1133,\"=\"&4)","v":75},"Rice County, KS Corn Basis"]
["ZSBAKSRI.CM","cmdty Rice County, KS Soybean Basis Idx","Soybean","Basis","Kansas","County","Rice County",{"$f":"+IF(LEN(home!$G$7)>0,instruments!C1134=home!$G$7,TRUE)","v":false},true,{"$f":"+IF(LEN(home!$G$8)>0,instruments!E1134=home!$G$8,TRUE)","v":false},{"$f":"+IF(LEN(home!$G$9)>0,instruments!F1134=home!$G$9,TRUE)","v":true},2,{"$f":"+COUNTIF($L$1:L1134,\"=\"&4)","v":75},"Rice County, KS Soybean Basis"]
["ZCBAMNRI.CM","cmdty Rice County, MN Corn Basis Idx","Corn","Basis","Minnesota","County","Rice County",{"$f":"+IF(LEN(home!$G$7)>0,instruments!C1135=home!$G$7,TRUE)","v":true},true,{"$f":"+IF(LEN(home!$G$8)>0,instruments!E1135=home!$G$8,TRUE)","v":false},{"$f":"+IF(LEN(home!$G$9)>0,instruments!F1135=home!$G$9,TRUE)","v":true},3,{"$f":"+COUNTIF($L$1:L1135,\"=\"&4)","v":75},"Rice County, MN Corn Basis"]
["ZSBAMNRI.CM","cmdty Rice County, MN Soybean Basis Idx","Soybean","Basis","Minnesota","County","Rice County",{"$f":"+IF(LEN(home!$G$7)>0,instruments!C1136=home!$G$7,TRUE)","v":false},true,{"$f":"+IF(LEN(home!$G$8)>0,instruments!E1136=home!$G$8,TRUE)","v":false},{"$f":"+IF(LEN(home!$G$9)>0,instruments!F1136=home!$G$9,TRUE)","v":true},2,{"$f":"+COUNTIF($L$1:L1136,\"=\"&4)","v":75},"Rice County, MN Soybean Basis"]
["ZCBANERI.CM","cmdty Richardson County, NE Corn Basis Idx","Corn","Basis","Nebraska","County","Richardson County",{"$f":"+IF(LEN(home!$G$7)>0,instruments!C1137=home!$G$7,TRUE)","v":true},true,{"$f":"+IF(LEN(home!$G$8)>0,instruments!E1137=home!$G$8,TRUE)","v":false},{"$f":"+IF(LEN(home!$G$9)>0,instruments!F1137=home!$G$9,TRUE)","v":true},3,{"$f":"+COUNTIF($L$1:L1137,\"=\"&4)","v":75},"Richardson County, NE Corn Basis"]
["ZSBANERI.CM","cmdty Richardson County, NE Soybean Basis Idx","Soybean","Basis","Nebraska","County","Richardson County",{"$f":"+IF(LEN(home!$G$7)>0,instruments!C1138=home!$G$7,TRUE)","v":false},true,{"$f":"+IF(LEN(home!$G$8)>0,instruments!E1138=home!$G$8,TRUE)","v":false},{"$f":"+IF(LEN(home!$G$9)>0,instruments!F1138=home!$G$9,TRUE)","v":true},2,{"$f":"+COUNTIF($L$1:L1138,\"=\"&4)","v":75},"Richardson County, NE Soybean Basis"]
["ZCBAILRI.CM","cmdty Richland County, IL Corn Basis Idx","Corn","Basis","Illinois","County","Richland County",{"$f":"+IF(LEN(home!$G$7)>0,instruments!C1139=home!$G$7,TRUE)","v":true},true,{"$f":"+IF(LEN(home!$G$8)>0,instruments!E1139=home!$G$8,TRUE)","v":false},{"$f":"+IF(LEN(home!$G$9)>0,instruments!F1139=home!$G$9,TRUE)","v":true},3,{"$f":"+COUNTIF($L$1:L1139,\"=\"&4)","v":75},"Richland County, IL Corn Basis"]
["ZSBAILRI.CM","cmdty Richland County, IL Soybean Basis Idx","Soybean","Basis","Illinois","County","Richland County",{"$f":"+IF(LEN(home!$G$7)>0,instruments!C1140=home!$G$7,TRUE)","v":false},true,{"$f":"+IF(LEN(home!$G$8)>0,instruments!E1140=home!$G$8,TRUE)","v":false},{"$f":"+IF(LEN(home!$G$9)>0,instruments!F1140=home!$G$9,TRUE)","v":true},2,{"$f":"+COUNTIF($L$1:L1140,\"=\"&4)","v":75},"Richland County, IL Soybean Basis"]
["ZSBANDRI.CM","cmdty Richland County, ND Soybean Basis Idx","Soybean","Basis","North Dakota","County","Richland County",{"$f":"+IF(LEN(home!$G$7)>0,instruments!C1141=home!$G$7,TRUE)","v":false},true,{"$f":"+IF(LEN(home!$G$8)>0,instruments!E1141=home!$G$8,TRUE)","v":false},{"$f":"+IF(LEN(home!$G$9)>0,instruments!F1141=home!$G$9,TRUE)","v":true},2,{"$f":"+COUNTIF($L$1:L1141,\"=\"&4)","v":75},"Richland County, ND Soybean Basis"]
["ZSBAOHRI.CM","cmdty Richland County, OH Soybean Basis Idx","Soybean","Basis","Ohio","County","Richland County",{"$f":"+IF(LEN(home!$G$7)>0,instruments!C1142=home!$G$7,TRUE)","v":false},true,{"$f":"+IF(LEN(home!$G$8)>0,instruments!E1142=home!$G$8,TRUE)","v":false},{"$f":"+IF(LEN(home!$G$9)>0,instruments!F1142=home!$G$9,TRUE)","v":true},2,{"$f":"+COUNTIF($L$1:L1142,\"=\"&4)","v":75},"Richland County, OH Soybean Basis"]
["ZCBAKSRC.CM","cmdty Riley County, KS Corn Basis Idx","Corn","Basis","Kansas","County","Riley County",{"$f":"+IF(LEN(home!$G$7)>0,instruments!C1143=home!$G$7,TRUE)","v":true},true,{"$f":"+IF(LEN(home!$G$8)>0,instruments!E1143=home!$G$8,TRUE)","v":false},{"$f":"+IF(LEN(home!$G$9)>0,instruments!F1143=home!$G$9,TRUE)","v":true},3,{"$f":"+COUNTIF($L$1:L1143,\"=\"&4)","v":75},"Riley County, KS Corn Basis"]
["ZSBAKSRC.CM","cmdty Riley County, KS Soybean Basis Idx","Soybean","Basis","Kansas","County","Riley County",{"$f":"+IF(LEN(home!$G$7)>0,instruments!C1144=home!$G$7,TRUE)","v":false},true,{"$f":"+IF(LEN(home!$G$8)>0,instruments!E1144=home!$G$8,TRUE)","v":false},{"$f":"+IF(LEN(home!$G$9)>0,instruments!F1144=home!$G$9,TRUE)","v":true},2,{"$f":"+COUNTIF($L$1:L1144,\"=\"&4)","v":75},"Riley County, KS Soybean Basis"]
["ZCBAIARI.CM","cmdty Ringgold County, IA Corn Basis Idx","Corn","Basis","Iowa","County","Ringgold County",{"$f":"+IF(LEN(home!$G$7)>0,instruments!C1145=home!$G$7,TRUE)","v":true},true,{"$f":"+IF(LEN(home!$G$8)>0,instruments!E1145=home!$G$8,TRUE)","v":true},{"$f":"+IF(LEN(home!$G$9)>0,instruments!F1145=home!$G$9,TRUE)","v":true},4,{"$f":"+COUNTIF($L$1:L1145,\"=\"&4)","v":76},"Ringgold County, IA Corn Basis"]
["ZSBAIARI.CM","cmdty Ringgold County, IA Soybean Basis Idx","Soybean","Basis","Iowa","County","Ringgold County",{"$f":"+IF(LEN(home!$G$7)>0,instruments!C1146=home!$G$7,TRUE)","v":false},true,{"$f":"+IF(LEN(home!$G$8)>0,instruments!E1146=home!$G$8,TRUE)","v":true},{"$f":"+IF(LEN(home!$G$9)>0,instruments!F1146=home!$G$9,TRUE)","v":true},3,{"$f":"+COUNTIF($L$1:L1146,\"=\"&4)","v":76},"Ringgold County, IA Soybean Basis"]
["ZCBASDRO.CM","cmdty Roberts County, SD Corn Basis Idx","Corn","Basis","South Dakota","County","Roberts County",{"$f":"+IF(LEN(home!$G$7)>0,instruments!C1147=home!$G$7,TRUE)","v":true},true,{"$f":"+IF(LEN(home!$G$8)>0,instruments!E1147=home!$G$8,TRUE)","v":false},{"$f":"+IF(LEN(home!$G$9)>0,instruments!F1147=home!$G$9,TRUE)","v":true},3,{"$f":"+COUNTIF($L$1:L1147,\"=\"&4)","v":76},"Roberts County, SD Corn Basis"]
["ZSBASDRO.CM","cmdty Roberts County, SD Soybean Basis Idx","Soybean","Basis","South Dakota","County","Roberts County",{"$f":"+IF(LEN(home!$G$7)>0,instruments!C1148=home!$G$7,TRUE)","v":false},true,{"$f":"+IF(LEN(home!$G$8)>0,instruments!E1148=home!$G$8,TRUE)","v":false},{"$f":"+IF(LEN(home!$G$9)>0,instruments!F1148=home!$G$9,TRUE)","v":true},2,{"$f":"+COUNTIF($L$1:L1148,\"=\"&4)","v":76},"Roberts County, SD Soybean Basis"]
["ZCBAMNRO.CM","cmdty Rock County, MN Corn Basis Idx","Corn","Basis","Minnesota","County","Rock County",{"$f":"+IF(LEN(home!$G$7)>0,instruments!C1149=home!$G$7,TRUE)","v":true},true,{"$f":"+IF(LEN(home!$G$8)>0,instruments!E1149=home!$G$8,TRUE)","v":false},{"$f":"+IF(LEN(home!$G$9)>0,instruments!F1149=home!$G$9,TRUE)","v":true},3,{"$f":"+COUNTIF($L$1:L1149,\"=\"&4)","v":76},"Rock County, MN Corn Basis"]
["ZSBAMNRO.CM","cmdty Rock County, MN Soybean Basis Idx","Soybean","Basis","Minnesota","County","Rock County",{"$f":"+IF(LEN(home!$G$7)>0,instruments!C1150=home!$G$7,TRUE)","v":false},true,{"$f":"+IF(LEN(home!$G$8)>0,instruments!E1150=home!$G$8,TRUE)","v":false},{"$f":"+IF(LEN(home!$G$9)>0,instruments!F1150=home!$G$9,TRUE)","v":true},2,{"$f":"+COUNTIF($L$1:L1150,\"=\"&4)","v":76},"Rock County, MN Soybean Basis"]
["ZCBAILRO.CM","cmdty Rock Island County, IL Corn Basis Idx","Corn","Basis","Illinois","County","Rock Island County",{"$f":"+IF(LEN(home!$G$7)>0,instruments!C1151=home!$G$7,TRUE)","v":true},true,{"$f":"+IF(LEN(home!$G$8)>0,instruments!E1151=home!$G$8,TRUE)","v":false},{"$f":"+IF(LEN(home!$G$9)>0,instruments!F1151=home!$G$9,TRUE)","v":true},3,{"$f":"+COUNTIF($L$1:L1151,\"=\"&4)","v":76},"Rock Island County, IL Corn Basis"]
["ZSBAILRO.CM","cmdty Rock Island County, IL Soybean Basis Idx","Soybean","Basis","Illinois","County","Rock Island County",{"$f":"+IF(LEN(home!$G$7)>0,instruments!C1152=home!$G$7,TRUE)","v":false},true,{"$f":"+IF(LEN(home!$G$8)>0,instruments!E1152=home!$G$8,TRUE)","v":false},{"$f":"+IF(LEN(home!$G$9)>0,instruments!F1152=home!$G$9,TRUE)","v":true},2,{"$f":"+COUNTIF($L$1:L1152,\"=\"&4)","v":76},"Rock Island County, IL Soybean Basis"]
["ZSBANDRO.CM","cmdty Rolette County, ND Soybean Basis Idx","Soybean","Basis","North Dakota","County","Rolette County",{"$f":"+IF(LEN(home!$G$7)>0,instruments!C1153=home!$G$7,TRUE)","v":false},true,{"$f":"+IF(LEN(home!$G$8)>0,instruments!E1153=home!$G$8,TRUE)","v":false},{"$f":"+IF(LEN(home!$G$9)>0,instruments!F1153=home!$G$9,TRUE)","v":true},2,{"$f":"+COUNTIF($L$1:L1153,\"=\"&4)","v":76},"Rolette County, ND Soybean Basis"]
["ZCBAKSRO.CM","cmdty Rooks County, KS Corn Basis Idx","Corn","Basis","Kansas","County","Rooks County",{"$f":"+IF(LEN(home!$G$7)>0,instruments!C1154=home!$G$7,TRUE)","v":true},true,{"$f":"+IF(LEN(home!$G$8)>0,instruments!E1154=home!$G$8,TRUE)","v":false},{"$f":"+IF(LEN(home!$G$9)>0,instruments!F1154=home!$G$9,TRUE)","v":true},{"$f":"+COUNTIF(H1154:K1154,TRUE)","v":3},{"$f":"+COUNTIF($L$1:L1154,\"=\"&4)","v":76},"Rooks County, KS Corn Basis"]
["ZSBAKSRO.CM","cmdty Rooks County, KS Soybean Basis Idx","Soybean","Basis","Kansas","County","Rooks County",{"$f":"+IF(LEN(home!$G$7)>0,instruments!C1155=home!$G$7,TRUE)","v":false},{"$f":"+D1155=\"Basis\"","v":true},{"$f":"+IF(LEN(home!$G$8)>0,instruments!E1155=home!$G$8,TRUE)","v":false},{"$f":"+IF(LEN(home!$G$9)>0,instruments!F1155=home!$G$9,TRUE)","v":true},2,{"$f":"+COUNTIF($L$1:L1155,\"=\"&4)","v":76},{"$f":"+MID(B1155,FIND(\" \",B1155,1)+1,LEN(B1155)-FIND(\" \",B1155,1)-4)","v":"Rooks County, KS Soybean Basis"}]
["ZSBAMNRD.CM","cmdty Roseau County, MN Soybean Basis Idx","Soybean","Basis","Minnesota","County","Roseau County",{"$f":"+IF(LEN(home!$G$7)>0,instruments!C1156=home!$G$7,TRUE)","v":false},true,{"$f":"+IF(LEN(home!$G$8)>0,instruments!E1156=home!$G$8,TRUE)","v":false},{"$f":"+IF(LEN(home!$G$9)>0,instruments!F1156=home!$G$9,TRUE)","v":true},2,{"$f":"+COUNTIF($L$1:L1156,\"=\"&4)","v":76},"Roseau County, MN Soybean Basis"]
["ZSBAOHRO.CM","cmdty Ross County, OH Soybean Basis Idx","Soybean","Basis","Ohio","County","Ross County",{"$f":"+IF(LEN(home!$G$7)>0,instruments!C1157=home!$G$7,TRUE)","v":false},true,{"$f":"+IF(LEN(home!$G$8)>0,instruments!E1157=home!$G$8,TRUE)","v":false},{"$f":"+IF(LEN(home!$G$9)>0,instruments!F1157=home!$G$9,TRUE)","v":true},2,{"$f":"+COUNTIF($L$1:L1157,\"=\"&4)","v":76},"Ross County, OH Soybean Basis"]
["ZCBAINRU.CM","cmdty Rush County, IN Corn Basis Idx","Corn","Basis","Indiana","County","Rush County",{"$f":"+IF(LEN(home!$G$7)>0,instruments!C1158=home!$G$7,TRUE)","v":true},true,{"$f":"+IF(LEN(home!$G$8)>0,instruments!E1158=home!$G$8,TRUE)","v":false},{"$f":"+IF(LEN(home!$G$9)>0,instruments!F1158=home!$G$9,TRUE)","v":true},3,{"$f":"+COUNTIF($L$1:L1158,\"=\"&4)","v":76},"Rush County, IN Corn Basis"]
["ZSBAINRU.CM","cmdty Rush County, IN Soybean Basis Idx","Soybean","Basis","Indiana","County","Rush County",{"$f":"+IF(LEN(home!$G$7)>0,instruments!C1159=home!$G$7,TRUE)","v":false},true,{"$f":"+IF(LEN(home!$G$8)>0,instruments!E1159=home!$G$8,TRUE)","v":false},{"$f":"+IF(LEN(home!$G$9)>0,instruments!F1159=home!$G$9,TRUE)","v":true},2,{"$f":"+COUNTIF($L$1:L1159,\"=\"&4)","v":76},"Rush County, IN Soybean Basis"]
["ZCBAKSRU.CM","cmdty Rush County, KS Corn Basis Idx","Corn","Basis","Kansas","County","Rush County",{"$f":"+IF(LEN(home!$G$7)>0,instruments!C1160=home!$G$7,TRUE)","v":true},true,{"$f":"+IF(LEN(home!$G$8)>0,instruments!E1160=home!$G$8,TRUE)","v":false},{"$f":"+IF(LEN(home!$G$9)>0,instruments!F1160=home!$G$9,TRUE)","v":true},3,{"$f":"+COUNTIF($L$1:L1160,\"=\"&4)","v":76},"Rush County, KS Corn Basis"]
["ZSBAKSRU.CM","cmdty Rush County, KS Soybean Basis Idx","Soybean","Basis","Kansas","County","Rush County",{"$f":"+IF(LEN(home!$G$7)>0,instruments!C1161=home!$G$7,TRUE)","v":false},true,{"$f":"+IF(LEN(home!$G$8)>0,instruments!E1161=home!$G$8,TRUE)","v":false},{"$f":"+IF(LEN(home!$G$9)>0,instruments!F1161=home!$G$9,TRUE)","v":true},2,{"$f":"+COUNTIF($L$1:L1161,\"=\"&4)","v":76},"Rush County, KS Soybean Basis"]
["ZCBAIASA.CM","cmdty Sac County, IA Corn Basis Idx","Corn","Basis","Iowa","County","Sac County",{"$f":"+IF(LEN(home!$G$7)>0,instruments!C1162=home!$G$7,TRUE)","v":true},true,{"$f":"+IF(LEN(home!$G$8)>0,instruments!E1162=home!$G$8,TRUE)","v":true},{"$f":"+IF(LEN(home!$G$9)>0,instruments!F1162=home!$G$9,TRUE)","v":true},4,{"$f":"+COUNTIF($L$1:L1162,\"=\"&4)","v":77},"Sac County, IA Corn Basis"]
["ZSBAIASA.CM","cmdty Sac County, IA Soybean Basis Idx","Soybean","Basis","Iowa","County","Sac County",{"$f":"+IF(LEN(home!$G$7)>0,instruments!C1163=home!$G$7,TRUE)","v":false},true,{"$f":"+IF(LEN(home!$G$8)>0,instruments!E1163=home!$G$8,TRUE)","v":true},{"$f":"+IF(LEN(home!$G$9)>0,instruments!F1163=home!$G$9,TRUE)","v":true},3,{"$f":"+COUNTIF($L$1:L1163,\"=\"&4)","v":77},"Sac County, IA Soybean Basis"]
["ZCBAKSSA.CM","cmdty Saline County, KS Corn Basis Idx","Corn","Basis","Kansas","County","Saline County",{"$f":"+IF(LEN(home!$G$7)>0,instruments!C1164=home!$G$7,TRUE)","v":true},true,{"$f":"+IF(LEN(home!$G$8)>0,instruments!E1164=home!$G$8,TRUE)","v":false},{"$f":"+IF(LEN(home!$G$9)>0,instruments!F1164=home!$G$9,TRUE)","v":true},3,{"$f":"+COUNTIF($L$1:L1164,\"=\"&4)","v":77},"Saline County, KS Corn Basis"]
["ZSBAKSSA.CM","cmdty Saline County, KS Soybean Basis Idx","Soybean","Basis","Kansas","County","Saline County",{"$f":"+IF(LEN(home!$G$7)>0,instruments!C1165=home!$G$7,TRUE)","v":false},true,{"$f":"+IF(LEN(home!$G$8)>0,instruments!E1165=home!$G$8,TRUE)","v":false},{"$f":"+IF(LEN(home!$G$9)>0,instruments!F1165=home!$G$9,TRUE)","v":true},2,{"$f":"+COUNTIF($L$1:L1165,\"=\"&4)","v":77},"Saline County, KS Soybean Basis"]
["ZCBAMOSA.CM","cmdty Saline County, MO Corn Basis Idx","Corn","Basis","Missouri","County","Saline County",{"$f":"+IF(LEN(home!$G$7)>0,instruments!C1166=home!$G$7,TRUE)","v":true},true,{"$f":"+IF(LEN(home!$G$8)>0,instruments!E1166=home!$G$8,TRUE)","v":false},{"$f":"+IF(LEN(home!$G$9)>0,instruments!F1166=home!$G$9,TRUE)","v":true},3,{"$f":"+COUNTIF($L$1:L1166,\"=\"&4)","v":77},"Saline County, MO Corn Basis"]
["ZSBAMOSA.CM","cmdty Saline County, MO Soybean Basis Idx","Soybean","Basis","Missouri","County","Saline County",{"$f":"+IF(LEN(home!$G$7)>0,instruments!C1167=home!$G$7,TRUE)","v":false},true,{"$f":"+IF(LEN(home!$G$8)>0,instruments!E1167=home!$G$8,TRUE)","v":false},{"$f":"+IF(LEN(home!$G$9)>0,instruments!F1167=home!$G$9,TRUE)","v":true},2,{"$f":"+COUNTIF($L$1:L1167,\"=\"&4)","v":77},"Saline County, MO Soybean Basis"]
["ZCBANESA.CM","cmdty Saline County, NE Corn Basis Idx","Corn","Basis","Nebraska","County","Saline County",{"$f":"+IF(LEN(home!$G$7)>0,instruments!C1168=home!$G$7,TRUE)","v":true},true,{"$f":"+IF(LEN(home!$G$8)>0,instruments!E1168=home!$G$8,TRUE)","v":false},{"$f":"+IF(LEN(home!$G$9)>0,instruments!F1168=home!$G$9,TRUE)","v":true},3,{"$f":"+COUNTIF($L$1:L1168,\"=\"&4)","v":77},"Saline County, NE Corn Basis"]
["ZSBANESA.CM","cmdty Saline County, NE Soybean Basis Idx","Soybean","Basis","Nebraska","County","Saline County",{"$f":"+IF(LEN(home!$G$7)>0,instruments!C1169=home!$G$7,TRUE)","v":false},true,{"$f":"+IF(LEN(home!$G$8)>0,instruments!E1169=home!$G$8,TRUE)","v":false},{"$f":"+IF(LEN(home!$G$9)>0,instruments!F1169=home!$G$9,TRUE)","v":true},2,{"$f":"+COUNTIF($L$1:L1169,\"=\"&4)","v":77},"Saline County, NE Soybean Basis"]
["ZSBAOHSA.CM","cmdty Sandusky County, OH Soybean Basis Idx","Soybean","Basis","Ohio","County","Sandusky County",{"$f":"+IF(LEN(home!$G$7)>0,instruments!C1170=home!$G$7,TRUE)","v":false},true,{"$f":"+IF(LEN(home!$G$8)>0,instruments!E1170=home!$G$8,TRUE)","v":false},{"$f":"+IF(LEN(home!$G$9)>0,instruments!F1170=home!$G$9,TRUE)","v":true},2,{"$f":"+COUNTIF($L$1:L1170,\"=\"&4)","v":77},"Sandusky County, OH Soybean Basis"]
["ZCBAILSB.CM","cmdty Sangamon County, IL Corn Basis Idx","Corn","Basis","Illinois","County","Sangamon County",{"$f":"+IF(LEN(home!$G$7)>0,instruments!C1171=home!$G$7,TRUE)","v":true},true,{"$f":"+IF(LEN(home!$G$8)>0,instruments!E1171=home!$G$8,TRUE)","v":false},{"$f":"+IF(LEN(home!$G$9)>0,instruments!F1171=home!$G$9,TRUE)","v":true},3,{"$f":"+COUNTIF($L$1:L1171,\"=\"&4)","v":77},"Sangamon County, IL Corn Basis"]
["ZSBAILSB.CM","cmdty Sangamon County, IL Soybean Basis Idx","Soybean","Basis","Illinois","County","Sangamon County",{"$f":"+IF(LEN(home!$G$7)>0,instruments!C1172=home!$G$7,TRUE)","v":false},true,{"$f":"+IF(LEN(home!$G$8)>0,instruments!E1172=home!$G$8,TRUE)","v":false},{"$f":"+IF(LEN(home!$G$9)>0,instruments!F1172=home!$G$9,TRUE)","v":true},2,{"$f":"+COUNTIF($L$1:L1172,\"=\"&4)","v":77},"Sangamon County, IL Soybean Basis"]
["ZSBANDSA.CM","cmdty Sargent County, ND Soybean Basis Idx","Soybean","Basis","North Dakota","County","Sargent County",{"$f":"+IF(LEN(home!$G$7)>0,instruments!C1173=home!$G$7,TRUE)","v":false},true,{"$f":"+IF(LEN(home!$G$8)>0,instruments!E1173=home!$G$8,TRUE)","v":false},{"$f":"+IF(LEN(home!$G$9)>0,instruments!F1173=home!$G$9,TRUE)","v":true},2,{"$f":"+COUNTIF($L$1:L1173,\"=\"&4)","v":77},"Sargent County, ND Soybean Basis"]
["ZCBANESD.CM","cmdty Saunders County, NE Corn Basis Idx","Corn","Basis","Nebraska","County","Saunders County",{"$f":"+IF(LEN(home!$G$7)>0,instruments!C1174=home!$G$7,TRUE)","v":true},true,{"$f":"+IF(LEN(home!$G$8)>0,instruments!E1174=home!$G$8,TRUE)","v":false},{"$f":"+IF(LEN(home!$G$9)>0,instruments!F1174=home!$G$9,TRUE)","v":true},3,{"$f":"+COUNTIF($L$1:L1174,\"=\"&4)","v":77},"Saunders County, NE Corn Basis"]
["ZSBANESD.CM","cmdty Saunders County, NE Soybean Basis Idx","Soybean","Basis","Nebraska","County","Saunders County",{"$f":"+IF(LEN(home!$G$7)>0,instruments!C1175=home!$G$7,TRUE)","v":false},true,{"$f":"+IF(LEN(home!$G$8)>0,instruments!E1175=home!$G$8,TRUE)","v":false},{"$f":"+IF(LEN(home!$G$9)>0,instruments!F1175=home!$G$9,TRUE)","v":true},2,{"$f":"+COUNTIF($L$1:L1175,\"=\"&4)","v":77},"Saunders County, NE Soybean Basis"]
["ZCBAILSC.CM","cmdty Schuyler County, IL Corn Basis Idx","Corn","Basis","Illinois","County","Schuyler County",{"$f":"+IF(LEN(home!$G$7)>0,instruments!C1176=home!$G$7,TRUE)","v":true},true,{"$f":"+IF(LEN(home!$G$8)>0,instruments!E1176=home!$G$8,TRUE)","v":false},{"$f":"+IF(LEN(home!$G$9)>0,instruments!F1176=home!$G$9,TRUE)","v":true},3,{"$f":"+COUNTIF($L$1:L1176,\"=\"&4)","v":77},"Schuyler County, IL Corn Basis"]
["ZSBAILSC.CM","cmdty Schuyler County, IL Soybean Basis Idx","Soybean","Basis","Illinois","County","Schuyler County",{"$f":"+IF(LEN(home!$G$7)>0,instruments!C1177=home!$G$7,TRUE)","v":false},true,{"$f":"+IF(LEN(home!$G$8)>0,instruments!E1177=home!$G$8,TRUE)","v":false},{"$f":"+IF(LEN(home!$G$9)>0,instruments!F1177=home!$G$9,TRUE)","v":true},2,{"$f":"+COUNTIF($L$1:L1177,\"=\"&4)","v":77},"Schuyler County, IL Soybean Basis"]
["ZCBAMOSC.CM","cmdty Schuyler County, MO Corn Basis Idx","Corn","Basis","Missouri","County","Schuyler County",{"$f":"+IF(LEN(home!$G$7)>0,instruments!C1178=home!$G$7,TRUE)","v":true},true,{"$f":"+IF(LEN(home!$G$8)>0,instruments!E1178=home!$G$8,TRUE)","v":false},{"$f":"+IF(LEN(home!$G$9)>0,instruments!F1178=home!$G$9,TRUE)","v":true},3,{"$f":"+COUNTIF($L$1:L1178,\"=\"&4)","v":77},"Schuyler County, MO Corn Basis"]
["ZSBAMOSC.CM","cmdty Schuyler County, MO Soybean Basis Idx","Soybean","Basis","Missouri","County","Schuyler County",{"$f":"+IF(LEN(home!$G$7)>0,instruments!C1179=home!$G$7,TRUE)","v":false},true,{"$f":"+IF(LEN(home!$G$8)>0,instruments!E1179=home!$G$8,TRUE)","v":false},{"$f":"+IF(LEN(home!$G$9)>0,instruments!F1179=home!$G$9,TRUE)","v":true},2,{"$f":"+COUNTIF($L$1:L1179,\"=\"&4)","v":77},"Schuyler County, MO Soybean Basis"]
["ZCBAIASC.CM","cmdty Scott County, IA Corn Basis Idx","Corn","Basis","Iowa","County","Scott County",{"$f":"+IF(LEN(home!$G$7)>0,instruments!C1180=home!$G$7,TRUE)","v":true},true,{"$f":"+IF(LEN(home!$G$8)>0,instruments!E1180=home!$G$8,TRUE)","v":true},{"$f":"+IF(LEN(home!$G$9)>0,instruments!F1180=home!$G$9,TRUE)","v":true},4,{"$f":"+COUNTIF($L$1:L1180,\"=\"&4)","v":78},"Scott County, IA Corn Basis"]
["ZSBAIASC.CM","cmdty Scott County, IA Soybean Basis Idx","Soybean","Basis","Iowa","County","Scott County",{"$f":"+IF(LEN(home!$G$7)>0,instruments!C1181=home!$G$7,TRUE)","v":false},true,{"$f":"+IF(LEN(home!$G$8)>0,instruments!E1181=home!$G$8,TRUE)","v":true},{"$f":"+IF(LEN(home!$G$9)>0,instruments!F1181=home!$G$9,TRUE)","v":true},3,{"$f":"+COUNTIF($L$1:L1181,\"=\"&4)","v":78},"Scott County, IA Soybean Basis"]
["ZCBAILSD.CM","cmdty Scott County, IL Corn Basis Idx","Corn","Basis","Illinois","County","Scott County",{"$f":"+IF(LEN(home!$G$7)>0,instruments!C1182=home!$G$7,TRUE)","v":true},true,{"$f":"+IF(LEN(home!$G$8)>0,instruments!E1182=home!$G$8,TRUE)","v":false},{"$f":"+IF(LEN(home!$G$9)>0,instruments!F1182=home!$G$9,TRUE)","v":true},3,{"$f":"+COUNTIF($L$1:L1182,\"=\"&4)","v":78},"Scott County, IL Corn Basis"]
["ZSBAILSD.CM","cmdty Scott County, IL Soybean Basis Idx","Soybean","Basis","Illinois","County","Scott County",{"$f":"+IF(LEN(home!$G$7)>0,instruments!C1183=home!$G$7,TRUE)","v":false},true,{"$f":"+IF(LEN(home!$G$8)>0,instruments!E1183=home!$G$8,TRUE)","v":false},{"$f":"+IF(LEN(home!$G$9)>0,instruments!F1183=home!$G$9,TRUE)","v":true},2,{"$f":"+COUNTIF($L$1:L1183,\"=\"&4)","v":78},"Scott County, IL Soybean Basis"]
["ZCBAKSSC.CM","cmdty Scott County, KS Corn Basis Idx","Corn","Basis","Kansas","County","Scott County",{"$f":"+IF(LEN(home!$G$7)>0,instruments!C1184=home!$G$7,TRUE)","v":true},true,{"$f":"+IF(LEN(home!$G$8)>0,instruments!E1184=home!$G$8,TRUE)","v":false},{"$f":"+IF(LEN(home!$G$9)>0,instruments!F1184=home!$G$9,TRUE)","v":true},3,{"$f":"+COUNTIF($L$1:L1184,\"=\"&4)","v":78},"Scott County, KS Corn Basis"]
["ZSBAKSSC.CM","cmdty Scott County, KS Soybean Basis Idx","Soybean","Basis","Kansas","County","Scott County",{"$f":"+IF(LEN(home!$G$7)>0,instruments!C1185=home!$G$7,TRUE)","v":false},true,{"$f":"+IF(LEN(home!$G$8)>0,instruments!E1185=home!$G$8,TRUE)","v":false},{"$f":"+IF(LEN(home!$G$9)>0,instruments!F1185=home!$G$9,TRUE)","v":true},2,{"$f":"+COUNTIF($L$1:L1185,\"=\"&4)","v":78},"Scott County, KS Soybean Basis"]
["ZCBAMNSC.CM","cmdty Scott County, MN Corn Basis Idx","Corn","Basis","Minnesota","County","Scott County",{"$f":"+IF(LEN(home!$G$7)>0,instruments!C1186=home!$G$7,TRUE)","v":true},true,{"$f":"+IF(LEN(home!$G$8)>0,instruments!E1186=home!$G$8,TRUE)","v":false},{"$f":"+IF(LEN(home!$G$9)>0,instruments!F1186=home!$G$9,TRUE)","v":true},3,{"$f":"+COUNTIF($L$1:L1186,\"=\"&4)","v":78},"Scott County, MN Corn Basis"]
["ZSBAMNSC.CM","cmdty Scott County, MN Soybean Basis Idx","Soybean","Basis","Minnesota","County","Scott County",{"$f":"+IF(LEN(home!$G$7)>0,instruments!C1187=home!$G$7,TRUE)","v":false},true,{"$f":"+IF(LEN(home!$G$8)>0,instruments!E1187=home!$G$8,TRUE)","v":false},{"$f":"+IF(LEN(home!$G$9)>0,instruments!F1187=home!$G$9,TRUE)","v":true},2,{"$f":"+COUNTIF($L$1:L1187,\"=\"&4)","v":78},"Scott County, MN Soybean Basis"]
["ZCBAMOSD.CM","cmdty Scott County, MO Corn Basis Idx","Corn","Basis","Missouri","County","Scott County",{"$f":"+IF(LEN(home!$G$7)>0,instruments!C1188=home!$G$7,TRUE)","v":true},true,{"$f":"+IF(LEN(home!$G$8)>0,instruments!E1188=home!$G$8,TRUE)","v":false},{"$f":"+IF(LEN(home!$G$9)>0,instruments!F1188=home!$G$9,TRUE)","v":true},3,{"$f":"+COUNTIF($L$1:L1188,\"=\"&4)","v":78},"Scott County, MO Corn Basis"]
["ZSBAMOSD.CM","cmdty Scott County, MO Soybean Basis Idx","Soybean","Basis","Missouri","County","Scott County",{"$f":"+IF(LEN(home!$G$7)>0,instruments!C1189=home!$G$7,TRUE)","v":false},true,{"$f":"+IF(LEN(home!$G$8)>0,instruments!E1189=home!$G$8,TRUE)","v":false},{"$f":"+IF(LEN(home!$G$9)>0,instruments!F1189=home!$G$9,TRUE)","v":true},2,{"$f":"+COUNTIF($L$1:L1189,\"=\"&4)","v":78},"Scott County, MO Soybean Basis"]
["ZCBANESC.CM","cmdty Scotts Bluff County, NE Corn Basis Idx","Corn","Basis","Nebraska","County","Scotts Bluff County",{"$f":"+IF(LEN(home!$G$7)>0,instruments!C1190=home!$G$7,TRUE)","v":true},true,{"$f":"+IF(LEN(home!$G$8)>0,instruments!E1190=home!$G$8,TRUE)","v":false},{"$f":"+IF(LEN(home!$G$9)>0,instruments!F1190=home!$G$9,TRUE)","v":true},3,{"$f":"+COUNTIF($L$1:L1190,\"=\"&4)","v":78},"Scotts Bluff County, NE Corn Basis"]
["ZCBASD10.CM","cmdty SD CRD 10 Corn Basis Idx","Corn","Basis","South Dakota","District","SD CRD 10",{"$f":"+IF(LEN(home!$G$7)>0,instruments!C1191=home!$G$7,TRUE)","v":true},true,{"$f":"+IF(LEN(home!$G$8)>0,instruments!E1191=home!$G$8,TRUE)","v":false},{"$f":"+IF(LEN(home!$G$9)>0,instruments!F1191=home!$G$9,TRUE)","v":false},2,{"$f":"+COUNTIF($L$1:L1191,\"=\"&4)","v":78},"SD CRD 10 Corn Basis"]
["ZSBASD10.CM","cmdty SD CRD 10 Soybean Basis Idx","Soybean","Basis","South Dakota","District","SD CRD 10",{"$f":"+IF(LEN(home!$G$7)>0,instruments!C1192=home!$G$7,TRUE)","v":false},true,{"$f":"+IF(LEN(home!$G$8)>0,instruments!E1192=home!$G$8,TRUE)","v":false},{"$f":"+IF(LEN(home!$G$9)>0,instruments!F1192=home!$G$9,TRUE)","v":false},1,{"$f":"+COUNTIF($L$1:L1192,\"=\"&4)","v":78},"SD CRD 10 Soybean Basis"]
["ZCBASD20.CM","cmdty SD CRD 20 Corn Basis Idx","Corn","Basis","South Dakota","District","SD CRD 20",{"$f":"+IF(LEN(home!$G$7)>0,instruments!C1193=home!$G$7,TRUE)","v":true},true,{"$f":"+IF(LEN(home!$G$8)>0,instruments!E1193=home!$G$8,TRUE)","v":false},{"$f":"+IF(LEN(home!$G$9)>0,instruments!F1193=home!$G$9,TRUE)","v":false},2,{"$f":"+COUNTIF($L$1:L1193,\"=\"&4)","v":78},"SD CRD 20 Corn Basis"]
["ZSBASD20.CM","cmdty SD CRD 20 Soybean Basis Idx","Soybean","Basis","South Dakota","District","SD CRD 20",{"$f":"+IF(LEN(home!$G$7)>0,instruments!C1194=home!$G$7,TRUE)","v":false},true,{"$f":"+IF(LEN(home!$G$8)>0,instruments!E1194=home!$G$8,TRUE)","v":false},{"$f":"+IF(LEN(home!$G$9)>0,instruments!F1194=home!$G$9,TRUE)","v":false},1,{"$f":"+COUNTIF($L$1:L1194,\"=\"&4)","v":78},"SD CRD 20 Soybean Basis"]
["ZCBASD30.CM","cmdty SD CRD 30 Corn Basis Idx","Corn","Basis","South Dakota","District","SD CRD 30",{"$f":"+IF(LEN(home!$G$7)>0,instruments!C1195=home!$G$7,TRUE)","v":true},true,{"$f":"+IF(LEN(home!$G$8)>0,instruments!E1195=home!$G$8,TRUE)","v":false},{"$f":"+IF(LEN(home!$G$9)>0,instruments!F1195=home!$G$9,TRUE)","v":false},2,{"$f":"+COUNTIF($L$1:L1195,\"=\"&4)","v":78},"SD CRD 30 Corn Basis"]
["ZSBASD30.CM","cmdty SD CRD 30 Soybean Basis Idx","Soybean","Basis","South Dakota","District","SD CRD 30",{"$f":"+IF(LEN(home!$G$7)>0,instruments!C1196=home!$G$7,TRUE)","v":false},true,{"$f":"+IF(LEN(home!$G$8)>0,instruments!E1196=home!$G$8,TRUE)","v":false},{"$f":"+IF(LEN(home!$G$9)>0,instruments!F1196=home!$G$9,TRUE)","v":false},1,{"$f":"+COUNTIF($L$1:L1196,\"=\"&4)","v":78},"SD CRD 30 Soybean Basis"]
["ZCBASD40.CM","cmdty SD CRD 40 Corn Basis Idx","Corn","Basis","South Dakota","District","SD CRD 40",{"$f":"+IF(LEN(home!$G$7)>0,instruments!C1197=home!$G$7,TRUE)","v":true},true,{"$f":"+IF(LEN(home!$G$8)>0,instruments!E1197=home!$G$8,TRUE)","v":false},{"$f":"+IF(LEN(home!$G$9)>0,instruments!F1197=home!$G$9,TRUE)","v":false},2,{"$f":"+COUNTIF($L$1:L1197,\"=\"&4)","v":78},"SD CRD 40 Corn Basis"]
["ZCBASD50.CM","cmdty SD CRD 50 Corn Basis Idx","Corn","Basis","South Dakota","District","SD CRD 50",{"$f":"+IF(LEN(home!$G$7)>0,instruments!C1198=home!$G$7,TRUE)","v":true},true,{"$f":"+IF(LEN(home!$G$8)>0,instruments!E1198=home!$G$8,TRUE)","v":false},{"$f":"+IF(LEN(home!$G$9)>0,instruments!F1198=home!$G$9,TRUE)","v":false},2,{"$f":"+COUNTIF($L$1:L1198,\"=\"&4)","v":78},"SD CRD 50 Corn Basis"]
["ZSBASD50.CM","cmdty SD CRD 50 Soybean Basis Idx","Soybean","Basis","South Dakota","District","SD CRD 50",{"$f":"+IF(LEN(home!$G$7)>0,instruments!C1199=home!$G$7,TRUE)","v":false},true,{"$f":"+IF(LEN(home!$G$8)>0,instruments!E1199=home!$G$8,TRUE)","v":false},{"$f":"+IF(LEN(home!$G$9)>0,instruments!F1199=home!$G$9,TRUE)","v":false},1,{"$f":"+COUNTIF($L$1:L1199,\"=\"&4)","v":78},"SD CRD 50 Soybean Basis"]
["ZCBASD60.CM","cmdty SD CRD 60 Corn Basis Idx","Corn","Basis","South Dakota","District","SD CRD 60",{"$f":"+IF(LEN(home!$G$7)>0,instruments!C1200=home!$G$7,TRUE)","v":true},true,{"$f":"+IF(LEN(home!$G$8)>0,instruments!E1200=home!$G$8,TRUE)","v":false},{"$f":"+IF(LEN(home!$G$9)>0,instruments!F1200=home!$G$9,TRUE)","v":false},2,{"$f":"+COUNTIF($L$1:L1200,\"=\"&4)","v":78},"SD CRD 60 Corn Basis"]
["ZSBASD60.CM","cmdty SD CRD 60 Soybean Basis Idx","Soybean","Basis","South Dakota","District","SD CRD 60",{"$f":"+IF(LEN(home!$G$7)>0,instruments!C1201=home!$G$7,TRUE)","v":false},true,{"$f":"+IF(LEN(home!$G$8)>0,instruments!E1201=home!$G$8,TRUE)","v":false},{"$f":"+IF(LEN(home!$G$9)>0,instruments!F1201=home!$G$9,TRUE)","v":false},1,{"$f":"+COUNTIF($L$1:L1201,\"=\"&4)","v":78},"SD CRD 60 Soybean Basis"]
["ZCBASD70.CM","cmdty SD CRD 70 Corn Basis Idx","Corn","Basis","South Dakota","District","SD CRD 70",{"$f":"+IF(LEN(home!$G$7)>0,instruments!C1202=home!$G$7,TRUE)","v":true},true,{"$f":"+IF(LEN(home!$G$8)>0,instruments!E1202=home!$G$8,TRUE)","v":false},{"$f":"+IF(LEN(home!$G$9)>0,instruments!F1202=home!$G$9,TRUE)","v":false},2,{"$f":"+COUNTIF($L$1:L1202,\"=\"&4)","v":78},"SD CRD 70 Corn Basis"]
["ZCBASD80.CM","cmdty SD CRD 80 Corn Basis Idx","Corn","Basis","South Dakota","District","SD CRD 80",{"$f":"+IF(LEN(home!$G$7)>0,instruments!C1203=home!$G$7,TRUE)","v":true},true,{"$f":"+IF(LEN(home!$G$8)>0,instruments!E1203=home!$G$8,TRUE)","v":false},{"$f":"+IF(LEN(home!$G$9)>0,instruments!F1203=home!$G$9,TRUE)","v":false},2,{"$f":"+COUNTIF($L$1:L1203,\"=\"&4)","v":78},"SD CRD 80 Corn Basis"]
["ZSBASD80.CM","cmdty SD CRD 80 Soybean Basis Idx","Soybean","Basis","South Dakota","District","SD CRD 80",{"$f":"+IF(LEN(home!$G$7)>0,instruments!C1204=home!$G$7,TRUE)","v":false},true,{"$f":"+IF(LEN(home!$G$8)>0,instruments!E1204=home!$G$8,TRUE)","v":false},{"$f":"+IF(LEN(home!$G$9)>0,instruments!F1204=home!$G$9,TRUE)","v":false},1,{"$f":"+COUNTIF($L$1:L1204,\"=\"&4)","v":78},"SD CRD 80 Soybean Basis"]
["ZCBASD90.CM","cmdty SD CRD 90 Corn Basis Idx","Corn","Basis","South Dakota","District","SD CRD 90",{"$f":"+IF(LEN(home!$G$7)>0,instruments!C1205=home!$G$7,TRUE)","v":true},true,{"$f":"+IF(LEN(home!$G$8)>0,instruments!E1205=home!$G$8,TRUE)","v":false},{"$f":"+IF(LEN(home!$G$9)>0,instruments!F1205=home!$G$9,TRUE)","v":false},2,{"$f":"+COUNTIF($L$1:L1205,\"=\"&4)","v":78},"SD CRD 90 Corn Basis"]
["ZSBASD90.CM","cmdty SD CRD 90 Soybean Basis Idx","Soybean","Basis","South Dakota","District","SD CRD 90",{"$f":"+IF(LEN(home!$G$7)>0,instruments!C1206=home!$G$7,TRUE)","v":false},true,{"$f":"+IF(LEN(home!$G$8)>0,instruments!E1206=home!$G$8,TRUE)","v":false},{"$f":"+IF(LEN(home!$G$9)>0,instruments!F1206=home!$G$9,TRUE)","v":false},1,{"$f":"+COUNTIF($L$1:L1206,\"=\"&4)","v":78},"SD CRD 90 Soybean Basis"]
["ZCBAKSSE.CM","cmdty Sedgwick County, KS Corn Basis Idx","Corn","Basis","Kansas","County","Sedgwick County",{"$f":"+IF(LEN(home!$G$7)>0,instruments!C1207=home!$G$7,TRUE)","v":true},true,{"$f":"+IF(LEN(home!$G$8)>0,instruments!E1207=home!$G$8,TRUE)","v":false},{"$f":"+IF(LEN(home!$G$9)>0,instruments!F1207=home!$G$9,TRUE)","v":true},3,{"$f":"+COUNTIF($L$1:L1207,\"=\"&4)","v":78},"Sedgwick County, KS Corn Basis"]
["ZSBAKSSE.CM","cmdty Sedgwick County, KS Soybean Basis Idx","Soybean","Basis","Kansas","County","Sedgwick County",{"$f":"+IF(LEN(home!$G$7)>0,instruments!C1208=home!$G$7,TRUE)","v":false},true,{"$f":"+IF(LEN(home!$G$8)>0,instruments!E1208=home!$G$8,TRUE)","v":false},{"$f":"+IF(LEN(home!$G$9)>0,instruments!F1208=home!$G$9,TRUE)","v":true},2,{"$f":"+COUNTIF($L$1:L1208,\"=\"&4)","v":78},"Sedgwick County, KS Soybean Basis"]
["ZSBAOHSE.CM","cmdty Seneca County, OH Soybean Basis Idx","Soybean","Basis","Ohio","County","Seneca County",{"$f":"+IF(LEN(home!$G$7)>0,instruments!C1209=home!$G$7,TRUE)","v":false},true,{"$f":"+IF(LEN(home!$G$8)>0,instruments!E1209=home!$G$8,TRUE)","v":false},{"$f":"+IF(LEN(home!$G$9)>0,instruments!F1209=home!$G$9,TRUE)","v":true},2,{"$f":"+COUNTIF($L$1:L1209,\"=\"&4)","v":78},"Seneca County, OH Soybean Basis"]
["ZCBAKSSB.CM","cmdty Seward County, KS Corn Basis Idx","Corn","Basis","Kansas","County","Seward County",{"$f":"+IF(LEN(home!$G$7)>0,instruments!C1210=home!$G$7,TRUE)","v":true},true,{"$f":"+IF(LEN(home!$G$8)>0,instruments!E1210=home!$G$8,TRUE)","v":false},{"$f":"+IF(LEN(home!$G$9)>0,instruments!F1210=home!$G$9,TRUE)","v":true},3,{"$f":"+COUNTIF($L$1:L1210,\"=\"&4)","v":78},"Seward County, KS Corn Basis"]
["ZSBAKSSB.CM","cmdty Seward County, KS Soybean Basis Idx","Soybean","Basis","Kansas","County","Seward County",{"$f":"+IF(LEN(home!$G$7)>0,instruments!C1211=home!$G$7,TRUE)","v":false},true,{"$f":"+IF(LEN(home!$G$8)>0,instruments!E1211=home!$G$8,TRUE)","v":false},{"$f":"+IF(LEN(home!$G$9)>0,instruments!F1211=home!$G$9,TRUE)","v":true},2,{"$f":"+COUNTIF($L$1:L1211,\"=\"&4)","v":78},"Seward County, KS Soybean Basis"]
["ZCBANESE.CM","cmdty Seward County, NE Corn Basis Idx","Corn","Basis","Nebraska","County","Seward County",{"$f":"+IF(LEN(home!$G$7)>0,instruments!C1212=home!$G$7,TRUE)","v":true},true,{"$f":"+IF(LEN(home!$G$8)>0,instruments!E1212=home!$G$8,TRUE)","v":false},{"$f":"+IF(LEN(home!$G$9)>0,instruments!F1212=home!$G$9,TRUE)","v":true},3,{"$f":"+COUNTIF($L$1:L1212,\"=\"&4)","v":78},"Seward County, NE Corn Basis"]
["ZSBANESE.CM","cmdty Seward County, NE Soybean Basis Idx","Soybean","Basis","Nebraska","County","Seward County",{"$f":"+IF(LEN(home!$G$7)>0,instruments!C1213=home!$G$7,TRUE)","v":false},true,{"$f":"+IF(LEN(home!$G$8)>0,instruments!E1213=home!$G$8,TRUE)","v":false},{"$f":"+IF(LEN(home!$G$9)>0,instruments!F1213=home!$G$9,TRUE)","v":true},2,{"$f":"+COUNTIF($L$1:L1213,\"=\"&4)","v":78},"Seward County, NE Soybean Basis"]
["ZCBAKSSH.CM","cmdty Shawnee County, KS Corn Basis Idx","Corn","Basis","Kansas","County","Shawnee County",{"$f":"+IF(LEN(home!$G$7)>0,instruments!C1214=home!$G$7,TRUE)","v":true},true,{"$f":"+IF(LEN(home!$G$8)>0,instruments!E1214=home!$G$8,TRUE)","v":false},{"$f":"+IF(LEN(home!$G$9)>0,instruments!F1214=home!$G$9,TRUE)","v":true},3,{"$f":"+COUNTIF($L$1:L1214,\"=\"&4)","v":78},"Shawnee County, KS Corn Basis"]
["ZSBAKSSH.CM","cmdty Shawnee County, KS Soybean Basis Idx","Soybean","Basis","Kansas","County","Shawnee County",{"$f":"+IF(LEN(home!$G$7)>0,instruments!C1215=home!$G$7,TRUE)","v":false},true,{"$f":"+IF(LEN(home!$G$8)>0,instruments!E1215=home!$G$8,TRUE)","v":false},{"$f":"+IF(LEN(home!$G$9)>0,instruments!F1215=home!$G$9,TRUE)","v":true},2,{"$f":"+COUNTIF($L$1:L1215,\"=\"&4)","v":78},"Shawnee County, KS Soybean Basis"]
["ZCBAIASH.CM","cmdty Shelby County, IA Corn Basis Idx","Corn","Basis","Iowa","County","Shelby County",{"$f":"+IF(LEN(home!$G$7)>0,instruments!C1216=home!$G$7,TRUE)","v":true},true,{"$f":"+IF(LEN(home!$G$8)>0,instruments!E1216=home!$G$8,TRUE)","v":true},{"$f":"+IF(LEN(home!$G$9)>0,instruments!F1216=home!$G$9,TRUE)","v":true},4,{"$f":"+COUNTIF($L$1:L1216,\"=\"&4)","v":79},"Shelby County, IA Corn Basis"]
["ZSBAIASH.CM","cmdty Shelby County, IA Soybean Basis Idx","Soybean","Basis","Iowa","County","Shelby County",{"$f":"+IF(LEN(home!$G$7)>0,instruments!C1217=home!$G$7,TRUE)","v":false},true,{"$f":"+IF(LEN(home!$G$8)>0,instruments!E1217=home!$G$8,TRUE)","v":true},{"$f":"+IF(LEN(home!$G$9)>0,instruments!F1217=home!$G$9,TRUE)","v":true},3,{"$f":"+COUNTIF($L$1:L1217,\"=\"&4)","v":79},"Shelby County, IA Soybean Basis"]
["ZCBAILSH.CM","cmdty Shelby County, IL Corn Basis Idx","Corn","Basis","Illinois","County","Shelby County",{"$f":"+IF(LEN(home!$G$7)>0,instruments!C1218=home!$G$7,TRUE)","v":true},true,{"$f":"+IF(LEN(home!$G$8)>0,instruments!E1218=home!$G$8,TRUE)","v":false},{"$f":"+IF(LEN(home!$G$9)>0,instruments!F1218=home!$G$9,TRUE)","v":true},{"$f":"+COUNTIF(H1218:K1218,TRUE)","v":3},{"$f":"+COUNTIF($L$1:L1218,\"=\"&4)","v":79},"Shelby County, IL Corn Basis"]
["ZSBAILSH.CM","cmdty Shelby County, IL Soybean Basis Idx","Soybean","Basis","Illinois","County","Shelby County",{"$f":"+IF(LEN(home!$G$7)>0,instruments!C1219=home!$G$7,TRUE)","v":false},{"$f":"+D1219=\"Basis\"","v":true},{"$f":"+IF(LEN(home!$G$8)>0,instruments!E1219=home!$G$8,TRUE)","v":false},{"$f":"+IF(LEN(home!$G$9)>0,instruments!F1219=home!$G$9,TRUE)","v":true},2,{"$f":"+COUNTIF($L$1:L1219,\"=\"&4)","v":79},{"$f":"+MID(B1219,FIND(\" \",B1219,1)+1,LEN(B1219)-FIND(\" \",B1219,1)-4)","v":"Shelby County, IL Soybean Basis"}]
["ZCBAINSH.CM","cmdty Shelby County, IN Corn Basis Idx","Corn","Basis","Indiana","County","Shelby County",{"$f":"+IF(LEN(home!$G$7)>0,instruments!C1220=home!$G$7,TRUE)","v":true},true,{"$f":"+IF(LEN(home!$G$8)>0,instruments!E1220=home!$G$8,TRUE)","v":false},{"$f":"+IF(LEN(home!$G$9)>0,instruments!F1220=home!$G$9,TRUE)","v":true},3,{"$f":"+COUNTIF($L$1:L1220,\"=\"&4)","v":79},"Shelby County, IN Corn Basis"]
["ZSBAINSH.CM","cmdty Shelby County, IN Soybean Basis Idx","Soybean","Basis","Indiana","County","Shelby County",{"$f":"+IF(LEN(home!$G$7)>0,instruments!C1221=home!$G$7,TRUE)","v":false},true,{"$f":"+IF(LEN(home!$G$8)>0,instruments!E1221=home!$G$8,TRUE)","v":false},{"$f":"+IF(LEN(home!$G$9)>0,instruments!F1221=home!$G$9,TRUE)","v":true},2,{"$f":"+COUNTIF($L$1:L1221,\"=\"&4)","v":79},"Shelby County, IN Soybean Basis"]
["ZCBAMOSE.CM","cmdty Shelby County, MO Corn Basis Idx","Corn","Basis","Missouri","County","Shelby County",{"$f":"+IF(LEN(home!$G$7)>0,instruments!C1222=home!$G$7,TRUE)","v":true},true,{"$f":"+IF(LEN(home!$G$8)>0,instruments!E1222=home!$G$8,TRUE)","v":false},{"$f":"+IF(LEN(home!$G$9)>0,instruments!F1222=home!$G$9,TRUE)","v":true},3,{"$f":"+COUNTIF($L$1:L1222,\"=\"&4)","v":79},"Shelby County, MO Corn Basis"]
["ZSBAMOSE.CM","cmdty Shelby County, MO Soybean Basis Idx","Soybean","Basis","Missouri","County","Shelby County",{"$f":"+IF(LEN(home!$G$7)>0,instruments!C1223=home!$G$7,TRUE)","v":false},true,{"$f":"+IF(LEN(home!$G$8)>0,instruments!E1223=home!$G$8,TRUE)","v":false},{"$f":"+IF(LEN(home!$G$9)>0,instruments!F1223=home!$G$9,TRUE)","v":true},2,{"$f":"+COUNTIF($L$1:L1223,\"=\"&4)","v":79},"Shelby County, MO Soybean Basis"]
["ZSBAOHSH.CM","cmdty Shelby County, OH Soybean Basis Idx","Soybean","Basis","Ohio","County","Shelby County",{"$f":"+IF(LEN(home!$G$7)>0,instruments!C1224=home!$G$7,TRUE)","v":false},true,{"$f":"+IF(LEN(home!$G$8)>0,instruments!E1224=home!$G$8,TRUE)","v":false},{"$f":"+IF(LEN(home!$G$9)>0,instruments!F1224=home!$G$9,TRUE)","v":true},2,{"$f":"+COUNTIF($L$1:L1224,\"=\"&4)","v":79},"Shelby County, OH Soybean Basis"]
["ZCBAKSSD.CM","cmdty Sheridan County, KS Corn Basis Idx","Corn","Basis","Kansas","County","Sheridan County",{"$f":"+IF(LEN(home!$G$7)>0,instruments!C1225=home!$G$7,TRUE)","v":true},true,{"$f":"+IF(LEN(home!$G$8)>0,instruments!E1225=home!$G$8,TRUE)","v":false},{"$f":"+IF(LEN(home!$G$9)>0,instruments!F1225=home!$G$9,TRUE)","v":true},3,{"$f":"+COUNTIF($L$1:L1225,\"=\"&4)","v":79},"Sheridan County, KS Corn Basis"]
["ZSBAKSSD.CM","cmdty Sheridan County, KS Soybean Basis Idx","Soybean","Basis","Kansas","County","Sheridan County",{"$f":"+IF(LEN(home!$G$7)>0,instruments!C1226=home!$G$7,TRUE)","v":false},true,{"$f":"+IF(LEN(home!$G$8)>0,instruments!E1226=home!$G$8,TRUE)","v":false},{"$f":"+IF(LEN(home!$G$9)>0,instruments!F1226=home!$G$9,TRUE)","v":true},2,{"$f":"+COUNTIF($L$1:L1226,\"=\"&4)","v":79},"Sheridan County, KS Soybean Basis"]
["ZCBAKSSF.CM","cmdty Sherman County, KS Corn Basis Idx","Corn","Basis","Kansas","County","Sherman County",{"$f":"+IF(LEN(home!$G$7)>0,instruments!C1227=home!$G$7,TRUE)","v":true},true,{"$f":"+IF(LEN(home!$G$8)>0,instruments!E1227=home!$G$8,TRUE)","v":false},{"$f":"+IF(LEN(home!$G$9)>0,instruments!F1227=home!$G$9,TRUE)","v":true},3,{"$f":"+COUNTIF($L$1:L1227,\"=\"&4)","v":79},"Sherman County, KS Corn Basis"]
["ZSBAKSSF.CM","cmdty Sherman County, KS Soybean Basis Idx","Soybean","Basis","Kansas","County","Sherman County",{"$f":"+IF(LEN(home!$G$7)>0,instruments!C1228=home!$G$7,TRUE)","v":false},true,{"$f":"+IF(LEN(home!$G$8)>0,instruments!E1228=home!$G$8,TRUE)","v":false},{"$f":"+IF(LEN(home!$G$9)>0,instruments!F1228=home!$G$9,TRUE)","v":true},2,{"$f":"+COUNTIF($L$1:L1228,\"=\"&4)","v":79},"Sherman County, KS Soybean Basis"]
["ZCBAMNSI.CM","cmdty Sibley County, MN Corn Basis Idx","Corn","Basis","Minnesota","County","Sibley County",{"$f":"+IF(LEN(home!$G$7)>0,instruments!C1229=home!$G$7,TRUE)","v":true},true,{"$f":"+IF(LEN(home!$G$8)>0,instruments!E1229=home!$G$8,TRUE)","v":false},{"$f":"+IF(LEN(home!$G$9)>0,instruments!F1229=home!$G$9,TRUE)","v":true},3,{"$f":"+COUNTIF($L$1:L1229,\"=\"&4)","v":79},"Sibley County, MN Corn Basis"]
["ZSBAMNSI.CM","cmdty Sibley County, MN Soybean Basis Idx","Soybean","Basis","Minnesota","County","Sibley County",{"$f":"+IF(LEN(home!$G$7)>0,instruments!C1230=home!$G$7,TRUE)","v":false},true,{"$f":"+IF(LEN(home!$G$8)>0,instruments!E1230=home!$G$8,TRUE)","v":false},{"$f":"+IF(LEN(home!$G$9)>0,instruments!F1230=home!$G$9,TRUE)","v":true},2,{"$f":"+COUNTIF($L$1:L1230,\"=\"&4)","v":79},"Sibley County, MN Soybean Basis"]
["ZCBAIASI.CM","cmdty Sioux County, IA Corn Basis Idx","Corn","Basis","Iowa","County","Sioux County",{"$f":"+IF(LEN(home!$G$7)>0,instruments!C1231=home!$G$7,TRUE)","v":true},true,{"$f":"+IF(LEN(home!$G$8)>0,instruments!E1231=home!$G$8,TRUE)","v":true},{"$f":"+IF(LEN(home!$G$9)>0,instruments!F1231=home!$G$9,TRUE)","v":true},4,{"$f":"+COUNTIF($L$1:L1231,\"=\"&4)","v":80},"Sioux County, IA Corn Basis"]
["ZSBAIASI.CM","cmdty Sioux County, IA Soybean Basis Idx","Soybean","Basis","Iowa","County","Sioux County",{"$f":"+IF(LEN(home!$G$7)>0,instruments!C1232=home!$G$7,TRUE)","v":false},true,{"$f":"+IF(LEN(home!$G$8)>0,instruments!E1232=home!$G$8,TRUE)","v":true},{"$f":"+IF(LEN(home!$G$9)>0,instruments!F1232=home!$G$9,TRUE)","v":true},3,{"$f":"+COUNTIF($L$1:L1232,\"=\"&4)","v":80},"Sioux County, IA Soybean Basis"]
["ZCBAKSSM.CM","cmdty Smith County, KS Corn Basis Idx","Corn","Basis","Kansas","County","Smith County",{"$f":"+IF(LEN(home!$G$7)>0,instruments!C1233=home!$G$7,TRUE)","v":true},true,{"$f":"+IF(LEN(home!$G$8)>0,instruments!E1233=home!$G$8,TRUE)","v":false},{"$f":"+IF(LEN(home!$G$9)>0,instruments!F1233=home!$G$9,TRUE)","v":true},3,{"$f":"+COUNTIF($L$1:L1233,\"=\"&4)","v":80},"Smith County, KS Corn Basis"]
["ZSBAKSSM.CM","cmdty Smith County, KS Soybean Basis Idx","Soybean","Basis","Kansas","County","Smith County",{"$f":"+IF(LEN(home!$G$7)>0,instruments!C1234=home!$G$7,TRUE)","v":false},true,{"$f":"+IF(LEN(home!$G$8)>0,instruments!E1234=home!$G$8,TRUE)","v":false},{"$f":"+IF(LEN(home!$G$9)>0,instruments!F1234=home!$G$9,TRUE)","v":true},2,{"$f":"+COUNTIF($L$1:L1234,\"=\"&4)","v":80},"Smith County, KS Soybean Basis"]
["ZCBASD.CM","cmdty South Dakota Corn Basis Idx","Corn","Basis","South Dakota","State","South Dakota",{"$f":"+IF(LEN(home!$G$7)>0,instruments!C1235=home!$G$7,TRUE)","v":true},true,{"$f":"+IF(LEN(home!$G$8)>0,instruments!E1235=home!$G$8,TRUE)","v":false},{"$f":"+IF(LEN(home!$G$9)>0,instruments!F1235=home!$G$9,TRUE)","v":false},2,{"$f":"+COUNTIF($L$1:L1235,\"=\"&4)","v":80},"South Dakota Corn Basis"]
["ZSBASD.CM","cmdty South Dakota Soybean Basis Idx","Soybean","Basis","South Dakota","State","South Dakota",{"$f":"+IF(LEN(home!$G$7)>0,instruments!C1236=home!$G$7,TRUE)","v":false},true,{"$f":"+IF(LEN(home!$G$8)>0,instruments!E1236=home!$G$8,TRUE)","v":false},{"$f":"+IF(LEN(home!$G$9)>0,instruments!F1236=home!$G$9,TRUE)","v":false},1,{"$f":"+COUNTIF($L$1:L1236,\"=\"&4)","v":80},"South Dakota Soybean Basis"]
["ZCBAINSP.CM","cmdty Spencer County, IN Corn Basis Idx","Corn","Basis","Indiana","County","Spencer County",{"$f":"+IF(LEN(home!$G$7)>0,instruments!C1237=home!$G$7,TRUE)","v":true},true,{"$f":"+IF(LEN(home!$G$8)>0,instruments!E1237=home!$G$8,TRUE)","v":false},{"$f":"+IF(LEN(home!$G$9)>0,instruments!F1237=home!$G$9,TRUE)","v":true},3,{"$f":"+COUNTIF($L$1:L1237,\"=\"&4)","v":80},"Spencer County, IN Corn Basis"]
["ZSBAINSP.CM","cmdty Spencer County, IN Soybean Basis Idx","Soybean","Basis","Indiana","County","Spencer County",{"$f":"+IF(LEN(home!$G$7)>0,instruments!C1238=home!$G$7,TRUE)","v":false},true,{"$f":"+IF(LEN(home!$G$8)>0,instruments!E1238=home!$G$8,TRUE)","v":false},{"$f":"+IF(LEN(home!$G$9)>0,instruments!F1238=home!$G$9,TRUE)","v":true},2,{"$f":"+COUNTIF($L$1:L1238,\"=\"&4)","v":80},"Spencer County, IN Soybean Basis"]
["ZCBASDSP.CM","cmdty Spink County, SD Corn Basis Idx","Corn","Basis","South Dakota","County","Spink County",{"$f":"+IF(LEN(home!$G$7)>0,instruments!C1239=home!$G$7,TRUE)","v":true},true,{"$f":"+IF(LEN(home!$G$8)>0,instruments!E1239=home!$G$8,TRUE)","v":false},{"$f":"+IF(LEN(home!$G$9)>0,instruments!F1239=home!$G$9,TRUE)","v":true},3,{"$f":"+COUNTIF($L$1:L1239,\"=\"&4)","v":80},"Spink County, SD Corn Basis"]
["ZSBASDSP.CM","cmdty Spink County, SD Soybean Basis Idx","Soybean","Basis","South Dakota","County","Spink County",{"$f":"+IF(LEN(home!$G$7)>0,instruments!C1240=home!$G$7,TRUE)","v":false},true,{"$f":"+IF(LEN(home!$G$8)>0,instruments!E1240=home!$G$8,TRUE)","v":false},{"$f":"+IF(LEN(home!$G$9)>0,instruments!F1240=home!$G$9,TRUE)","v":true},2,{"$f":"+COUNTIF($L$1:L1240,\"=\"&4)","v":80},"Spink County, SD Soybean Basis"]
["ZCBAKSST.CM","cmdty Stafford County, KS Corn Basis Idx","Corn","Basis","Kansas","County","Stafford County",{"$f":"+IF(LEN(home!$G$7)>0,instruments!C1241=home!$G$7,TRUE)","v":true},true,{"$f":"+IF(LEN(home!$G$8)>0,instruments!E1241=home!$G$8,TRUE)","v":false},{"$f":"+IF(LEN(home!$G$9)>0,instruments!F1241=home!$G$9,TRUE)","v":true},3,{"$f":"+COUNTIF($L$1:L1241,\"=\"&4)","v":80},"Stafford County, KS Corn Basis"]
["ZSBAKSST.CM","cmdty Stafford County, KS Soybean Basis Idx","Soybean","Basis","Kansas","County","Stafford County",{"$f":"+IF(LEN(home!$G$7)>0,instruments!C1242=home!$G$7,TRUE)","v":false},true,{"$f":"+IF(LEN(home!$G$8)>0,instruments!E1242=home!$G$8,TRUE)","v":false},{"$f":"+IF(LEN(home!$G$9)>0,instruments!F1242=home!$G$9,TRUE)","v":true},2,{"$f":"+COUNTIF($L$1:L1242,\"=\"&4)","v":80},"Stafford County, KS Soybean Basis"]
["ZCBASDST.CM","cmdty Stanley County, SD Corn Basis Idx","Corn","Basis","South Dakota","County","Stanley County",{"$f":"+IF(LEN(home!$G$7)>0,instruments!C1243=home!$G$7,TRUE)","v":true},true,{"$f":"+IF(LEN(home!$G$8)>0,instruments!E1243=home!$G$8,TRUE)","v":false},{"$f":"+IF(LEN(home!$G$9)>0,instruments!F1243=home!$G$9,TRUE)","v":true},3,{"$f":"+COUNTIF($L$1:L1243,\"=\"&4)","v":80},"Stanley County, SD Corn Basis"]
["ZCBAKSSG.CM","cmdty Stanton County, KS Corn Basis Idx","Corn","Basis","Kansas","County","Stanton County",{"$f":"+IF(LEN(home!$G$7)>0,instruments!C1244=home!$G$7,TRUE)","v":true},true,{"$f":"+IF(LEN(home!$G$8)>0,instruments!E1244=home!$G$8,TRUE)","v":false},{"$f":"+IF(LEN(home!$G$9)>0,instruments!F1244=home!$G$9,TRUE)","v":true},3,{"$f":"+COUNTIF($L$1:L1244,\"=\"&4)","v":80},"Stanton County, KS Corn Basis"]
["ZSBAKSSG.CM","cmdty Stanton County, KS Soybean Basis Idx","Soybean","Basis","Kansas","County","Stanton County",{"$f":"+IF(LEN(home!$G$7)>0,instruments!C1245=home!$G$7,TRUE)","v":false},true,{"$f":"+IF(LEN(home!$G$8)>0,instruments!E1245=home!$G$8,TRUE)","v":false},{"$f":"+IF(LEN(home!$G$9)>0,instruments!F1245=home!$G$9,TRUE)","v":true},2,{"$f":"+COUNTIF($L$1:L1245,\"=\"&4)","v":80},"Stanton County, KS Soybean Basis"]
["ZCBANEST.CM","cmdty Stanton County, NE Corn Basis Idx","Corn","Basis","Nebraska","County","Stanton County",{"$f":"+IF(LEN(home!$G$7)>0,instruments!C1246=home!$G$7,TRUE)","v":true},true,{"$f":"+IF(LEN(home!$G$8)>0,instruments!E1246=home!$G$8,TRUE)","v":false},{"$f":"+IF(LEN(home!$G$9)>0,instruments!F1246=home!$G$9,TRUE)","v":true},3,{"$f":"+COUNTIF($L$1:L1246,\"=\"&4)","v":80},"Stanton County, NE Corn Basis"]
["ZSBANEST.CM","cmdty Stanton County, NE Soybean Basis Idx","Soybean","Basis","Nebraska","County","Stanton County",{"$f":"+IF(LEN(home!$G$7)>0,instruments!C1247=home!$G$7,TRUE)","v":false},true,{"$f":"+IF(LEN(home!$G$8)>0,instruments!E1247=home!$G$8,TRUE)","v":false},{"$f":"+IF(LEN(home!$G$9)>0,instruments!F1247=home!$G$9,TRUE)","v":true},2,{"$f":"+COUNTIF($L$1:L1247,\"=\"&4)","v":80},"Stanton County, NE Soybean Basis"]
["ZCBAILSE.CM","cmdty Stark County, IL Corn Basis Idx","Corn","Basis","Illinois","County","Stark County",{"$f":"+IF(LEN(home!$G$7)>0,instruments!C1248=home!$G$7,TRUE)","v":true},true,{"$f":"+IF(LEN(home!$G$8)>0,instruments!E1248=home!$G$8,TRUE)","v":false},{"$f":"+IF(LEN(home!$G$9)>0,instruments!F1248=home!$G$9,TRUE)","v":true},3,{"$f":"+COUNTIF($L$1:L1248,\"=\"&4)","v":80},"Stark County, IL Corn Basis"]
["ZSBAILSE.CM","cmdty Stark County, IL Soybean Basis Idx","Soybean","Basis","Illinois","County","Stark County",{"$f":"+IF(LEN(home!$G$7)>0,instruments!C1249=home!$G$7,TRUE)","v":false},true,{"$f":"+IF(LEN(home!$G$8)>0,instruments!E1249=home!$G$8,TRUE)","v":false},{"$f":"+IF(LEN(home!$G$9)>0,instruments!F1249=home!$G$9,TRUE)","v":true},2,{"$f":"+COUNTIF($L$1:L1249,\"=\"&4)","v":80},"Stark County, IL Soybean Basis"]
["ZSBAOHST.CM","cmdty Stark County, OH Soybean Basis Idx","Soybean","Basis","Ohio","County","Stark County",{"$f":"+IF(LEN(home!$G$7)>0,instruments!C1250=home!$G$7,TRUE)","v":false},true,{"$f":"+IF(LEN(home!$G$8)>0,instruments!E1250=home!$G$8,TRUE)","v":false},{"$f":"+IF(LEN(home!$G$9)>0,instruments!F1250=home!$G$9,TRUE)","v":true},2,{"$f":"+COUNTIF($L$1:L1250,\"=\"&4)","v":80},"Stark County, OH Soybean Basis"]
["ZCBAINSA.CM","cmdty Starke County, IN Corn Basis Idx","Corn","Basis","Indiana","County","Starke County",{"$f":"+IF(LEN(home!$G$7)>0,instruments!C1251=home!$G$7,TRUE)","v":true},true,{"$f":"+IF(LEN(home!$G$8)>0,instruments!E1251=home!$G$8,TRUE)","v":false},{"$f":"+IF(LEN(home!$G$9)>0,instruments!F1251=home!$G$9,TRUE)","v":true},3,{"$f":"+COUNTIF($L$1:L1251,\"=\"&4)","v":80},"Starke County, IN Corn Basis"]
["ZSBAINSA.CM","cmdty Starke County, IN Soybean Basis Idx","Soybean","Basis","Indiana","County","Starke County",{"$f":"+IF(LEN(home!$G$7)>0,instruments!C1252=home!$G$7,TRUE)","v":false},true,{"$f":"+IF(LEN(home!$G$8)>0,instruments!E1252=home!$G$8,TRUE)","v":false},{"$f":"+IF(LEN(home!$G$9)>0,instruments!F1252=home!$G$9,TRUE)","v":true},2,{"$f":"+COUNTIF($L$1:L1252,\"=\"&4)","v":80},"Starke County, IN Soybean Basis"]
["ZCBAILST.CM","cmdty St. Clair County, IL Corn Basis Idx","Corn","Basis","Illinois","County","St. Clair County",{"$f":"+IF(LEN(home!$G$7)>0,instruments!C1253=home!$G$7,TRUE)","v":true},true,{"$f":"+IF(LEN(home!$G$8)>0,instruments!E1253=home!$G$8,TRUE)","v":false},{"$f":"+IF(LEN(home!$G$9)>0,instruments!F1253=home!$G$9,TRUE)","v":true},3,{"$f":"+COUNTIF($L$1:L1253,\"=\"&4)","v":80},"St. Clair County, IL Corn Basis"]
["ZSBAILST.CM","cmdty St. Clair County, IL Soybean Basis Idx","Soybean","Basis","Illinois","County","St. Clair County",{"$f":"+IF(LEN(home!$G$7)>0,instruments!C1254=home!$G$7,TRUE)","v":false},true,{"$f":"+IF(LEN(home!$G$8)>0,instruments!E1254=home!$G$8,TRUE)","v":false},{"$f":"+IF(LEN(home!$G$9)>0,instruments!F1254=home!$G$9,TRUE)","v":true},2,{"$f":"+COUNTIF($L$1:L1254,\"=\"&4)","v":80},"St. Clair County, IL Soybean Basis"]
["ZCBAMNSA.CM","cmdty Stearns County, MN Corn Basis Idx","Corn","Basis","Minnesota","County","Stearns County",{"$f":"+IF(LEN(home!$G$7)>0,instruments!C1255=home!$G$7,TRUE)","v":true},true,{"$f":"+IF(LEN(home!$G$8)>0,instruments!E1255=home!$G$8,TRUE)","v":false},{"$f":"+IF(LEN(home!$G$9)>0,instruments!F1255=home!$G$9,TRUE)","v":true},3,{"$f":"+COUNTIF($L$1:L1255,\"=\"&4)","v":80},"Stearns County, MN Corn Basis"]
["ZSBAMNSA.CM","cmdty Stearns County, MN Soybean Basis Idx","Soybean","Basis","Minnesota","County","Stearns County",{"$f":"+IF(LEN(home!$G$7)>0,instruments!C1256=home!$G$7,TRUE)","v":false},true,{"$f":"+IF(LEN(home!$G$8)>0,instruments!E1256=home!$G$8,TRUE)","v":false},{"$f":"+IF(LEN(home!$G$9)>0,instruments!F1256=home!$G$9,TRUE)","v":true},2,{"$f":"+COUNTIF($L$1:L1256,\"=\"&4)","v":80},"Stearns County, MN Soybean Basis"]
["ZCBAMNSB.CM","cmdty Steele County, MN Corn Basis Idx","Corn","Basis","Minnesota","County","Steele County",{"$f":"+IF(LEN(home!$G$7)>0,instruments!C1257=home!$G$7,TRUE)","v":true},true,{"$f":"+IF(LEN(home!$G$8)>0,instruments!E1257=home!$G$8,TRUE)","v":false},{"$f":"+IF(LEN(home!$G$9)>0,instruments!F1257=home!$G$9,TRUE)","v":true},3,{"$f":"+COUNTIF($L$1:L1257,\"=\"&4)","v":80},"Steele County, MN Corn Basis"]
["ZSBAMNSB.CM","cmdty Steele County, MN Soybean Basis Idx","Soybean","Basis","Minnesota","County","Steele County",{"$f":"+IF(LEN(home!$G$7)>0,instruments!C1258=home!$G$7,TRUE)","v":false},true,{"$f":"+IF(LEN(home!$G$8)>0,instruments!E1258=home!$G$8,TRUE)","v":false},{"$f":"+IF(LEN(home!$G$9)>0,instruments!F1258=home!$G$9,TRUE)","v":true},2,{"$f":"+COUNTIF($L$1:L1258,\"=\"&4)","v":80},"Steele County, MN Soybean Basis"]
["ZSBANDSB.CM","cmdty Steele County, ND Soybean Basis Idx","Soybean","Basis","North Dakota","County","Steele County",{"$f":"+IF(LEN(home!$G$7)>0,instruments!C1259=home!$G$7,TRUE)","v":false},true,{"$f":"+IF(LEN(home!$G$8)>0,instruments!E1259=home!$G$8,TRUE)","v":false},{"$f":"+IF(LEN(home!$G$9)>0,instruments!F1259=home!$G$9,TRUE)","v":true},2,{"$f":"+COUNTIF($L$1:L1259,\"=\"&4)","v":80},"Steele County, ND Soybean Basis"]
["ZCBAILSF.CM","cmdty Stephenson County, IL Corn Basis Idx","Corn","Basis","Illinois","County","Stephenson County",{"$f":"+IF(LEN(home!$G$7)>0,instruments!C1260=home!$G$7,TRUE)","v":true},true,{"$f":"+IF(LEN(home!$G$8)>0,instruments!E1260=home!$G$8,TRUE)","v":false},{"$f":"+IF(LEN(home!$G$9)>0,instruments!F1260=home!$G$9,TRUE)","v":true},3,{"$f":"+COUNTIF($L$1:L1260,\"=\"&4)","v":80},"Stephenson County, IL Corn Basis"]
["ZSBAILSF.CM","cmdty Stephenson County, IL Soybean Basis Idx","Soybean","Basis","Illinois","County","Stephenson County",{"$f":"+IF(LEN(home!$G$7)>0,instruments!C1261=home!$G$7,TRUE)","v":false},true,{"$f":"+IF(LEN(home!$G$8)>0,instruments!E1261=home!$G$8,TRUE)","v":false},{"$f":"+IF(LEN(home!$G$9)>0,instruments!F1261=home!$G$9,TRUE)","v":true},2,{"$f":"+COUNTIF($L$1:L1261,\"=\"&4)","v":80},"Stephenson County, IL Soybean Basis"]
["ZCBAKSSI.CM","cmdty Stevens County, KS Corn Basis Idx","Corn","Basis","Kansas","County","Stevens County",{"$f":"+IF(LEN(home!$G$7)>0,instruments!C1262=home!$G$7,TRUE)","v":true},true,{"$f":"+IF(LEN(home!$G$8)>0,instruments!E1262=home!$G$8,TRUE)","v":false},{"$f":"+IF(LEN(home!$G$9)>0,instruments!F1262=home!$G$9,TRUE)","v":true},3,{"$f":"+COUNTIF($L$1:L1262,\"=\"&4)","v":80},"Stevens County, KS Corn Basis"]
["ZSBAKSSI.CM","cmdty Stevens County, KS Soybean Basis Idx","Soybean","Basis","Kansas","County","Stevens County",{"$f":"+IF(LEN(home!$G$7)>0,instruments!C1263=home!$G$7,TRUE)","v":false},true,{"$f":"+IF(LEN(home!$G$8)>0,instruments!E1263=home!$G$8,TRUE)","v":false},{"$f":"+IF(LEN(home!$G$9)>0,instruments!F1263=home!$G$9,TRUE)","v":true},2,{"$f":"+COUNTIF($L$1:L1263,\"=\"&4)","v":80},"Stevens County, KS Soybean Basis"]
["ZCBAMNSD.CM","cmdty Stevens County, MN Corn Basis Idx","Corn","Basis","Minnesota","County","Stevens County",{"$f":"+IF(LEN(home!$G$7)>0,instruments!C1264=home!$G$7,TRUE)","v":true},true,{"$f":"+IF(LEN(home!$G$8)>0,instruments!E1264=home!$G$8,TRUE)","v":false},{"$f":"+IF(LEN(home!$G$9)>0,instruments!F1264=home!$G$9,TRUE)","v":true},3,{"$f":"+COUNTIF($L$1:L1264,\"=\"&4)","v":80},"Stevens County, MN Corn Basis"]
["ZSBAMNSD.CM","cmdty Stevens County, MN Soybean Basis Idx","Soybean","Basis","Minnesota","County","Stevens County",{"$f":"+IF(LEN(home!$G$7)>0,instruments!C1265=home!$G$7,TRUE)","v":false},true,{"$f":"+IF(LEN(home!$G$8)>0,instruments!E1265=home!$G$8,TRUE)","v":false},{"$f":"+IF(LEN(home!$G$9)>0,instruments!F1265=home!$G$9,TRUE)","v":true},2,{"$f":"+COUNTIF($L$1:L1265,\"=\"&4)","v":80},"Stevens County, MN Soybean Basis"]
["ZCBAINST.CM","cmdty St. Joseph County, IN Corn Basis Idx","Corn","Basis","Indiana","County","St. Joseph County",{"$f":"+IF(LEN(home!$G$7)>0,instruments!C1266=home!$G$7,TRUE)","v":true},true,{"$f":"+IF(LEN(home!$G$8)>0,instruments!E1266=home!$G$8,TRUE)","v":false},{"$f":"+IF(LEN(home!$G$9)>0,instruments!F1266=home!$G$9,TRUE)","v":true},3,{"$f":"+COUNTIF($L$1:L1266,\"=\"&4)","v":80},"St. Joseph County, IN Corn Basis"]
["ZSBAINST.CM","cmdty St. Joseph County, IN Soybean Basis Idx","Soybean","Basis","Indiana","County","St. Joseph County",{"$f":"+IF(LEN(home!$G$7)>0,instruments!C1267=home!$G$7,TRUE)","v":false},true,{"$f":"+IF(LEN(home!$G$8)>0,instruments!E1267=home!$G$8,TRUE)","v":false},{"$f":"+IF(LEN(home!$G$9)>0,instruments!F1267=home!$G$9,TRUE)","v":true},2,{"$f":"+COUNTIF($L$1:L1267,\"=\"&4)","v":80},"St. Joseph County, IN Soybean Basis"]
["ZSBAMOSN.CM","cmdty St. Louis City, MO Soybean Basis Idx","Soybean","Basis","Missouri","County","St. Louis City",{"$f":"+IF(LEN(home!$G$7)>0,instruments!C1268=home!$G$7,TRUE)","v":false},true,{"$f":"+IF(LEN(home!$G$8)>0,instruments!E1268=home!$G$8,TRUE)","v":false},{"$f":"+IF(LEN(home!$G$9)>0,instruments!F1268=home!$G$9,TRUE)","v":true},2,{"$f":"+COUNTIF($L$1:L1268,\"=\"&4)","v":80},"St. Louis City, MO Soybean Basis"]
["ZSBAMNST.CM","cmdty St. Louis County, MN Soybean Basis Idx","Soybean","Basis","Minnesota","County","St. Louis County",{"$f":"+IF(LEN(home!$G$7)>0,instruments!C1269=home!$G$7,TRUE)","v":false},true,{"$f":"+IF(LEN(home!$G$8)>0,instruments!E1269=home!$G$8,TRUE)","v":false},{"$f":"+IF(LEN(home!$G$9)>0,instruments!F1269=home!$G$9,TRUE)","v":true},2,{"$f":"+COUNTIF($L$1:L1269,\"=\"&4)","v":80},"St. Louis County, MN Soybean Basis"]
["ZCBAMOSL.CM","cmdty Stoddard County, MO Corn Basis Idx","Corn","Basis","Missouri","County","Stoddard County",{"$f":"+IF(LEN(home!$G$7)>0,instruments!C1270=home!$G$7,TRUE)","v":true},true,{"$f":"+IF(LEN(home!$G$8)>0,instruments!E1270=home!$G$8,TRUE)","v":false},{"$f":"+IF(LEN(home!$G$9)>0,instruments!F1270=home!$G$9,TRUE)","v":true},3,{"$f":"+COUNTIF($L$1:L1270,\"=\"&4)","v":80},"Stoddard County, MO Corn Basis"]
["ZSBAMOSL.CM","cmdty Stoddard County, MO Soybean Basis Idx","Soybean","Basis","Missouri","County","Stoddard County",{"$f":"+IF(LEN(home!$G$7)>0,instruments!C1271=home!$G$7,TRUE)","v":false},true,{"$f":"+IF(LEN(home!$G$8)>0,instruments!E1271=home!$G$8,TRUE)","v":false},{"$f":"+IF(LEN(home!$G$9)>0,instruments!F1271=home!$G$9,TRUE)","v":true},2,{"$f":"+COUNTIF($L$1:L1271,\"=\"&4)","v":80},"Stoddard County, MO Soybean Basis"]
["ZCBAIAST.CM","cmdty Story County, IA Corn Basis Idx","Corn","Basis","Iowa","County","Story County",{"$f":"+IF(LEN(home!$G$7)>0,instruments!C1272=home!$G$7,TRUE)","v":true},true,{"$f":"+IF(LEN(home!$G$8)>0,instruments!E1272=home!$G$8,TRUE)","v":true},{"$f":"+IF(LEN(home!$G$9)>0,instruments!F1272=home!$G$9,TRUE)","v":true},4,{"$f":"+COUNTIF($L$1:L1272,\"=\"&4)","v":81},"Story County, IA Corn Basis"]
["ZSBAIAST.CM","cmdty Story County, IA Soybean Basis Idx","Soybean","Basis","Iowa","County","Story County",{"$f":"+IF(LEN(home!$G$7)>0,instruments!C1273=home!$G$7,TRUE)","v":false},true,{"$f":"+IF(LEN(home!$G$8)>0,instruments!E1273=home!$G$8,TRUE)","v":true},{"$f":"+IF(LEN(home!$G$9)>0,instruments!F1273=home!$G$9,TRUE)","v":true},3,{"$f":"+COUNTIF($L$1:L1273,\"=\"&4)","v":81},"Story County, IA Soybean Basis"]
["ZSBANDSC.CM","cmdty Stutsman County, ND Soybean Basis Idx","Soybean","Basis","North Dakota","County","Stutsman County",{"$f":"+IF(LEN(home!$G$7)>0,instruments!C1274=home!$G$7,TRUE)","v":false},true,{"$f":"+IF(LEN(home!$G$8)>0,instruments!E1274=home!$G$8,TRUE)","v":false},{"$f":"+IF(LEN(home!$G$9)>0,instruments!F1274=home!$G$9,TRUE)","v":true},2,{"$f":"+COUNTIF($L$1:L1274,\"=\"&4)","v":81},"Stutsman County, ND Soybean Basis"]
["ZCBAINSU.CM","cmdty Sullivan County, IN Corn Basis Idx","Corn","Basis","Indiana","County","Sullivan County",{"$f":"+IF(LEN(home!$G$7)>0,instruments!C1275=home!$G$7,TRUE)","v":true},true,{"$f":"+IF(LEN(home!$G$8)>0,instruments!E1275=home!$G$8,TRUE)","v":false},{"$f":"+IF(LEN(home!$G$9)>0,instruments!F1275=home!$G$9,TRUE)","v":true},3,{"$f":"+COUNTIF($L$1:L1275,\"=\"&4)","v":81},"Sullivan County, IN Corn Basis"]
["ZSBAINSU.CM","cmdty Sullivan County, IN Soybean Basis Idx","Soybean","Basis","Indiana","County","Sullivan County",{"$f":"+IF(LEN(home!$G$7)>0,instruments!C1276=home!$G$7,TRUE)","v":false},true,{"$f":"+IF(LEN(home!$G$8)>0,instruments!E1276=home!$G$8,TRUE)","v":false},{"$f":"+IF(LEN(home!$G$9)>0,instruments!F1276=home!$G$9,TRUE)","v":true},2,{"$f":"+COUNTIF($L$1:L1276,\"=\"&4)","v":81},"Sullivan County, IN Soybean Basis"]
["ZCBAMOSU.CM","cmdty Sullivan County, MO Corn Basis Idx","Corn","Basis","Missouri","County","Sullivan County",{"$f":"+IF(LEN(home!$G$7)>0,instruments!C1277=home!$G$7,TRUE)","v":true},true,{"$f":"+IF(LEN(home!$G$8)>0,instruments!E1277=home!$G$8,TRUE)","v":false},{"$f":"+IF(LEN(home!$G$9)>0,instruments!F1277=home!$G$9,TRUE)","v":true},3,{"$f":"+COUNTIF($L$1:L1277,\"=\"&4)","v":81},"Sullivan County, MO Corn Basis"]
["ZSBAMOSU.CM","cmdty Sullivan County, MO Soybean Basis Idx","Soybean","Basis","Missouri","County","Sullivan County",{"$f":"+IF(LEN(home!$G$7)>0,instruments!C1278=home!$G$7,TRUE)","v":false},true,{"$f":"+IF(LEN(home!$G$8)>0,instruments!E1278=home!$G$8,TRUE)","v":false},{"$f":"+IF(LEN(home!$G$9)>0,instruments!F1278=home!$G$9,TRUE)","v":true},2,{"$f":"+COUNTIF($L$1:L1278,\"=\"&4)","v":81},"Sullivan County, MO Soybean Basis"]
["ZCBASDSU.CM","cmdty Sully County, SD Corn Basis Idx","Corn","Basis","South Dakota","County","Sully County",{"$f":"+IF(LEN(home!$G$7)>0,instruments!C1279=home!$G$7,TRUE)","v":true},true,{"$f":"+IF(LEN(home!$G$8)>0,instruments!E1279=home!$G$8,TRUE)","v":false},{"$f":"+IF(LEN(home!$G$9)>0,instruments!F1279=home!$G$9,TRUE)","v":true},3,{"$f":"+COUNTIF($L$1:L1279,\"=\"&4)","v":81},"Sully County, SD Corn Basis"]
["ZCBAKSSU.CM","cmdty Sumner County, KS Corn Basis Idx","Corn","Basis","Kansas","County","Sumner County",{"$f":"+IF(LEN(home!$G$7)>0,instruments!C1280=home!$G$7,TRUE)","v":true},true,{"$f":"+IF(LEN(home!$G$8)>0,instruments!E1280=home!$G$8,TRUE)","v":false},{"$f":"+IF(LEN(home!$G$9)>0,instruments!F1280=home!$G$9,TRUE)","v":true},3,{"$f":"+COUNTIF($L$1:L1280,\"=\"&4)","v":81},"Sumner County, KS Corn Basis"]
["ZSBAKSSU.CM","cmdty Sumner County, KS Soybean Basis Idx","Soybean","Basis","Kansas","County","Sumner County",{"$f":"+IF(LEN(home!$G$7)>0,instruments!C1281=home!$G$7,TRUE)","v":false},true,{"$f":"+IF(LEN(home!$G$8)>0,instruments!E1281=home!$G$8,TRUE)","v":false},{"$f":"+IF(LEN(home!$G$9)>0,instruments!F1281=home!$G$9,TRUE)","v":true},2,{"$f":"+COUNTIF($L$1:L1281,\"=\"&4)","v":81},"Sumner County, KS Soybean Basis"]
["ZCBAMNSW.CM","cmdty Swift County, MN Corn Basis Idx","Corn","Basis","Minnesota","County","Swift County",{"$f":"+IF(LEN(home!$G$7)>0,instruments!C1282=home!$G$7,TRUE)","v":true},true,{"$f":"+IF(LEN(home!$G$8)>0,instruments!E1282=home!$G$8,TRUE)","v":false},{"$f":"+IF(LEN(home!$G$9)>0,instruments!F1282=home!$G$9,TRUE)","v":true},{"$f":"+COUNTIF(H1282:K1282,TRUE)","v":3},{"$f":"+COUNTIF($L$1:L1282,\"=\"&4)","v":81},"Swift County, MN Corn Basis"]
["ZSBAMNSW.CM","cmdty Swift County, MN Soybean Basis Idx","Soybean","Basis","Minnesota","County","Swift County",{"$f":"+IF(LEN(home!$G$7)>0,instruments!C1283=home!$G$7,TRUE)","v":false},{"$f":"+D1283=\"Basis\"","v":true},{"$f":"+IF(LEN(home!$G$8)>0,instruments!E1283=home!$G$8,TRUE)","v":false},{"$f":"+IF(LEN(home!$G$9)>0,instruments!F1283=home!$G$9,TRUE)","v":true},2,{"$f":"+COUNTIF($L$1:L1283,\"=\"&4)","v":81},{"$f":"+MID(B1283,FIND(\" \",B1283,1)+1,LEN(B1283)-FIND(\" \",B1283,1)-4)","v":"Swift County, MN Soybean Basis"}]
["ZCBAIATA.CM","cmdty Tama County, IA Corn Basis Idx","Corn","Basis","Iowa","County","Tama County",{"$f":"+IF(LEN(home!$G$7)>0,instruments!C1284=home!$G$7,TRUE)","v":true},true,{"$f":"+IF(LEN(home!$G$8)>0,instruments!E1284=home!$G$8,TRUE)","v":true},{"$f":"+IF(LEN(home!$G$9)>0,instruments!F1284=home!$G$9,TRUE)","v":true},4,{"$f":"+COUNTIF($L$1:L1284,\"=\"&4)","v":82},"Tama County, IA Corn Basis"]
["ZSBAIATA.CM","cmdty Tama County, IA Soybean Basis Idx","Soybean","Basis","Iowa","County","Tama County",{"$f":"+IF(LEN(home!$G$7)>0,instruments!C1285=home!$G$7,TRUE)","v":false},true,{"$f":"+IF(LEN(home!$G$8)>0,instruments!E1285=home!$G$8,TRUE)","v":true},{"$f":"+IF(LEN(home!$G$9)>0,instruments!F1285=home!$G$9,TRUE)","v":true},3,{"$f":"+COUNTIF($L$1:L1285,\"=\"&4)","v":82},"Tama County, IA Soybean Basis"]
["ZCBAIATB.CM","cmdty Taylor County, IA Corn Basis Idx","Corn","Basis","Iowa","County","Taylor County",{"$f":"+IF(LEN(home!$G$7)>0,instruments!C1286=home!$G$7,TRUE)","v":true},true,{"$f":"+IF(LEN(home!$G$8)>0,instruments!E1286=home!$G$8,TRUE)","v":true},{"$f":"+IF(LEN(home!$G$9)>0,instruments!F1286=home!$G$9,TRUE)","v":true},4,{"$f":"+COUNTIF($L$1:L1286,\"=\"&4)","v":83},"Taylor County, IA Corn Basis"]
["ZSBAIATB.CM","cmdty Taylor County, IA Soybean Basis Idx","Soybean","Basis","Iowa","County","Taylor County",{"$f":"+IF(LEN(home!$G$7)>0,instruments!C1287=home!$G$7,TRUE)","v":false},true,{"$f":"+IF(LEN(home!$G$8)>0,instruments!E1287=home!$G$8,TRUE)","v":true},{"$f":"+IF(LEN(home!$G$9)>0,instruments!F1287=home!$G$9,TRUE)","v":true},3,{"$f":"+COUNTIF($L$1:L1287,\"=\"&4)","v":83},"Taylor County, IA Soybean Basis"]
["ZCBAILTA.CM","cmdty Tazewell County, IL Corn Basis Idx","Corn","Basis","Illinois","County","Tazewell County",{"$f":"+IF(LEN(home!$G$7)>0,instruments!C1288=home!$G$7,TRUE)","v":true},true,{"$f":"+IF(LEN(home!$G$8)>0,instruments!E1288=home!$G$8,TRUE)","v":false},{"$f":"+IF(LEN(home!$G$9)>0,instruments!F1288=home!$G$9,TRUE)","v":true},3,{"$f":"+COUNTIF($L$1:L1288,\"=\"&4)","v":83},"Tazewell County, IL Corn Basis"]
["ZSBAILTA.CM","cmdty Tazewell County, IL Soybean Basis Idx","Soybean","Basis","Illinois","County","Tazewell County",{"$f":"+IF(LEN(home!$G$7)>0,instruments!C1289=home!$G$7,TRUE)","v":false},true,{"$f":"+IF(LEN(home!$G$8)>0,instruments!E1289=home!$G$8,TRUE)","v":false},{"$f":"+IF(LEN(home!$G$9)>0,instruments!F1289=home!$G$9,TRUE)","v":true},2,{"$f":"+COUNTIF($L$1:L1289,\"=\"&4)","v":83},"Tazewell County, IL Soybean Basis"]
["ZCBANETH.CM","cmdty Thayer County, NE Corn Basis Idx","Corn","Basis","Nebraska","County","Thayer County",{"$f":"+IF(LEN(home!$G$7)>0,instruments!C1290=home!$G$7,TRUE)","v":true},true,{"$f":"+IF(LEN(home!$G$8)>0,instruments!E1290=home!$G$8,TRUE)","v":false},{"$f":"+IF(LEN(home!$G$9)>0,instruments!F1290=home!$G$9,TRUE)","v":true},3,{"$f":"+COUNTIF($L$1:L1290,\"=\"&4)","v":83},"Thayer County, NE Corn Basis"]
["ZSBANETH.CM","cmdty Thayer County, NE Soybean Basis Idx","Soybean","Basis","Nebraska","County","Thayer County",{"$f":"+IF(LEN(home!$G$7)>0,instruments!C1291=home!$G$7,TRUE)","v":false},true,{"$f":"+IF(LEN(home!$G$8)>0,instruments!E1291=home!$G$8,TRUE)","v":false},{"$f":"+IF(LEN(home!$G$9)>0,instruments!F1291=home!$G$9,TRUE)","v":true},2,{"$f":"+COUNTIF($L$1:L1291,\"=\"&4)","v":83},"Thayer County, NE Soybean Basis"]
["ZCBAKSTH.CM","cmdty Thomas County, KS Corn Basis Idx","Corn","Basis","Kansas","County","Thomas County",{"$f":"+IF(LEN(home!$G$7)>0,instruments!C1292=home!$G$7,TRUE)","v":true},true,{"$f":"+IF(LEN(home!$G$8)>0,instruments!E1292=home!$G$8,TRUE)","v":false},{"$f":"+IF(LEN(home!$G$9)>0,instruments!F1292=home!$G$9,TRUE)","v":true},3,{"$f":"+COUNTIF($L$1:L1292,\"=\"&4)","v":83},"Thomas County, KS Corn Basis"]
["ZSBAKSTH.CM","cmdty Thomas County, KS Soybean Basis Idx","Soybean","Basis","Kansas","County","Thomas County",{"$f":"+IF(LEN(home!$G$7)>0,instruments!C1293=home!$G$7,TRUE)","v":false},true,{"$f":"+IF(LEN(home!$G$8)>0,instruments!E1293=home!$G$8,TRUE)","v":false},{"$f":"+IF(LEN(home!$G$9)>0,instruments!F1293=home!$G$9,TRUE)","v":true},2,{"$f":"+COUNTIF($L$1:L1293,\"=\"&4)","v":83},"Thomas County, KS Soybean Basis"]
["ZCBAINTI.CM","cmdty Tippecanoe County, IN Corn Basis Idx","Corn","Basis","Indiana","County","Tippecanoe County",{"$f":"+IF(LEN(home!$G$7)>0,instruments!C1294=home!$G$7,TRUE)","v":true},true,{"$f":"+IF(LEN(home!$G$8)>0,instruments!E1294=home!$G$8,TRUE)","v":false},{"$f":"+IF(LEN(home!$G$9)>0,instruments!F1294=home!$G$9,TRUE)","v":true},3,{"$f":"+COUNTIF($L$1:L1294,\"=\"&4)","v":83},"Tippecanoe County, IN Corn Basis"]
["ZSBAINTI.CM","cmdty Tippecanoe County, IN Soybean Basis Idx","Soybean","Basis","Indiana","County","Tippecanoe County",{"$f":"+IF(LEN(home!$G$7)>0,instruments!C1295=home!$G$7,TRUE)","v":false},true,{"$f":"+IF(LEN(home!$G$8)>0,instruments!E1295=home!$G$8,TRUE)","v":false},{"$f":"+IF(LEN(home!$G$9)>0,instruments!F1295=home!$G$9,TRUE)","v":true},2,{"$f":"+COUNTIF($L$1:L1295,\"=\"&4)","v":83},"Tippecanoe County, IN Soybean Basis"]
["ZCBAINTA.CM","cmdty Tipton County, IN Corn Basis Idx","Corn","Basis","Indiana","County","Tipton County",{"$f":"+IF(LEN(home!$G$7)>0,instruments!C1296=home!$G$7,TRUE)","v":true},true,{"$f":"+IF(LEN(home!$G$8)>0,instruments!E1296=home!$G$8,TRUE)","v":false},{"$f":"+IF(LEN(home!$G$9)>0,instruments!F1296=home!$G$9,TRUE)","v":true},3,{"$f":"+COUNTIF($L$1:L1296,\"=\"&4)","v":83},"Tipton County, IN Corn Basis"]
["ZSBAINTA.CM","cmdty Tipton County, IN Soybean Basis Idx","Soybean","Basis","Indiana","County","Tipton County",{"$f":"+IF(LEN(home!$G$7)>0,instruments!C1297=home!$G$7,TRUE)","v":false},true,{"$f":"+IF(LEN(home!$G$8)>0,instruments!E1297=home!$G$8,TRUE)","v":false},{"$f":"+IF(LEN(home!$G$9)>0,instruments!F1297=home!$G$9,TRUE)","v":true},2,{"$f":"+COUNTIF($L$1:L1297,\"=\"&4)","v":83},"Tipton County, IN Soybean Basis"]
["ZCBAMNTO.CM","cmdty Todd County, MN Corn Basis Idx","Corn","Basis","Minnesota","County","Todd County",{"$f":"+IF(LEN(home!$G$7)>0,instruments!C1298=home!$G$7,TRUE)","v":true},true,{"$f":"+IF(LEN(home!$G$8)>0,instruments!E1298=home!$G$8,TRUE)","v":false},{"$f":"+IF(LEN(home!$G$9)>0,instruments!F1298=home!$G$9,TRUE)","v":true},3,{"$f":"+COUNTIF($L$1:L1298,\"=\"&4)","v":83},"Todd County, MN Corn Basis"]
["ZSBAMNTO.CM","cmdty Todd County, MN Soybean Basis Idx","Soybean","Basis","Minnesota","County","Todd County",{"$f":"+IF(LEN(home!$G$7)>0,instruments!C1299=home!$G$7,TRUE)","v":false},true,{"$f":"+IF(LEN(home!$G$8)>0,instruments!E1299=home!$G$8,TRUE)","v":false},{"$f":"+IF(LEN(home!$G$9)>0,instruments!F1299=home!$G$9,TRUE)","v":true},2,{"$f":"+COUNTIF($L$1:L1299,\"=\"&4)","v":83},"Todd County, MN Soybean Basis"]
["ZSBANDTO.CM","cmdty Towner County, ND Soybean Basis Idx","Soybean","Basis","North Dakota","County","Towner County",{"$f":"+IF(LEN(home!$G$7)>0,instruments!C1300=home!$G$7,TRUE)","v":false},true,{"$f":"+IF(LEN(home!$G$8)>0,instruments!E1300=home!$G$8,TRUE)","v":false},{"$f":"+IF(LEN(home!$G$9)>0,instruments!F1300=home!$G$9,TRUE)","v":true},2,{"$f":"+COUNTIF($L$1:L1300,\"=\"&4)","v":83},"Towner County, ND Soybean Basis"]
["ZSBANDTR.CM","cmdty Traill County, ND Soybean Basis Idx","Soybean","Basis","North Dakota","County","Traill County",{"$f":"+IF(LEN(home!$G$7)>0,instruments!C1301=home!$G$7,TRUE)","v":false},true,{"$f":"+IF(LEN(home!$G$8)>0,instruments!E1301=home!$G$8,TRUE)","v":false},{"$f":"+IF(LEN(home!$G$9)>0,instruments!F1301=home!$G$9,TRUE)","v":true},2,{"$f":"+COUNTIF($L$1:L1301,\"=\"&4)","v":83},"Traill County, ND Soybean Basis"]
["ZSBAMNTR.CM","cmdty Traverse County, MN Soybean Basis Idx","Soybean","Basis","Minnesota","County","Traverse County",{"$f":"+IF(LEN(home!$G$7)>0,instruments!C1302=home!$G$7,TRUE)","v":false},true,{"$f":"+IF(LEN(home!$G$8)>0,instruments!E1302=home!$G$8,TRUE)","v":false},{"$f":"+IF(LEN(home!$G$9)>0,instruments!F1302=home!$G$9,TRUE)","v":true},2,{"$f":"+COUNTIF($L$1:L1302,\"=\"&4)","v":83},"Traverse County, MN Soybean Basis"]
["ZCBAKSTR.CM","cmdty Trego County, KS Corn Basis Idx","Corn","Basis","Kansas","County","Trego County",{"$f":"+IF(LEN(home!$G$7)>0,instruments!C1303=home!$G$7,TRUE)","v":true},true,{"$f":"+IF(LEN(home!$G$8)>0,instruments!E1303=home!$G$8,TRUE)","v":false},{"$f":"+IF(LEN(home!$G$9)>0,instruments!F1303=home!$G$9,TRUE)","v":true},3,{"$f":"+COUNTIF($L$1:L1303,\"=\"&4)","v":83},"Trego County, KS Corn Basis"]
["ZSBAKSTR.CM","cmdty Trego County, KS Soybean Basis Idx","Soybean","Basis","Kansas","County","Trego County",{"$f":"+IF(LEN(home!$G$7)>0,instruments!C1304=home!$G$7,TRUE)","v":false},true,{"$f":"+IF(LEN(home!$G$8)>0,instruments!E1304=home!$G$8,TRUE)","v":false},{"$f":"+IF(LEN(home!$G$9)>0,instruments!F1304=home!$G$9,TRUE)","v":true},2,{"$f":"+COUNTIF($L$1:L1304,\"=\"&4)","v":83},"Trego County, KS Soybean Basis"]
["ZCBASDTR.CM","cmdty Tripp County, SD Corn Basis Idx","Corn","Basis","South Dakota","County","Tripp County",{"$f":"+IF(LEN(home!$G$7)>0,instruments!C1305=home!$G$7,TRUE)","v":true},true,{"$f":"+IF(LEN(home!$G$8)>0,instruments!E1305=home!$G$8,TRUE)","v":false},{"$f":"+IF(LEN(home!$G$9)>0,instruments!F1305=home!$G$9,TRUE)","v":true},3,{"$f":"+COUNTIF($L$1:L1305,\"=\"&4)","v":83},"Tripp County, SD Corn Basis"]
["ZSBASDTR.CM","cmdty Tripp County, SD Soybean Basis Idx","Soybean","Basis","South Dakota","County","Tripp County",{"$f":"+IF(LEN(home!$G$7)>0,instruments!C1306=home!$G$7,TRUE)","v":false},true,{"$f":"+IF(LEN(home!$G$8)>0,instruments!E1306=home!$G$8,TRUE)","v":false},{"$f":"+IF(LEN(home!$G$9)>0,instruments!F1306=home!$G$9,TRUE)","v":true},2,{"$f":"+COUNTIF($L$1:L1306,\"=\"&4)","v":83},"Tripp County, SD Soybean Basis"]
["ZSBAOHTR.CM","cmdty Trumbull County, OH Soybean Basis Idx","Soybean","Basis","Ohio","County","Trumbull County",{"$f":"+IF(LEN(home!$G$7)>0,instruments!C1307=home!$G$7,TRUE)","v":false},true,{"$f":"+IF(LEN(home!$G$8)>0,instruments!E1307=home!$G$8,TRUE)","v":false},{"$f":"+IF(LEN(home!$G$9)>0,instruments!F1307=home!$G$9,TRUE)","v":true},2,{"$f":"+COUNTIF($L$1:L1307,\"=\"&4)","v":83},"Trumbull County, OH Soybean Basis"]
["ZCBASDTU.CM","cmdty Turner County, SD Corn Basis Idx","Corn","Basis","South Dakota","County","Turner County",{"$f":"+IF(LEN(home!$G$7)>0,instruments!C1308=home!$G$7,TRUE)","v":true},true,{"$f":"+IF(LEN(home!$G$8)>0,instruments!E1308=home!$G$8,TRUE)","v":false},{"$f":"+IF(LEN(home!$G$9)>0,instruments!F1308=home!$G$9,TRUE)","v":true},3,{"$f":"+COUNTIF($L$1:L1308,\"=\"&4)","v":83},"Turner County, SD Corn Basis"]
["ZSBASDTU.CM","cmdty Turner County, SD Soybean Basis Idx","Soybean","Basis","South Dakota","County","Turner County",{"$f":"+IF(LEN(home!$G$7)>0,instruments!C1309=home!$G$7,TRUE)","v":false},true,{"$f":"+IF(LEN(home!$G$8)>0,instruments!E1309=home!$G$8,TRUE)","v":false},{"$f":"+IF(LEN(home!$G$9)>0,instruments!F1309=home!$G$9,TRUE)","v":true},2,{"$f":"+COUNTIF($L$1:L1309,\"=\"&4)","v":83},"Turner County, SD Soybean Basis"]
["ZSBAOHTU.CM","cmdty Tuscarawas County, OH Soybean Basis Idx","Soybean","Basis","Ohio","County","Tuscarawas County",{"$f":"+IF(LEN(home!$G$7)>0,instruments!C1310=home!$G$7,TRUE)","v":false},true,{"$f":"+IF(LEN(home!$G$8)>0,instruments!E1310=home!$G$8,TRUE)","v":false},{"$f":"+IF(LEN(home!$G$9)>0,instruments!F1310=home!$G$9,TRUE)","v":true},2,{"$f":"+COUNTIF($L$1:L1310,\"=\"&4)","v":83},"Tuscarawas County, OH Soybean Basis"]
["ZCBAIAUN.CM","cmdty Union County, IA Corn Basis Idx","Corn","Basis","Iowa","County","Union County",{"$f":"+IF(LEN(home!$G$7)>0,instruments!C1311=home!$G$7,TRUE)","v":true},true,{"$f":"+IF(LEN(home!$G$8)>0,instruments!E1311=home!$G$8,TRUE)","v":true},{"$f":"+IF(LEN(home!$G$9)>0,instruments!F1311=home!$G$9,TRUE)","v":true},4,{"$f":"+COUNTIF($L$1:L1311,\"=\"&4)","v":84},"Union County, IA Corn Basis"]
["ZSBAIAUN.CM","cmdty Union County, IA Soybean Basis Idx","Soybean","Basis","Iowa","County","Union County",{"$f":"+IF(LEN(home!$G$7)>0,instruments!C1312=home!$G$7,TRUE)","v":false},true,{"$f":"+IF(LEN(home!$G$8)>0,instruments!E1312=home!$G$8,TRUE)","v":true},{"$f":"+IF(LEN(home!$G$9)>0,instruments!F1312=home!$G$9,TRUE)","v":true},3,{"$f":"+COUNTIF($L$1:L1312,\"=\"&4)","v":84},"Union County, IA Soybean Basis"]
["ZSBAOHUN.CM","cmdty Union County, OH Soybean Basis Idx","Soybean","Basis","Ohio","County","Union County",{"$f":"+IF(LEN(home!$G$7)>0,instruments!C1313=home!$G$7,TRUE)","v":false},true,{"$f":"+IF(LEN(home!$G$8)>0,instruments!E1313=home!$G$8,TRUE)","v":false},{"$f":"+IF(LEN(home!$G$9)>0,instruments!F1313=home!$G$9,TRUE)","v":true},2,{"$f":"+COUNTIF($L$1:L1313,\"=\"&4)","v":84},"Union County, OH Soybean Basis"]
["ZCBASDUN.CM","cmdty Union County, SD Corn Basis Idx","Corn","Basis","South Dakota","County","Union County",{"$f":"+IF(LEN(home!$G$7)>0,instruments!C1314=home!$G$7,TRUE)","v":true},true,{"$f":"+IF(LEN(home!$G$8)>0,instruments!E1314=home!$G$8,TRUE)","v":false},{"$f":"+IF(LEN(home!$G$9)>0,instruments!F1314=home!$G$9,TRUE)","v":true},3,{"$f":"+COUNTIF($L$1:L1314,\"=\"&4)","v":84},"Union County, SD Corn Basis"]
["ZSBASDUN.CM","cmdty Union County, SD Soybean Basis Idx","Soybean","Basis","South Dakota","County","Union County",{"$f":"+IF(LEN(home!$G$7)>0,instruments!C1315=home!$G$7,TRUE)","v":false},true,{"$f":"+IF(LEN(home!$G$8)>0,instruments!E1315=home!$G$8,TRUE)","v":false},{"$f":"+IF(LEN(home!$G$9)>0,instruments!F1315=home!$G$9,TRUE)","v":true},2,{"$f":"+COUNTIF($L$1:L1315,\"=\"&4)","v":84},"Union County, SD Soybean Basis"]
["ZCBANEVA.CM","cmdty Valley County, NE Corn Basis Idx","Corn","Basis","Nebraska","County","Valley County",{"$f":"+IF(LEN(home!$G$7)>0,instruments!C1316=home!$G$7,TRUE)","v":true},true,{"$f":"+IF(LEN(home!$G$8)>0,instruments!E1316=home!$G$8,TRUE)","v":false},{"$f":"+IF(LEN(home!$G$9)>0,instruments!F1316=home!$G$9,TRUE)","v":true},3,{"$f":"+COUNTIF($L$1:L1316,\"=\"&4)","v":84},"Valley County, NE Corn Basis"]
["ZSBANEVA.CM","cmdty Valley County, NE Soybean Basis Idx","Soybean","Basis","Nebraska","County","Valley County",{"$f":"+IF(LEN(home!$G$7)>0,instruments!C1317=home!$G$7,TRUE)","v":false},true,{"$f":"+IF(LEN(home!$G$8)>0,instruments!E1317=home!$G$8,TRUE)","v":false},{"$f":"+IF(LEN(home!$G$9)>0,instruments!F1317=home!$G$9,TRUE)","v":true},2,{"$f":"+COUNTIF($L$1:L1317,\"=\"&4)","v":84},"Valley County, NE Soybean Basis"]
["ZCBAIAVA.CM","cmdty Van Buren County, IA Corn Basis Idx","Corn","Basis","Iowa","County","Van Buren County",{"$f":"+IF(LEN(home!$G$7)>0,instruments!C1318=home!$G$7,TRUE)","v":true},true,{"$f":"+IF(LEN(home!$G$8)>0,instruments!E1318=home!$G$8,TRUE)","v":true},{"$f":"+IF(LEN(home!$G$9)>0,instruments!F1318=home!$G$9,TRUE)","v":true},4,{"$f":"+COUNTIF($L$1:L1318,\"=\"&4)","v":85},"Van Buren County, IA Corn Basis"]
["ZSBAIAVA.CM","cmdty Van Buren County, IA Soybean Basis Idx","Soybean","Basis","Iowa","County","Van Buren County",{"$f":"+IF(LEN(home!$G$7)>0,instruments!C1319=home!$G$7,TRUE)","v":false},true,{"$f":"+IF(LEN(home!$G$8)>0,instruments!E1319=home!$G$8,TRUE)","v":true},{"$f":"+IF(LEN(home!$G$9)>0,instruments!F1319=home!$G$9,TRUE)","v":true},3,{"$f":"+COUNTIF($L$1:L1319,\"=\"&4)","v":85},"Van Buren County, IA Soybean Basis"]
["ZCBAINVA.CM","cmdty Vanderburgh County, IN Corn Basis Idx","Corn","Basis","Indiana","County","Vanderburgh County",{"$f":"+IF(LEN(home!$G$7)>0,instruments!C1320=home!$G$7,TRUE)","v":true},true,{"$f":"+IF(LEN(home!$G$8)>0,instruments!E1320=home!$G$8,TRUE)","v":false},{"$f":"+IF(LEN(home!$G$9)>0,instruments!F1320=home!$G$9,TRUE)","v":true},3,{"$f":"+COUNTIF($L$1:L1320,\"=\"&4)","v":85},"Vanderburgh County, IN Corn Basis"]
["ZSBAINVA.CM","cmdty Vanderburgh County, IN Soybean Basis Idx","Soybean","Basis","Indiana","County","Vanderburgh County",{"$f":"+IF(LEN(home!$G$7)>0,instruments!C1321=home!$G$7,TRUE)","v":false},true,{"$f":"+IF(LEN(home!$G$8)>0,instruments!E1321=home!$G$8,TRUE)","v":false},{"$f":"+IF(LEN(home!$G$9)>0,instruments!F1321=home!$G$9,TRUE)","v":true},2,{"$f":"+COUNTIF($L$1:L1321,\"=\"&4)","v":85},"Vanderburgh County, IN Soybean Basis"]
["ZSBAOHVA.CM","cmdty Van Wert County, OH Soybean Basis Idx","Soybean","Basis","Ohio","County","Van Wert County",{"$f":"+IF(LEN(home!$G$7)>0,instruments!C1322=home!$G$7,TRUE)","v":false},true,{"$f":"+IF(LEN(home!$G$8)>0,instruments!E1322=home!$G$8,TRUE)","v":false},{"$f":"+IF(LEN(home!$G$9)>0,instruments!F1322=home!$G$9,TRUE)","v":true},2,{"$f":"+COUNTIF($L$1:L1322,\"=\"&4)","v":85},"Van Wert County, OH Soybean Basis"]
["ZCBAILVE.CM","cmdty Vermilion County, IL Corn Basis Idx","Corn","Basis","Illinois","County","Vermilion County",{"$f":"+IF(LEN(home!$G$7)>0,instruments!C1323=home!$G$7,TRUE)","v":true},true,{"$f":"+IF(LEN(home!$G$8)>0,instruments!E1323=home!$G$8,TRUE)","v":false},{"$f":"+IF(LEN(home!$G$9)>0,instruments!F1323=home!$G$9,TRUE)","v":true},3,{"$f":"+COUNTIF($L$1:L1323,\"=\"&4)","v":85},"Vermilion County, IL Corn Basis"]
["ZSBAILVE.CM","cmdty Vermilion County, IL Soybean Basis Idx","Soybean","Basis","Illinois","County","Vermilion County",{"$f":"+IF(LEN(home!$G$7)>0,instruments!C1324=home!$G$7,TRUE)","v":false},true,{"$f":"+IF(LEN(home!$G$8)>0,instruments!E1324=home!$G$8,TRUE)","v":false},{"$f":"+IF(LEN(home!$G$9)>0,instruments!F1324=home!$G$9,TRUE)","v":true},2,{"$f":"+COUNTIF($L$1:L1324,\"=\"&4)","v":85},"Vermilion County, IL Soybean Basis"]
["ZCBAINVE.CM","cmdty Vermillion County, IN Corn Basis Idx","Corn","Basis","Indiana","County","Vermillion County",{"$f":"+IF(LEN(home!$G$7)>0,instruments!C1325=home!$G$7,TRUE)","v":true},true,{"$f":"+IF(LEN(home!$G$8)>0,instruments!E1325=home!$G$8,TRUE)","v":false},{"$f":"+IF(LEN(home!$G$9)>0,instruments!F1325=home!$G$9,TRUE)","v":true},3,{"$f":"+COUNTIF($L$1:L1325,\"=\"&4)","v":85},"Vermillion County, IN Corn Basis"]
["ZSBAINVE.CM","cmdty Vermillion County, IN Soybean Basis Idx","Soybean","Basis","Indiana","County","Vermillion County",{"$f":"+IF(LEN(home!$G$7)>0,instruments!C1326=home!$G$7,TRUE)","v":false},true,{"$f":"+IF(LEN(home!$G$8)>0,instruments!E1326=home!$G$8,TRUE)","v":false},{"$f":"+IF(LEN(home!$G$9)>0,instruments!F1326=home!$G$9,TRUE)","v":true},2,{"$f":"+COUNTIF($L$1:L1326,\"=\"&4)","v":85},"Vermillion County, IN Soybean Basis"]
["ZCBAMOVE.CM","cmdty Vernon County, MO Corn Basis Idx","Corn","Basis","Missouri","County","Vernon County",{"$f":"+IF(LEN(home!$G$7)>0,instruments!C1327=home!$G$7,TRUE)","v":true},true,{"$f":"+IF(LEN(home!$G$8)>0,instruments!E1327=home!$G$8,TRUE)","v":false},{"$f":"+IF(LEN(home!$G$9)>0,instruments!F1327=home!$G$9,TRUE)","v":true},3,{"$f":"+COUNTIF($L$1:L1327,\"=\"&4)","v":85},"Vernon County, MO Corn Basis"]
["ZSBAMOVE.CM","cmdty Vernon County, MO Soybean Basis Idx","Soybean","Basis","Missouri","County","Vernon County",{"$f":"+IF(LEN(home!$G$7)>0,instruments!C1328=home!$G$7,TRUE)","v":false},true,{"$f":"+IF(LEN(home!$G$8)>0,instruments!E1328=home!$G$8,TRUE)","v":false},{"$f":"+IF(LEN(home!$G$9)>0,instruments!F1328=home!$G$9,TRUE)","v":true},2,{"$f":"+COUNTIF($L$1:L1328,\"=\"&4)","v":85},"Vernon County, MO Soybean Basis"]
["ZCBAINVI.CM","cmdty Vigo County, IN Corn Basis Idx","Corn","Basis","Indiana","County","Vigo County",{"$f":"+IF(LEN(home!$G$7)>0,instruments!C1329=home!$G$7,TRUE)","v":true},true,{"$f":"+IF(LEN(home!$G$8)>0,instruments!E1329=home!$G$8,TRUE)","v":false},{"$f":"+IF(LEN(home!$G$9)>0,instruments!F1329=home!$G$9,TRUE)","v":true},3,{"$f":"+COUNTIF($L$1:L1329,\"=\"&4)","v":85},"Vigo County, IN Corn Basis"]
["ZSBAINVI.CM","cmdty Vigo County, IN Soybean Basis Idx","Soybean","Basis","Indiana","County","Vigo County",{"$f":"+IF(LEN(home!$G$7)>0,instruments!C1330=home!$G$7,TRUE)","v":false},true,{"$f":"+IF(LEN(home!$G$8)>0,instruments!E1330=home!$G$8,TRUE)","v":false},{"$f":"+IF(LEN(home!$G$9)>0,instruments!F1330=home!$G$9,TRUE)","v":true},2,{"$f":"+COUNTIF($L$1:L1330,\"=\"&4)","v":85},"Vigo County, IN Soybean Basis"]
["ZCBAMNWA.CM","cmdty Wabasha County, MN Corn Basis Idx","Corn","Basis","Minnesota","County","Wabasha County",{"$f":"+IF(LEN(home!$G$7)>0,instruments!C1331=home!$G$7,TRUE)","v":true},true,{"$f":"+IF(LEN(home!$G$8)>0,instruments!E1331=home!$G$8,TRUE)","v":false},{"$f":"+IF(LEN(home!$G$9)>0,instruments!F1331=home!$G$9,TRUE)","v":true},3,{"$f":"+COUNTIF($L$1:L1331,\"=\"&4)","v":85},"Wabasha County, MN Corn Basis"]
["ZSBAMNWA.CM","cmdty Wabasha County, MN Soybean Basis Idx","Soybean","Basis","Minnesota","County","Wabasha County",{"$f":"+IF(LEN(home!$G$7)>0,instruments!C1332=home!$G$7,TRUE)","v":false},true,{"$f":"+IF(LEN(home!$G$8)>0,instruments!E1332=home!$G$8,TRUE)","v":false},{"$f":"+IF(LEN(home!$G$9)>0,instruments!F1332=home!$G$9,TRUE)","v":true},2,{"$f":"+COUNTIF($L$1:L1332,\"=\"&4)","v":85},"Wabasha County, MN Soybean Basis"]
["ZCBAINWA.CM","cmdty Wabash County, IN Corn Basis Idx","Corn","Basis","Indiana","County","Wabash County",{"$f":"+IF(LEN(home!$G$7)>0,instruments!C1333=home!$G$7,TRUE)","v":true},true,{"$f":"+IF(LEN(home!$G$8)>0,instruments!E1333=home!$G$8,TRUE)","v":false},{"$f":"+IF(LEN(home!$G$9)>0,instruments!F1333=home!$G$9,TRUE)","v":true},3,{"$f":"+COUNTIF($L$1:L1333,\"=\"&4)","v":85},"Wabash County, IN Corn Basis"]
["ZSBAINWA.CM","cmdty Wabash County, IN Soybean Basis Idx","Soybean","Basis","Indiana","County","Wabash County",{"$f":"+IF(LEN(home!$G$7)>0,instruments!C1334=home!$G$7,TRUE)","v":false},true,{"$f":"+IF(LEN(home!$G$8)>0,instruments!E1334=home!$G$8,TRUE)","v":false},{"$f":"+IF(LEN(home!$G$9)>0,instruments!F1334=home!$G$9,TRUE)","v":true},2,{"$f":"+COUNTIF($L$1:L1334,\"=\"&4)","v":85},"Wabash County, IN Soybean Basis"]
["ZCBAKSWA.CM","cmdty Wabaunsee County, KS Corn Basis Idx","Corn","Basis","Kansas","County","Wabaunsee County",{"$f":"+IF(LEN(home!$G$7)>0,instruments!C1335=home!$G$7,TRUE)","v":true},true,{"$f":"+IF(LEN(home!$G$8)>0,instruments!E1335=home!$G$8,TRUE)","v":false},{"$f":"+IF(LEN(home!$G$9)>0,instruments!F1335=home!$G$9,TRUE)","v":true},3,{"$f":"+COUNTIF($L$1:L1335,\"=\"&4)","v":85},"Wabaunsee County, KS Corn Basis"]
["ZSBAKSWA.CM","cmdty Wabaunsee County, KS Soybean Basis Idx","Soybean","Basis","Kansas","County","Wabaunsee County",{"$f":"+IF(LEN(home!$G$7)>0,instruments!C1336=home!$G$7,TRUE)","v":false},true,{"$f":"+IF(LEN(home!$G$8)>0,instruments!E1336=home!$G$8,TRUE)","v":false},{"$f":"+IF(LEN(home!$G$9)>0,instruments!F1336=home!$G$9,TRUE)","v":true},2,{"$f":"+COUNTIF($L$1:L1336,\"=\"&4)","v":85},"Wabaunsee County, KS Soybean Basis"]
["ZCBAKSWB.CM","cmdty Wallace County, KS Corn Basis Idx","Corn","Basis","Kansas","County","Wallace County",{"$f":"+IF(LEN(home!$G$7)>0,instruments!C1337=home!$G$7,TRUE)","v":true},true,{"$f":"+IF(LEN(home!$G$8)>0,instruments!E1337=home!$G$8,TRUE)","v":false},{"$f":"+IF(LEN(home!$G$9)>0,instruments!F1337=home!$G$9,TRUE)","v":true},3,{"$f":"+COUNTIF($L$1:L1337,\"=\"&4)","v":85},"Wallace County, KS Corn Basis"]
["ZSBANDWA.CM","cmdty Walsh County, ND Soybean Basis Idx","Soybean","Basis","North Dakota","County","Walsh County",{"$f":"+IF(LEN(home!$G$7)>0,instruments!C1338=home!$G$7,TRUE)","v":false},true,{"$f":"+IF(LEN(home!$G$8)>0,instruments!E1338=home!$G$8,TRUE)","v":false},{"$f":"+IF(LEN(home!$G$9)>0,instruments!F1338=home!$G$9,TRUE)","v":true},2,{"$f":"+COUNTIF($L$1:L1338,\"=\"&4)","v":85},"Walsh County, ND Soybean Basis"]
["ZCBASDWA.CM","cmdty Walworth County, SD Corn Basis Idx","Corn","Basis","South Dakota","County","Walworth County",{"$f":"+IF(LEN(home!$G$7)>0,instruments!C1339=home!$G$7,TRUE)","v":true},true,{"$f":"+IF(LEN(home!$G$8)>0,instruments!E1339=home!$G$8,TRUE)","v":false},{"$f":"+IF(LEN(home!$G$9)>0,instruments!F1339=home!$G$9,TRUE)","v":true},3,{"$f":"+COUNTIF($L$1:L1339,\"=\"&4)","v":85},"Walworth County, SD Corn Basis"]
["ZSBASDWA.CM","cmdty Walworth County, SD Soybean Basis Idx","Soybean","Basis","South Dakota","County","Walworth County",{"$f":"+IF(LEN(home!$G$7)>0,instruments!C1340=home!$G$7,TRUE)","v":false},true,{"$f":"+IF(LEN(home!$G$8)>0,instruments!E1340=home!$G$8,TRUE)","v":false},{"$f":"+IF(LEN(home!$G$9)>0,instruments!F1340=home!$G$9,TRUE)","v":true},2,{"$f":"+COUNTIF($L$1:L1340,\"=\"&4)","v":85},"Walworth County, SD Soybean Basis"]
["ZCBAIAWA.CM","cmdty Wapello County, IA Corn Basis Idx","Corn","Basis","Iowa","County","Wapello County",{"$f":"+IF(LEN(home!$G$7)>0,instruments!C1341=home!$G$7,TRUE)","v":true},true,{"$f":"+IF(LEN(home!$G$8)>0,instruments!E1341=home!$G$8,TRUE)","v":true},{"$f":"+IF(LEN(home!$G$9)>0,instruments!F1341=home!$G$9,TRUE)","v":true},4,{"$f":"+COUNTIF($L$1:L1341,\"=\"&4)","v":86},"Wapello County, IA Corn Basis"]
["ZSBAIAWA.CM","cmdty Wapello County, IA Soybean Basis Idx","Soybean","Basis","Iowa","County","Wapello County",{"$f":"+IF(LEN(home!$G$7)>0,instruments!C1342=home!$G$7,TRUE)","v":false},true,{"$f":"+IF(LEN(home!$G$8)>0,instruments!E1342=home!$G$8,TRUE)","v":true},{"$f":"+IF(LEN(home!$G$9)>0,instruments!F1342=home!$G$9,TRUE)","v":true},3,{"$f":"+COUNTIF($L$1:L1342,\"=\"&4)","v":86},"Wapello County, IA Soybean Basis"]
["ZSBANDWB.CM","cmdty Ward County, ND Soybean Basis Idx","Soybean","Basis","North Dakota","County","Ward County",{"$f":"+IF(LEN(home!$G$7)>0,instruments!C1343=home!$G$7,TRUE)","v":false},true,{"$f":"+IF(LEN(home!$G$8)>0,instruments!E1343=home!$G$8,TRUE)","v":false},{"$f":"+IF(LEN(home!$G$9)>0,instruments!F1343=home!$G$9,TRUE)","v":true},2,{"$f":"+COUNTIF($L$1:L1343,\"=\"&4)","v":86},"Ward County, ND Soybean Basis"]
["ZCBAIAWB.CM","cmdty Warren County, IA Corn Basis Idx","Corn","Basis","Iowa","County","Warren County",{"$f":"+IF(LEN(home!$G$7)>0,instruments!C1344=home!$G$7,TRUE)","v":true},true,{"$f":"+IF(LEN(home!$G$8)>0,instruments!E1344=home!$G$8,TRUE)","v":true},{"$f":"+IF(LEN(home!$G$9)>0,instruments!F1344=home!$G$9,TRUE)","v":true},4,{"$f":"+COUNTIF($L$1:L1344,\"=\"&4)","v":87},"Warren County, IA Corn Basis"]
["ZSBAIAWB.CM","cmdty Warren County, IA Soybean Basis Idx","Soybean","Basis","Iowa","County","Warren County",{"$f":"+IF(LEN(home!$G$7)>0,instruments!C1345=home!$G$7,TRUE)","v":false},true,{"$f":"+IF(LEN(home!$G$8)>0,instruments!E1345=home!$G$8,TRUE)","v":true},{"$f":"+IF(LEN(home!$G$9)>0,instruments!F1345=home!$G$9,TRUE)","v":true},3,{"$f":"+COUNTIF($L$1:L1345,\"=\"&4)","v":87},"Warren County, IA Soybean Basis"]
["ZCBAILWB.CM","cmdty Warren County, IL Corn Basis Idx","Corn","Basis","Illinois","County","Warren County",{"$f":"+IF(LEN(home!$G$7)>0,instruments!C1346=home!$G$7,TRUE)","v":true},true,{"$f":"+IF(LEN(home!$G$8)>0,instruments!E1346=home!$G$8,TRUE)","v":false},{"$f":"+IF(LEN(home!$G$9)>0,instruments!F1346=home!$G$9,TRUE)","v":true},{"$f":"+COUNTIF(H1346:K1346,TRUE)","v":3},{"$f":"+COUNTIF($L$1:L1346,\"=\"&4)","v":87},"Warren County, IL Corn Basis"]
["ZSBAILWB.CM","cmdty Warren County, IL Soybean Basis Idx","Soybean","Basis","Illinois","County","Warren County",{"$f":"+IF(LEN(home!$G$7)>0,instruments!C1347=home!$G$7,TRUE)","v":false},{"$f":"+D1347=\"Basis\"","v":true},{"$f":"+IF(LEN(home!$G$8)>0,instruments!E1347=home!$G$8,TRUE)","v":false},{"$f":"+IF(LEN(home!$G$9)>0,instruments!F1347=home!$G$9,TRUE)","v":true},2,{"$f":"+COUNTIF($L$1:L1347,\"=\"&4)","v":87},{"$f":"+MID(B1347,FIND(\" \",B1347,1)+1,LEN(B1347)-FIND(\" \",B1347,1)-4)","v":"Warren County, IL Soybean Basis"}]
["ZCBAINWB.CM","cmdty Warren County, IN Corn Basis Idx","Corn","Basis","Indiana","County","Warren County",{"$f":"+IF(LEN(home!$G$7)>0,instruments!C1348=home!$G$7,TRUE)","v":true},true,{"$f":"+IF(LEN(home!$G$8)>0,instruments!E1348=home!$G$8,TRUE)","v":false},{"$f":"+IF(LEN(home!$G$9)>0,instruments!F1348=home!$G$9,TRUE)","v":true},3,{"$f":"+COUNTIF($L$1:L1348,\"=\"&4)","v":87},"Warren County, IN Corn Basis"]
["ZSBAINWB.CM","cmdty Warren County, IN Soybean Basis Idx","Soybean","Basis","Indiana","County","Warren County",{"$f":"+IF(LEN(home!$G$7)>0,instruments!C1349=home!$G$7,TRUE)","v":false},true,{"$f":"+IF(LEN(home!$G$8)>0,instruments!E1349=home!$G$8,TRUE)","v":false},{"$f":"+IF(LEN(home!$G$9)>0,instruments!F1349=home!$G$9,TRUE)","v":true},2,{"$f":"+COUNTIF($L$1:L1349,\"=\"&4)","v":87},"Warren County, IN Soybean Basis"]
["ZCBAINWC.CM","cmdty Warrick County, IN Corn Basis Idx","Corn","Basis","Indiana","County","Warrick County",{"$f":"+IF(LEN(home!$G$7)>0,instruments!C1350=home!$G$7,TRUE)","v":true},true,{"$f":"+IF(LEN(home!$G$8)>0,instruments!E1350=home!$G$8,TRUE)","v":false},{"$f":"+IF(LEN(home!$G$9)>0,instruments!F1350=home!$G$9,TRUE)","v":true},3,{"$f":"+COUNTIF($L$1:L1350,\"=\"&4)","v":87},"Warrick County, IN Corn Basis"]
["ZSBAINWC.CM","cmdty Warrick County, IN Soybean Basis Idx","Soybean","Basis","Indiana","County","Warrick County",{"$f":"+IF(LEN(home!$G$7)>0,instruments!C1351=home!$G$7,TRUE)","v":false},true,{"$f":"+IF(LEN(home!$G$8)>0,instruments!E1351=home!$G$8,TRUE)","v":false},{"$f":"+IF(LEN(home!$G$9)>0,instruments!F1351=home!$G$9,TRUE)","v":true},2,{"$f":"+COUNTIF($L$1:L1351,\"=\"&4)","v":87},"Warrick County, IN Soybean Basis"]
["ZCBAMNWC.CM","cmdty Waseca County, MN Corn Basis Idx","Corn","Basis","Minnesota","County","Waseca County",{"$f":"+IF(LEN(home!$G$7)>0,instruments!C1352=home!$G$7,TRUE)","v":true},true,{"$f":"+IF(LEN(home!$G$8)>0,instruments!E1352=home!$G$8,TRUE)","v":false},{"$f":"+IF(LEN(home!$G$9)>0,instruments!F1352=home!$G$9,TRUE)","v":true},3,{"$f":"+COUNTIF($L$1:L1352,\"=\"&4)","v":87},"Waseca County, MN Corn Basis"]
["ZSBAMNWC.CM","cmdty Waseca County, MN Soybean Basis Idx","Soybean","Basis","Minnesota","County","Waseca County",{"$f":"+IF(LEN(home!$G$7)>0,instruments!C1353=home!$G$7,TRUE)","v":false},true,{"$f":"+IF(LEN(home!$G$8)>0,instruments!E1353=home!$G$8,TRUE)","v":false},{"$f":"+IF(LEN(home!$G$9)>0,instruments!F1353=home!$G$9,TRUE)","v":true},2,{"$f":"+COUNTIF($L$1:L1353,\"=\"&4)","v":87},"Waseca County, MN Soybean Basis"]
["ZCBAIAWC.CM","cmdty Washington County, IA Corn Basis Idx","Corn","Basis","Iowa","County","Washington County",{"$f":"+IF(LEN(home!$G$7)>0,instruments!C1354=home!$G$7,TRUE)","v":true},true,{"$f":"+IF(LEN(home!$G$8)>0,instruments!E1354=home!$G$8,TRUE)","v":true},{"$f":"+IF(LEN(home!$G$9)>0,instruments!F1354=home!$G$9,TRUE)","v":true},4,{"$f":"+COUNTIF($L$1:L1354,\"=\"&4)","v":88},"Washington County, IA Corn Basis"]
["ZSBAIAWC.CM","cmdty Washington County, IA Soybean Basis Idx","Soybean","Basis","Iowa","County","Washington County",{"$f":"+IF(LEN(home!$G$7)>0,instruments!C1355=home!$G$7,TRUE)","v":false},true,{"$f":"+IF(LEN(home!$G$8)>0,instruments!E1355=home!$G$8,TRUE)","v":true},{"$f":"+IF(LEN(home!$G$9)>0,instruments!F1355=home!$G$9,TRUE)","v":true},3,{"$f":"+COUNTIF($L$1:L1355,\"=\"&4)","v":88},"Washington County, IA Soybean Basis"]
["ZCBAILWC.CM","cmdty Washington County, IL Corn Basis Idx","Corn","Basis","Illinois","County","Washington County",{"$f":"+IF(LEN(home!$G$7)>0,instruments!C1356=home!$G$7,TRUE)","v":true},true,{"$f":"+IF(LEN(home!$G$8)>0,instruments!E1356=home!$G$8,TRUE)","v":false},{"$f":"+IF(LEN(home!$G$9)>0,instruments!F1356=home!$G$9,TRUE)","v":true},3,{"$f":"+COUNTIF($L$1:L1356,\"=\"&4)","v":88},"Washington County, IL Corn Basis"]
["ZSBAILWC.CM","cmdty Washington County, IL Soybean Basis Idx","Soybean","Basis","Illinois","County","Washington County",{"$f":"+IF(LEN(home!$G$7)>0,instruments!C1357=home!$G$7,TRUE)","v":false},true,{"$f":"+IF(LEN(home!$G$8)>0,instruments!E1357=home!$G$8,TRUE)","v":false},{"$f":"+IF(LEN(home!$G$9)>0,instruments!F1357=home!$G$9,TRUE)","v":true},2,{"$f":"+COUNTIF($L$1:L1357,\"=\"&4)","v":88},"Washington County, IL Soybean Basis"]
["ZCBAKSWC.CM","cmdty Washington County, KS Corn Basis Idx","Corn","Basis","Kansas","County","Washington County",{"$f":"+IF(LEN(home!$G$7)>0,instruments!C1358=home!$G$7,TRUE)","v":true},true,{"$f":"+IF(LEN(home!$G$8)>0,instruments!E1358=home!$G$8,TRUE)","v":false},{"$f":"+IF(LEN(home!$G$9)>0,instruments!F1358=home!$G$9,TRUE)","v":true},3,{"$f":"+COUNTIF($L$1:L1358,\"=\"&4)","v":88},"Washington County, KS Corn Basis"]
["ZSBAKSWC.CM","cmdty Washington County, KS Soybean Basis Idx","Soybean","Basis","Kansas","County","Washington County",{"$f":"+IF(LEN(home!$G$7)>0,instruments!C1359=home!$G$7,TRUE)","v":false},true,{"$f":"+IF(LEN(home!$G$8)>0,instruments!E1359=home!$G$8,TRUE)","v":false},{"$f":"+IF(LEN(home!$G$9)>0,instruments!F1359=home!$G$9,TRUE)","v":true},2,{"$f":"+COUNTIF($L$1:L1359,\"=\"&4)","v":88},"Washington County, KS Soybean Basis"]
["ZCBANEWA.CM","cmdty Washington County, NE Corn Basis Idx","Corn","Basis","Nebraska","County","Washington County",{"$f":"+IF(LEN(home!$G$7)>0,instruments!C1360=home!$G$7,TRUE)","v":true},true,{"$f":"+IF(LEN(home!$G$8)>0,instruments!E1360=home!$G$8,TRUE)","v":false},{"$f":"+IF(LEN(home!$G$9)>0,instruments!F1360=home!$G$9,TRUE)","v":true},3,{"$f":"+COUNTIF($L$1:L1360,\"=\"&4)","v":88},"Washington County, NE Corn Basis"]
["ZSBANEWA.CM","cmdty Washington County, NE Soybean Basis Idx","Soybean","Basis","Nebraska","County","Washington County",{"$f":"+IF(LEN(home!$G$7)>0,instruments!C1361=home!$G$7,TRUE)","v":false},true,{"$f":"+IF(LEN(home!$G$8)>0,instruments!E1361=home!$G$8,TRUE)","v":false},{"$f":"+IF(LEN(home!$G$9)>0,instruments!F1361=home!$G$9,TRUE)","v":true},2,{"$f":"+COUNTIF($L$1:L1361,\"=\"&4)","v":88},"Washington County, NE Soybean Basis"]
["ZCBAMNWE.CM","cmdty Watonwan County, MN Corn Basis Idx","Corn","Basis","Minnesota","County","Watonwan County",{"$f":"+IF(LEN(home!$G$7)>0,instruments!C1362=home!$G$7,TRUE)","v":true},true,{"$f":"+IF(LEN(home!$G$8)>0,instruments!E1362=home!$G$8,TRUE)","v":false},{"$f":"+IF(LEN(home!$G$9)>0,instruments!F1362=home!$G$9,TRUE)","v":true},3,{"$f":"+COUNTIF($L$1:L1362,\"=\"&4)","v":88},"Watonwan County, MN Corn Basis"]
["ZSBAMNWE.CM","cmdty Watonwan County, MN Soybean Basis Idx","Soybean","Basis","Minnesota","County","Watonwan County",{"$f":"+IF(LEN(home!$G$7)>0,instruments!C1363=home!$G$7,TRUE)","v":false},true,{"$f":"+IF(LEN(home!$G$8)>0,instruments!E1363=home!$G$8,TRUE)","v":false},{"$f":"+IF(LEN(home!$G$9)>0,instruments!F1363=home!$G$9,TRUE)","v":true},2,{"$f":"+COUNTIF($L$1:L1363,\"=\"&4)","v":88},"Watonwan County, MN Soybean Basis"]
["ZCBAIAWD.CM","cmdty Wayne County, IA Corn Basis Idx","Corn","Basis","Iowa","County","Wayne County",{"$f":"+IF(LEN(home!$G$7)>0,instruments!C1364=home!$G$7,TRUE)","v":true},true,{"$f":"+IF(LEN(home!$G$8)>0,instruments!E1364=home!$G$8,TRUE)","v":true},{"$f":"+IF(LEN(home!$G$9)>0,instruments!F1364=home!$G$9,TRUE)","v":true},4,{"$f":"+COUNTIF($L$1:L1364,\"=\"&4)","v":89},"Wayne County, IA Corn Basis"]
["ZSBAIAWD.CM","cmdty Wayne County, IA Soybean Basis Idx","Soybean","Basis","Iowa","County","Wayne County",{"$f":"+IF(LEN(home!$G$7)>0,instruments!C1365=home!$G$7,TRUE)","v":false},true,{"$f":"+IF(LEN(home!$G$8)>0,instruments!E1365=home!$G$8,TRUE)","v":true},{"$f":"+IF(LEN(home!$G$9)>0,instruments!F1365=home!$G$9,TRUE)","v":true},3,{"$f":"+COUNTIF($L$1:L1365,\"=\"&4)","v":89},"Wayne County, IA Soybean Basis"]
["ZCBAILWD.CM","cmdty Wayne County, IL Corn Basis Idx","Corn","Basis","Illinois","County","Wayne County",{"$f":"+IF(LEN(home!$G$7)>0,instruments!C1366=home!$G$7,TRUE)","v":true},true,{"$f":"+IF(LEN(home!$G$8)>0,instruments!E1366=home!$G$8,TRUE)","v":false},{"$f":"+IF(LEN(home!$G$9)>0,instruments!F1366=home!$G$9,TRUE)","v":true},3,{"$f":"+COUNTIF($L$1:L1366,\"=\"&4)","v":89},"Wayne County, IL Corn Basis"]
["ZSBAILWD.CM","cmdty Wayne County, IL Soybean Basis Idx","Soybean","Basis","Illinois","County","Wayne County",{"$f":"+IF(LEN(home!$G$7)>0,instruments!C1367=home!$G$7,TRUE)","v":false},true,{"$f":"+IF(LEN(home!$G$8)>0,instruments!E1367=home!$G$8,TRUE)","v":false},{"$f":"+IF(LEN(home!$G$9)>0,instruments!F1367=home!$G$9,TRUE)","v":true},2,{"$f":"+COUNTIF($L$1:L1367,\"=\"&4)","v":89},"Wayne County, IL Soybean Basis"]
["ZCBAINWF.CM","cmdty Wayne County, IN Corn Basis Idx","Corn","Basis","Indiana","County","Wayne County",{"$f":"+IF(LEN(home!$G$7)>0,instruments!C1368=home!$G$7,TRUE)","v":true},true,{"$f":"+IF(LEN(home!$G$8)>0,instruments!E1368=home!$G$8,TRUE)","v":false},{"$f":"+IF(LEN(home!$G$9)>0,instruments!F1368=home!$G$9,TRUE)","v":true},3,{"$f":"+COUNTIF($L$1:L1368,\"=\"&4)","v":89},"Wayne County, IN Corn Basis"]
["ZSBAINWF.CM","cmdty Wayne County, IN Soybean Basis Idx","Soybean","Basis","Indiana","County","Wayne County",{"$f":"+IF(LEN(home!$G$7)>0,instruments!C1369=home!$G$7,TRUE)","v":false},true,{"$f":"+IF(LEN(home!$G$8)>0,instruments!E1369=home!$G$8,TRUE)","v":false},{"$f":"+IF(LEN(home!$G$9)>0,instruments!F1369=home!$G$9,TRUE)","v":true},2,{"$f":"+COUNTIF($L$1:L1369,\"=\"&4)","v":89},"Wayne County, IN Soybean Basis"]
["ZCBANEWB.CM","cmdty Wayne County, NE Corn Basis Idx","Corn","Basis","Nebraska","County","Wayne County",{"$f":"+IF(LEN(home!$G$7)>0,instruments!C1370=home!$G$7,TRUE)","v":true},true,{"$f":"+IF(LEN(home!$G$8)>0,instruments!E1370=home!$G$8,TRUE)","v":false},{"$f":"+IF(LEN(home!$G$9)>0,instruments!F1370=home!$G$9,TRUE)","v":true},3,{"$f":"+COUNTIF($L$1:L1370,\"=\"&4)","v":89},"Wayne County, NE Corn Basis"]
["ZSBANEWB.CM","cmdty Wayne County, NE Soybean Basis Idx","Soybean","Basis","Nebraska","County","Wayne County",{"$f":"+IF(LEN(home!$G$7)>0,instruments!C1371=home!$G$7,TRUE)","v":false},true,{"$f":"+IF(LEN(home!$G$8)>0,instruments!E1371=home!$G$8,TRUE)","v":false},{"$f":"+IF(LEN(home!$G$9)>0,instruments!F1371=home!$G$9,TRUE)","v":true},2,{"$f":"+COUNTIF($L$1:L1371,\"=\"&4)","v":89},"Wayne County, NE Soybean Basis"]
["ZSBAOHWC.CM","cmdty Wayne County, OH Soybean Basis Idx","Soybean","Basis","Ohio","County","Wayne County",{"$f":"+IF(LEN(home!$G$7)>0,instruments!C1372=home!$G$7,TRUE)","v":false},true,{"$f":"+IF(LEN(home!$G$8)>0,instruments!E1372=home!$G$8,TRUE)","v":false},{"$f":"+IF(LEN(home!$G$9)>0,instruments!F1372=home!$G$9,TRUE)","v":true},2,{"$f":"+COUNTIF($L$1:L1372,\"=\"&4)","v":89},"Wayne County, OH Soybean Basis"]
["ZCBAIAWE.CM","cmdty Webster County, IA Corn Basis Idx","Corn","Basis","Iowa","County","Webster County",{"$f":"+IF(LEN(home!$G$7)>0,instruments!C1373=home!$G$7,TRUE)","v":true},true,{"$f":"+IF(LEN(home!$G$8)>0,instruments!E1373=home!$G$8,TRUE)","v":true},{"$f":"+IF(LEN(home!$G$9)>0,instruments!F1373=home!$G$9,TRUE)","v":true},4,{"$f":"+COUNTIF($L$1:L1373,\"=\"&4)","v":90},"Webster County, IA Corn Basis"]
["ZSBAIAWE.CM","cmdty Webster County, IA Soybean Basis Idx","Soybean","Basis","Iowa","County","Webster County",{"$f":"+IF(LEN(home!$G$7)>0,instruments!C1374=home!$G$7,TRUE)","v":false},true,{"$f":"+IF(LEN(home!$G$8)>0,instruments!E1374=home!$G$8,TRUE)","v":true},{"$f":"+IF(LEN(home!$G$9)>0,instruments!F1374=home!$G$9,TRUE)","v":true},3,{"$f":"+COUNTIF($L$1:L1374,\"=\"&4)","v":90},"Webster County, IA Soybean Basis"]
["ZCBANEWE.CM","cmdty Webster County, NE Corn Basis Idx","Corn","Basis","Nebraska","County","Webster County",{"$f":"+IF(LEN(home!$G$7)>0,instruments!C1375=home!$G$7,TRUE)","v":true},true,{"$f":"+IF(LEN(home!$G$8)>0,instruments!E1375=home!$G$8,TRUE)","v":false},{"$f":"+IF(LEN(home!$G$9)>0,instruments!F1375=home!$G$9,TRUE)","v":true},3,{"$f":"+COUNTIF($L$1:L1375,\"=\"&4)","v":90},"Webster County, NE Corn Basis"]
["ZSBANEWE.CM","cmdty Webster County, NE Soybean Basis Idx","Soybean","Basis","Nebraska","County","Webster County",{"$f":"+IF(LEN(home!$G$7)>0,instruments!C1376=home!$G$7,TRUE)","v":false},true,{"$f":"+IF(LEN(home!$G$8)>0,instruments!E1376=home!$G$8,TRUE)","v":false},{"$f":"+IF(LEN(home!$G$9)>0,instruments!F1376=home!$G$9,TRUE)","v":true},2,{"$f":"+COUNTIF($L$1:L1376,\"=\"&4)","v":90},"Webster County, NE Soybean Basis"]
["ZCBAINWE.CM","cmdty Wells County, IN Corn Basis Idx","Corn","Basis","Indiana","County","Wells County",{"$f":"+IF(LEN(home!$G$7)>0,instruments!C1377=home!$G$7,TRUE)","v":true},true,{"$f":"+IF(LEN(home!$G$8)>0,instruments!E1377=home!$G$8,TRUE)","v":false},{"$f":"+IF(LEN(home!$G$9)>0,instruments!F1377=home!$G$9,TRUE)","v":true},3,{"$f":"+COUNTIF($L$1:L1377,\"=\"&4)","v":90},"Wells County, IN Corn Basis"]
["ZSBANDWE.CM","cmdty Wells County, ND Soybean Basis Idx","Soybean","Basis","North Dakota","County","Wells County",{"$f":"+IF(LEN(home!$G$7)>0,instruments!C1378=home!$G$7,TRUE)","v":false},true,{"$f":"+IF(LEN(home!$G$8)>0,instruments!E1378=home!$G$8,TRUE)","v":false},{"$f":"+IF(LEN(home!$G$9)>0,instruments!F1378=home!$G$9,TRUE)","v":true},2,{"$f":"+COUNTIF($L$1:L1378,\"=\"&4)","v":90},"Wells County, ND Soybean Basis"]
["ZCBAILWH.CM","cmdty White County, IL Corn Basis Idx","Corn","Basis","Illinois","County","White County",{"$f":"+IF(LEN(home!$G$7)>0,instruments!C1379=home!$G$7,TRUE)","v":true},true,{"$f":"+IF(LEN(home!$G$8)>0,instruments!E1379=home!$G$8,TRUE)","v":false},{"$f":"+IF(LEN(home!$G$9)>0,instruments!F1379=home!$G$9,TRUE)","v":true},3,{"$f":"+COUNTIF($L$1:L1379,\"=\"&4)","v":90},"White County, IL Corn Basis"]
["ZSBAILWH.CM","cmdty White County, IL Soybean Basis Idx","Soybean","Basis","Illinois","County","White County",{"$f":"+IF(LEN(home!$G$7)>0,instruments!C1380=home!$G$7,TRUE)","v":false},true,{"$f":"+IF(LEN(home!$G$8)>0,instruments!E1380=home!$G$8,TRUE)","v":false},{"$f":"+IF(LEN(home!$G$9)>0,instruments!F1380=home!$G$9,TRUE)","v":true},2,{"$f":"+COUNTIF($L$1:L1380,\"=\"&4)","v":90},"White County, IL Soybean Basis"]
["ZCBAINWH.CM","cmdty White County, IN Corn Basis Idx","Corn","Basis","Indiana","County","White County",{"$f":"+IF(LEN(home!$G$7)>0,instruments!C1381=home!$G$7,TRUE)","v":true},true,{"$f":"+IF(LEN(home!$G$8)>0,instruments!E1381=home!$G$8,TRUE)","v":false},{"$f":"+IF(LEN(home!$G$9)>0,instruments!F1381=home!$G$9,TRUE)","v":true},3,{"$f":"+COUNTIF($L$1:L1381,\"=\"&4)","v":90},"White County, IN Corn Basis"]
["ZSBAINWH.CM","cmdty White County, IN Soybean Basis Idx","Soybean","Basis","Indiana","County","White County",{"$f":"+IF(LEN(home!$G$7)>0,instruments!C1382=home!$G$7,TRUE)","v":false},true,{"$f":"+IF(LEN(home!$G$8)>0,instruments!E1382=home!$G$8,TRUE)","v":false},{"$f":"+IF(LEN(home!$G$9)>0,instruments!F1382=home!$G$9,TRUE)","v":true},2,{"$f":"+COUNTIF($L$1:L1382,\"=\"&4)","v":90},"White County, IN Soybean Basis"]
["ZCBAILWE.CM","cmdty Whiteside County, IL Corn Basis Idx","Corn","Basis","Illinois","County","Whiteside County",{"$f":"+IF(LEN(home!$G$7)>0,instruments!C1383=home!$G$7,TRUE)","v":true},true,{"$f":"+IF(LEN(home!$G$8)>0,instruments!E1383=home!$G$8,TRUE)","v":false},{"$f":"+IF(LEN(home!$G$9)>0,instruments!F1383=home!$G$9,TRUE)","v":true},3,{"$f":"+COUNTIF($L$1:L1383,\"=\"&4)","v":90},"Whiteside County, IL Corn Basis"]
["ZSBAILWE.CM","cmdty Whiteside County, IL Soybean Basis Idx","Soybean","Basis","Illinois","County","Whiteside County",{"$f":"+IF(LEN(home!$G$7)>0,instruments!C1384=home!$G$7,TRUE)","v":false},true,{"$f":"+IF(LEN(home!$G$8)>0,instruments!E1384=home!$G$8,TRUE)","v":false},{"$f":"+IF(LEN(home!$G$9)>0,instruments!F1384=home!$G$9,TRUE)","v":true},2,{"$f":"+COUNTIF($L$1:L1384,\"=\"&4)","v":90},"Whiteside County, IL Soybean Basis"]
["ZCBAINWG.CM","cmdty Whitley County, IN Corn Basis Idx","Corn","Basis","Indiana","County","Whitley County",{"$f":"+IF(LEN(home!$G$7)>0,instruments!C1385=home!$G$7,TRUE)","v":true},true,{"$f":"+IF(LEN(home!$G$8)>0,instruments!E1385=home!$G$8,TRUE)","v":false},{"$f":"+IF(LEN(home!$G$9)>0,instruments!F1385=home!$G$9,TRUE)","v":true},3,{"$f":"+COUNTIF($L$1:L1385,\"=\"&4)","v":90},"Whitley County, IN Corn Basis"]
["ZSBAINWG.CM","cmdty Whitley County, IN Soybean Basis Idx","Soybean","Basis","Indiana","County","Whitley County",{"$f":"+IF(LEN(home!$G$7)>0,instruments!C1386=home!$G$7,TRUE)","v":false},true,{"$f":"+IF(LEN(home!$G$8)>0,instruments!E1386=home!$G$8,TRUE)","v":false},{"$f":"+IF(LEN(home!$G$9)>0,instruments!F1386=home!$G$9,TRUE)","v":true},2,{"$f":"+COUNTIF($L$1:L1386,\"=\"&4)","v":90},"Whitley County, IN Soybean Basis"]
["ZCBAKSWI.CM","cmdty Wichita County, KS Corn Basis Idx","Corn","Basis","Kansas","County","Wichita County",{"$f":"+IF(LEN(home!$G$7)>0,instruments!C1387=home!$G$7,TRUE)","v":true},true,{"$f":"+IF(LEN(home!$G$8)>0,instruments!E1387=home!$G$8,TRUE)","v":false},{"$f":"+IF(LEN(home!$G$9)>0,instruments!F1387=home!$G$9,TRUE)","v":true},3,{"$f":"+COUNTIF($L$1:L1387,\"=\"&4)","v":90},"Wichita County, KS Corn Basis"]
["ZSBAKSWI.CM","cmdty Wichita County, KS Soybean Basis Idx","Soybean","Basis","Kansas","County","Wichita County",{"$f":"+IF(LEN(home!$G$7)>0,instruments!C1388=home!$G$7,TRUE)","v":false},true,{"$f":"+IF(LEN(home!$G$8)>0,instruments!E1388=home!$G$8,TRUE)","v":false},{"$f":"+IF(LEN(home!$G$9)>0,instruments!F1388=home!$G$9,TRUE)","v":true},2,{"$f":"+COUNTIF($L$1:L1388,\"=\"&4)","v":90},"Wichita County, KS Soybean Basis"]
["ZCBAMNWI.CM","cmdty Wilkin County, MN Corn Basis Idx","Corn","Basis","Minnesota","County","Wilkin County",{"$f":"+IF(LEN(home!$G$7)>0,instruments!C1389=home!$G$7,TRUE)","v":true},true,{"$f":"+IF(LEN(home!$G$8)>0,instruments!E1389=home!$G$8,TRUE)","v":false},{"$f":"+IF(LEN(home!$G$9)>0,instruments!F1389=home!$G$9,TRUE)","v":true},3,{"$f":"+COUNTIF($L$1:L1389,\"=\"&4)","v":90},"Wilkin County, MN Corn Basis"]
["ZSBAMNWI.CM","cmdty Wilkin County, MN Soybean Basis Idx","Soybean","Basis","Minnesota","County","Wilkin County",{"$f":"+IF(LEN(home!$G$7)>0,instruments!C1390=home!$G$7,TRUE)","v":false},true,{"$f":"+IF(LEN(home!$G$8)>0,instruments!E1390=home!$G$8,TRUE)","v":false},{"$f":"+IF(LEN(home!$G$9)>0,instruments!F1390=home!$G$9,TRUE)","v":true},2,{"$f":"+COUNTIF($L$1:L1390,\"=\"&4)","v":90},"Wilkin County, MN Soybean Basis"]
["ZCBAILWI.CM","cmdty Will County, IL Corn Basis Idx","Corn","Basis","Illinois","County","Will County",{"$f":"+IF(LEN(home!$G$7)>0,instruments!C1391=home!$G$7,TRUE)","v":true},true,{"$f":"+IF(LEN(home!$G$8)>0,instruments!E1391=home!$G$8,TRUE)","v":false},{"$f":"+IF(LEN(home!$G$9)>0,instruments!F1391=home!$G$9,TRUE)","v":true},3,{"$f":"+COUNTIF($L$1:L1391,\"=\"&4)","v":90},"Will County, IL Corn Basis"]
["ZSBAILWI.CM","cmdty Will County, IL Soybean Basis Idx","Soybean","Basis","Illinois","County","Will County",{"$f":"+IF(LEN(home!$G$7)>0,instruments!C1392=home!$G$7,TRUE)","v":false},true,{"$f":"+IF(LEN(home!$G$8)>0,instruments!E1392=home!$G$8,TRUE)","v":false},{"$f":"+IF(LEN(home!$G$9)>0,instruments!F1392=home!$G$9,TRUE)","v":true},2,{"$f":"+COUNTIF($L$1:L1392,\"=\"&4)","v":90},"Will County, IL Soybean Basis"]
["ZSBAOHWI.CM","cmdty Williams County, OH Soybean Basis Idx","Soybean","Basis","Ohio","County","Williams County",{"$f":"+IF(LEN(home!$G$7)>0,instruments!C1393=home!$G$7,TRUE)","v":false},true,{"$f":"+IF(LEN(home!$G$8)>0,instruments!E1393=home!$G$8,TRUE)","v":false},{"$f":"+IF(LEN(home!$G$9)>0,instruments!F1393=home!$G$9,TRUE)","v":true},2,{"$f":"+COUNTIF($L$1:L1393,\"=\"&4)","v":90},"Williams County, OH Soybean Basis"]
["ZCBAILWF.CM","cmdty Williamson County, IL Corn Basis Idx","Corn","Basis","Illinois","County","Williamson County",{"$f":"+IF(LEN(home!$G$7)>0,instruments!C1394=home!$G$7,TRUE)","v":true},true,{"$f":"+IF(LEN(home!$G$8)>0,instruments!E1394=home!$G$8,TRUE)","v":false},{"$f":"+IF(LEN(home!$G$9)>0,instruments!F1394=home!$G$9,TRUE)","v":true},3,{"$f":"+COUNTIF($L$1:L1394,\"=\"&4)","v":90},"Williamson County, IL Corn Basis"]
["ZSBAILWF.CM","cmdty Williamson County, IL Soybean Basis Idx","Soybean","Basis","Illinois","County","Williamson County",{"$f":"+IF(LEN(home!$G$7)>0,instruments!C1395=home!$G$7,TRUE)","v":false},true,{"$f":"+IF(LEN(home!$G$8)>0,instruments!E1395=home!$G$8,TRUE)","v":false},{"$f":"+IF(LEN(home!$G$9)>0,instruments!F1395=home!$G$9,TRUE)","v":true},2,{"$f":"+COUNTIF($L$1:L1395,\"=\"&4)","v":90},"Williamson County, IL Soybean Basis"]
["ZCBAKSWD.CM","cmdty Wilson County, KS Corn Basis Idx","Corn","Basis","Kansas","County","Wilson County",{"$f":"+IF(LEN(home!$G$7)>0,instruments!C1396=home!$G$7,TRUE)","v":true},true,{"$f":"+IF(LEN(home!$G$8)>0,instruments!E1396=home!$G$8,TRUE)","v":false},{"$f":"+IF(LEN(home!$G$9)>0,instruments!F1396=home!$G$9,TRUE)","v":true},3,{"$f":"+COUNTIF($L$1:L1396,\"=\"&4)","v":90},"Wilson County, KS Corn Basis"]
["ZSBAKSWD.CM","cmdty Wilson County, KS Soybean Basis Idx","Soybean","Basis","Kansas","County","Wilson County",{"$f":"+IF(LEN(home!$G$7)>0,instruments!C1397=home!$G$7,TRUE)","v":false},true,{"$f":"+IF(LEN(home!$G$8)>0,instruments!E1397=home!$G$8,TRUE)","v":false},{"$f":"+IF(LEN(home!$G$9)>0,instruments!F1397=home!$G$9,TRUE)","v":true},2,{"$f":"+COUNTIF($L$1:L1397,\"=\"&4)","v":90},"Wilson County, KS Soybean Basis"]
["ZCBAIAWI.CM","cmdty Winnebago County, IA Corn Basis Idx","Corn","Basis","Iowa","County","Winnebago County",{"$f":"+IF(LEN(home!$G$7)>0,instruments!C1398=home!$G$7,TRUE)","v":true},true,{"$f":"+IF(LEN(home!$G$8)>0,instruments!E1398=home!$G$8,TRUE)","v":true},{"$f":"+IF(LEN(home!$G$9)>0,instruments!F1398=home!$G$9,TRUE)","v":true},4,{"$f":"+COUNTIF($L$1:L1398,\"=\"&4)","v":91},"Winnebago County, IA Corn Basis"]
["ZSBAIAWI.CM","cmdty Winnebago County, IA Soybean Basis Idx","Soybean","Basis","Iowa","County","Winnebago County",{"$f":"+IF(LEN(home!$G$7)>0,instruments!C1399=home!$G$7,TRUE)","v":false},true,{"$f":"+IF(LEN(home!$G$8)>0,instruments!E1399=home!$G$8,TRUE)","v":true},{"$f":"+IF(LEN(home!$G$9)>0,instruments!F1399=home!$G$9,TRUE)","v":true},3,{"$f":"+COUNTIF($L$1:L1399,\"=\"&4)","v":91},"Winnebago County, IA Soybean Basis"]
["ZCBAILWG.CM","cmdty Winnebago County, IL Corn Basis Idx","Corn","Basis","Illinois","County","Winnebago County",{"$f":"+IF(LEN(home!$G$7)>0,instruments!C1400=home!$G$7,TRUE)","v":true},true,{"$f":"+IF(LEN(home!$G$8)>0,instruments!E1400=home!$G$8,TRUE)","v":false},{"$f":"+IF(LEN(home!$G$9)>0,instruments!F1400=home!$G$9,TRUE)","v":true},3,{"$f":"+COUNTIF($L$1:L1400,\"=\"&4)","v":91},"Winnebago County, IL Corn Basis"]
["ZSBAILWG.CM","cmdty Winnebago County, IL Soybean Basis Idx","Soybean","Basis","Illinois","County","Winnebago County",{"$f":"+IF(LEN(home!$G$7)>0,instruments!C1401=home!$G$7,TRUE)","v":false},true,{"$f":"+IF(LEN(home!$G$8)>0,instruments!E1401=home!$G$8,TRUE)","v":false},{"$f":"+IF(LEN(home!$G$9)>0,instruments!F1401=home!$G$9,TRUE)","v":true},2,{"$f":"+COUNTIF($L$1:L1401,\"=\"&4)","v":91},"Winnebago County, IL Soybean Basis"]
["ZCBAIAWF.CM","cmdty Winneshiek County, IA Corn Basis Idx","Corn","Basis","Iowa","County","Winneshiek County",{"$f":"+IF(LEN(home!$G$7)>0,instruments!C1402=home!$G$7,TRUE)","v":true},true,{"$f":"+IF(LEN(home!$G$8)>0,instruments!E1402=home!$G$8,TRUE)","v":true},{"$f":"+IF(LEN(home!$G$9)>0,instruments!F1402=home!$G$9,TRUE)","v":true},4,{"$f":"+COUNTIF($L$1:L1402,\"=\"&4)","v":92},"Winneshiek County, IA Corn Basis"]
["ZSBAIAWF.CM","cmdty Winneshiek County, IA Soybean Basis Idx","Soybean","Basis","Iowa","County","Winneshiek County",{"$f":"+IF(LEN(home!$G$7)>0,instruments!C1403=home!$G$7,TRUE)","v":false},true,{"$f":"+IF(LEN(home!$G$8)>0,instruments!E1403=home!$G$8,TRUE)","v":true},{"$f":"+IF(LEN(home!$G$9)>0,instruments!F1403=home!$G$9,TRUE)","v":true},3,{"$f":"+COUNTIF($L$1:L1403,\"=\"&4)","v":92},"Winneshiek County, IA Soybean Basis"]
["ZCBAMNWF.CM","cmdty Winona County, MN Corn Basis Idx","Corn","Basis","Minnesota","County","Winona County",{"$f":"+IF(LEN(home!$G$7)>0,instruments!C1404=home!$G$7,TRUE)","v":true},true,{"$f":"+IF(LEN(home!$G$8)>0,instruments!E1404=home!$G$8,TRUE)","v":false},{"$f":"+IF(LEN(home!$G$9)>0,instruments!F1404=home!$G$9,TRUE)","v":true},3,{"$f":"+COUNTIF($L$1:L1404,\"=\"&4)","v":92},"Winona County, MN Corn Basis"]
["ZSBAMNWF.CM","cmdty Winona County, MN Soybean Basis Idx","Soybean","Basis","Minnesota","County","Winona County",{"$f":"+IF(LEN(home!$G$7)>0,instruments!C1405=home!$G$7,TRUE)","v":false},true,{"$f":"+IF(LEN(home!$G$8)>0,instruments!E1405=home!$G$8,TRUE)","v":false},{"$f":"+IF(LEN(home!$G$9)>0,instruments!F1405=home!$G$9,TRUE)","v":true},2,{"$f":"+COUNTIF($L$1:L1405,\"=\"&4)","v":92},"Winona County, MN Soybean Basis"]
["ZCBAIAWO.CM","cmdty Woodbury County, IA Corn Basis Idx","Corn","Basis","Iowa","County","Woodbury County",{"$f":"+IF(LEN(home!$G$7)>0,instruments!C1406=home!$G$7,TRUE)","v":true},true,{"$f":"+IF(LEN(home!$G$8)>0,instruments!E1406=home!$G$8,TRUE)","v":true},{"$f":"+IF(LEN(home!$G$9)>0,instruments!F1406=home!$G$9,TRUE)","v":true},4,{"$f":"+COUNTIF($L$1:L1406,\"=\"&4)","v":93},"Woodbury County, IA Corn Basis"]
["ZSBAIAWO.CM","cmdty Woodbury County, IA Soybean Basis Idx","Soybean","Basis","Iowa","County","Woodbury County",{"$f":"+IF(LEN(home!$G$7)>0,instruments!C1407=home!$G$7,TRUE)","v":false},true,{"$f":"+IF(LEN(home!$G$8)>0,instruments!E1407=home!$G$8,TRUE)","v":true},{"$f":"+IF(LEN(home!$G$9)>0,instruments!F1407=home!$G$9,TRUE)","v":true},3,{"$f":"+COUNTIF($L$1:L1407,\"=\"&4)","v":93},"Woodbury County, IA Soybean Basis"]
["ZSBAOHWO.CM","cmdty Wood County, OH Soybean Basis Idx","Soybean","Basis","Ohio","County","Wood County",{"$f":"+IF(LEN(home!$G$7)>0,instruments!C1408=home!$G$7,TRUE)","v":false},true,{"$f":"+IF(LEN(home!$G$8)>0,instruments!E1408=home!$G$8,TRUE)","v":false},{"$f":"+IF(LEN(home!$G$9)>0,instruments!F1408=home!$G$9,TRUE)","v":true},2,{"$f":"+COUNTIF($L$1:L1408,\"=\"&4)","v":93},"Wood County, OH Soybean Basis"]
["ZCBAILWO.CM","cmdty Woodford County, IL Corn Basis Idx","Corn","Basis","Illinois","County","Woodford County",{"$f":"+IF(LEN(home!$G$7)>0,instruments!C1409=home!$G$7,TRUE)","v":true},true,{"$f":"+IF(LEN(home!$G$8)>0,instruments!E1409=home!$G$8,TRUE)","v":false},{"$f":"+IF(LEN(home!$G$9)>0,instruments!F1409=home!$G$9,TRUE)","v":true},3,{"$f":"+COUNTIF($L$1:L1409,\"=\"&4)","v":93},"Woodford County, IL Corn Basis"]
["ZSBAILWO.CM","cmdty Woodford County, IL Soybean Basis Idx","Soybean","Basis","Illinois","County","Woodford County",{"$f":"+IF(LEN(home!$G$7)>0,instruments!C1410=home!$G$7,TRUE)","v":false},true,{"$f":"+IF(LEN(home!$G$8)>0,instruments!E1410=home!$G$8,TRUE)","v":false},{"$f":"+IF(LEN(home!$G$9)>0,instruments!F1410=home!$G$9,TRUE)","v":true},{"$f":"+COUNTIF(H1410:K1410,TRUE)","v":2},{"$f":"+COUNTIF($L$1:L1410,\"=\"&4)","v":93},"Woodford County, IL Soybean Basis"]
["ZCBAKSWO.CM","cmdty Woodson County, KS Corn Basis Idx","Corn","Basis","Kansas","County","Woodson County",{"$f":"+IF(LEN(home!$G$7)>0,instruments!C1411=home!$G$7,TRUE)","v":true},{"$f":"+D1411=\"Basis\"","v":true},{"$f":"+IF(LEN(home!$G$8)>0,instruments!E1411=home!$G$8,TRUE)","v":false},{"$f":"+IF(LEN(home!$G$9)>0,instruments!F1411=home!$G$9,TRUE)","v":true},3,{"$f":"+COUNTIF($L$1:L1411,\"=\"&4)","v":93},{"$f":"+MID(B1411,FIND(\" \",B1411,1)+1,LEN(B1411)-FIND(\" \",B1411,1)-4)","v":"Woodson County, KS Corn Basis"}]
["ZSBAKSWO.CM","cmdty Woodson County, KS Soybean Basis Idx","Soybean","Basis","Kansas","County","Woodson County",{"$f":"+IF(LEN(home!$G$7)>0,instruments!C1412=home!$G$7,TRUE)","v":false},true,{"$f":"+IF(LEN(home!$G$8)>0,instruments!E1412=home!$G$8,TRUE)","v":false},{"$f":"+IF(LEN(home!$G$9)>0,instruments!F1412=home!$G$9,TRUE)","v":true},2,{"$f":"+COUNTIF($L$1:L1412,\"=\"&4)","v":93},"Woodson County, KS Soybean Basis"]
["ZCBAIAWG.CM","cmdty Worth County, IA Corn Basis Idx","Corn","Basis","Iowa","County","Worth County",{"$f":"+IF(LEN(home!$G$7)>0,instruments!C1413=home!$G$7,TRUE)","v":true},true,{"$f":"+IF(LEN(home!$G$8)>0,instruments!E1413=home!$G$8,TRUE)","v":true},{"$f":"+IF(LEN(home!$G$9)>0,instruments!F1413=home!$G$9,TRUE)","v":true},4,{"$f":"+COUNTIF($L$1:L1413,\"=\"&4)","v":94},"Worth County, IA Corn Basis"]
["ZSBAIAWG.CM","cmdty Worth County, IA Soybean Basis Idx","Soybean","Basis","Iowa","County","Worth County",{"$f":"+IF(LEN(home!$G$7)>0,instruments!C1414=home!$G$7,TRUE)","v":false},true,{"$f":"+IF(LEN(home!$G$8)>0,instruments!E1414=home!$G$8,TRUE)","v":true},{"$f":"+IF(LEN(home!$G$9)>0,instruments!F1414=home!$G$9,TRUE)","v":true},3,{"$f":"+COUNTIF($L$1:L1414,\"=\"&4)","v":94},"Worth County, IA Soybean Basis"]
["ZCBAIAWR.CM","cmdty Wright County, IA Corn Basis Idx","Corn","Basis","Iowa","County","Wright County",{"$f":"+IF(LEN(home!$G$7)>0,instruments!C1415=home!$G$7,TRUE)","v":true},true,{"$f":"+IF(LEN(home!$G$8)>0,instruments!E1415=home!$G$8,TRUE)","v":true},{"$f":"+IF(LEN(home!$G$9)>0,instruments!F1415=home!$G$9,TRUE)","v":true},4,{"$f":"+COUNTIF($L$1:L1415,\"=\"&4)","v":95},"Wright County, IA Corn Basis"]
["ZSBAIAWR.CM","cmdty Wright County, IA Soybean Basis Idx","Soybean","Basis","Iowa","County","Wright County",{"$f":"+IF(LEN(home!$G$7)>0,instruments!C1416=home!$G$7,TRUE)","v":false},true,{"$f":"+IF(LEN(home!$G$8)>0,instruments!E1416=home!$G$8,TRUE)","v":true},{"$f":"+IF(LEN(home!$G$9)>0,instruments!F1416=home!$G$9,TRUE)","v":true},3,{"$f":"+COUNTIF($L$1:L1416,\"=\"&4)","v":95},"Wright County, IA Soybean Basis"]
["ZCBAMNWR.CM","cmdty Wright County, MN Corn Basis Idx","Corn","Basis","Minnesota","County","Wright County",{"$f":"+IF(LEN(home!$G$7)>0,instruments!C1417=home!$G$7,TRUE)","v":true},true,{"$f":"+IF(LEN(home!$G$8)>0,instruments!E1417=home!$G$8,TRUE)","v":false},{"$f":"+IF(LEN(home!$G$9)>0,instruments!F1417=home!$G$9,TRUE)","v":true},3,{"$f":"+COUNTIF($L$1:L1417,\"=\"&4)","v":95},"Wright County, MN Corn Basis"]
["ZSBAOHWY.CM","cmdty Wyandot County, OH Soybean Basis Idx","Soybean","Basis","Ohio","County","Wyandot County",{"$f":"+IF(LEN(home!$G$7)>0,instruments!C1418=home!$G$7,TRUE)","v":false},true,{"$f":"+IF(LEN(home!$G$8)>0,instruments!E1418=home!$G$8,TRUE)","v":false},{"$f":"+IF(LEN(home!$G$9)>0,instruments!F1418=home!$G$9,TRUE)","v":true},2,{"$f":"+COUNTIF($L$1:L1418,\"=\"&4)","v":95},"Wyandot County, OH Soybean Basis"]
["ZSBAKSWY.CM","cmdty Wyandotte County, KS Soybean Basis Idx","Soybean","Basis","Kansas","County","Wyandotte County",{"$f":"+IF(LEN(home!$G$7)>0,instruments!C1419=home!$G$7,TRUE)","v":false},true,{"$f":"+IF(LEN(home!$G$8)>0,instruments!E1419=home!$G$8,TRUE)","v":false},{"$f":"+IF(LEN(home!$G$9)>0,instruments!F1419=home!$G$9,TRUE)","v":true},2,{"$f":"+COUNTIF($L$1:L1419,\"=\"&4)","v":95},"Wyandotte County, KS Soybean Basis"]
["ZCBASDYA.CM","cmdty Yankton County, SD Corn Basis Idx","Corn","Basis","South Dakota","County","Yankton County",{"$f":"+IF(LEN(home!$G$7)>0,instruments!C1420=home!$G$7,TRUE)","v":true},true,{"$f":"+IF(LEN(home!$G$8)>0,instruments!E1420=home!$G$8,TRUE)","v":false},{"$f":"+IF(LEN(home!$G$9)>0,instruments!F1420=home!$G$9,TRUE)","v":true},3,{"$f":"+COUNTIF($L$1:L1420,\"=\"&4)","v":95},"Yankton County, SD Corn Basis"]
["ZSBASDYA.CM","cmdty Yankton County, SD Soybean Basis Idx","Soybean","Basis","South Dakota","County","Yankton County",{"$f":"+IF(LEN(home!$G$7)>0,instruments!C1421=home!$G$7,TRUE)","v":false},true,{"$f":"+IF(LEN(home!$G$8)>0,instruments!E1421=home!$G$8,TRUE)","v":false},{"$f":"+IF(LEN(home!$G$9)>0,instruments!F1421=home!$G$9,TRUE)","v":true},2,{"$f":"+COUNTIF($L$1:L1421,\"=\"&4)","v":95},"Yankton County, SD Soybean Basis"]
["ZCBAMNYE.CM","cmdty Yellow Medicine County, MN Corn Basis Idx","Corn","Basis","Minnesota","County","Yellow Medicine County",{"$f":"+IF(LEN(home!$G$7)>0,instruments!C1422=home!$G$7,TRUE)","v":true},true,{"$f":"+IF(LEN(home!$G$8)>0,instruments!E1422=home!$G$8,TRUE)","v":false},{"$f":"+IF(LEN(home!$G$9)>0,instruments!F1422=home!$G$9,TRUE)","v":true},3,{"$f":"+COUNTIF($L$1:L1422,\"=\"&4)","v":95},"Yellow Medicine County, MN Corn Basis"]
["ZSBAMNYE.CM","cmdty Yellow Medicine County, MN Soybean Basis Idx","Soybean","Basis","Minnesota","County","Yellow Medicine County",{"$f":"+IF(LEN(home!$G$7)>0,instruments!C1423=home!$G$7,TRUE)","v":false},true,{"$f":"+IF(LEN(home!$G$8)>0,instruments!E1423=home!$G$8,TRUE)","v":false},{"$f":"+IF(LEN(home!$G$9)>0,instruments!F1423=home!$G$9,TRUE)","v":true},2,{"$f":"+COUNTIF($L$1:L1423,\"=\"&4)","v":95},"Yellow Medicine County, MN Soybean Basis"]
["ZCBANEYO.CM","cmdty York County, NE Corn Basis Idx","Corn","Basis","Nebraska","County","York County",{"$f":"+IF(LEN(home!$G$7)>0,instruments!C1424=home!$G$7,TRUE)","v":true},true,{"$f":"+IF(LEN(home!$G$8)>0,instruments!E1424=home!$G$8,TRUE)","v":false},{"$f":"+IF(LEN(home!$G$9)>0,instruments!F1424=home!$G$9,TRUE)","v":true},3,{"$f":"+COUNTIF($L$1:L1424,\"=\"&4)","v":95},"York County, NE Corn Basis"]
["ZSBANEYO.CM","cmdty York County, NE Soybean Basis Idx","Soybean","Basis","Nebraska","County","York County",{"$f":"+IF(LEN(home!$G$7)>0,instruments!C1425=home!$G$7,TRUE)","v":false},true,{"$f":"+IF(LEN(home!$G$8)>0,instruments!E1425=home!$G$8,TRUE)","v":false},{"$f":"+IF(LEN(home!$G$9)>0,instruments!F1425=home!$G$9,TRUE)","v":true},2,{"$f":"+COUNTIF($L$1:L1425,\"=\"&4)","v":95},"York County, NE Soybean Basis"]
["ZCBASDZI.CM","cmdty Ziebach County, SD Corn Basis Idx","Corn","Basis","South Dakota","County","Ziebach County",{"$f":"+IF(LEN(home!$G$7)>0,instruments!C1426=home!$G$7,TRUE)","v":true},true,{"$f":"+IF(LEN(home!$G$8)>0,instruments!E1426=home!$G$8,TRUE)","v":false},{"$f":"+IF(LEN(home!$G$9)>0,instruments!F1426=home!$G$9,TRUE)","v":true},3,{"$f":"+COUNTIF($L$1:L1426,\"=\"&4)","v":95},"Ziebach County, SD Corn Basis"]
["ZSBASDZI.CM","cmdty Ziebach County, SD Soybean Basis Idx","Soybean","Basis","South Dakota","County","Ziebach County",{"$f":"+IF(LEN(home!$G$7)>0,instruments!C1427=home!$G$7,TRUE)","v":false},true,{"$f":"+IF(LEN(home!$G$8)>0,instruments!E1427=home!$G$8,TRUE)","v":false},{"$f":"+IF(LEN(home!$G$9)>0,instruments!F1427=home!$G$9,TRUE)","v":true},2,{"$f":"+COUNTIF($L$1:L1427,\"=\"&4)","v":95},"Ziebach County, SD Soybean Basis"]

{"sheet":"futures","index":4,"n_rows":13,"n_cols":6,"rows_kept":13,"cut":false,"hidden":false,"merged":[]}
[null,"Corn","HRW","Soybean","Spring Wheat","SRW"]
[1,"H","H","F","H","H"]
[{"$f":"+A2+1","v":2},"H","H","H","H","H"]
[{"$f":"+A3+1","v":3},"H","H","H","H","H"]
[4,"K","K","K","K","K"]
[5,"K","K","K","K","K"]
[6,"N","N","N","N","N"]
[7,"N","N","N","N","N"]
[8,"U","U","Q","U","U"]
[9,"U","U","U","U","U"]
[10,"Z","Z","X","Z","Z"]
[11,"Z","Z","X","Z","Z"]
[12,"Z","Z","F","Z","Z"]